{"text_format":"1","workbook":"xlsx","n_sheets":19,"sheets":["Титул","План","Спец.","Практики","Нормы","Каф","Курс1","Курс2","Курс3","Курс4","Курс5","Курс6","Курс7","Свод","Компетенции","Диаграмма","КомпДис","ДисКомп","Рабочий"],"not_rendered":{"charts":0,"images":5,"macros":1,"external_links":1,"defined_names":1073,"comments":6,"pivot_tables":0},"unopened":[],"bounds":{"document_bytes":16777216,"sheet_cells":100000,"rows_first":2000,"rows_last":500,"rows_between":2000,"halvings":0,"cell_chars":16384,"cell_head_chars":4096},"cells_cut":0,"cells_raw":0,"read":"whole","date_system":"1900"}

{"sheet":"Титул","index":0,"n_rows":77,"n_cols":129,"rows_kept":77,"cut":false,"hidden":false,"merged":[[10,58,10,64],[10,1,10,23],[10,38,10,45],[10,25,10,32],[67,66,72,66],[67,74,72,74],[67,127,72,127],[67,128,72,128],[68,72,71,72],[67,60,72,60],[67,61,72,61],[67,62,72,62],[67,63,72,63],[67,64,72,64],[67,65,72,65],[67,54,72,54],[67,55,72,55],[67,56,72,56],[67,57,72,57],[67,58,72,58],[67,59,72,59],[67,48,72,48],[67,49,72,49],[67,50,72,50],[67,51,72,51],[67,52,72,52],[67,53,72,53],[67,42,72,42],[67,43,72,43],[67,44,72,44],[67,45,72,45],[67,46,72,46],[67,47,72,47],[67,36,72,36],[67,37,72,37],[67,38,72,38],[67,39,72,39],[67,40,72,40],[67,41,72,41],[67,30,72,30],[67,31,72,31],[67,32,72,32],[67,33,72,33],[67,34,72,34],[67,35,72,35],[67,24,72,24],[67,25,72,25],[67,26,72,26],[67,27,72,27],[67,28,72,28],[67,29,72,29],[67,18,72,18],[67,19,72,19],[67,20,72,20],[67,21,72,21],[67,22,72,22],[67,23,72,23],[67,12,72,12],[67,13,72,13],[67,14,72,14],[67,15,72,15],[67,16,72,16],[67,17,72,17],[67,6,72,6],[67,7,72,7],[67,8,72,8],[67,9,72,9],[67,10,72,10],[67,11,72,11],[67,0,72,0],[67,1,72,1],[67,2,72,2],[67,3,72,3],[67,4,72,4],[67,5,72,5],[61,65,66,65],[61,66,66,66],[61,74,66,74],[61,53,66,53],[61,54,66,54],[61,55,66,55],[61,56,66,56],[61,57,66,57],[61,58,66,58],[61,47,66,47],[61,48,66,48],[61,49,66,49],[61,50,66,50],[61,51,66,51],[61,52,66,52],[61,41,66,41],[61,42,66,42],[61,43,66,43],[61,127,66,127],[61,128,66,128],[62,72,65,72],[61,59,66,59],[61,60,66,60],[61,61,66,61],[61,62,66,62],[61,63,66,63],[61,64,66,64],[61,44,66,44],[61,45,66,45],[61,46,66,46],[61,35,66,35],[61,36,66,36],[61,37,66,37],[61,38,66,38],[61,39,66,39],[61,40,66,40],[61,29,66,29],[61,30,66,30],[61,31,66,31],[61,32,66,32],[61,33,66,33],[61,34,66,34],[61,23,66,23],[61,24,66,24],[61,25,66,25],[61,26,66,26],[61,27,66,27],[61,28,66,28],[61,17,66,17],[61,18,66,18],[61,19,66,19],[61,20,66,20],[61,21,66,21],[61,22,66,22],[61,11,66,11],[61,12,66,12],[61,13,66,13],[61,14,66,14],[61,15,66,15],[61,16,66,16],[55,74,60,74],[55,127,60,127],[55,53,60,53],[55,42,60,42],[55,43,60,43],[55,44,60,44],[55,45,60,45],[55,36,60,36],[55,37,60,37],[55,38,60,38],[55,39,60,39],[55,40,60,40],[55,41,60,41],[55,46,60,46],[55,47,60,47],[55,52,60,52],[55,128,60,128],[56,72,59,72],[61,0,66,0],[61,3,66,3],[61,4,66,4],[55,60,60,60],[55,61,60,61],[55,62,60,62],[55,63,60,63],[55,64,60,64],[55,65,60,65],[55,54,60,54],[55,55,60,55],[55,56,60,56],[55,57,60,57],[55,58,60,58],[55,59,60,59],[61,5,66,5],[61,6,66,6],[61,7,66,7],[61,8,66,8],[61,9,66,9],[61,10,66,10],[55,66,60,66],[55,32,60,32],[55,33,60,33],[55,34,60,34],[55,35,60,35],[55,24,60,24],[55,25,60,25],[55,26,60,26],[55,27,60,27],[55,28,60,28],[55,29,60,29],[55,30,60,30],[55,31,60,31],[55,18,60,18],[55,19,60,19],[55,20,60,20],[55,21,60,21],[55,22,60,22],[55,23,60,23],[55,12,60,12],[55,13,60,13],[55,14,60,14],[55,15,60,15],[55,16,60,16],[55,17,60,17],[55,6,60,6],[55,7,60,7],[55,8,60,8],[55,9,60,9],[55,10,60,10],[55,11,60,11],[55,0,60,0],[55,1,60,1],[55,2,60,2],[55,3,60,3],[55,4,60,4],[55,5,60,5],[49,65,54,65],[49,66,54,66],[49,74,54,74],[49,127,54,127],[49,128,54,128],[50,72,53,72],[49,59,54,59],[49,60,54,60],[49,61,54,61],[49,62,54,62],[49,63,54,63],[49,64,54,64],[49,53,54,53],[49,54,54,54],[49,55,54,55],[49,56,54,56],[49,57,54,57],[49,58,54,58],[49,47,54,47],[49,48,54,48],[49,49,54,49],[49,50,54,50],[49,51,54,51],[49,52,54,52],[49,41,54,41],[49,42,54,42],[49,43,54,43],[49,44,54,44],[49,45,54,45],[49,46,54,46],[49,35,54,35],[49,36,54,36],[49,37,54,37],[49,38,54,38],[49,39,54,39],[49,40,54,40],[49,29,54,29],[49,30,54,30],[49,31,54,31],[49,32,54,32],[49,33,54,33],[49,34,54,34],[49,23,54,23],[49,24,54,24],[49,25,54,25],[49,26,54,26],[49,27,54,27],[49,28,54,28],[49,17,54,17],[49,18,54,18],[49,19,54,19],[49,20,54,20],[49,21,54,21],[49,22,54,22],[49,11,54,11],[49,12,54,12],[49,13,54,13],[49,14,54,14],[49,15,54,15],[49,16,54,16],[49,5,54,5],[49,6,54,6],[49,7,54,7],[49,8,54,8],[49,9,54,9],[49,10,54,10],[43,66,48,66],[43,74,48,74],[43,127,48,127],[43,53,48,53],[43,42,48,42],[43,43,48,43],[43,44,48,44],[43,45,48,45],[43,46,48,46],[43,47,48,47],[43,36,48,36],[43,37,48,37],[43,38,48,38],[43,39,48,39],[43,40,48,40],[43,41,48,41],[43,30,48,30],[43,31,48,31],[43,128,48,128],[44,72,47,72],[49,0,54,0],[49,1,54,1],[49,2,54,2],[49,3,54,3],[49,4,54,4],[43,60,48,60],[43,61,48,61],[43,62,48,62],[43,63,48,63],[43,64,48,64],[43,65,48,65],[43,54,48,54],[43,55,48,55],[43,56,48,56],[43,57,48,57],[43,58,48,58],[43,59,48,59],[43,48,48,48],[43,49,48,49],[43,50,48,50],[43,51,48,51],[43,52,48,52],[43,32,48,32],[43,33,48,33],[43,34,48,34],[43,35,48,35],[43,24,48,24],[43,25,48,25],[43,26,48,26],[43,27,48,27],[43,28,48,28],[43,29,48,29],[43,18,48,18],[43,19,48,19],[43,20,48,20],[43,21,48,21],[43,22,48,22],[43,23,48,23],[43,12,48,12],[43,13,48,13],[43,14,48,14],[43,15,48,15],[43,16,48,16],[43,17,48,17],[43,6,48,6],[43,7,48,7],[43,8,48,8],[43,9,48,9],[43,10,48,10],[43,11,48,11],[37,74,42,74],[37,127,42,127],[37,128,42,128],[38,72,41,72],[37,64,42,64],[37,65,42,65],[37,66,42,66],[37,46,42,46],[37,47,42,47],[37,48,42,48],[37,37,42,37],[37,38,42,38],[37,39,42,39],[37,40,42,40],[37,41,42,41],[37,42,42,42],[37,31,42,31],[37,32,42,32],[43,0,48,0],[43,1,48,1],[43,2,48,2],[43,3,48,3],[43,4,48,4],[43,5,48,5],[37,61,42,61],[37,62,42,62],[37,63,42,63],[37,55,42,55],[37,56,42,56],[37,57,42,57],[37,58,42,58],[37,59,42,59],[37,60,42,60],[37,49,42,49],[37,50,42,50],[37,51,42,51],[37,52,42,52],[37,53,42,53],[37,54,42,54],[37,43,42,43],[37,44,42,44],[37,45,42,45],[37,33,42,33],[37,34,42,34],[37,35,42,35],[37,36,42,36],[37,25,42,25],[37,26,42,26],[37,27,42,27],[37,28,42,28],[37,29,42,29],[37,30,42,30],[37,19,42,19],[37,20,42,20],[37,21,42,21],[37,22,42,22],[37,23,42,23],[37,24,42,24],[37,13,42,13],[37,14,42,14],[37,15,42,15],[37,16,42,16],[37,17,42,17],[37,18,42,18],[37,7,42,7],[37,8,42,8],[37,9,42,9],[37,10,42,10],[37,11,42,11],[37,12,42,12],[31,127,36,127],[31,128,36,128],[32,72,35,72],[31,64,36,64],[31,65,36,65],[31,66,36,66],[31,74,36,74],[31,47,36,47],[31,48,36,48],[31,49,36,49],[31,38,36,38],[31,39,36,39],[31,40,36,40],[31,41,36,41],[31,42,36,42],[31,43,36,43],[31,32,36,32],[31,33,36,33],[37,0,42,0],[37,1,42,1],[37,2,42,2],[37,3,42,3],[37,4,42,4],[37,5,42,5],[37,6,42,6],[31,62,36,62],[31,63,36,63],[31,56,36,56],[31,57,36,57],[31,58,36,58],[31,59,36,59],[31,60,36,60],[31,61,36,61],[31,50,36,50],[31,51,36,51],[31,52,36,52],[31,53,36,53],[31,54,36,54],[31,55,36,55],[31,44,36,44],[31,45,36,45],[31,46,36,46],[31,34,36,34],[31,35,36,35],[31,36,36,36],[31,37,36,37],[31,26,36,26],[31,27,36,27],[31,28,36,28],[31,29,36,29],[31,30,36,30],[31,31,36,31],[31,20,36,20],[31,21,36,21],[31,22,36,22],[31,23,36,23],[31,24,36,24],[31,25,36,25],[31,14,36,14],[31,15,36,15],[31,16,36,16],[31,17,36,17],[31,18,36,18],[31,19,36,19],[31,8,36,8],[31,9,36,9],[31,10,36,10],[31,11,36,11],[31,12,36,12],[31,13,36,13],[25,54,30,54],[25,55,30,55],[31,0,36,0],[31,1,36,1],[31,2,36,2],[31,3,36,3],[31,4,36,4],[31,5,36,5],[31,6,36,6],[31,7,36,7],[25,48,30,48],[25,49,30,49],[25,50,30,50],[25,51,30,51],[25,52,30,52],[25,53,30,53],[25,42,30,42],[25,43,30,43],[25,44,30,44],[25,45,30,45],[25,46,30,46],[25,47,30,47],[25,36,30,36],[25,37,30,37],[25,38,30,38],[25,39,30,39],[25,40,30,40],[25,41,30,41],[25,32,30,32],[25,33,30,33],[25,34,30,34],[25,35,30,35],[25,24,30,24],[25,25,30,25],[25,26,30,26],[25,27,30,27],[25,28,30,28],[25,29,30,29],[25,23,30,23],[25,12,30,12],[25,13,30,13],[25,14,30,14],[25,15,30,15],[25,16,30,16],[25,17,30,17],[25,30,30,30],[25,31,30,31],[22,45,22,48],[23,63,30,63],[25,0,30,0],[25,1,30,1],[25,2,30,2],[25,3,30,3],[25,4,30,4],[25,5,30,5],[22,49,22,52],[22,53,22,63],[25,6,30,6],[25,7,30,7],[25,8,30,8],[25,9,30,9],[25,10,30,10],[25,11,30,11],[23,60,30,60],[23,61,30,61],[23,62,30,62],[25,18,30,18],[25,19,30,19],[25,20,30,20],[25,21,30,21],[25,22,30,22],[0,22,0,53],[8,13,8,14],[15,0,15,66],[16,0,16,66],[17,0,17,66],[18,0,18,66],[19,0,19,66],[22,1,22,5],[22,6,22,9],[22,10,22,13],[22,14,22,18],[22,19,22,22],[22,64,30,64],[22,65,30,65],[22,66,30,66],[23,53,24,55],[23,56,30,56],[23,57,30,57],[23,58,30,58],[23,59,30,59],[22,23,22,26],[22,27,22,31],[22,32,22,35],[22,36,22,39],[1,0,1,9],[1,10,1,14],[2,0,2,9],[2,10,2,14],[1,54,1,63],[2,54,2,66],[3,55,4,66],[1,22,1,53],[2,22,3,53],[61,1,66,1],[61,2,66,2],[55,50,60,50],[55,51,60,51],[55,48,60,48],[55,49,60,49],[3,0,3,9],[3,10,3,14],[4,0,4,9],[4,10,4,14],[6,50,6,60],[9,0,9,66],[11,0,11,66],[12,0,12,66],[13,0,13,66],[14,0,14,66],[7,0,7,14],[7,35,7,42],[7,43,7,55],[7,56,7,57],[7,58,7,65],[8,0,8,5],[8,6,8,12],[22,40,22,44]]}
[null,null,null,null,null,null,null,null,null,null,null,null,null,null,null,null,null,null,null,null,null,null,"МИНИСТЕРСТВО ОБРАЗОВАНИЯ И НАУКИ",null,null,null,null,null,null,null,null,null,null,null,null,null,null,null,null,null,null,null,null,null,null,null,null,null,null,null,null,null,null,null,null,null,null,null,null,null,null,null,null,null,null,null,null,null,null,null,null,"очная"]
["Квалификация",null,null,null,null,null,null,null,null,null,"Срок обуч. (#г ##м)",null,null,null,null,null,null,null,null,null,null,null,"ГОУ ВПО \"Самарский государственный технический университет\"",null,null,null,null,null,null,null,null,null,null,null,null,null,null,null,null,null,null,null,null,null,null,null,null,null,null,null,null,null,null,null,"Утверждаю",null,null,null,null,null,null,null,null,null,null,null,null,null,null,null,null,"очно-заочная",null,"сокращенный срок обучения на базе СПО"]
["Специалист по связям с общественностью",null,null,null,null,null,null,null,null,null,"5",null,null,null,null,null,null,null,null,null,null,null,"",null,null,null,null,null,null,null,null,null,null,null,null,null,null,null,null,null,null,null,null,null,null,null,null,null,null,null,null,null,null,null,{"$f":"Рабочий!C111&\"  ____________  / \"&Ректор&\" /\"","v":"Ректор  ____________  / Калашников В.В. /"},null,null,null,null,null,null,null,null,null,null,null,null,null,null,null,null,"заочная",null,"сокращенный срок обучения на базе ВПО"]
["",null,null,null,null,null,null,null,null,null,0,null,null,null,null,null,null,null,null,null,null,null,null,null,null,null,null,null,null,null,null,null,null,null,null,null,null,null,null,null,null,null,null,null,null,null,null,null,null,null,null,null,null,null,null,"\"___\"__________20___ г."]
["",null,null,null,null,null,null,null,null,null,0]
[]
[null,null,null,null,null,null,null,null,null,null,null,null,null,null,null,null,null,null,null,null,null,null,null,null,null,null,null,null,null,null,null,null,null,null,null,null,null,null,null,null,null,null,null,null,null,null,null,null,null,null,{"$f":"IF(Утв<>\"\",\"Утвержден электронно\",\"\")","v":""}]
[{"$f":"УченыйСовет","v":"План одобрен Ученым советом вуза"},null,null,null,null,null,null,null,null,null,null,null,null,null,null,null,null,null,null,null,null,null,null,null,null,null,null,null,null,null,null,null,null,null,null,"Шифр плана в ИМЦА",null,null,null,null,null,null,null,"",null,null,null,null,null,null,null,null,null,null,null,null,"от",null,"00:00:00"]
["2006-11-27",null,null,null,null,null,"протокол №",null,null,null,null,null,null,4]
[{"$f":"УчебныйПлан","v":"РАБОЧИЙ УЧЕБНЫЙ ПЛАН"}]
[null,null,null,null,null,null,null,null,null,null,null,null,null,null,null,null,null,null,null,null,null,null,null,null,null,"специалистов",null,null,null,null,null,null,null,null,null,null,null,null,"очная",null,null,null,null,null,null,null,null,{"$f":"IF(AM11<>\"\",\"форма обучения\",\"\")","v":"форма обучения"},null,null,null,null,null,null,null,null,null,null,"030602",null,null,null,null,null,null,".65"]
["Направления 030600 \"Журналистика\"",null,null,null,null,null,null,null,null,null,null,null,null,null,null,null,null,null,null,null,null,null,null,null,null,null,null,null,null,null,null,null,null,null,null,null,null,null,null,null,null,null,null,null,null,null,null,null,null,null,null,null,null,null,null,null,null,null,null,null,null,null,null,null,null,null,null,{"$f":"\"\"","v":""}]
["специальности 030602 \"Связи с общественностью\"",null,null,null,null,null,null,null,null,null,null,null,null,null,null,null,null,null,null,null,null,null,null,null,null,null,null,null,null,null,null,null,null,null,null,null,null,null,null,null,null,null,null,null,null,null,null,null,null,null,null,null,null,null,null,null,null,null,null,null,null,null,null,null,null,null,null,"Э"]
["",null,null,null,null,null,null,null,null,null,null,null,null,null,null,null,null,null,null,null,null,null,null,null,null,null,null,null,null,null,null,null,null,null,null,null,null,null,null,null,null,null,null,null,null,null,null,null,null,null,null,null,null,null,null,null,null,null,null,null,null,null,null,null,null,null,null,"У"]
["",null,null,null,null,null,null,null,null,null,null,null,null,null,null,null,null,null,null,null,null,null,null,null,null,null,null,null,null,null,null,null,null,null,null,null,null,null,null,null,null,null,null,null,null,null,null,null,null,null,null,null,null,null,null,null,null,null,null,null,null,null,null,null,null,null,null,"П"]
["",null,null,null,null,null,null,null,null,null,null,null,null,null,null,null,null,null,null,null,null,null,null,null,null,null,null,null,null,null,null,null,null,null,null,null,null,null,null,null,null,null,null,null,null,null,null,null,null,null,null,null,null,null,null,null,null,null,null,null,null,null,null,null,null,null,null,"Д"]
["",null,null,null,null,null,null,null,null,null,null,null,null,null,null,null,null,null,null,null,null,null,null,null,null,null,null,null,null,null,null,null,null,null,null,null,null,null,null,null,null,null,null,null,null,null,null,null,null,null,null,null,null,null,null,null,null,null,null,null,null,null,null,null,null,null,null,"Г"]
["",null,null,null,null,null,null,null,null,null,null,null,null,null,null,null,null,null,null,null,null,null,null,null,null,null,null,null,null,null,null,null,null,null,null,null,null,null,null,null,null,null,null,null,null,null,null,null,null,null,null,null,null,null,null,null,null,null,null,null,null,null,null,null,null,null,null,"К"]
["",null,null,null,null,null,null,null,null,null,null,null,null,null,null,null,null,null,null,null,null,null,null,null,null,null,null,null,null,null,null,null,null,null,null,null,null,null,null,null,null,null,null,null,null,null,null,null,null,null,null,null,null,null,null,null,null,null,null,null,null,null,null,null,null,null,null,"А"]
["График учебного процесса",null,null,null,null,null,null,null,null,null,null,null,null,null,null,null,null,null,null,null,null,null,null,null,null,null,null,null,null,null,null,null,null,null,null,null,null,null,null,null,null,null,null,null,null,null,null,null,null,null,null,null,null,null,null,null,null,null,null,null,null,null,null,null,null,null,null,"=",null,null,null,null,null,null,null,0.16666666666666666,0.16666666666666666,0.16666666666666666,0.16666666666666666,0.16666666666666666,0.16666666666666666,0.16666666666666666,0.16666666666666666,0.16666666666666666,0.16666666666666666,0.16666666666666666,0.16666666666666666,0.16666666666666666,0.16666666666666666,0.16666666666666666,0.16666666666666666,0.16666666666666666,0.16666666666666666,0.16666666666666666,0.16666666666666666,0.16666666666666666,0.16666666666666666,0.16666666666666666,0.16666666666666666,0.16666666666666666,0.16666666666666666,0.16666666666666666,0.16666666666666666,0.16666666666666666,0.16666666666666666,0.16666666666666666,0.16666666666666666,0.16666666666666666,0.16666666666666666,0.16666666666666666,0.16666666666666666,0.16666666666666666,0.16666666666666666,0.16666666666666666,0.16666666666666666,0.16666666666666666,0.16666666666666666,0.16666666666666666,0.16666666666666666,0.16666666666666666,0.16666666666666666,0.16666666666666666,0.16666666666666666,0.16666666666666666,0.16666666666666666,0.16666666666666666,0.16666666666666666]
[null,null,null,null,null,null,null,null,null,null,null,null,null,null,null,null,null,null,null,null,null,null,null,null,null,null,null,null,null,null,null,null,null,null,null,null,null,null,null,null,null,null,null,null,null,null,null,null,null,null,null,null,null,null,null,null,null,null,null,null,null,null,null,null,null,null,null,null,null,null,null,null,null,null,null,0.16666666666666666,0.16666666666666666,0.16666666666666666,0.16666666666666666,0.16666666666666666,0.16666666666666666,0.16666666666666666,0.16666666666666666,0.16666666666666666,0.16666666666666666,0.16666666666666666,0.16666666666666666,0.16666666666666666,0.16666666666666666,0.16666666666666666,0.16666666666666666,0.16666666666666666,0.16666666666666666,0.16666666666666666,0.16666666666666666,0.16666666666666666,0.16666666666666666,0.16666666666666666,0.16666666666666666,0.16666666666666666,0.16666666666666666,0.16666666666666666,0.16666666666666666,0.16666666666666666,0.16666666666666666,0.16666666666666666,0.16666666666666666,0.16666666666666666,0.16666666666666666,0.16666666666666666,0.16666666666666666,0.16666666666666666,0.16666666666666666,0.16666666666666666,0.16666666666666666,0.16666666666666666,0.16666666666666666,0.16666666666666666,0.16666666666666666,0.16666666666666666,0.16666666666666666,0.16666666666666666,0.16666666666666666,0.16666666666666666,0.16666666666666666,0.16666666666666666,0.16666666666666666]
[null,null,null,null,null,null,null,null,null,null,null,null,null,null,null,null,null,null,null,null,null,null,null,null,null,null,null,null,null,null,null,null,null,null,null,null,null,null,null,null,null,null,null,null,null,null,null,null,null,null,null,null,null,null,null,null,null,null,null,null,null,null,null,null,null,null,null,null,null,null,null,null,null,null,null,0.16666666666666666,0.16666666666666666,0.16666666666666666,0.16666666666666666,0.16666666666666666,0.16666666666666666,0.16666666666666666,0.16666666666666666,0.16666666666666666,0.16666666666666666,0.16666666666666666,0.16666666666666666,0.16666666666666666,0.16666666666666666,0.16666666666666666,0.16666666666666666,0.16666666666666666,0.16666666666666666,0.16666666666666666,0.16666666666666666,0.16666666666666666,0.16666666666666666,0.16666666666666666,0.16666666666666666,0.16666666666666666,0.16666666666666666,0.16666666666666666,0.16666666666666666,0.16666666666666666,0.16666666666666666,0.16666666666666666,0.16666666666666666,0.16666666666666666,0.16666666666666666,0.16666666666666666,0.16666666666666666,0.16666666666666666,0.16666666666666666,0.16666666666666666,0.16666666666666666,0.16666666666666666,0.16666666666666666,0.16666666666666666,0.16666666666666666,0.16666666666666666,0.16666666666666666,0.16666666666666666,0.16666666666666666,0.16666666666666666,0.16666666666666666,0.16666666666666666,0.16666666666666666]
[null,"Сентябрь",null,null,null,null,"Октябрь",null,null,null,"Ноябрь",null,null,null,"Декабрь",null,null,null,null,"Январь",null,null,null,"Февраль",null,null,null,"Март",null,null,null,null,"Апрель",null,null,null,"Май",null,null,null,"Июнь",null,null,null,null,"Июль",null,null,null,"Август",null,null,null,"Недель",null,null,null,null,null,null,null,null,null,null,{"$f":"PROPER(Студент)&\"ов\"","v":"Студентов"},"Групп","Курс",null,null,null,null,null,null,null,null,0.16666666666666666,0.16666666666666666,0.16666666666666666,0.16666666666666666,0.16666666666666666,0.16666666666666666,0.16666666666666666,0.16666666666666666,0.16666666666666666,0.16666666666666666,0.16666666666666666,0.16666666666666666,0.16666666666666666,0.16666666666666666,0.16666666666666666,0.16666666666666666,0.16666666666666666,0.16666666666666666,0.16666666666666666,0.16666666666666666,0.16666666666666666,0.16666666666666666,0.16666666666666666,0.16666666666666666,0.16666666666666666,0.16666666666666666,0.16666666666666666,0.16666666666666666,0.16666666666666666,0.16666666666666666,0.16666666666666666,0.16666666666666666,0.16666666666666666,0.16666666666666666,0.16666666666666666,0.16666666666666666,0.16666666666666666,0.16666666666666666,0.16666666666666666,0.16666666666666666,0.16666666666666666,0.16666666666666666,0.16666666666666666,0.16666666666666666,0.16666666666666666,0.16666666666666666,0.16666666666666666,0.16666666666666666,0.16666666666666666,0.16666666666666666,0.16666666666666666,0.16666666666666666]
["Курсы","1-7 сен","8-14 сен","15-21 сен","22-28 сен","29 сен - 5 окт","6-12 окт","13-19 окт","20-26 окт","27 окт - 02 ноя","3-9 ноя","10-16 ноя","17-23 ноя","24 ноя - 30 ноя","1-7 дек","8-14 дек","15-21 дек","22-28 дек","29 дек - 4 янв","5-11 янв","12-18 янв","19-25 янв","26 янв - 1 фев","2-8 фев","9-15 фев","16-22 фев","23 фев - 1 мар","2-8 мар","9-15 мар","16-22 мар","23-29 мар","30 мар - 5 апр","6-12 апр","13-19 апр","20-26 апр","27 апр - 3 май","4-10 май","11-17 май","18-24 май","25-31 май","1-7 июн","8-14 июн","15-21 июн","22-28 июн","29 июн - 5 июл","6-12 июл","13-19 июл","20-26 июл","27 июл -2 авг","3-9 авг","10-16 авг","17-23 авг","24-30 авг","Теоретическое обучение",null,null,"Экзаменационные сессии","Итоговая Аттестация","Учебная практика","Другие Практики, НИР","Дипломная работа (ВКР)","Гос. Экзамены и защита","Каникулы","Всего",null,null,null,null,null,null,null,null,"Нед на экз. в осень","Недели на др. виды работ (дополнение)","Недели ТО (дополнение О)",0.16666666666666666,0.16666666666666666,0.16666666666666666,0.16666666666666666,0.16666666666666666,0.16666666666666666,0.16666666666666666,0.16666666666666666,0.16666666666666666,0.16666666666666666,0.16666666666666666,0.16666666666666666,0.16666666666666666,0.16666666666666666,0.16666666666666666,0.16666666666666666,0.16666666666666666,0.16666666666666666,0.16666666666666666,0.16666666666666666,0.16666666666666666,0.16666666666666666,0.16666666666666666,0.16666666666666666,0.16666666666666666,0.16666666666666666,0.16666666666666666,0.16666666666666666,0.16666666666666666,0.16666666666666666,0.16666666666666666,0.16666666666666666,0.16666666666666666,0.16666666666666666,0.16666666666666666,0.16666666666666666,0.16666666666666666,0.16666666666666666,0.16666666666666666,0.16666666666666666,0.16666666666666666,0.16666666666666666,0.16666666666666666,0.16666666666666666,0.16666666666666666,0.16666666666666666,0.16666666666666666,0.16666666666666666,0.16666666666666666,0.16666666666666666,0.16666666666666666,0.16666666666666666,"Недели ТО (дополнение В)","Нед на экз. в весна"]
[{"$f":"IF(NOT(BS33),\"Au\",\"!\")","v":"Au"},1,2,3,4,5,6,7,8,9,10,11,12,13,14,15,16,17,18,19,20,21,22,23,24,25,26,27,28,29,30,31,32,33,34,35,36,37,38,39,40,41,42,43,44,45,46,47,48,49,50,51,52,null,null,null,null,null,null,null,null,null,null,null,null,null,null,null,null,null,null,null,null,null,null,0.16666666666666666,0.16666666666666666,0.16666666666666666,0.16666666666666666,0.16666666666666666,0.16666666666666666,0.16666666666666666,0.16666666666666666,0.16666666666666666,0.16666666666666666,0.16666666666666666,0.16666666666666666,0.16666666666666666,0.16666666666666666,0.16666666666666666,0.16666666666666666,0.16666666666666666,0.16666666666666666,0.16666666666666666,0.16666666666666666,0.16666666666666666,0.16666666666666666,0.16666666666666666,0.16666666666666666,0.16666666666666666,0.16666666666666666,0.16666666666666666,0.16666666666666666,0.16666666666666666,0.16666666666666666,0.16666666666666666,0.16666666666666666,0.16666666666666666,0.16666666666666666,0.16666666666666666,0.16666666666666666,0.16666666666666666,0.16666666666666666,0.16666666666666666,0.16666666666666666,0.16666666666666666,0.16666666666666666,0.16666666666666666,0.16666666666666666,0.16666666666666666,0.16666666666666666,0.16666666666666666,0.16666666666666666,0.16666666666666666,0.16666666666666666,0.16666666666666666,0.16666666666666666]
[0,"=","=","=","=","=","=","=","=","=","=","=","=","=","=","=","=","=","=","=","=","=","=","=","=","=","=","=","=","=","=","=","=","=","=","=","=","=","=","=","=","=","=","=","=","=","=","=","=","=","=","=","=","О","В","Итого",null,null,null,null,null,null,null,null,null,null,null,null,null,null,1,139,null,null,null,{"$f":"IF(B26=\"\",0,B26)","v":"="},{"$f":"IF(C26=\"\",0,C26)","v":"="},"=","=","=","=","=","=","=","=","=","=","=","=","=","=","=","=","=","=","=","=","=","=","=","=","=","=","=","=","=","=","=","=","=","=","=","=","=","=","=","=","=","=","=","=","=","=","=","=","=","="]
[null,null,null,null,null,null,null,null,null,null,null,null,null,null,null,null,null,null,null,null,null,null,null,null,null,null,null,null,null,null,null,null,null,null,null,null,null,null,null,null,null,null,null,null,null,null,null,null,null,null,null,null,null,null,null,null,null,null,null,null,null,null,null,null,null,null,null,null,null,null,1,139,null,null,null,{"$f":"IF(B26=\"\",0,B26)","v":"="},{"$f":"IF(C26=\"\",0,C26)","v":"="},{"$f":"IF(D26=\"\",0,D26)","v":"="},{"$f":"IF(E26=\"\",0,E26)","v":"="},{"$f":"IF(F26=\"\",0,F26)","v":"="},{"$f":"IF(G26=\"\",0,G26)","v":"="},{"$f":"IF(H26=\"\",0,H26)","v":"="},{"$f":"IF(I26=\"\",0,I26)","v":"="},{"$f":"IF(J26=\"\",0,J26)","v":"="},{"$f":"IF(K26=\"\",0,K26)","v":"="},{"$f":"IF(L26=\"\",0,L26)","v":"="},{"$f":"IF(M26=\"\",0,M26)","v":"="},{"$f":"IF(N26=\"\",0,N26)","v":"="},{"$f":"IF(O26=\"\",0,O26)","v":"="},{"$f":"IF(P26=\"\",0,P26)","v":"="},{"$f":"IF(Q26=\"\",0,Q26)","v":"="},{"$f":"IF(R26=\"\",0,R26)","v":"="},{"$f":"IF(S26=\"\",0,S26)","v":"="},{"$f":"IF(T26=\"\",0,T26)","v":"="},{"$f":"IF(U26=\"\",0,U26)","v":"="},{"$f":"IF(V26=\"\",0,V26)","v":"="},{"$f":"IF(W26=\"\",0,W26)","v":"="},{"$f":"IF(X26=\"\",0,X26)","v":"="},{"$f":"IF(Y26=\"\",0,Y26)","v":"="},{"$f":"IF(Z26=\"\",0,Z26)","v":"="},{"$f":"IF(AA26=\"\",0,AA26)","v":"="},{"$f":"IF(AB26=\"\",0,AB26)","v":"="},{"$f":"IF(AC26=\"\",0,AC26)","v":"="},{"$f":"IF(AD26=\"\",0,AD26)","v":"="},{"$f":"IF(AE26=\"\",0,AE26)","v":"="},{"$f":"IF(AF26=\"\",0,AF26)","v":"="},{"$f":"IF(AG26=\"\",0,AG26)","v":"="},{"$f":"IF(AH26=\"\",0,AH26)","v":"="},{"$f":"IF(AI26=\"\",0,AI26)","v":"="},{"$f":"IF(AJ26=\"\",0,AJ26)","v":"="},{"$f":"IF(AK26=\"\",0,AK26)","v":"="},{"$f":"IF(AL26=\"\",0,AL26)","v":"="},{"$f":"IF(AM26=\"\",0,AM26)","v":"="},{"$f":"IF(AN26=\"\",0,AN26)","v":"="},{"$f":"IF(AO26=\"\",0,AO26)","v":"="},{"$f":"IF(AP26=\"\",0,AP26)","v":"="},{"$f":"IF(AQ26=\"\",0,AQ26)","v":"="},{"$f":"IF(AR26=\"\",0,AR26)","v":"="},{"$f":"IF(AS26=\"\",0,AS26)","v":"="},{"$f":"IF(AT26=\"\",0,AT26)","v":"="},{"$f":"IF(AU26=\"\",0,AU26)","v":"="},{"$f":"IF(AV26=\"\",0,AV26)","v":"="},{"$f":"IF(AW26=\"\",0,AW26)","v":"="},{"$f":"IF(AX26=\"\",0,AX26)","v":"="},{"$f":"IF(AY26=\"\",0,AY26)","v":"="},{"$f":"IF(AZ26=\"\",0,AZ26)","v":"="},{"$f":"IF(BA26=\"\",0,BA26)","v":"="}]
[null,null,null,null,null,null,null,null,null,null,null,null,null,null,null,null,null,null,null,null,null,null,null,null,null,null,null,null,null,null,null,null,null,null,null,null,null,null,null,null,null,null,null,null,null,null,null,null,null,null,null,null,null,null,null,null,null,null,null,null,null,null,null,null,null,null,null,null,null,null,1,139,null,null,null,{"$f":"IF(B26=\"\",0,B26)","v":"="},{"$f":"IF(C26=\"\",0,C26)","v":"="},{"$f":"IF(D26=\"\",0,D26)","v":"="},{"$f":"IF(E26=\"\",0,E26)","v":"="},{"$f":"IF(F26=\"\",0,F26)","v":"="},{"$f":"IF(G26=\"\",0,G26)","v":"="},{"$f":"IF(H26=\"\",0,H26)","v":"="},{"$f":"IF(I26=\"\",0,I26)","v":"="},{"$f":"IF(J26=\"\",0,J26)","v":"="},{"$f":"IF(K26=\"\",0,K26)","v":"="},{"$f":"IF(L26=\"\",0,L26)","v":"="},{"$f":"IF(M26=\"\",0,M26)","v":"="},{"$f":"IF(N26=\"\",0,N26)","v":"="},{"$f":"IF(O26=\"\",0,O26)","v":"="},{"$f":"IF(P26=\"\",0,P26)","v":"="},{"$f":"IF(Q26=\"\",0,Q26)","v":"="},{"$f":"IF(R26=\"\",0,R26)","v":"="},{"$f":"IF(S26=\"\",0,S26)","v":"="},{"$f":"IF(T26=\"\",0,T26)","v":"="},{"$f":"IF(U26=\"\",0,U26)","v":"="},{"$f":"IF(V26=\"\",0,V26)","v":"="},{"$f":"IF(W26=\"\",0,W26)","v":"="},{"$f":"IF(X26=\"\",0,X26)","v":"="},{"$f":"IF(Y26=\"\",0,Y26)","v":"="},{"$f":"IF(Z26=\"\",0,Z26)","v":"="},{"$f":"IF(AA26=\"\",0,AA26)","v":"="},{"$f":"IF(AB26=\"\",0,AB26)","v":"="},{"$f":"IF(AC26=\"\",0,AC26)","v":"="},{"$f":"IF(AD26=\"\",0,AD26)","v":"="},{"$f":"IF(AE26=\"\",0,AE26)","v":"="},{"$f":"IF(AF26=\"\",0,AF26)","v":"="},{"$f":"IF(AG26=\"\",0,AG26)","v":"="},{"$f":"IF(AH26=\"\",0,AH26)","v":"="},{"$f":"IF(AI26=\"\",0,AI26)","v":"="},{"$f":"IF(AJ26=\"\",0,AJ26)","v":"="},{"$f":"IF(AK26=\"\",0,AK26)","v":"="},{"$f":"IF(AL26=\"\",0,AL26)","v":"="},{"$f":"IF(AM26=\"\",0,AM26)","v":"="},{"$f":"IF(AN26=\"\",0,AN26)","v":"="},{"$f":"IF(AO26=\"\",0,AO26)","v":"="},{"$f":"IF(AP26=\"\",0,AP26)","v":"="},{"$f":"IF(AQ26=\"\",0,AQ26)","v":"="},{"$f":"IF(AR26=\"\",0,AR26)","v":"="},{"$f":"IF(AS26=\"\",0,AS26)","v":"="},{"$f":"IF(AT26=\"\",0,AT26)","v":"="},{"$f":"IF(AU26=\"\",0,AU26)","v":"="},{"$f":"IF(AV26=\"\",0,AV26)","v":"="},{"$f":"IF(AW26=\"\",0,AW26)","v":"="},{"$f":"IF(AX26=\"\",0,AX26)","v":"="},{"$f":"IF(AY26=\"\",0,AY26)","v":"="},{"$f":"IF(AZ26=\"\",0,AZ26)","v":"="},{"$f":"IF(BA26=\"\",0,BA26)","v":"="}]
[null,null,null,null,null,null,null,null,null,null,null,null,null,null,null,null,null,null,null,null,null,null,null,null,null,null,null,null,null,null,null,null,null,null,null,null,null,null,null,null,null,null,null,null,null,null,null,null,null,null,null,null,null,null,null,null,null,null,null,null,null,null,null,null,null,null,null,null,null,null,1,139,null,null,null,{"$f":"IF(B26=\"\",0,B26)","v":"="},{"$f":"IF(C26=\"\",0,C26)","v":"="},{"$f":"IF(D26=\"\",0,D26)","v":"="},{"$f":"IF(E26=\"\",0,E26)","v":"="},{"$f":"IF(F26=\"\",0,F26)","v":"="},{"$f":"IF(G26=\"\",0,G26)","v":"="},{"$f":"IF(H26=\"\",0,H26)","v":"="},{"$f":"IF(I26=\"\",0,I26)","v":"="},{"$f":"IF(J26=\"\",0,J26)","v":"="},{"$f":"IF(K26=\"\",0,K26)","v":"="},{"$f":"IF(L26=\"\",0,L26)","v":"="},{"$f":"IF(M26=\"\",0,M26)","v":"="},{"$f":"IF(N26=\"\",0,N26)","v":"="},{"$f":"IF(O26=\"\",0,O26)","v":"="},{"$f":"IF(P26=\"\",0,P26)","v":"="},{"$f":"IF(Q26=\"\",0,Q26)","v":"="},{"$f":"IF(R26=\"\",0,R26)","v":"="},{"$f":"IF(S26=\"\",0,S26)","v":"="},{"$f":"IF(T26=\"\",0,T26)","v":"="},{"$f":"IF(U26=\"\",0,U26)","v":"="},{"$f":"IF(V26=\"\",0,V26)","v":"="},{"$f":"IF(W26=\"\",0,W26)","v":"="},{"$f":"IF(X26=\"\",0,X26)","v":"="},{"$f":"IF(Y26=\"\",0,Y26)","v":"="},{"$f":"IF(Z26=\"\",0,Z26)","v":"="},{"$f":"IF(AA26=\"\",0,AA26)","v":"="},{"$f":"IF(AB26=\"\",0,AB26)","v":"="},{"$f":"IF(AC26=\"\",0,AC26)","v":"="},{"$f":"IF(AD26=\"\",0,AD26)","v":"="},{"$f":"IF(AE26=\"\",0,AE26)","v":"="},{"$f":"IF(AF26=\"\",0,AF26)","v":"="},{"$f":"IF(AG26=\"\",0,AG26)","v":"="},{"$f":"IF(AH26=\"\",0,AH26)","v":"="},{"$f":"IF(AI26=\"\",0,AI26)","v":"="},{"$f":"IF(AJ26=\"\",0,AJ26)","v":"="},{"$f":"IF(AK26=\"\",0,AK26)","v":"="},{"$f":"IF(AL26=\"\",0,AL26)","v":"="},{"$f":"IF(AM26=\"\",0,AM26)","v":"="},{"$f":"IF(AN26=\"\",0,AN26)","v":"="},{"$f":"IF(AO26=\"\",0,AO26)","v":"="},{"$f":"IF(AP26=\"\",0,AP26)","v":"="},{"$f":"IF(AQ26=\"\",0,AQ26)","v":"="},{"$f":"IF(AR26=\"\",0,AR26)","v":"="},{"$f":"IF(AS26=\"\",0,AS26)","v":"="},{"$f":"IF(AT26=\"\",0,AT26)","v":"="},{"$f":"IF(AU26=\"\",0,AU26)","v":"="},{"$f":"IF(AV26=\"\",0,AV26)","v":"="},{"$f":"IF(AW26=\"\",0,AW26)","v":"="},{"$f":"IF(AX26=\"\",0,AX26)","v":"="},{"$f":"IF(AY26=\"\",0,AY26)","v":"="},{"$f":"IF(AZ26=\"\",0,AZ26)","v":"="},{"$f":"IF(BA26=\"\",0,BA26)","v":"="}]
[null,null,null,null,null,null,null,null,null,null,null,null,null,null,null,null,null,null,null,null,null,null,null,null,null,null,null,null,null,null,null,null,null,null,null,null,null,null,null,null,null,null,null,null,null,null,null,null,null,null,null,null,null,null,null,null,null,null,null,null,null,null,null,null,null,null,null,null,null,null,1,121,null,null,null,{"$f":"IF(B26=\"\",0,B26)","v":"="},{"$f":"IF(C26=\"\",0,C26)","v":"="},{"$f":"IF(D26=\"\",0,D26)","v":"="},{"$f":"IF(E26=\"\",0,E26)","v":"="},{"$f":"IF(F26=\"\",0,F26)","v":"="},{"$f":"IF(G26=\"\",0,G26)","v":"="},{"$f":"IF(H26=\"\",0,H26)","v":"="},{"$f":"IF(I26=\"\",0,I26)","v":"="},{"$f":"IF(J26=\"\",0,J26)","v":"="},{"$f":"IF(K26=\"\",0,K26)","v":"="},{"$f":"IF(L26=\"\",0,L26)","v":"="},{"$f":"IF(M26=\"\",0,M26)","v":"="},{"$f":"IF(N26=\"\",0,N26)","v":"="},{"$f":"IF(O26=\"\",0,O26)","v":"="},{"$f":"IF(P26=\"\",0,P26)","v":"="},{"$f":"IF(Q26=\"\",0,Q26)","v":"="},{"$f":"IF(R26=\"\",0,R26)","v":"="},{"$f":"IF(S26=\"\",0,S26)","v":"="},{"$f":"IF(T26=\"\",0,T26)","v":"="},{"$f":"IF(U26=\"\",0,U26)","v":"="},{"$f":"IF(V26=\"\",0,V26)","v":"="},{"$f":"IF(W26=\"\",0,W26)","v":"="},{"$f":"IF(X26=\"\",0,X26)","v":"="},{"$f":"IF(Y26=\"\",0,Y26)","v":"="},{"$f":"IF(Z26=\"\",0,Z26)","v":"="},{"$f":"IF(AA26=\"\",0,AA26)","v":"="},{"$f":"IF(AB26=\"\",0,AB26)","v":"="},{"$f":"IF(AC26=\"\",0,AC26)","v":"="},{"$f":"IF(AD26=\"\",0,AD26)","v":"="},{"$f":"IF(AE26=\"\",0,AE26)","v":"="},{"$f":"IF(AF26=\"\",0,AF26)","v":"="},{"$f":"IF(AG26=\"\",0,AG26)","v":"="},{"$f":"IF(AH26=\"\",0,AH26)","v":"="},{"$f":"IF(AI26=\"\",0,AI26)","v":"="},{"$f":"IF(AJ26=\"\",0,AJ26)","v":"="},{"$f":"IF(AK26=\"\",0,AK26)","v":"="},{"$f":"IF(AL26=\"\",0,AL26)","v":"="},{"$f":"IF(AM26=\"\",0,AM26)","v":"="},{"$f":"IF(AN26=\"\",0,AN26)","v":"="},{"$f":"IF(AO26=\"\",0,AO26)","v":"="},{"$f":"IF(AP26=\"\",0,AP26)","v":"="},{"$f":"IF(AQ26=\"\",0,AQ26)","v":"="},{"$f":"IF(AR26=\"\",0,AR26)","v":"="},{"$f":"IF(AS26=\"\",0,AS26)","v":"="},{"$f":"IF(AT26=\"\",0,AT26)","v":"="},{"$f":"IF(AU26=\"\",0,AU26)","v":"="},{"$f":"IF(AV26=\"\",0,AV26)","v":"="},{"$f":"IF(AW26=\"\",0,AW26)","v":"="},{"$f":"IF(AX26=\"\",0,AX26)","v":"="},{"$f":"IF(AY26=\"\",0,AY26)","v":"="},{"$f":"IF(AZ26=\"\",0,AZ26)","v":"="},{"$f":"IF(BA26=\"\",0,BA26)","v":"="}]
[null,null,null,null,null,null,null,null,null,null,null,null,null,null,null,null,null,null,null,null,null,null,null,null,null,null,null,null,null,null,null,null,null,null,null,null,null,null,null,null,null,null,null,null,null,null,null,null,null,null,null,null,null,null,null,null,null,null,null,null,null,null,null,null,null,null,null,null,null,null,1,181,null,null,null,{"$f":"IF(B26=\"\",0,B26)","v":"="},{"$f":"IF(C26=\"\",0,C26)","v":"="},{"$f":"IF(D26=\"\",0,D26)","v":"="},{"$f":"IF(E26=\"\",0,E26)","v":"="},{"$f":"IF(F26=\"\",0,F26)","v":"="},{"$f":"IF(G26=\"\",0,G26)","v":"="},{"$f":"IF(H26=\"\",0,H26)","v":"="},{"$f":"IF(I26=\"\",0,I26)","v":"="},{"$f":"IF(J26=\"\",0,J26)","v":"="},{"$f":"IF(K26=\"\",0,K26)","v":"="},{"$f":"IF(L26=\"\",0,L26)","v":"="},{"$f":"IF(M26=\"\",0,M26)","v":"="},{"$f":"IF(N26=\"\",0,N26)","v":"="},{"$f":"IF(O26=\"\",0,O26)","v":"="},{"$f":"IF(P26=\"\",0,P26)","v":"="},{"$f":"IF(Q26=\"\",0,Q26)","v":"="},{"$f":"IF(R26=\"\",0,R26)","v":"="},{"$f":"IF(S26=\"\",0,S26)","v":"="},{"$f":"IF(T26=\"\",0,T26)","v":"="},{"$f":"IF(U26=\"\",0,U26)","v":"="},{"$f":"IF(V26=\"\",0,V26)","v":"="},{"$f":"IF(W26=\"\",0,W26)","v":"="},{"$f":"IF(X26=\"\",0,X26)","v":"="},{"$f":"IF(Y26=\"\",0,Y26)","v":"="},{"$f":"IF(Z26=\"\",0,Z26)","v":"="},{"$f":"IF(AA26=\"\",0,AA26)","v":"="},{"$f":"IF(AB26=\"\",0,AB26)","v":"="},{"$f":"IF(AC26=\"\",0,AC26)","v":"="},{"$f":"IF(AD26=\"\",0,AD26)","v":"="},{"$f":"IF(AE26=\"\",0,AE26)","v":"="},{"$f":"IF(AF26=\"\",0,AF26)","v":"="},{"$f":"IF(AG26=\"\",0,AG26)","v":"="},{"$f":"IF(AH26=\"\",0,AH26)","v":"="},{"$f":"IF(AI26=\"\",0,AI26)","v":"="},{"$f":"IF(AJ26=\"\",0,AJ26)","v":"="},{"$f":"IF(AK26=\"\",0,AK26)","v":"="},{"$f":"IF(AL26=\"\",0,AL26)","v":"="},{"$f":"IF(AM26=\"\",0,AM26)","v":"="},{"$f":"IF(AN26=\"\",0,AN26)","v":"="},{"$f":"IF(AO26=\"\",0,AO26)","v":"="},{"$f":"IF(AP26=\"\",0,AP26)","v":"="},{"$f":"IF(AQ26=\"\",0,AQ26)","v":"="},{"$f":"IF(AR26=\"\",0,AR26)","v":"="},{"$f":"IF(AS26=\"\",0,AS26)","v":"="},{"$f":"IF(AT26=\"\",0,AT26)","v":"="},{"$f":"IF(AU26=\"\",0,AU26)","v":"="},{"$f":"IF(AV26=\"\",0,AV26)","v":"="},{"$f":"IF(AW26=\"\",0,AW26)","v":"="},{"$f":"IF(AX26=\"\",0,AX26)","v":"="},{"$f":"IF(AY26=\"\",0,AY26)","v":"="},{"$f":"IF(AZ26=\"\",0,AZ26)","v":"="},{"$f":"IF(BA26=\"\",0,BA26)","v":"="}]
[1,"","","","","","","","","","","","","","","","","","","Э","Э","Э","К","К","","","","","","","","","","","","","","","","","","","Э","Э","Э","К","К","К","К","К","К","К","К",{"$f":"SUMIF(OFFSET($BX32:$DW37,0,INT((IF($BS26>0,$BS26,1)-1)/6),,INT(($BT26-1)/6)-INT((IF($BS26>0,$BS26,1)-1)/6)),\"=0\",OFFSET($BX$20:$DW$25,0,INT((IF($BS26>0,$BS26,1)-1)/6)))-IF(AND($BS26>0,$BS26>INT(($BS26-1)/6)*6+1),SUMIF(OFFSET($BX32:$DW37,0,INT(($BS26-1)/6),$BS26-INT(($BS26-1)/6)*6-1,1),\"=0\",OFFSET($BX$20:$DW$25,0,INT(($BS26-1)/6),$BS26-INT(($BS26-1)/6)*6-1,1)))+IF(AND($BT26>0,$BT26>INT(($BT26-1)/6)*6+1),SUMIF(OFFSET($BX32:$DW37,0,INT(($BT26-1)/6),$BT26-INT(($BT26-1)/6)*6-1,1),\"=0\",OFFSET($BX$20:$DW$25,0,INT(($BT26-1)/6),$BT26-INT(($BT26-1)/6)*6-1,1)))+$BW32","v":17.999999999999989},{"$f":"SUMIF(OFFSET($BX32:$DW37,0,INT(($BT26-1)/6),,52-INT(($BT26-1)/6)-IF($BS27<=0,INT(ABS($BS27)/6)+1,0)),\"=0\",OFFSET($BX$20:$DW$25,0,INT(($BT26-1)/6),,52-INT(($BT26-1)/6)-IF($BS27<=0,INT(ABS($BS27)/6)+1,0)))-IF($BT26>INT(($BT26-1)/6)*6+1,SUMIF(OFFSET($BX32:$DW37,0,INT(($BT26-1)/6),$BT26-INT(($BT26-1)/6)*6-1,1),\"=0\",OFFSET($BX$20:$DW$25,0,INT(($BT26-1)/6),$BT26-INT(($BT26-1)/6)*6-1,1)))+IF($BS27>1,SUMIF(OFFSET($BX38:$DW43,0,0,,INT(($BS27-1)/6)+1),\"=0\",OFFSET($BX$20:$DW$25,0,0,,INT(($BS27-1)/6)+1)))-IF($BS27>1,SUMIF(OFFSET($BX38:$DW43,$BS27-INT(($BS27-1)/6)*6-1,INT(($BS27-1)/6),(INT(($BS27-1)/6)+1)*6+1-$BS27,1),\"=0\",OFFSET($BX$20:$DW$25,0,INT(($BS27-1)/6),(INT(($BS27-1)/6)+1)*6+1-$BS27,1)))-$DX32","v":17.999999999999989},{"$f":"Недель1+Недель2","v":35.999999999999979},{"$f":"Экз1Осень+Экз1Весна","v":5.9999999999999982},{"$f":"SUMIF(OFFSET($BX32:$DW37,0,INT((IF($BS26>0,$BS26,1)-1)/6),,52-INT((IF($BS26>0,$BS26,1)-1)/6)-IF($BS27<=0,INT(ABS($BS27)/6),0)),\"=\" & $AR$77,OFFSET($BX$20:$DW$25,0,INT((IF($BS26>0,$BS26,1)-1)/6),,52-INT((IF($BS26>0,$BS26,1)-1)/6)-IF($BS27<=0,INT(ABS($BS27)/6),0)))-IF(AND($BS26>0,$BS26>INT(($BS26-1)/6)*6+1),SUMIF(OFFSET($BX32:$DW37,0,INT(($BS26-1)/6),$BS26-INT(($BS26-1)/6)*6-1,1),\"=\" & $AR$77,OFFSET($BX$20:$DW$25,0,INT(($BS26-1)/6),$BS26-INT(($BS26-1)/6)*6-1,1)))+IF($BS27>1,SUMIF(OFFSET($BX38:$DW43,0,0,,INT(($BS27-1)/6)+1),\"=\" & $AR$77,OFFSET($BX$20:$DW$25,0,0,,INT(($BS27-1)/6)+1)))-IF($BS27>1,SUMIF(OFFSET($BX38:$DW43,$BS27-INT(($BS27-1)/6)*6-1,INT(($BS27-1)/6),(INT(($BS27-1)/6)+1)*6+1-$BS27,1),\"=\" & $AR$77,OFFSET($BX$20:$DW$25,0,INT(($BS27-1)/6),(INT(($BS27-1)/6)+1)*6+1-$BS27,1)))+$BV32","v":0},{"$f":"SUMIF(OFFSET($BX32:$DW37,0,INT((IF($BS26>0,$BS26,1)-1)/6),,52-INT((IF($BS26>0,$BS26,1)-1)/6)-IF($BS27<=0,INT(ABS($BS27)/6),0)),\"=\" & $AG$75,OFFSET($BX$20:$DW$25,0,INT((IF($BS26>0,$BS26,1)-1)/6),,52-INT((IF($BS26>0,$BS26,1)-1)/6)-IF($BS27<=0,INT(ABS($BS27)/6),0)))-IF(AND($BS26>0,$BS26>INT(($BS26-1)/6)*6+1),SUMIF(OFFSET($BX32:$DW37,0,INT(($BS26-1)/6),$BS26-INT(($BS26-1)/6)*6-1,1),\"=\" & $AG$75,OFFSET($BX$20:$DW$25,0,INT(($BS26-1)/6),$BS26-INT(($BS26-1)/6)*6-1,1)))+IF($BS27>1,SUMIF(OFFSET($BX38:$DW43,0,0,,INT(($BS27-1)/6)+1),\"=\" & $AG$75,OFFSET($BX$20:$DW$25,0,0,,INT(($BS27-1)/6)+1)))-IF($BS27>1,SUMIF(OFFSET($BX38:$DW43,$BS27-INT(($BS27-1)/6)*6-1,INT(($BS27-1)/6),(INT(($BS27-1)/6)+1)*6+1-$BS27,1),\"=\" & $AG$75,OFFSET($BX$20:$DW$25,0,INT(($BS27-1)/6),(INT(($BS27-1)/6)+1)*6+1-$BS27,1)))+$BV33","v":0},{"$f":"SUMIF(OFFSET($BX32:$DW37,0,INT((IF($BS26>0,$BS26,1)-1)/6),,52-INT((IF($BS26>0,$BS26,1)-1)/6)-IF($BS27<=0,INT(ABS($BS27)/6),0)),\"=\" & $AR$75,OFFSET($BX$20:$DW$25,0,INT((IF($BS26>0,$BS26,1)-1)/6),,52-INT((IF($BS26>0,$BS26,1)-1)/6)-IF($BS27<=0,INT(ABS($BS27)/6),0)))-IF(AND($BS26>0,$BS26>INT(($BS26-1)/6)*6+1),SUMIF(OFFSET($BX32:$DW37,0,INT(($BS26-1)/6),$BS26-INT(($BS26-1)/6)*6-1,1),\"=\" & $AR$75,OFFSET($BX$20:$DW$25,0,INT(($BS26-1)/6),$BS26-INT(($BS26-1)/6)*6-1,1)))+IF($BS27>1,SUMIF(OFFSET($BX38:$DW43,0,0,,INT(($BS27-1)/6)+1),\"=\" & $AR$75,OFFSET($BX$20:$DW$25,0,0,,INT(($BS27-1)/6)+1)))-IF($BS27>1,SUMIF(OFFSET($BX38:$DW43,$BS27-INT(($BS27-1)/6)*6-1,INT(($BS27-1)/6),(INT(($BS27-1)/6)+1)*6+1-$BS27,1),\"=\" & $AR$75,OFFSET($BX$20:$DW$25,0,INT(($BS27-1)/6),(INT(($BS27-1)/6)+1)*6+1-$BS27,1)))+$BV34","v":0},{"$f":"SUMIF(OFFSET($BX32:$DW37,0,INT((IF($BS26>0,$BS26,1)-1)/6),,52-INT((IF($BS26>0,$BS26,1)-1)/6)-IF($BS27<=0,INT(ABS($BS27)/6),0)),\"=\" & $G$77,OFFSET($BX$20:$DW$25,0,INT((IF($BS26>0,$BS26,1)-1)/6),,52-INT((IF($BS26>0,$BS26,1)-1)/6)-IF($BS27<=0,INT(ABS($BS27)/6),0)))-IF(AND($BS26>0,$BS26>INT(($BS26-1)/6)*6+1),SUMIF(OFFSET($BX32:$DW37,0,INT(($BS26-1)/6),$BS26-INT(($BS26-1)/6)*6-1,1),\"=\" & $G$77,OFFSET($BX$20:$DW$25,0,INT(($BS26-1)/6),$BS26-INT(($BS26-1)/6)*6-1,1)))+IF($BS27>1,SUMIF(OFFSET($BX38:$DW43,0,0,,INT(($BS27-1)/6)+1),\"=\" & $G$77,OFFSET($BX$20:$DW$25,0,0,,INT(($BS27-1)/6)+1)))-IF($BS27>1,SUMIF(OFFSET($BX38:$DW43,$BS27-INT(($BS27-1)/6)*6-1,INT(($BS27-1)/6),(INT(($BS27-1)/6)+1)*6+1-$BS27,1),\"=\" & $G$77,OFFSET($BX$20:$DW$25,0,INT(($BS27-1)/6),(INT(($BS27-1)/6)+1)*6+1-$BS27,1)))+$BV35","v":0},{"$f":"SUMIF(OFFSET($BX32:$DW37,0,INT((IF($BS26>0,$BS26,1)-1)/6),,52-INT((IF($BS26>0,$BS26,1)-1)/6)-IF($BS27<=0,INT(ABS($BS27)/6),0)),\"=\" & $T$77,OFFSET($BX$20:$DW$25,0,INT((IF($BS26>0,$BS26,1)-1)/6),,52-INT((IF($BS26>0,$BS26,1)-1)/6)-IF($BS27<=0,INT(ABS($BS27)/6),0)))-IF(AND($BS26>0,$BS26>INT(($BS26-1)/6)*6+1),SUMIF(OFFSET($BX32:$DW37,0,INT(($BS26-1)/6),$BS26-INT(($BS26-1)/6)*6-1,1),\"=\" & $T$77,OFFSET($BX$20:$DW$25,0,INT(($BS26-1)/6),$BS26-INT(($BS26-1)/6)*6-1,1)))+IF($BS27>1,SUMIF(OFFSET($BX38:$DW43,0,0,,INT(($BS27-1)/6)+1),\"=\" & $T$77,OFFSET($BX$20:$DW$25,0,0,,INT(($BS27-1)/6)+1)))-IF($BS27>1,SUMIF(OFFSET($BX38:$DW43,$BS27-INT(($BS27-1)/6)*6-1,INT(($BS27-1)/6),(INT(($BS27-1)/6)+1)*6+1-$BS27,1),\"=\" & $T$77,OFFSET($BX$20:$DW$25,0,INT(($BS27-1)/6),(INT(($BS27-1)/6)+1)*6+1-$BS27,1)))+$BV36","v":0},{"$f":"SUMIF(OFFSET($BX32:$DW37,0,INT((IF($BS26>0,$BS26,1)-1)/6),,52-INT((IF($BS26>0,$BS26,1)-1)/6)-IF($BS27<=0,INT(ABS($BS27)/6),0)),\"=\" & $AG$77,OFFSET($BX$20:$DW$25,0,INT((IF($BS26>0,$BS26,1)-1)/6),,52-INT((IF($BS26>0,$BS26,1)-1)/6)-IF($BS27<=0,INT(ABS($BS27)/6),0)))-IF(AND($BS26>0,$BS26>INT(($BS26-1)/6)*6+1),SUMIF(OFFSET($BX32:$DW37,0,INT(($BS26-1)/6),$BS26-INT(($BS26-1)/6)*6-1,1),\"=\" & $AG$77,OFFSET($BX$20:$DW$25,0,INT(($BS26-1)/6),$BS26-INT(($BS26-1)/6)*6-1,1)))+IF($BS27>1,SUMIF(OFFSET($BX38:$DW43,0,0,,INT(($BS27-1)/6)+1),\"=\" & $AG$77,OFFSET($BX$20:$DW$25,0,0,,INT(($BS27-1)/6)+1)))-IF($BS27>1,SUMIF(OFFSET($BX38:$DW43,$BS27-INT(($BS27-1)/6)*6-1,INT(($BS27-1)/6),(INT(($BS27-1)/6)+1)*6+1-$BS27,1),\"=\" & $AG$77,OFFSET($BX$20:$DW$25,0,INT(($BS27-1)/6),(INT(($BS27-1)/6)+1)*6+1-$BS27,1)))+$BV37","v":9.9999999999999982},{"$f":"SUM($BD32:$BK37)","v":51.999999999999979},24,1,1,null,null,{"$f":"SUM(План!L1144:O1144)","v":0},1,181,{"$f":"SUMIF(OFFSET($BX32:$DW37,0,INT((IF($BS26>0,$BS26,1)-1)/6),,INT(($BT26-1)/6)-INT((IF($BS26>0,$BS26,1)-1)/6)),\"=\" & $T$75,OFFSET($BX$20:$DW$25,0,INT((IF($BS26>0,$BS26,1)-1)/6)))-IF(AND($BS26>0,$BS26>INT(($BS26-1)/6)*6+1),SUMIF(OFFSET($BX32:$DW37,0,INT(($BS26-1)/6),$BS26-INT(($BS26-1)/6)*6-1,1),\"=\" & $T$75,OFFSET($BX$20:$DW$25,0,INT(($BS26-1)/6),$BS26-INT(($BS26-1)/6)*6-1,1)))+IF(AND($BT26>0,$BT26>INT(($BT26-1)/6)*6+1),SUMIF(OFFSET($BX32:$DW37,0,INT(($BT26-1)/6),$BT26-INT(($BT26-1)/6)*6-1,1),\"=\" & $T$75,OFFSET($BX$20:$DW$25,0,INT(($BT26-1)/6),$BT26-INT(($BT26-1)/6)*6-1,1)))+$BU33","v":2.9999999999999991},{"$f":"IF($BS26<=0,SUMIF(OFFSET($BX26:$DW31,0,52-INT(ABS($BS26)/6)-1,,INT(ABS($BS26)/6)+1),\"=\" & $AR$77,OFFSET($BX$20:$DW$25,0,52-INT(ABS($BS26)/6)-1,,INT(ABS($BS26)/6)+1)))-IF(AND($BS26<=0,ABS($BS26)<INT(ABS($BS26)/6+1)*6-1),SUMIF(OFFSET($BX26:$DW31,0,52-INT(ABS($BS26)/6)-1,INT(ABS($BS26)/6+1)*6-1-ABS($BS26),1),\"=\" & $AR$77,OFFSET($BX$20:$DW$25,0,52-INT(ABS($BS26)/6)-1,INT(ABS($BS26)/6+1)*6-1-ABS($BS26),1)))-IF($BS27<=0,SUMIF(OFFSET($BX32:$DW37,(INT(ABS($BS27)/6)+1)*6-ABS($BS27)-1,52-INT(ABS($BS27)/6)-1,ABS($BS27)-INT(ABS($BS27)/6)*6+1,1),\"=\" & $AR$77,OFFSET($BX$20:$DW$25,(INT(ABS($BS27)/6)+1)*6-ABS($BS27)-1,52-INT(ABS($BS27)/6)-1,ABS($BS27)-INT(ABS($BS27)/6)*6+1,1)),0)","v":0},{"$f":"IF($BS26<=0,SUMIF(OFFSET($BX26:$DW31,0,52-INT(ABS($BS26)/6)-1,,INT(ABS($BS26)/6)+1),\"=0\",OFFSET($BX$20:$DW$25,0,52-INT(ABS($BS26)/6)-1,,INT(ABS($BS26)/6)+1)))-IF(AND($BS26<=0,ABS($BS26)<INT(ABS($BS26)/6+1)*6-1),SUMIF(OFFSET($BX26:$DW31,0,52-INT(ABS($BS26)/6)-1,INT(ABS($BS26)/6+1)*6-1-ABS($BS26),1),\"=0\",OFFSET($BX$20:$DW$25,0,52-INT(ABS($BS26)/6)-1,INT(ABS($BS26)/6+1)*6-1-ABS($BS26),1)))","v":0},{"$f":"IF(B32=\"\",0,B32)","v":0},0,0,0,0,0,0,0,0,0,0,0,0,0,0,0,0,0,"Э","Э","Э","К","К",0,0,0,0,0,0,0,0,0,{"$f":"IF(AH32=\"\",0,AH32)","v":0},0,0,0,0,0,0,0,0,"Э","Э","Э","К","К","К","К","К","К","К","К",{"$f":"IF($BS27<=0,SUMIF(OFFSET($BX32:$DW37,(INT(ABS($BS27)/6)+1)*6-ABS($BS27)-1,52-INT(ABS($BS27)/6)-1,ABS($BS27)-INT(ABS($BS27)/6)*6+1,1),\"=0\",OFFSET($BX$20:$DW$25,(INT(ABS($BS27)/6)+1)*6-ABS($BS27)-1,52-INT(ABS($BS27)/6)-1,ABS($BS27)-INT(ABS($BS27)/6)*6+1,1)),0)","v":0},{"$f":"IF($BS27<=0,SUMIF(OFFSET($BX32:$DW37,(INT(ABS($BS27)/6)+1)*6-ABS($BS27)-1,52-INT(ABS($BS27)/6)-1,ABS($BS27)-INT(ABS($BS27)/6)*6+1,1),\"=\" & $T$75,OFFSET($BX$20:$DW$25,(INT(ABS($BS27)/6)+1)*6-ABS($BS27)-1,52-INT(ABS($BS27)/6)-1,ABS($BS27)-INT(ABS($BS27)/6)*6+1,1)),0)","v":0}]
[null,null,null,null,null,null,null,null,null,null,null,null,null,null,null,null,null,null,null,null,null,null,null,null,null,null,null,null,null,null,null,null,null,null,null,null,null,null,null,null,null,null,null,null,null,null,null,null,null,null,null,null,null,null,null,null,null,null,null,null,null,null,null,null,null,null,null,null,null,{"$f":"SUM(План!P1144:S1144)","v":0},false,null,{"$f":"IF($BS26<=0,SUMIF(OFFSET($BX26:$DW31,0,52-INT(ABS($BS26)/6)-1,,INT(ABS($BS26)/6)+1),\"=\" & $T$75,OFFSET($BX$20:$DW$25,0,52-INT(ABS($BS26)/6)-1,,INT(ABS($BS26)/6)+1)))-IF(AND($BS26<=0,ABS($BS26)<INT(ABS($BS26)/6+1)*6-1),SUMIF(OFFSET($BX26:$DW31,0,52-INT(ABS($BS26)/6)-1,INT(ABS($BS26)/6+1)*6-1-ABS($BS26),1),\"=\" & $T$75,OFFSET($BX$20:$DW$25,0,52-INT(ABS($BS26)/6)-1,INT(ABS($BS26)/6+1)*6-1-ABS($BS26),1)))","v":0},{"$f":"IF($BS26<=0,SUMIF(OFFSET($BX26:$DW31,0,52-INT(ABS($BS26)/6)-1,,INT(ABS($BS26)/6)+1),\"=\" & $AG$75,OFFSET($BX$20:$DW$25,0,52-INT(ABS($BS26)/6)-1,,INT(ABS($BS26)/6)+1)))-IF(AND($BS26<=0,ABS($BS26)<INT(ABS($BS26)/6+1)*6-1),SUMIF(OFFSET($BX26:$DW31,0,52-INT(ABS($BS26)/6)-1,INT(ABS($BS26)/6+1)*6-1-ABS($BS26),1),\"=\" & $AG$75,OFFSET($BX$20:$DW$25,0,52-INT(ABS($BS26)/6)-1,INT(ABS($BS26)/6+1)*6-1-ABS($BS26),1)))-IF($BS27<=0,SUMIF(OFFSET($BX32:$DW37,(INT(ABS($BS27)/6)+1)*6-ABS($BS27)-1,52-INT(ABS($BS27)/6)-1,ABS($BS27)-INT(ABS($BS27)/6)*6+1,1),\"=\" & $AG$75,OFFSET($BX$20:$DW$25,(INT(ABS($BS27)/6)+1)*6-ABS($BS27)-1,52-INT(ABS($BS27)/6)-1,ABS($BS27)-INT(ABS($BS27)/6)*6+1,1)),0)","v":0},null,{"$f":"IF(B32=\"\",0,B32)","v":0},{"$f":"IF(C32=\"\",0,C32)","v":0},{"$f":"IF(D32=\"\",0,D32)","v":0},{"$f":"IF(E32=\"\",0,E32)","v":0},{"$f":"IF(F32=\"\",0,F32)","v":0},{"$f":"IF(G32=\"\",0,G32)","v":0},{"$f":"IF(H32=\"\",0,H32)","v":0},{"$f":"IF(I32=\"\",0,I32)","v":0},{"$f":"IF(J32=\"\",0,J32)","v":0},{"$f":"IF(K32=\"\",0,K32)","v":0},{"$f":"IF(L32=\"\",0,L32)","v":0},{"$f":"IF(M32=\"\",0,M32)","v":0},{"$f":"IF(N32=\"\",0,N32)","v":0},{"$f":"IF(O32=\"\",0,O32)","v":0},{"$f":"IF(P32=\"\",0,P32)","v":0},{"$f":"IF(Q32=\"\",0,Q32)","v":0},{"$f":"IF(R32=\"\",0,R32)","v":0},{"$f":"IF(S32=\"\",0,S32)","v":0},{"$f":"IF(T32=\"\",0,T32)","v":"Э"},{"$f":"IF(U32=\"\",0,U32)","v":"Э"},{"$f":"IF(V32=\"\",0,V32)","v":"Э"},{"$f":"IF(W32=\"\",0,W32)","v":"К"},{"$f":"IF(X32=\"\",0,X32)","v":"К"},{"$f":"IF(Y32=\"\",0,Y32)","v":0},{"$f":"IF(Z32=\"\",0,Z32)","v":0},{"$f":"IF(AA32=\"\",0,AA32)","v":0},{"$f":"IF(AB32=\"\",0,AB32)","v":0},{"$f":"IF(AC32=\"\",0,AC32)","v":0},{"$f":"IF(AD32=\"\",0,AD32)","v":0},{"$f":"IF(AE32=\"\",0,AE32)","v":0},{"$f":"IF(AF32=\"\",0,AF32)","v":0},{"$f":"IF(AG32=\"\",0,AG32)","v":0},{"$f":"IF(AH32=\"\",0,AH32)","v":0},{"$f":"IF(AI32=\"\",0,AI32)","v":0},{"$f":"IF(AJ32=\"\",0,AJ32)","v":0},{"$f":"IF(AK32=\"\",0,AK32)","v":0},{"$f":"IF(AL32=\"\",0,AL32)","v":0},{"$f":"IF(AM32=\"\",0,AM32)","v":0},{"$f":"IF(AN32=\"\",0,AN32)","v":0},{"$f":"IF(AO32=\"\",0,AO32)","v":0},{"$f":"IF(AP32=\"\",0,AP32)","v":0},{"$f":"IF(AQ32=\"\",0,AQ32)","v":"Э"},{"$f":"IF(AR32=\"\",0,AR32)","v":"Э"},{"$f":"IF(AS32=\"\",0,AS32)","v":"Э"},{"$f":"IF(AT32=\"\",0,AT32)","v":"К"},{"$f":"IF(AU32=\"\",0,AU32)","v":"К"},{"$f":"IF(AV32=\"\",0,AV32)","v":"К"},{"$f":"IF(AW32=\"\",0,AW32)","v":"К"},{"$f":"IF(AX32=\"\",0,AX32)","v":"К"},{"$f":"IF(AY32=\"\",0,AY32)","v":"К"},{"$f":"IF(AZ32=\"\",0,AZ32)","v":"К"},{"$f":"IF(BA32=\"\",0,BA32)","v":"К"}]
[null,null,null,null,null,null,null,null,null,null,null,null,null,null,null,null,null,null,null,null,null,null,null,null,null,null,null,null,null,null,null,null,null,null,null,null,null,null,null,null,null,null,null,null,null,null,null,null,null,null,null,null,null,null,null,null,null,null,null,null,null,null,null,null,null,null,null,null,null,{"$f":"SUM(План!T1144:W1144)","v":0},null,null,null,{"$f":"IF($BS26<=0,SUMIF(OFFSET($BX26:$DW31,0,52-INT(ABS($BS26)/6)-1,,INT(ABS($BS26)/6)+1),\"=\" & $AR$75,OFFSET($BX$20:$DW$25,0,52-INT(ABS($BS26)/6)-1,,INT(ABS($BS26)/6)+1)))-IF(AND($BS26<=0,ABS($BS26)<INT(ABS($BS26)/6+1)*6-1),SUMIF(OFFSET($BX26:$DW31,0,52-INT(ABS($BS26)/6)-1,INT(ABS($BS26)/6+1)*6-1-ABS($BS26),1),\"=\" & $AR$75,OFFSET($BX$20:$DW$25,0,52-INT(ABS($BS26)/6)-1,INT(ABS($BS26)/6+1)*6-1-ABS($BS26),1)))-IF($BS27<=0,SUMIF(OFFSET($BX32:$DW37,(INT(ABS($BS27)/6)+1)*6-ABS($BS27)-1,52-INT(ABS($BS27)/6)-1,ABS($BS27)-INT(ABS($BS27)/6)*6+1,1),\"=\" & $AR$75,OFFSET($BX$20:$DW$25,(INT(ABS($BS27)/6)+1)*6-ABS($BS27)-1,52-INT(ABS($BS27)/6)-1,ABS($BS27)-INT(ABS($BS27)/6)*6+1,1)),0)","v":0},null,{"$f":"IF(B32=\"\",0,B32)","v":0},{"$f":"IF(C32=\"\",0,C32)","v":0},{"$f":"IF(D32=\"\",0,D32)","v":0},{"$f":"IF(E32=\"\",0,E32)","v":0},{"$f":"IF(F32=\"\",0,F32)","v":0},{"$f":"IF(G32=\"\",0,G32)","v":0},{"$f":"IF(H32=\"\",0,H32)","v":0},{"$f":"IF(I32=\"\",0,I32)","v":0},{"$f":"IF(J32=\"\",0,J32)","v":0},{"$f":"IF(K32=\"\",0,K32)","v":0},{"$f":"IF(L32=\"\",0,L32)","v":0},{"$f":"IF(M32=\"\",0,M32)","v":0},{"$f":"IF(N32=\"\",0,N32)","v":0},{"$f":"IF(O32=\"\",0,O32)","v":0},{"$f":"IF(P32=\"\",0,P32)","v":0},{"$f":"IF(Q32=\"\",0,Q32)","v":0},{"$f":"IF(R32=\"\",0,R32)","v":0},{"$f":"IF(S32=\"\",0,S32)","v":0},{"$f":"IF(T32=\"\",0,T32)","v":"Э"},{"$f":"IF(U32=\"\",0,U32)","v":"Э"},{"$f":"IF(V32=\"\",0,V32)","v":"Э"},{"$f":"IF(W32=\"\",0,W32)","v":"К"},{"$f":"IF(X32=\"\",0,X32)","v":"К"},{"$f":"IF(Y32=\"\",0,Y32)","v":0},{"$f":"IF(Z32=\"\",0,Z32)","v":0},{"$f":"IF(AA32=\"\",0,AA32)","v":0},{"$f":"IF(AB32=\"\",0,AB32)","v":0},{"$f":"IF(AC32=\"\",0,AC32)","v":0},{"$f":"IF(AD32=\"\",0,AD32)","v":0},{"$f":"IF(AE32=\"\",0,AE32)","v":0},{"$f":"IF(AF32=\"\",0,AF32)","v":0},{"$f":"IF(AG32=\"\",0,AG32)","v":0},{"$f":"IF(AH32=\"\",0,AH32)","v":0},{"$f":"IF(AI32=\"\",0,AI32)","v":0},{"$f":"IF(AJ32=\"\",0,AJ32)","v":0},{"$f":"IF(AK32=\"\",0,AK32)","v":0},{"$f":"IF(AL32=\"\",0,AL32)","v":0},{"$f":"IF(AM32=\"\",0,AM32)","v":0},{"$f":"IF(AN32=\"\",0,AN32)","v":0},{"$f":"IF(AO32=\"\",0,AO32)","v":0},{"$f":"IF(AP32=\"\",0,AP32)","v":0},{"$f":"IF(AQ32=\"\",0,AQ32)","v":"Э"},{"$f":"IF(AR32=\"\",0,AR32)","v":"Э"},{"$f":"IF(AS32=\"\",0,AS32)","v":"Э"},{"$f":"IF(AT32=\"\",0,AT32)","v":"К"},{"$f":"IF(AU32=\"\",0,AU32)","v":"К"},{"$f":"IF(AV32=\"\",0,AV32)","v":"К"},{"$f":"IF(AW32=\"\",0,AW32)","v":"К"},{"$f":"IF(AX32=\"\",0,AX32)","v":"К"},{"$f":"IF(AY32=\"\",0,AY32)","v":"К"},{"$f":"IF(AZ32=\"\",0,AZ32)","v":"К"},{"$f":"IF(BA32=\"\",0,BA32)","v":"К"}]
[null,null,null,null,null,null,null,null,null,null,null,null,null,null,null,null,null,null,null,null,null,null,null,null,null,null,null,null,null,null,null,null,null,null,null,null,null,null,null,null,null,null,null,null,null,null,null,null,null,null,null,null,null,null,null,null,null,null,null,null,null,null,null,null,null,null,null,null,null,{"$f":"SUM(План!X1144:AA1144)","v":0},0,-1,null,{"$f":"IF($BS26<=0,SUMIF(OFFSET($BX26:$DW31,0,52-INT(ABS($BS26)/6)-1,,INT(ABS($BS26)/6)+1),\"=\" & $G$77,OFFSET($BX$20:$DW$25,0,52-INT(ABS($BS26)/6)-1,,INT(ABS($BS26)/6)+1)))-IF(AND($BS26<=0,ABS($BS26)<INT(ABS($BS26)/6+1)*6-1),SUMIF(OFFSET($BX26:$DW31,0,52-INT(ABS($BS26)/6)-1,INT(ABS($BS26)/6+1)*6-1-ABS($BS26),1),\"=\" & $G$77,OFFSET($BX$20:$DW$25,0,52-INT(ABS($BS26)/6)-1,INT(ABS($BS26)/6+1)*6-1-ABS($BS26),1)))-IF($BS27<=0,SUMIF(OFFSET($BX32:$DW37,(INT(ABS($BS27)/6)+1)*6-ABS($BS27)-1,52-INT(ABS($BS27)/6)-1,ABS($BS27)-INT(ABS($BS27)/6)*6+1,1),\"=\" & $G$77,OFFSET($BX$20:$DW$25,(INT(ABS($BS27)/6)+1)*6-ABS($BS27)-1,52-INT(ABS($BS27)/6)-1,ABS($BS27)-INT(ABS($BS27)/6)*6+1,1)),0)","v":0},null,{"$f":"IF(B32=\"\",0,B32)","v":0},{"$f":"IF(C32=\"\",0,C32)","v":0},{"$f":"IF(D32=\"\",0,D32)","v":0},{"$f":"IF(E32=\"\",0,E32)","v":0},{"$f":"IF(F32=\"\",0,F32)","v":0},{"$f":"IF(G32=\"\",0,G32)","v":0},{"$f":"IF(H32=\"\",0,H32)","v":0},{"$f":"IF(I32=\"\",0,I32)","v":0},{"$f":"IF(J32=\"\",0,J32)","v":0},{"$f":"IF(K32=\"\",0,K32)","v":0},{"$f":"IF(L32=\"\",0,L32)","v":0},{"$f":"IF(M32=\"\",0,M32)","v":0},{"$f":"IF(N32=\"\",0,N32)","v":0},{"$f":"IF(O32=\"\",0,O32)","v":0},{"$f":"IF(P32=\"\",0,P32)","v":0},{"$f":"IF(Q32=\"\",0,Q32)","v":0},{"$f":"IF(R32=\"\",0,R32)","v":0},{"$f":"IF(S32=\"\",0,S32)","v":0},{"$f":"IF(T32=\"\",0,T32)","v":"Э"},{"$f":"IF(U32=\"\",0,U32)","v":"Э"},{"$f":"IF(V32=\"\",0,V32)","v":"Э"},{"$f":"IF(W32=\"\",0,W32)","v":"К"},{"$f":"IF(X32=\"\",0,X32)","v":"К"},{"$f":"IF(Y32=\"\",0,Y32)","v":0},{"$f":"IF(Z32=\"\",0,Z32)","v":0},{"$f":"IF(AA32=\"\",0,AA32)","v":0},{"$f":"IF(AB32=\"\",0,AB32)","v":0},{"$f":"IF(AC32=\"\",0,AC32)","v":0},{"$f":"IF(AD32=\"\",0,AD32)","v":0},{"$f":"IF(AE32=\"\",0,AE32)","v":0},{"$f":"IF(AF32=\"\",0,AF32)","v":0},{"$f":"IF(AG32=\"\",0,AG32)","v":0},{"$f":"IF(AH32=\"\",0,AH32)","v":0},{"$f":"IF(AI32=\"\",0,AI32)","v":0},{"$f":"IF(AJ32=\"\",0,AJ32)","v":0},{"$f":"IF(AK32=\"\",0,AK32)","v":0},{"$f":"IF(AL32=\"\",0,AL32)","v":0},{"$f":"IF(AM32=\"\",0,AM32)","v":0},{"$f":"IF(AN32=\"\",0,AN32)","v":0},{"$f":"IF(AO32=\"\",0,AO32)","v":0},{"$f":"IF(AP32=\"\",0,AP32)","v":0},{"$f":"IF(AQ32=\"\",0,AQ32)","v":"Э"},{"$f":"IF(AR32=\"\",0,AR32)","v":"Э"},{"$f":"IF(AS32=\"\",0,AS32)","v":"Э"},{"$f":"IF(AT32=\"\",0,AT32)","v":"К"},{"$f":"IF(AU32=\"\",0,AU32)","v":"К"},{"$f":"IF(AV32=\"\",0,AV32)","v":"К"},{"$f":"IF(AW32=\"\",0,AW32)","v":"К"},{"$f":"IF(AX32=\"\",0,AX32)","v":"К"},{"$f":"IF(AY32=\"\",0,AY32)","v":"К"},{"$f":"IF(AZ32=\"\",0,AZ32)","v":"К"},{"$f":"IF(BA32=\"\",0,BA32)","v":"К"}]
[null,null,null,null,null,null,null,null,null,null,null,null,null,null,null,null,null,null,null,null,null,null,null,null,null,null,null,null,null,null,null,null,null,null,null,null,null,null,null,null,null,null,null,null,null,null,null,null,null,null,null,null,null,null,null,null,null,null,null,null,null,null,null,null,null,null,null,null,null,{"$f":"SUM(План!AB1144:AE1144)","v":0},null,null,null,{"$f":"IF($BS26<=0,SUMIF(OFFSET($BX26:$DW31,0,52-INT(ABS($BS26)/6)-1,,INT(ABS($BS26)/6)+1),\"=\" & $T$77,OFFSET($BX$20:$DW$25,0,52-INT(ABS($BS26)/6)-1,,INT(ABS($BS26)/6)+1)))-IF(AND($BS26<=0,ABS($BS26)<INT(ABS($BS26)/6+1)*6-1),SUMIF(OFFSET($BX26:$DW31,0,52-INT(ABS($BS26)/6)-1,INT(ABS($BS26)/6+1)*6-1-ABS($BS26),1),\"=\" & $T$77,OFFSET($BX$20:$DW$25,0,52-INT(ABS($BS26)/6)-1,INT(ABS($BS26)/6+1)*6-1-ABS($BS26),1)))-IF($BS27<=0,SUMIF(OFFSET($BX32:$DW37,(INT(ABS($BS27)/6)+1)*6-ABS($BS27)-1,52-INT(ABS($BS27)/6)-1,ABS($BS27)-INT(ABS($BS27)/6)*6+1,1),\"=\" & $T$77,OFFSET($BX$20:$DW$25,(INT(ABS($BS27)/6)+1)*6-ABS($BS27)-1,52-INT(ABS($BS27)/6)-1,ABS($BS27)-INT(ABS($BS27)/6)*6+1,1)),0)","v":0},null,{"$f":"IF(B32=\"\",0,B32)","v":0},{"$f":"IF(C32=\"\",0,C32)","v":0},{"$f":"IF(D32=\"\",0,D32)","v":0},{"$f":"IF(E32=\"\",0,E32)","v":0},{"$f":"IF(F32=\"\",0,F32)","v":0},{"$f":"IF(G32=\"\",0,G32)","v":0},{"$f":"IF(H32=\"\",0,H32)","v":0},{"$f":"IF(I32=\"\",0,I32)","v":0},{"$f":"IF(J32=\"\",0,J32)","v":0},{"$f":"IF(K32=\"\",0,K32)","v":0},{"$f":"IF(L32=\"\",0,L32)","v":0},{"$f":"IF(M32=\"\",0,M32)","v":0},{"$f":"IF(N32=\"\",0,N32)","v":0},{"$f":"IF(O32=\"\",0,O32)","v":0},{"$f":"IF(P32=\"\",0,P32)","v":0},{"$f":"IF(Q32=\"\",0,Q32)","v":0},{"$f":"IF(R32=\"\",0,R32)","v":0},{"$f":"IF(S32=\"\",0,S32)","v":0},{"$f":"IF(T32=\"\",0,T32)","v":"Э"},{"$f":"IF(U32=\"\",0,U32)","v":"Э"},{"$f":"IF(V32=\"\",0,V32)","v":"Э"},{"$f":"IF(W32=\"\",0,W32)","v":"К"},{"$f":"IF(X32=\"\",0,X32)","v":"К"},{"$f":"IF(Y32=\"\",0,Y32)","v":0},{"$f":"IF(Z32=\"\",0,Z32)","v":0},{"$f":"IF(AA32=\"\",0,AA32)","v":0},{"$f":"IF(AB32=\"\",0,AB32)","v":0},{"$f":"IF(AC32=\"\",0,AC32)","v":0},{"$f":"IF(AD32=\"\",0,AD32)","v":0},{"$f":"IF(AE32=\"\",0,AE32)","v":0},{"$f":"IF(AF32=\"\",0,AF32)","v":0},{"$f":"IF(AG32=\"\",0,AG32)","v":0},{"$f":"IF(AH32=\"\",0,AH32)","v":0},{"$f":"IF(AI32=\"\",0,AI32)","v":0},{"$f":"IF(AJ32=\"\",0,AJ32)","v":0},{"$f":"IF(AK32=\"\",0,AK32)","v":0},{"$f":"IF(AL32=\"\",0,AL32)","v":0},{"$f":"IF(AM32=\"\",0,AM32)","v":0},{"$f":"IF(AN32=\"\",0,AN32)","v":0},{"$f":"IF(AO32=\"\",0,AO32)","v":0},{"$f":"IF(AP32=\"\",0,AP32)","v":0},{"$f":"IF(AQ32=\"\",0,AQ32)","v":"Э"},{"$f":"IF(AR32=\"\",0,AR32)","v":"Э"},{"$f":"IF(AS32=\"\",0,AS32)","v":"Э"},{"$f":"IF(AT32=\"\",0,AT32)","v":"К"},{"$f":"IF(AU32=\"\",0,AU32)","v":"К"},{"$f":"IF(AV32=\"\",0,AV32)","v":"К"},{"$f":"IF(AW32=\"\",0,AW32)","v":"К"},{"$f":"IF(AX32=\"\",0,AX32)","v":"К"},{"$f":"IF(AY32=\"\",0,AY32)","v":"К"},{"$f":"IF(AZ32=\"\",0,AZ32)","v":"К"},{"$f":"IF(BA32=\"\",0,BA32)","v":"К"}]
[2,null,null,null,null,null,null,null,null,null,null,null,null,null,null,null,null,null,null,null,null,null,null,null,null,null,null,null,null,null,null,null,null,null,null,null,null,null,null,null,null,null,null,null,null,null,null,null,null,null,null,null,null,null,null,null,null,null,null,null,null,null,null,null,null,null,2,null,null,{"$f":"SUM(План!AF1144:AI1144)","v":0},null,null,{"$f":"SUMIF(OFFSET($BX32:$DW37,0,INT(($BT26-1)/6),,52-INT(($BT26-1)/6)-IF($BS27<=0,INT(ABS($BS27)/6),0)),\"=\" & $T$75,OFFSET($BX$20:$DW$25,0,INT(($BT26-1)/6),,52-INT(($BT26-1)/6)-IF($BS27<=0,INT(ABS($BS27)/6),0)))-IF($BT26>INT(($BT26-1)/6)*6+1,SUMIF(OFFSET($BX32:$DW37,0,INT(($BT26-1)/6),$BT26-INT(($BT26-1)/6)*6-1,1),\"=\" & $T$75,OFFSET($BX$20:$DW$25,0,INT(($BT26-1)/6),$BT26-INT(($BT26-1)/6)*6-1,1)))+IF($BS27>1,SUMIF(OFFSET($BX38:$DW43,0,0,,INT(($BS27-1)/6)+1),\"=\" & $T$75,OFFSET($BX$20:$DW$25,0,0,,INT(($BS27-1)/6)+1)))-IF($BS27>1,SUMIF(OFFSET($BX38:$DW43,$BS27-INT(($BS27-1)/6)*6-1,INT(($BS27-1)/6),(INT(($BS27-1)/6)+1)*6+1-$BS27,1),\"=\" & $T$75,OFFSET($BX$20:$DW$25,0,INT(($BS27-1)/6),(INT(($BS27-1)/6)+1)*6+1-$BS27,1)))-$DY32","v":2.9999999999999991},{"$f":"IF($BS26<=0,SUMIF(OFFSET($BX26:$DW31,0,52-INT(ABS($BS26)/6)-1,,INT(ABS($BS26)/6)+1),\"=\" & $AG$77,OFFSET($BX$20:$DW$25,0,52-INT(ABS($BS26)/6)-1,,INT(ABS($BS26)/6)+1)))-IF(AND($BS26<=0,ABS($BS26)<INT(ABS($BS26)/6+1)*6-1),SUMIF(OFFSET($BX26:$DW31,0,52-INT(ABS($BS26)/6)-1,INT(ABS($BS26)/6+1)*6-1-ABS($BS26),1),\"=\" & $AG$77,OFFSET($BX$20:$DW$25,0,52-INT(ABS($BS26)/6)-1,INT(ABS($BS26)/6+1)*6-1-ABS($BS26),1)))-IF($BS27<=0,SUMIF(OFFSET($BX32:$DW37,(INT(ABS($BS27)/6)+1)*6-ABS($BS27)-1,52-INT(ABS($BS27)/6)-1,ABS($BS27)-INT(ABS($BS27)/6)*6+1,1),\"=\" & $AG$77,OFFSET($BX$20:$DW$25,(INT(ABS($BS27)/6)+1)*6-ABS($BS27)-1,52-INT(ABS($BS27)/6)-1,ABS($BS27)-INT(ABS($BS27)/6)*6+1,1)),0)","v":0},null,{"$f":"IF(B32=\"\",0,B32)","v":0},{"$f":"IF(C32=\"\",0,C32)","v":0},{"$f":"IF(D32=\"\",0,D32)","v":0},{"$f":"IF(E32=\"\",0,E32)","v":0},{"$f":"IF(F32=\"\",0,F32)","v":0},{"$f":"IF(G32=\"\",0,G32)","v":0},{"$f":"IF(H32=\"\",0,H32)","v":0},{"$f":"IF(I32=\"\",0,I32)","v":0},{"$f":"IF(J32=\"\",0,J32)","v":0},{"$f":"IF(K32=\"\",0,K32)","v":0},{"$f":"IF(L32=\"\",0,L32)","v":0},{"$f":"IF(M32=\"\",0,M32)","v":0},{"$f":"IF(N32=\"\",0,N32)","v":0},{"$f":"IF(O32=\"\",0,O32)","v":0},{"$f":"IF(P32=\"\",0,P32)","v":0},{"$f":"IF(Q32=\"\",0,Q32)","v":0},{"$f":"IF(R32=\"\",0,R32)","v":0},{"$f":"IF(S32=\"\",0,S32)","v":0},{"$f":"IF(T32=\"\",0,T32)","v":"Э"},{"$f":"IF(U32=\"\",0,U32)","v":"Э"},{"$f":"IF(V32=\"\",0,V32)","v":"Э"},{"$f":"IF(W32=\"\",0,W32)","v":"К"},{"$f":"IF(X32=\"\",0,X32)","v":"К"},{"$f":"IF(Y32=\"\",0,Y32)","v":0},{"$f":"IF(Z32=\"\",0,Z32)","v":0},{"$f":"IF(AA32=\"\",0,AA32)","v":0},{"$f":"IF(AB32=\"\",0,AB32)","v":0},{"$f":"IF(AC32=\"\",0,AC32)","v":0},{"$f":"IF(AD32=\"\",0,AD32)","v":0},{"$f":"IF(AE32=\"\",0,AE32)","v":0},{"$f":"IF(AF32=\"\",0,AF32)","v":0},{"$f":"IF(AG32=\"\",0,AG32)","v":0},{"$f":"IF(AH32=\"\",0,AH32)","v":0},{"$f":"IF(AI32=\"\",0,AI32)","v":0},{"$f":"IF(AJ32=\"\",0,AJ32)","v":0},{"$f":"IF(AK32=\"\",0,AK32)","v":0},{"$f":"IF(AL32=\"\",0,AL32)","v":0},{"$f":"IF(AM32=\"\",0,AM32)","v":0},{"$f":"IF(AN32=\"\",0,AN32)","v":0},{"$f":"IF(AO32=\"\",0,AO32)","v":0},{"$f":"IF(AP32=\"\",0,AP32)","v":0},{"$f":"IF(AQ32=\"\",0,AQ32)","v":"Э"},{"$f":"IF(AR32=\"\",0,AR32)","v":"Э"},{"$f":"IF(AS32=\"\",0,AS32)","v":"Э"},{"$f":"IF(AT32=\"\",0,AT32)","v":"К"},{"$f":"IF(AU32=\"\",0,AU32)","v":"К"},{"$f":"IF(AV32=\"\",0,AV32)","v":"К"},{"$f":"IF(AW32=\"\",0,AW32)","v":"К"},{"$f":"IF(AX32=\"\",0,AX32)","v":"К"},{"$f":"IF(AY32=\"\",0,AY32)","v":"К"},{"$f":"IF(AZ32=\"\",0,AZ32)","v":"К"},{"$f":"IF(BA32=\"\",0,BA32)","v":"К"}]
[2,"","","","","","","","","","","","","","","","","","","Э","Э","Э","К","К","","","","","","","","","","","","","","","","","","","Э","Э","Э","К","К","К","К","К","К","К","К",{"$f":"SUMIF(OFFSET($BX38:$DW43,0,INT((IF($BS27>0,$BS27,1)-1)/6),,INT(($BT27-1)/6)-INT((IF($BS27>0,$BS27,1)-1)/6)),\"=0\",OFFSET($BX$20:$DW$25,0,INT((IF($BS27>0,$BS27,1)-1)/6)))-IF(AND($BS27>0,$BS27>INT(($BS27-1)/6)*6+1),SUMIF(OFFSET($BX38:$DW43,0,INT(($BS27-1)/6),$BS27-INT(($BS27-1)/6)*6-1,1),\"=0\",OFFSET($BX$20:$DW$25,0,INT(($BS27-1)/6),$BS27-INT(($BS27-1)/6)*6-1,1)))+IF(AND($BT27>0,$BT27>INT(($BT27-1)/6)*6+1),SUMIF(OFFSET($BX38:$DW43,0,INT(($BT27-1)/6),$BT27-INT(($BT27-1)/6)*6-1,1),\"=0\",OFFSET($BX$20:$DW$25,0,INT(($BT27-1)/6),$BT27-INT(($BT27-1)/6)*6-1,1)))+$BW38","v":17.999999999999989},{"$f":"SUMIF(OFFSET($BX38:$DW43,0,INT(($BT27-1)/6),,52-INT(($BT27-1)/6)-IF($BS28<=0,INT(ABS($BS28)/6)+1,0)),\"=0\",OFFSET($BX$20:$DW$25,0,INT(($BT27-1)/6),,52-INT(($BT27-1)/6)-IF($BS28<=0,INT(ABS($BS28)/6)+1,0)))-IF($BT27>INT(($BT27-1)/6)*6+1,SUMIF(OFFSET($BX38:$DW43,0,INT(($BT27-1)/6),$BT27-INT(($BT27-1)/6)*6-1,1),\"=0\",OFFSET($BX$20:$DW$25,0,INT(($BT27-1)/6),$BT27-INT(($BT27-1)/6)*6-1,1)))+IF($BS28>1,SUMIF(OFFSET($BX44:$DW49,0,0,,INT(($BS28-1)/6)+1),\"=0\",OFFSET($BX$20:$DW$25,0,0,,INT(($BS28-1)/6)+1)))-IF($BS28>1,SUMIF(OFFSET($BX44:$DW49,$BS28-INT(($BS28-1)/6)*6-1,INT(($BS28-1)/6),(INT(($BS28-1)/6)+1)*6+1-$BS28,1),\"=0\",OFFSET($BX$20:$DW$25,0,INT(($BS28-1)/6),(INT(($BS28-1)/6)+1)*6+1-$BS28,1)))-$DX38","v":17.999999999999989},{"$f":"Недель3+Недель4","v":35.999999999999979},{"$f":"Экз2Осень+Экз2Весна","v":5.9999999999999982},{"$f":"SUMIF(OFFSET($BX38:$DW43,0,INT((IF($BS27>0,$BS27,1)-1)/6),,52-INT((IF($BS27>0,$BS27,1)-1)/6)-IF($BS28<=0,INT(ABS($BS28)/6),0)),\"=\" & $AR$77,OFFSET($BX$20:$DW$25,0,INT((IF($BS27>0,$BS27,1)-1)/6),,52-INT((IF($BS27>0,$BS27,1)-1)/6)-IF($BS28<=0,INT(ABS($BS28)/6),0)))-IF(AND($BS27>0,$BS27>INT(($BS27-1)/6)*6+1),SUMIF(OFFSET($BX38:$DW43,0,INT(($BS27-1)/6),$BS27-INT(($BS27-1)/6)*6-1,1),\"=\" & $AR$77,OFFSET($BX$20:$DW$25,0,INT(($BS27-1)/6),$BS27-INT(($BS27-1)/6)*6-1,1)))+IF($BS28>1,SUMIF(OFFSET($BX44:$DW49,0,0,,INT(($BS28-1)/6)+1),\"=\" & $AR$77,OFFSET($BX$20:$DW$25,0,0,,INT(($BS28-1)/6)+1)))-IF($BS28>1,SUMIF(OFFSET($BX44:$DW49,$BS28-INT(($BS28-1)/6)*6-1,INT(($BS28-1)/6),(INT(($BS28-1)/6)+1)*6+1-$BS28,1),\"=\" & $AR$77,OFFSET($BX$20:$DW$25,0,INT(($BS28-1)/6),(INT(($BS28-1)/6)+1)*6+1-$BS28,1)))+$BV38","v":0},{"$f":"SUMIF(OFFSET($BX38:$DW43,0,INT((IF($BS27>0,$BS27,1)-1)/6),,52-INT((IF($BS27>0,$BS27,1)-1)/6)-IF($BS28<=0,INT(ABS($BS28)/6),0)),\"=\" & $AG$75,OFFSET($BX$20:$DW$25,0,INT((IF($BS27>0,$BS27,1)-1)/6),,52-INT((IF($BS27>0,$BS27,1)-1)/6)-IF($BS28<=0,INT(ABS($BS28)/6),0)))-IF(AND($BS27>0,$BS27>INT(($BS27-1)/6)*6+1),SUMIF(OFFSET($BX38:$DW43,0,INT(($BS27-1)/6),$BS27-INT(($BS27-1)/6)*6-1,1),\"=\" & $AG$75,OFFSET($BX$20:$DW$25,0,INT(($BS27-1)/6),$BS27-INT(($BS27-1)/6)*6-1,1)))+IF($BS28>1,SUMIF(OFFSET($BX44:$DW49,0,0,,INT(($BS28-1)/6)+1),\"=\" & $AG$75,OFFSET($BX$20:$DW$25,0,0,,INT(($BS28-1)/6)+1)))-IF($BS28>1,SUMIF(OFFSET($BX44:$DW49,$BS28-INT(($BS28-1)/6)*6-1,INT(($BS28-1)/6),(INT(($BS28-1)/6)+1)*6+1-$BS28,1),\"=\" & $AG$75,OFFSET($BX$20:$DW$25,0,INT(($BS28-1)/6),(INT(($BS28-1)/6)+1)*6+1-$BS28,1)))+$BV39","v":0},{"$f":"SUMIF(OFFSET($BX38:$DW43,0,INT((IF($BS27>0,$BS27,1)-1)/6),,52-INT((IF($BS27>0,$BS27,1)-1)/6)-IF($BS28<=0,INT(ABS($BS28)/6),0)),\"=\" & $AR$75,OFFSET($BX$20:$DW$25,0,INT((IF($BS27>0,$BS27,1)-1)/6),,52-INT((IF($BS27>0,$BS27,1)-1)/6)-IF($BS28<=0,INT(ABS($BS28)/6),0)))-IF(AND($BS27>0,$BS27>INT(($BS27-1)/6)*6+1),SUMIF(OFFSET($BX38:$DW43,0,INT(($BS27-1)/6),$BS27-INT(($BS27-1)/6)*6-1,1),\"=\" & $AR$75,OFFSET($BX$20:$DW$25,0,INT(($BS27-1)/6),$BS27-INT(($BS27-1)/6)*6-1,1)))+IF($BS28>1,SUMIF(OFFSET($BX44:$DW49,0,0,,INT(($BS28-1)/6)+1),\"=\" & $AR$75,OFFSET($BX$20:$DW$25,0,0,,INT(($BS28-1)/6)+1)))-IF($BS28>1,SUMIF(OFFSET($BX44:$DW49,$BS28-INT(($BS28-1)/6)*6-1,INT(($BS28-1)/6),(INT(($BS28-1)/6)+1)*6+1-$BS28,1),\"=\" & $AR$75,OFFSET($BX$20:$DW$25,0,INT(($BS28-1)/6),(INT(($BS28-1)/6)+1)*6+1-$BS28,1)))+$BV40","v":0},{"$f":"SUMIF(OFFSET($BX38:$DW43,0,INT((IF($BS27>0,$BS27,1)-1)/6),,52-INT((IF($BS27>0,$BS27,1)-1)/6)-IF($BS28<=0,INT(ABS($BS28)/6),0)),\"=\" & $G$77,OFFSET($BX$20:$DW$25,0,INT((IF($BS27>0,$BS27,1)-1)/6),,52-INT((IF($BS27>0,$BS27,1)-1)/6)-IF($BS28<=0,INT(ABS($BS28)/6),0)))-IF(AND($BS27>0,$BS27>INT(($BS27-1)/6)*6+1),SUMIF(OFFSET($BX38:$DW43,0,INT(($BS27-1)/6),$BS27-INT(($BS27-1)/6)*6-1,1),\"=\" & $G$77,OFFSET($BX$20:$DW$25,0,INT(($BS27-1)/6),$BS27-INT(($BS27-1)/6)*6-1,1)))+IF($BS28>1,SUMIF(OFFSET($BX44:$DW49,0,0,,INT(($BS28-1)/6)+1),\"=\" & $G$77,OFFSET($BX$20:$DW$25,0,0,,INT(($BS28-1)/6)+1)))-IF($BS28>1,SUMIF(OFFSET($BX44:$DW49,$BS28-INT(($BS28-1)/6)*6-1,INT(($BS28-1)/6),(INT(($BS28-1)/6)+1)*6+1-$BS28,1),\"=\" & $G$77,OFFSET($BX$20:$DW$25,0,INT(($BS28-1)/6),(INT(($BS28-1)/6)+1)*6+1-$BS28,1)))+$BV41","v":0},{"$f":"SUMIF(OFFSET($BX38:$DW43,0,INT((IF($BS27>0,$BS27,1)-1)/6),,52-INT((IF($BS27>0,$BS27,1)-1)/6)-IF($BS28<=0,INT(ABS($BS28)/6),0)),\"=\" & $T$77,OFFSET($BX$20:$DW$25,0,INT((IF($BS27>0,$BS27,1)-1)/6),,52-INT((IF($BS27>0,$BS27,1)-1)/6)-IF($BS28<=0,INT(ABS($BS28)/6),0)))-IF(AND($BS27>0,$BS27>INT(($BS27-1)/6)*6+1),SUMIF(OFFSET($BX38:$DW43,0,INT(($BS27-1)/6),$BS27-INT(($BS27-1)/6)*6-1,1),\"=\" & $T$77,OFFSET($BX$20:$DW$25,0,INT(($BS27-1)/6),$BS27-INT(($BS27-1)/6)*6-1,1)))+IF($BS28>1,SUMIF(OFFSET($BX44:$DW49,0,0,,INT(($BS28-1)/6)+1),\"=\" & $T$77,OFFSET($BX$20:$DW$25,0,0,,INT(($BS28-1)/6)+1)))-IF($BS28>1,SUMIF(OFFSET($BX44:$DW49,$BS28-INT(($BS28-1)/6)*6-1,INT(($BS28-1)/6),(INT(($BS28-1)/6)+1)*6+1-$BS28,1),\"=\" & $T$77,OFFSET($BX$20:$DW$25,0,INT(($BS28-1)/6),(INT(($BS28-1)/6)+1)*6+1-$BS28,1)))+$BV42","v":0},{"$f":"SUMIF(OFFSET($BX38:$DW43,0,INT((IF($BS27>0,$BS27,1)-1)/6),,52-INT((IF($BS27>0,$BS27,1)-1)/6)-IF($BS28<=0,INT(ABS($BS28)/6),0)),\"=\" & $AG$77,OFFSET($BX$20:$DW$25,0,INT((IF($BS27>0,$BS27,1)-1)/6),,52-INT((IF($BS27>0,$BS27,1)-1)/6)-IF($BS28<=0,INT(ABS($BS28)/6),0)))-IF(AND($BS27>0,$BS27>INT(($BS27-1)/6)*6+1),SUMIF(OFFSET($BX38:$DW43,0,INT(($BS27-1)/6),$BS27-INT(($BS27-1)/6)*6-1,1),\"=\" & $AG$77,OFFSET($BX$20:$DW$25,0,INT(($BS27-1)/6),$BS27-INT(($BS27-1)/6)*6-1,1)))+IF($BS28>1,SUMIF(OFFSET($BX44:$DW49,0,0,,INT(($BS28-1)/6)+1),\"=\" & $AG$77,OFFSET($BX$20:$DW$25,0,0,,INT(($BS28-1)/6)+1)))-IF($BS28>1,SUMIF(OFFSET($BX44:$DW49,$BS28-INT(($BS28-1)/6)*6-1,INT(($BS28-1)/6),(INT(($BS28-1)/6)+1)*6+1-$BS28,1),\"=\" & $AG$77,OFFSET($BX$20:$DW$25,0,INT(($BS28-1)/6),(INT(($BS28-1)/6)+1)*6+1-$BS28,1)))+$BV43","v":9.9999999999999982},{"$f":"SUM($BD38:$BK43)","v":51.999999999999979},43,2,2,null,null,{"$f":"SUM(План!AJ1144:AM1144)","v":0},null,null,{"$f":"SUMIF(OFFSET($BX38:$DW43,0,INT((IF($BS27>0,$BS27,1)-1)/6),,INT(($BT27-1)/6)-INT((IF($BS27>0,$BS27,1)-1)/6)),\"=\" & $T$75,OFFSET($BX$20:$DW$25,0,INT((IF($BS27>0,$BS27,1)-1)/6)))-IF(AND($BS27>0,$BS27>INT(($BS27-1)/6)*6+1),SUMIF(OFFSET($BX38:$DW43,0,INT(($BS27-1)/6),$BS27-INT(($BS27-1)/6)*6-1,1),\"=\" & $T$75,OFFSET($BX$20:$DW$25,0,INT(($BS27-1)/6),$BS27-INT(($BS27-1)/6)*6-1,1)))+IF(AND($BT27>0,$BT27>INT(($BT27-1)/6)*6+1),SUMIF(OFFSET($BX38:$DW43,0,INT(($BT27-1)/6),$BT27-INT(($BT27-1)/6)*6-1,1),\"=\" & $T$75,OFFSET($BX$20:$DW$25,0,INT(($BT27-1)/6),$BT27-INT(($BT27-1)/6)*6-1,1)))+$BU39","v":2.9999999999999991},{"$f":"IF($BS27<=0,SUMIF(OFFSET($BX32:$DW37,0,52-INT(ABS($BS27)/6)-1,,INT(ABS($BS27)/6)+1),\"=\" & $AR$77,OFFSET($BX$20:$DW$25,0,52-INT(ABS($BS27)/6)-1,,INT(ABS($BS27)/6)+1)))-IF(AND($BS27<=0,ABS($BS27)<INT(ABS($BS27)/6+1)*6-1),SUMIF(OFFSET($BX32:$DW37,0,52-INT(ABS($BS27)/6)-1,INT(ABS($BS27)/6+1)*6-1-ABS($BS27),1),\"=\" & $AR$77,OFFSET($BX$20:$DW$25,0,52-INT(ABS($BS27)/6)-1,INT(ABS($BS27)/6+1)*6-1-ABS($BS27),1)))-IF($BS28<=0,SUMIF(OFFSET($BX38:$DW43,(INT(ABS($BS28)/6)+1)*6-ABS($BS28)-1,52-INT(ABS($BS28)/6)-1,ABS($BS28)-INT(ABS($BS28)/6)*6+1,1),\"=\" & $AR$77,OFFSET($BX$20:$DW$25,(INT(ABS($BS28)/6)+1)*6-ABS($BS28)-1,52-INT(ABS($BS28)/6)-1,ABS($BS28)-INT(ABS($BS28)/6)*6+1,1)),0)","v":0},{"$f":"IF($BS27<=0,SUMIF(OFFSET($BX32:$DW37,0,52-INT(ABS($BS27)/6)-1,,INT(ABS($BS27)/6)+1),\"=0\",OFFSET($BX$20:$DW$25,0,52-INT(ABS($BS27)/6)-1,,INT(ABS($BS27)/6)+1)))-IF(AND($BS27<=0,ABS($BS27)<INT(ABS($BS27)/6+1)*6-1),SUMIF(OFFSET($BX32:$DW37,0,52-INT(ABS($BS27)/6)-1,INT(ABS($BS27)/6+1)*6-1-ABS($BS27),1),\"=0\",OFFSET($BX$20:$DW$25,0,52-INT(ABS($BS27)/6)-1,INT(ABS($BS27)/6+1)*6-1-ABS($BS27),1)))","v":0},{"$f":"IF(B38=\"\",0,B38)","v":0},0,0,0,0,0,0,0,0,0,0,0,0,0,0,0,0,0,"Э","Э","Э","К","К",0,0,0,0,0,0,0,0,0,{"$f":"IF(AH38=\"\",0,AH38)","v":0},0,0,0,0,0,0,0,0,"Э","Э","Э","К","К","К","К","К","К","К","К",{"$f":"IF($BS28<=0,SUMIF(OFFSET($BX38:$DW43,(INT(ABS($BS28)/6)+1)*6-ABS($BS28)-1,52-INT(ABS($BS28)/6)-1,ABS($BS28)-INT(ABS($BS28)/6)*6+1,1),\"=0\",OFFSET($BX$20:$DW$25,(INT(ABS($BS28)/6)+1)*6-ABS($BS28)-1,52-INT(ABS($BS28)/6)-1,ABS($BS28)-INT(ABS($BS28)/6)*6+1,1)),0)","v":0},{"$f":"IF($BS28<=0,SUMIF(OFFSET($BX38:$DW43,(INT(ABS($BS28)/6)+1)*6-ABS($BS28)-1,52-INT(ABS($BS28)/6)-1,ABS($BS28)-INT(ABS($BS28)/6)*6+1,1),\"=\" & $T$75,OFFSET($BX$20:$DW$25,(INT(ABS($BS28)/6)+1)*6-ABS($BS28)-1,52-INT(ABS($BS28)/6)-1,ABS($BS28)-INT(ABS($BS28)/6)*6+1,1)),0)","v":0}]
[null,null,null,null,null,null,null,null,null,null,null,null,null,null,null,null,null,null,null,null,null,null,null,null,null,null,null,null,null,null,null,null,null,null,null,null,null,null,null,null,null,null,null,null,null,null,null,null,null,null,null,null,null,null,null,null,null,null,null,null,null,null,null,null,null,null,null,null,null,{"$f":"SUM(План!AN1144:AQ1144)","v":0},null,null,{"$f":"IF($BS27<=0,SUMIF(OFFSET($BX32:$DW37,0,52-INT(ABS($BS27)/6)-1,,INT(ABS($BS27)/6)+1),\"=\" & $T$75,OFFSET($BX$20:$DW$25,0,52-INT(ABS($BS27)/6)-1,,INT(ABS($BS27)/6)+1)))-IF(AND($BS27<=0,ABS($BS27)<INT(ABS($BS27)/6+1)*6-1),SUMIF(OFFSET($BX32:$DW37,0,52-INT(ABS($BS27)/6)-1,INT(ABS($BS27)/6+1)*6-1-ABS($BS27),1),\"=\" & $T$75,OFFSET($BX$20:$DW$25,0,52-INT(ABS($BS27)/6)-1,INT(ABS($BS27)/6+1)*6-1-ABS($BS27),1)))","v":0},{"$f":"IF($BS27<=0,SUMIF(OFFSET($BX32:$DW37,0,52-INT(ABS($BS27)/6)-1,,INT(ABS($BS27)/6)+1),\"=\" & $AG$75,OFFSET($BX$20:$DW$25,0,52-INT(ABS($BS27)/6)-1,,INT(ABS($BS27)/6)+1)))-IF(AND($BS27<=0,ABS($BS27)<INT(ABS($BS27)/6+1)*6-1),SUMIF(OFFSET($BX32:$DW37,0,52-INT(ABS($BS27)/6)-1,INT(ABS($BS27)/6+1)*6-1-ABS($BS27),1),\"=\" & $AG$75,OFFSET($BX$20:$DW$25,0,52-INT(ABS($BS27)/6)-1,INT(ABS($BS27)/6+1)*6-1-ABS($BS27),1)))-IF($BS28<=0,SUMIF(OFFSET($BX38:$DW43,(INT(ABS($BS28)/6)+1)*6-ABS($BS28)-1,52-INT(ABS($BS28)/6)-1,ABS($BS28)-INT(ABS($BS28)/6)*6+1,1),\"=\" & $AG$75,OFFSET($BX$20:$DW$25,(INT(ABS($BS28)/6)+1)*6-ABS($BS28)-1,52-INT(ABS($BS28)/6)-1,ABS($BS28)-INT(ABS($BS28)/6)*6+1,1)),0)","v":0},null,{"$f":"IF(B38=\"\",0,B38)","v":0},{"$f":"IF(C38=\"\",0,C38)","v":0},{"$f":"IF(D38=\"\",0,D38)","v":0},{"$f":"IF(E38=\"\",0,E38)","v":0},{"$f":"IF(F38=\"\",0,F38)","v":0},{"$f":"IF(G38=\"\",0,G38)","v":0},{"$f":"IF(H38=\"\",0,H38)","v":0},{"$f":"IF(I38=\"\",0,I38)","v":0},{"$f":"IF(J38=\"\",0,J38)","v":0},{"$f":"IF(K38=\"\",0,K38)","v":0},{"$f":"IF(L38=\"\",0,L38)","v":0},{"$f":"IF(M38=\"\",0,M38)","v":0},{"$f":"IF(N38=\"\",0,N38)","v":0},{"$f":"IF(O38=\"\",0,O38)","v":0},{"$f":"IF(P38=\"\",0,P38)","v":0},{"$f":"IF(Q38=\"\",0,Q38)","v":0},{"$f":"IF(R38=\"\",0,R38)","v":0},{"$f":"IF(S38=\"\",0,S38)","v":0},{"$f":"IF(T38=\"\",0,T38)","v":"Э"},{"$f":"IF(U38=\"\",0,U38)","v":"Э"},{"$f":"IF(V38=\"\",0,V38)","v":"Э"},{"$f":"IF(W38=\"\",0,W38)","v":"К"},{"$f":"IF(X38=\"\",0,X38)","v":"К"},{"$f":"IF(Y38=\"\",0,Y38)","v":0},{"$f":"IF(Z38=\"\",0,Z38)","v":0},{"$f":"IF(AA38=\"\",0,AA38)","v":0},{"$f":"IF(AB38=\"\",0,AB38)","v":0},{"$f":"IF(AC38=\"\",0,AC38)","v":0},{"$f":"IF(AD38=\"\",0,AD38)","v":0},{"$f":"IF(AE38=\"\",0,AE38)","v":0},{"$f":"IF(AF38=\"\",0,AF38)","v":0},{"$f":"IF(AG38=\"\",0,AG38)","v":0},{"$f":"IF(AH38=\"\",0,AH38)","v":0},{"$f":"IF(AI38=\"\",0,AI38)","v":0},{"$f":"IF(AJ38=\"\",0,AJ38)","v":0},{"$f":"IF(AK38=\"\",0,AK38)","v":0},{"$f":"IF(AL38=\"\",0,AL38)","v":0},{"$f":"IF(AM38=\"\",0,AM38)","v":0},{"$f":"IF(AN38=\"\",0,AN38)","v":0},{"$f":"IF(AO38=\"\",0,AO38)","v":0},{"$f":"IF(AP38=\"\",0,AP38)","v":0},{"$f":"IF(AQ38=\"\",0,AQ38)","v":"Э"},{"$f":"IF(AR38=\"\",0,AR38)","v":"Э"},{"$f":"IF(AS38=\"\",0,AS38)","v":"Э"},{"$f":"IF(AT38=\"\",0,AT38)","v":"К"},{"$f":"IF(AU38=\"\",0,AU38)","v":"К"},{"$f":"IF(AV38=\"\",0,AV38)","v":"К"},{"$f":"IF(AW38=\"\",0,AW38)","v":"К"},{"$f":"IF(AX38=\"\",0,AX38)","v":"К"},{"$f":"IF(AY38=\"\",0,AY38)","v":"К"},{"$f":"IF(AZ38=\"\",0,AZ38)","v":"К"},{"$f":"IF(BA38=\"\",0,BA38)","v":"К"}]
[null,null,null,null,null,null,null,null,null,null,null,null,null,null,null,null,null,null,null,null,null,null,null,null,null,null,null,null,null,null,null,null,null,null,null,null,null,null,null,null,null,null,null,null,null,null,null,null,null,null,null,null,null,null,null,null,null,null,null,null,null,null,null,null,null,null,null,null,null,{"$f":"SUM(План!AR1144:AU1144)","v":0},null,null,null,{"$f":"IF($BS27<=0,SUMIF(OFFSET($BX32:$DW37,0,52-INT(ABS($BS27)/6)-1,,INT(ABS($BS27)/6)+1),\"=\" & $AR$75,OFFSET($BX$20:$DW$25,0,52-INT(ABS($BS27)/6)-1,,INT(ABS($BS27)/6)+1)))-IF(AND($BS27<=0,ABS($BS27)<INT(ABS($BS27)/6+1)*6-1),SUMIF(OFFSET($BX32:$DW37,0,52-INT(ABS($BS27)/6)-1,INT(ABS($BS27)/6+1)*6-1-ABS($BS27),1),\"=\" & $AR$75,OFFSET($BX$20:$DW$25,0,52-INT(ABS($BS27)/6)-1,INT(ABS($BS27)/6+1)*6-1-ABS($BS27),1)))-IF($BS28<=0,SUMIF(OFFSET($BX38:$DW43,(INT(ABS($BS28)/6)+1)*6-ABS($BS28)-1,52-INT(ABS($BS28)/6)-1,ABS($BS28)-INT(ABS($BS28)/6)*6+1,1),\"=\" & $AR$75,OFFSET($BX$20:$DW$25,(INT(ABS($BS28)/6)+1)*6-ABS($BS28)-1,52-INT(ABS($BS28)/6)-1,ABS($BS28)-INT(ABS($BS28)/6)*6+1,1)),0)","v":0},null,{"$f":"IF(B38=\"\",0,B38)","v":0},{"$f":"IF(C38=\"\",0,C38)","v":0},{"$f":"IF(D38=\"\",0,D38)","v":0},{"$f":"IF(E38=\"\",0,E38)","v":0},{"$f":"IF(F38=\"\",0,F38)","v":0},{"$f":"IF(G38=\"\",0,G38)","v":0},{"$f":"IF(H38=\"\",0,H38)","v":0},{"$f":"IF(I38=\"\",0,I38)","v":0},{"$f":"IF(J38=\"\",0,J38)","v":0},{"$f":"IF(K38=\"\",0,K38)","v":0},{"$f":"IF(L38=\"\",0,L38)","v":0},{"$f":"IF(M38=\"\",0,M38)","v":0},{"$f":"IF(N38=\"\",0,N38)","v":0},{"$f":"IF(O38=\"\",0,O38)","v":0},{"$f":"IF(P38=\"\",0,P38)","v":0},{"$f":"IF(Q38=\"\",0,Q38)","v":0},{"$f":"IF(R38=\"\",0,R38)","v":0},{"$f":"IF(S38=\"\",0,S38)","v":0},{"$f":"IF(T38=\"\",0,T38)","v":"Э"},{"$f":"IF(U38=\"\",0,U38)","v":"Э"},{"$f":"IF(V38=\"\",0,V38)","v":"Э"},{"$f":"IF(W38=\"\",0,W38)","v":"К"},{"$f":"IF(X38=\"\",0,X38)","v":"К"},{"$f":"IF(Y38=\"\",0,Y38)","v":0},{"$f":"IF(Z38=\"\",0,Z38)","v":0},{"$f":"IF(AA38=\"\",0,AA38)","v":0},{"$f":"IF(AB38=\"\",0,AB38)","v":0},{"$f":"IF(AC38=\"\",0,AC38)","v":0},{"$f":"IF(AD38=\"\",0,AD38)","v":0},{"$f":"IF(AE38=\"\",0,AE38)","v":0},{"$f":"IF(AF38=\"\",0,AF38)","v":0},{"$f":"IF(AG38=\"\",0,AG38)","v":0},{"$f":"IF(AH38=\"\",0,AH38)","v":0},{"$f":"IF(AI38=\"\",0,AI38)","v":0},{"$f":"IF(AJ38=\"\",0,AJ38)","v":0},{"$f":"IF(AK38=\"\",0,AK38)","v":0},{"$f":"IF(AL38=\"\",0,AL38)","v":0},{"$f":"IF(AM38=\"\",0,AM38)","v":0},{"$f":"IF(AN38=\"\",0,AN38)","v":0},{"$f":"IF(AO38=\"\",0,AO38)","v":0},{"$f":"IF(AP38=\"\",0,AP38)","v":0},{"$f":"IF(AQ38=\"\",0,AQ38)","v":"Э"},{"$f":"IF(AR38=\"\",0,AR38)","v":"Э"},{"$f":"IF(AS38=\"\",0,AS38)","v":"Э"},{"$f":"IF(AT38=\"\",0,AT38)","v":"К"},{"$f":"IF(AU38=\"\",0,AU38)","v":"К"},{"$f":"IF(AV38=\"\",0,AV38)","v":"К"},{"$f":"IF(AW38=\"\",0,AW38)","v":"К"},{"$f":"IF(AX38=\"\",0,AX38)","v":"К"},{"$f":"IF(AY38=\"\",0,AY38)","v":"К"},{"$f":"IF(AZ38=\"\",0,AZ38)","v":"К"},{"$f":"IF(BA38=\"\",0,BA38)","v":"К"}]
[null,null,null,null,null,null,null,null,null,null,null,null,null,null,null,null,null,null,null,null,null,null,null,null,null,null,null,null,null,null,null,null,null,null,null,null,null,null,null,null,null,null,null,null,null,null,null,null,null,null,null,null,null,null,null,null,null,null,null,null,null,null,null,null,null,null,null,null,null,{"$f":"SUM(План!AV1144:AY1144)","v":0},null,null,null,{"$f":"IF($BS27<=0,SUMIF(OFFSET($BX32:$DW37,0,52-INT(ABS($BS27)/6)-1,,INT(ABS($BS27)/6)+1),\"=\" & $G$77,OFFSET($BX$20:$DW$25,0,52-INT(ABS($BS27)/6)-1,,INT(ABS($BS27)/6)+1)))-IF(AND($BS27<=0,ABS($BS27)<INT(ABS($BS27)/6+1)*6-1),SUMIF(OFFSET($BX32:$DW37,0,52-INT(ABS($BS27)/6)-1,INT(ABS($BS27)/6+1)*6-1-ABS($BS27),1),\"=\" & $G$77,OFFSET($BX$20:$DW$25,0,52-INT(ABS($BS27)/6)-1,INT(ABS($BS27)/6+1)*6-1-ABS($BS27),1)))-IF($BS28<=0,SUMIF(OFFSET($BX38:$DW43,(INT(ABS($BS28)/6)+1)*6-ABS($BS28)-1,52-INT(ABS($BS28)/6)-1,ABS($BS28)-INT(ABS($BS28)/6)*6+1,1),\"=\" & $G$77,OFFSET($BX$20:$DW$25,(INT(ABS($BS28)/6)+1)*6-ABS($BS28)-1,52-INT(ABS($BS28)/6)-1,ABS($BS28)-INT(ABS($BS28)/6)*6+1,1)),0)","v":0},null,{"$f":"IF(B38=\"\",0,B38)","v":0},{"$f":"IF(C38=\"\",0,C38)","v":0},{"$f":"IF(D38=\"\",0,D38)","v":0},{"$f":"IF(E38=\"\",0,E38)","v":0},{"$f":"IF(F38=\"\",0,F38)","v":0},{"$f":"IF(G38=\"\",0,G38)","v":0},{"$f":"IF(H38=\"\",0,H38)","v":0},{"$f":"IF(I38=\"\",0,I38)","v":0},{"$f":"IF(J38=\"\",0,J38)","v":0},{"$f":"IF(K38=\"\",0,K38)","v":0},{"$f":"IF(L38=\"\",0,L38)","v":0},{"$f":"IF(M38=\"\",0,M38)","v":0},{"$f":"IF(N38=\"\",0,N38)","v":0},{"$f":"IF(O38=\"\",0,O38)","v":0},{"$f":"IF(P38=\"\",0,P38)","v":0},{"$f":"IF(Q38=\"\",0,Q38)","v":0},{"$f":"IF(R38=\"\",0,R38)","v":0},{"$f":"IF(S38=\"\",0,S38)","v":0},{"$f":"IF(T38=\"\",0,T38)","v":"Э"},{"$f":"IF(U38=\"\",0,U38)","v":"Э"},{"$f":"IF(V38=\"\",0,V38)","v":"Э"},{"$f":"IF(W38=\"\",0,W38)","v":"К"},{"$f":"IF(X38=\"\",0,X38)","v":"К"},{"$f":"IF(Y38=\"\",0,Y38)","v":0},{"$f":"IF(Z38=\"\",0,Z38)","v":0},{"$f":"IF(AA38=\"\",0,AA38)","v":0},{"$f":"IF(AB38=\"\",0,AB38)","v":0},{"$f":"IF(AC38=\"\",0,AC38)","v":0},{"$f":"IF(AD38=\"\",0,AD38)","v":0},{"$f":"IF(AE38=\"\",0,AE38)","v":0},{"$f":"IF(AF38=\"\",0,AF38)","v":0},{"$f":"IF(AG38=\"\",0,AG38)","v":0},{"$f":"IF(AH38=\"\",0,AH38)","v":0},{"$f":"IF(AI38=\"\",0,AI38)","v":0},{"$f":"IF(AJ38=\"\",0,AJ38)","v":0},{"$f":"IF(AK38=\"\",0,AK38)","v":0},{"$f":"IF(AL38=\"\",0,AL38)","v":0},{"$f":"IF(AM38=\"\",0,AM38)","v":0},{"$f":"IF(AN38=\"\",0,AN38)","v":0},{"$f":"IF(AO38=\"\",0,AO38)","v":0},{"$f":"IF(AP38=\"\",0,AP38)","v":0},{"$f":"IF(AQ38=\"\",0,AQ38)","v":"Э"},{"$f":"IF(AR38=\"\",0,AR38)","v":"Э"},{"$f":"IF(AS38=\"\",0,AS38)","v":"Э"},{"$f":"IF(AT38=\"\",0,AT38)","v":"К"},{"$f":"IF(AU38=\"\",0,AU38)","v":"К"},{"$f":"IF(AV38=\"\",0,AV38)","v":"К"},{"$f":"IF(AW38=\"\",0,AW38)","v":"К"},{"$f":"IF(AX38=\"\",0,AX38)","v":"К"},{"$f":"IF(AY38=\"\",0,AY38)","v":"К"},{"$f":"IF(AZ38=\"\",0,AZ38)","v":"К"},{"$f":"IF(BA38=\"\",0,BA38)","v":"К"}]
[null,null,null,null,null,null,null,null,null,null,null,null,null,null,null,null,null,null,null,null,null,null,null,null,null,null,null,null,null,null,null,null,null,null,null,null,null,null,null,null,null,null,null,null,null,null,null,null,null,null,null,null,null,null,null,null,null,null,null,null,null,null,null,null,null,null,null,null,null,{"$f":"SUM(План!AZ1144:BC1144)","v":0},null,null,null,{"$f":"IF($BS27<=0,SUMIF(OFFSET($BX32:$DW37,0,52-INT(ABS($BS27)/6)-1,,INT(ABS($BS27)/6)+1),\"=\" & $T$77,OFFSET($BX$20:$DW$25,0,52-INT(ABS($BS27)/6)-1,,INT(ABS($BS27)/6)+1)))-IF(AND($BS27<=0,ABS($BS27)<INT(ABS($BS27)/6+1)*6-1),SUMIF(OFFSET($BX32:$DW37,0,52-INT(ABS($BS27)/6)-1,INT(ABS($BS27)/6+1)*6-1-ABS($BS27),1),\"=\" & $T$77,OFFSET($BX$20:$DW$25,0,52-INT(ABS($BS27)/6)-1,INT(ABS($BS27)/6+1)*6-1-ABS($BS27),1)))-IF($BS28<=0,SUMIF(OFFSET($BX38:$DW43,(INT(ABS($BS28)/6)+1)*6-ABS($BS28)-1,52-INT(ABS($BS28)/6)-1,ABS($BS28)-INT(ABS($BS28)/6)*6+1,1),\"=\" & $T$77,OFFSET($BX$20:$DW$25,(INT(ABS($BS28)/6)+1)*6-ABS($BS28)-1,52-INT(ABS($BS28)/6)-1,ABS($BS28)-INT(ABS($BS28)/6)*6+1,1)),0)","v":0},null,{"$f":"IF(B38=\"\",0,B38)","v":0},{"$f":"IF(C38=\"\",0,C38)","v":0},{"$f":"IF(D38=\"\",0,D38)","v":0},{"$f":"IF(E38=\"\",0,E38)","v":0},{"$f":"IF(F38=\"\",0,F38)","v":0},{"$f":"IF(G38=\"\",0,G38)","v":0},{"$f":"IF(H38=\"\",0,H38)","v":0},{"$f":"IF(I38=\"\",0,I38)","v":0},{"$f":"IF(J38=\"\",0,J38)","v":0},{"$f":"IF(K38=\"\",0,K38)","v":0},{"$f":"IF(L38=\"\",0,L38)","v":0},{"$f":"IF(M38=\"\",0,M38)","v":0},{"$f":"IF(N38=\"\",0,N38)","v":0},{"$f":"IF(O38=\"\",0,O38)","v":0},{"$f":"IF(P38=\"\",0,P38)","v":0},{"$f":"IF(Q38=\"\",0,Q38)","v":0},{"$f":"IF(R38=\"\",0,R38)","v":0},{"$f":"IF(S38=\"\",0,S38)","v":0},{"$f":"IF(T38=\"\",0,T38)","v":"Э"},{"$f":"IF(U38=\"\",0,U38)","v":"Э"},{"$f":"IF(V38=\"\",0,V38)","v":"Э"},{"$f":"IF(W38=\"\",0,W38)","v":"К"},{"$f":"IF(X38=\"\",0,X38)","v":"К"},{"$f":"IF(Y38=\"\",0,Y38)","v":0},{"$f":"IF(Z38=\"\",0,Z38)","v":0},{"$f":"IF(AA38=\"\",0,AA38)","v":0},{"$f":"IF(AB38=\"\",0,AB38)","v":0},{"$f":"IF(AC38=\"\",0,AC38)","v":0},{"$f":"IF(AD38=\"\",0,AD38)","v":0},{"$f":"IF(AE38=\"\",0,AE38)","v":0},{"$f":"IF(AF38=\"\",0,AF38)","v":0},{"$f":"IF(AG38=\"\",0,AG38)","v":0},{"$f":"IF(AH38=\"\",0,AH38)","v":0},{"$f":"IF(AI38=\"\",0,AI38)","v":0},{"$f":"IF(AJ38=\"\",0,AJ38)","v":0},{"$f":"IF(AK38=\"\",0,AK38)","v":0},{"$f":"IF(AL38=\"\",0,AL38)","v":0},{"$f":"IF(AM38=\"\",0,AM38)","v":0},{"$f":"IF(AN38=\"\",0,AN38)","v":0},{"$f":"IF(AO38=\"\",0,AO38)","v":0},{"$f":"IF(AP38=\"\",0,AP38)","v":0},{"$f":"IF(AQ38=\"\",0,AQ38)","v":"Э"},{"$f":"IF(AR38=\"\",0,AR38)","v":"Э"},{"$f":"IF(AS38=\"\",0,AS38)","v":"Э"},{"$f":"IF(AT38=\"\",0,AT38)","v":"К"},{"$f":"IF(AU38=\"\",0,AU38)","v":"К"},{"$f":"IF(AV38=\"\",0,AV38)","v":"К"},{"$f":"IF(AW38=\"\",0,AW38)","v":"К"},{"$f":"IF(AX38=\"\",0,AX38)","v":"К"},{"$f":"IF(AY38=\"\",0,AY38)","v":"К"},{"$f":"IF(AZ38=\"\",0,AZ38)","v":"К"},{"$f":"IF(BA38=\"\",0,BA38)","v":"К"}]
[3,null,null,null,null,null,null,null,null,null,null,null,null,null,null,null,null,null,null,null,null,null,null,null,null,null,null,null,null,null,null,null,null,null,null,null,null,null,null,null,null,null,null,null,null,null,null,null,null,null,null,null,null,null,null,null,null,null,null,null,null,null,null,null,null,null,3,null,null,{"$f":"SUM(План!BD1144:BG1144)","v":0},null,null,{"$f":"SUMIF(OFFSET($BX38:$DW43,0,INT(($BT27-1)/6),,52-INT(($BT27-1)/6)-IF($BS28<=0,INT(ABS($BS28)/6),0)),\"=\" & $T$75,OFFSET($BX$20:$DW$25,0,INT(($BT27-1)/6),,52-INT(($BT27-1)/6)-IF($BS28<=0,INT(ABS($BS28)/6),0)))-IF($BT27>INT(($BT27-1)/6)*6+1,SUMIF(OFFSET($BX38:$DW43,0,INT(($BT27-1)/6),$BT27-INT(($BT27-1)/6)*6-1,1),\"=\" & $T$75,OFFSET($BX$20:$DW$25,0,INT(($BT27-1)/6),$BT27-INT(($BT27-1)/6)*6-1,1)))+IF($BS28>1,SUMIF(OFFSET($BX44:$DW49,0,0,,INT(($BS28-1)/6)+1),\"=\" & $T$75,OFFSET($BX$20:$DW$25,0,0,,INT(($BS28-1)/6)+1)))-IF($BS28>1,SUMIF(OFFSET($BX44:$DW49,$BS28-INT(($BS28-1)/6)*6-1,INT(($BS28-1)/6),(INT(($BS28-1)/6)+1)*6+1-$BS28,1),\"=\" & $T$75,OFFSET($BX$20:$DW$25,0,INT(($BS28-1)/6),(INT(($BS28-1)/6)+1)*6+1-$BS28,1)))-$DY38","v":2.9999999999999991},{"$f":"IF($BS27<=0,SUMIF(OFFSET($BX32:$DW37,0,52-INT(ABS($BS27)/6)-1,,INT(ABS($BS27)/6)+1),\"=\" & $AG$77,OFFSET($BX$20:$DW$25,0,52-INT(ABS($BS27)/6)-1,,INT(ABS($BS27)/6)+1)))-IF(AND($BS27<=0,ABS($BS27)<INT(ABS($BS27)/6+1)*6-1),SUMIF(OFFSET($BX32:$DW37,0,52-INT(ABS($BS27)/6)-1,INT(ABS($BS27)/6+1)*6-1-ABS($BS27),1),\"=\" & $AG$77,OFFSET($BX$20:$DW$25,0,52-INT(ABS($BS27)/6)-1,INT(ABS($BS27)/6+1)*6-1-ABS($BS27),1)))-IF($BS28<=0,SUMIF(OFFSET($BX38:$DW43,(INT(ABS($BS28)/6)+1)*6-ABS($BS28)-1,52-INT(ABS($BS28)/6)-1,ABS($BS28)-INT(ABS($BS28)/6)*6+1,1),\"=\" & $AG$77,OFFSET($BX$20:$DW$25,(INT(ABS($BS28)/6)+1)*6-ABS($BS28)-1,52-INT(ABS($BS28)/6)-1,ABS($BS28)-INT(ABS($BS28)/6)*6+1,1)),0)","v":0},null,{"$f":"IF(B38=\"\",0,B38)","v":0},{"$f":"IF(C38=\"\",0,C38)","v":0},{"$f":"IF(D38=\"\",0,D38)","v":0},{"$f":"IF(E38=\"\",0,E38)","v":0},{"$f":"IF(F38=\"\",0,F38)","v":0},{"$f":"IF(G38=\"\",0,G38)","v":0},{"$f":"IF(H38=\"\",0,H38)","v":0},{"$f":"IF(I38=\"\",0,I38)","v":0},{"$f":"IF(J38=\"\",0,J38)","v":0},{"$f":"IF(K38=\"\",0,K38)","v":0},{"$f":"IF(L38=\"\",0,L38)","v":0},{"$f":"IF(M38=\"\",0,M38)","v":0},{"$f":"IF(N38=\"\",0,N38)","v":0},{"$f":"IF(O38=\"\",0,O38)","v":0},{"$f":"IF(P38=\"\",0,P38)","v":0},{"$f":"IF(Q38=\"\",0,Q38)","v":0},{"$f":"IF(R38=\"\",0,R38)","v":0},{"$f":"IF(S38=\"\",0,S38)","v":0},{"$f":"IF(T38=\"\",0,T38)","v":"Э"},{"$f":"IF(U38=\"\",0,U38)","v":"Э"},{"$f":"IF(V38=\"\",0,V38)","v":"Э"},{"$f":"IF(W38=\"\",0,W38)","v":"К"},{"$f":"IF(X38=\"\",0,X38)","v":"К"},{"$f":"IF(Y38=\"\",0,Y38)","v":0},{"$f":"IF(Z38=\"\",0,Z38)","v":0},{"$f":"IF(AA38=\"\",0,AA38)","v":0},{"$f":"IF(AB38=\"\",0,AB38)","v":0},{"$f":"IF(AC38=\"\",0,AC38)","v":0},{"$f":"IF(AD38=\"\",0,AD38)","v":0},{"$f":"IF(AE38=\"\",0,AE38)","v":0},{"$f":"IF(AF38=\"\",0,AF38)","v":0},{"$f":"IF(AG38=\"\",0,AG38)","v":0},{"$f":"IF(AH38=\"\",0,AH38)","v":0},{"$f":"IF(AI38=\"\",0,AI38)","v":0},{"$f":"IF(AJ38=\"\",0,AJ38)","v":0},{"$f":"IF(AK38=\"\",0,AK38)","v":0},{"$f":"IF(AL38=\"\",0,AL38)","v":0},{"$f":"IF(AM38=\"\",0,AM38)","v":0},{"$f":"IF(AN38=\"\",0,AN38)","v":0},{"$f":"IF(AO38=\"\",0,AO38)","v":0},{"$f":"IF(AP38=\"\",0,AP38)","v":0},{"$f":"IF(AQ38=\"\",0,AQ38)","v":"Э"},{"$f":"IF(AR38=\"\",0,AR38)","v":"Э"},{"$f":"IF(AS38=\"\",0,AS38)","v":"Э"},{"$f":"IF(AT38=\"\",0,AT38)","v":"К"},{"$f":"IF(AU38=\"\",0,AU38)","v":"К"},{"$f":"IF(AV38=\"\",0,AV38)","v":"К"},{"$f":"IF(AW38=\"\",0,AW38)","v":"К"},{"$f":"IF(AX38=\"\",0,AX38)","v":"К"},{"$f":"IF(AY38=\"\",0,AY38)","v":"К"},{"$f":"IF(AZ38=\"\",0,AZ38)","v":"К"},{"$f":"IF(BA38=\"\",0,BA38)","v":"К"}]
[3,"","","","","","","","","","","","","","","","","","","Э","Э","Э","К","К","У","У","У","У","","","","","","","","","","","","","","","Э","Э","Э","К","К","К","К","К","К","К","К",{"$f":"SUMIF(OFFSET($BX44:$DW49,0,INT((IF($BS28>0,$BS28,1)-1)/6),,INT(($BT28-1)/6)-INT((IF($BS28>0,$BS28,1)-1)/6)),\"=0\",OFFSET($BX$20:$DW$25,0,INT((IF($BS28>0,$BS28,1)-1)/6)))-IF(AND($BS28>0,$BS28>INT(($BS28-1)/6)*6+1),SUMIF(OFFSET($BX44:$DW49,0,INT(($BS28-1)/6),$BS28-INT(($BS28-1)/6)*6-1,1),\"=0\",OFFSET($BX$20:$DW$25,0,INT(($BS28-1)/6),$BS28-INT(($BS28-1)/6)*6-1,1)))+IF(AND($BT28>0,$BT28>INT(($BT28-1)/6)*6+1),SUMIF(OFFSET($BX44:$DW49,0,INT(($BT28-1)/6),$BT28-INT(($BT28-1)/6)*6-1,1),\"=0\",OFFSET($BX$20:$DW$25,0,INT(($BT28-1)/6),$BT28-INT(($BT28-1)/6)*6-1,1)))+$BW44","v":17.999999999999989},{"$f":"SUMIF(OFFSET($BX44:$DW49,0,INT(($BT28-1)/6),,52-INT(($BT28-1)/6)-IF($BS29<=0,INT(ABS($BS29)/6)+1,0)),\"=0\",OFFSET($BX$20:$DW$25,0,INT(($BT28-1)/6),,52-INT(($BT28-1)/6)-IF($BS29<=0,INT(ABS($BS29)/6)+1,0)))-IF($BT28>INT(($BT28-1)/6)*6+1,SUMIF(OFFSET($BX44:$DW49,0,INT(($BT28-1)/6),$BT28-INT(($BT28-1)/6)*6-1,1),\"=0\",OFFSET($BX$20:$DW$25,0,INT(($BT28-1)/6),$BT28-INT(($BT28-1)/6)*6-1,1)))+IF($BS29>1,SUMIF(OFFSET($BX50:$DW55,0,0,,INT(($BS29-1)/6)+1),\"=0\",OFFSET($BX$20:$DW$25,0,0,,INT(($BS29-1)/6)+1)))-IF($BS29>1,SUMIF(OFFSET($BX50:$DW55,$BS29-INT(($BS29-1)/6)*6-1,INT(($BS29-1)/6),(INT(($BS29-1)/6)+1)*6+1-$BS29,1),\"=0\",OFFSET($BX$20:$DW$25,0,INT(($BS29-1)/6),(INT(($BS29-1)/6)+1)*6+1-$BS29,1)))-$DX44","v":13.999999999999984},{"$f":"Недель5+Недель6","v":31.999999999999972},{"$f":"Экз3Осень+Экз3Весна","v":5.9999999999999982},{"$f":"SUMIF(OFFSET($BX44:$DW49,0,INT((IF($BS28>0,$BS28,1)-1)/6),,52-INT((IF($BS28>0,$BS28,1)-1)/6)-IF($BS29<=0,INT(ABS($BS29)/6),0)),\"=\" & $AR$77,OFFSET($BX$20:$DW$25,0,INT((IF($BS28>0,$BS28,1)-1)/6),,52-INT((IF($BS28>0,$BS28,1)-1)/6)-IF($BS29<=0,INT(ABS($BS29)/6),0)))-IF(AND($BS28>0,$BS28>INT(($BS28-1)/6)*6+1),SUMIF(OFFSET($BX44:$DW49,0,INT(($BS28-1)/6),$BS28-INT(($BS28-1)/6)*6-1,1),\"=\" & $AR$77,OFFSET($BX$20:$DW$25,0,INT(($BS28-1)/6),$BS28-INT(($BS28-1)/6)*6-1,1)))+IF($BS29>1,SUMIF(OFFSET($BX50:$DW55,0,0,,INT(($BS29-1)/6)+1),\"=\" & $AR$77,OFFSET($BX$20:$DW$25,0,0,,INT(($BS29-1)/6)+1)))-IF($BS29>1,SUMIF(OFFSET($BX50:$DW55,$BS29-INT(($BS29-1)/6)*6-1,INT(($BS29-1)/6),(INT(($BS29-1)/6)+1)*6+1-$BS29,1),\"=\" & $AR$77,OFFSET($BX$20:$DW$25,0,INT(($BS29-1)/6),(INT(($BS29-1)/6)+1)*6+1-$BS29,1)))+$BV44","v":0},{"$f":"SUMIF(OFFSET($BX44:$DW49,0,INT((IF($BS28>0,$BS28,1)-1)/6),,52-INT((IF($BS28>0,$BS28,1)-1)/6)-IF($BS29<=0,INT(ABS($BS29)/6),0)),\"=\" & $AG$75,OFFSET($BX$20:$DW$25,0,INT((IF($BS28>0,$BS28,1)-1)/6),,52-INT((IF($BS28>0,$BS28,1)-1)/6)-IF($BS29<=0,INT(ABS($BS29)/6),0)))-IF(AND($BS28>0,$BS28>INT(($BS28-1)/6)*6+1),SUMIF(OFFSET($BX44:$DW49,0,INT(($BS28-1)/6),$BS28-INT(($BS28-1)/6)*6-1,1),\"=\" & $AG$75,OFFSET($BX$20:$DW$25,0,INT(($BS28-1)/6),$BS28-INT(($BS28-1)/6)*6-1,1)))+IF($BS29>1,SUMIF(OFFSET($BX50:$DW55,0,0,,INT(($BS29-1)/6)+1),\"=\" & $AG$75,OFFSET($BX$20:$DW$25,0,0,,INT(($BS29-1)/6)+1)))-IF($BS29>1,SUMIF(OFFSET($BX50:$DW55,$BS29-INT(($BS29-1)/6)*6-1,INT(($BS29-1)/6),(INT(($BS29-1)/6)+1)*6+1-$BS29,1),\"=\" & $AG$75,OFFSET($BX$20:$DW$25,0,INT(($BS29-1)/6),(INT(($BS29-1)/6)+1)*6+1-$BS29,1)))+$BV45","v":3.9999999999999982},{"$f":"SUMIF(OFFSET($BX44:$DW49,0,INT((IF($BS28>0,$BS28,1)-1)/6),,52-INT((IF($BS28>0,$BS28,1)-1)/6)-IF($BS29<=0,INT(ABS($BS29)/6),0)),\"=\" & $AR$75,OFFSET($BX$20:$DW$25,0,INT((IF($BS28>0,$BS28,1)-1)/6),,52-INT((IF($BS28>0,$BS28,1)-1)/6)-IF($BS29<=0,INT(ABS($BS29)/6),0)))-IF(AND($BS28>0,$BS28>INT(($BS28-1)/6)*6+1),SUMIF(OFFSET($BX44:$DW49,0,INT(($BS28-1)/6),$BS28-INT(($BS28-1)/6)*6-1,1),\"=\" & $AR$75,OFFSET($BX$20:$DW$25,0,INT(($BS28-1)/6),$BS28-INT(($BS28-1)/6)*6-1,1)))+IF($BS29>1,SUMIF(OFFSET($BX50:$DW55,0,0,,INT(($BS29-1)/6)+1),\"=\" & $AR$75,OFFSET($BX$20:$DW$25,0,0,,INT(($BS29-1)/6)+1)))-IF($BS29>1,SUMIF(OFFSET($BX50:$DW55,$BS29-INT(($BS29-1)/6)*6-1,INT(($BS29-1)/6),(INT(($BS29-1)/6)+1)*6+1-$BS29,1),\"=\" & $AR$75,OFFSET($BX$20:$DW$25,0,INT(($BS29-1)/6),(INT(($BS29-1)/6)+1)*6+1-$BS29,1)))+$BV46","v":0},{"$f":"SUMIF(OFFSET($BX44:$DW49,0,INT((IF($BS28>0,$BS28,1)-1)/6),,52-INT((IF($BS28>0,$BS28,1)-1)/6)-IF($BS29<=0,INT(ABS($BS29)/6),0)),\"=\" & $G$77,OFFSET($BX$20:$DW$25,0,INT((IF($BS28>0,$BS28,1)-1)/6),,52-INT((IF($BS28>0,$BS28,1)-1)/6)-IF($BS29<=0,INT(ABS($BS29)/6),0)))-IF(AND($BS28>0,$BS28>INT(($BS28-1)/6)*6+1),SUMIF(OFFSET($BX44:$DW49,0,INT(($BS28-1)/6),$BS28-INT(($BS28-1)/6)*6-1,1),\"=\" & $G$77,OFFSET($BX$20:$DW$25,0,INT(($BS28-1)/6),$BS28-INT(($BS28-1)/6)*6-1,1)))+IF($BS29>1,SUMIF(OFFSET($BX50:$DW55,0,0,,INT(($BS29-1)/6)+1),\"=\" & $G$77,OFFSET($BX$20:$DW$25,0,0,,INT(($BS29-1)/6)+1)))-IF($BS29>1,SUMIF(OFFSET($BX50:$DW55,$BS29-INT(($BS29-1)/6)*6-1,INT(($BS29-1)/6),(INT(($BS29-1)/6)+1)*6+1-$BS29,1),\"=\" & $G$77,OFFSET($BX$20:$DW$25,0,INT(($BS29-1)/6),(INT(($BS29-1)/6)+1)*6+1-$BS29,1)))+$BV47","v":0},{"$f":"SUMIF(OFFSET($BX44:$DW49,0,INT((IF($BS28>0,$BS28,1)-1)/6),,52-INT((IF($BS28>0,$BS28,1)-1)/6)-IF($BS29<=0,INT(ABS($BS29)/6),0)),\"=\" & $T$77,OFFSET($BX$20:$DW$25,0,INT((IF($BS28>0,$BS28,1)-1)/6),,52-INT((IF($BS28>0,$BS28,1)-1)/6)-IF($BS29<=0,INT(ABS($BS29)/6),0)))-IF(AND($BS28>0,$BS28>INT(($BS28-1)/6)*6+1),SUMIF(OFFSET($BX44:$DW49,0,INT(($BS28-1)/6),$BS28-INT(($BS28-1)/6)*6-1,1),\"=\" & $T$77,OFFSET($BX$20:$DW$25,0,INT(($BS28-1)/6),$BS28-INT(($BS28-1)/6)*6-1,1)))+IF($BS29>1,SUMIF(OFFSET($BX50:$DW55,0,0,,INT(($BS29-1)/6)+1),\"=\" & $T$77,OFFSET($BX$20:$DW$25,0,0,,INT(($BS29-1)/6)+1)))-IF($BS29>1,SUMIF(OFFSET($BX50:$DW55,$BS29-INT(($BS29-1)/6)*6-1,INT(($BS29-1)/6),(INT(($BS29-1)/6)+1)*6+1-$BS29,1),\"=\" & $T$77,OFFSET($BX$20:$DW$25,0,INT(($BS29-1)/6),(INT(($BS29-1)/6)+1)*6+1-$BS29,1)))+$BV48","v":0},{"$f":"SUMIF(OFFSET($BX44:$DW49,0,INT((IF($BS28>0,$BS28,1)-1)/6),,52-INT((IF($BS28>0,$BS28,1)-1)/6)-IF($BS29<=0,INT(ABS($BS29)/6),0)),\"=\" & $AG$77,OFFSET($BX$20:$DW$25,0,INT((IF($BS28>0,$BS28,1)-1)/6),,52-INT((IF($BS28>0,$BS28,1)-1)/6)-IF($BS29<=0,INT(ABS($BS29)/6),0)))-IF(AND($BS28>0,$BS28>INT(($BS28-1)/6)*6+1),SUMIF(OFFSET($BX44:$DW49,0,INT(($BS28-1)/6),$BS28-INT(($BS28-1)/6)*6-1,1),\"=\" & $AG$77,OFFSET($BX$20:$DW$25,0,INT(($BS28-1)/6),$BS28-INT(($BS28-1)/6)*6-1,1)))+IF($BS29>1,SUMIF(OFFSET($BX50:$DW55,0,0,,INT(($BS29-1)/6)+1),\"=\" & $AG$77,OFFSET($BX$20:$DW$25,0,0,,INT(($BS29-1)/6)+1)))-IF($BS29>1,SUMIF(OFFSET($BX50:$DW55,$BS29-INT(($BS29-1)/6)*6-1,INT(($BS29-1)/6),(INT(($BS29-1)/6)+1)*6+1-$BS29,1),\"=\" & $AG$77,OFFSET($BX$20:$DW$25,0,INT(($BS29-1)/6),(INT(($BS29-1)/6)+1)*6+1-$BS29,1)))+$BV49","v":9.9999999999999982},{"$f":"SUM($BD44:$BK49)","v":51.999999999999972},77,4,3,null,null,{"$f":"SUM(План!BH1144:BK1144)","v":0},null,null,{"$f":"SUMIF(OFFSET($BX44:$DW49,0,INT((IF($BS28>0,$BS28,1)-1)/6),,INT(($BT28-1)/6)-INT((IF($BS28>0,$BS28,1)-1)/6)),\"=\" & $T$75,OFFSET($BX$20:$DW$25,0,INT((IF($BS28>0,$BS28,1)-1)/6)))-IF(AND($BS28>0,$BS28>INT(($BS28-1)/6)*6+1),SUMIF(OFFSET($BX44:$DW49,0,INT(($BS28-1)/6),$BS28-INT(($BS28-1)/6)*6-1,1),\"=\" & $T$75,OFFSET($BX$20:$DW$25,0,INT(($BS28-1)/6),$BS28-INT(($BS28-1)/6)*6-1,1)))+IF(AND($BT28>0,$BT28>INT(($BT28-1)/6)*6+1),SUMIF(OFFSET($BX44:$DW49,0,INT(($BT28-1)/6),$BT28-INT(($BT28-1)/6)*6-1,1),\"=\" & $T$75,OFFSET($BX$20:$DW$25,0,INT(($BT28-1)/6),$BT28-INT(($BT28-1)/6)*6-1,1)))+$BU45","v":2.9999999999999991},{"$f":"IF($BS28<=0,SUMIF(OFFSET($BX38:$DW43,0,52-INT(ABS($BS28)/6)-1,,INT(ABS($BS28)/6)+1),\"=\" & $AR$77,OFFSET($BX$20:$DW$25,0,52-INT(ABS($BS28)/6)-1,,INT(ABS($BS28)/6)+1)))-IF(AND($BS28<=0,ABS($BS28)<INT(ABS($BS28)/6+1)*6-1),SUMIF(OFFSET($BX38:$DW43,0,52-INT(ABS($BS28)/6)-1,INT(ABS($BS28)/6+1)*6-1-ABS($BS28),1),\"=\" & $AR$77,OFFSET($BX$20:$DW$25,0,52-INT(ABS($BS28)/6)-1,INT(ABS($BS28)/6+1)*6-1-ABS($BS28),1)))-IF($BS29<=0,SUMIF(OFFSET($BX44:$DW49,(INT(ABS($BS29)/6)+1)*6-ABS($BS29)-1,52-INT(ABS($BS29)/6)-1,ABS($BS29)-INT(ABS($BS29)/6)*6+1,1),\"=\" & $AR$77,OFFSET($BX$20:$DW$25,(INT(ABS($BS29)/6)+1)*6-ABS($BS29)-1,52-INT(ABS($BS29)/6)-1,ABS($BS29)-INT(ABS($BS29)/6)*6+1,1)),0)","v":0},{"$f":"IF($BS28<=0,SUMIF(OFFSET($BX38:$DW43,0,52-INT(ABS($BS28)/6)-1,,INT(ABS($BS28)/6)+1),\"=0\",OFFSET($BX$20:$DW$25,0,52-INT(ABS($BS28)/6)-1,,INT(ABS($BS28)/6)+1)))-IF(AND($BS28<=0,ABS($BS28)<INT(ABS($BS28)/6+1)*6-1),SUMIF(OFFSET($BX38:$DW43,0,52-INT(ABS($BS28)/6)-1,INT(ABS($BS28)/6+1)*6-1-ABS($BS28),1),\"=0\",OFFSET($BX$20:$DW$25,0,52-INT(ABS($BS28)/6)-1,INT(ABS($BS28)/6+1)*6-1-ABS($BS28),1)))","v":0},{"$f":"IF(B44=\"\",0,B44)","v":0},0,0,0,0,0,0,0,0,0,0,0,0,0,0,0,0,0,"Э","Э","Э","К","К","У","У","У","У",0,0,0,0,0,{"$f":"IF(AH44=\"\",0,AH44)","v":0},0,0,0,0,0,0,0,0,"Э","Э","Э","К","К","К","К","К","К","К","К",{"$f":"IF($BS29<=0,SUMIF(OFFSET($BX44:$DW49,(INT(ABS($BS29)/6)+1)*6-ABS($BS29)-1,52-INT(ABS($BS29)/6)-1,ABS($BS29)-INT(ABS($BS29)/6)*6+1,1),\"=0\",OFFSET($BX$20:$DW$25,(INT(ABS($BS29)/6)+1)*6-ABS($BS29)-1,52-INT(ABS($BS29)/6)-1,ABS($BS29)-INT(ABS($BS29)/6)*6+1,1)),0)","v":0},{"$f":"IF($BS29<=0,SUMIF(OFFSET($BX44:$DW49,(INT(ABS($BS29)/6)+1)*6-ABS($BS29)-1,52-INT(ABS($BS29)/6)-1,ABS($BS29)-INT(ABS($BS29)/6)*6+1,1),\"=\" & $T$75,OFFSET($BX$20:$DW$25,(INT(ABS($BS29)/6)+1)*6-ABS($BS29)-1,52-INT(ABS($BS29)/6)-1,ABS($BS29)-INT(ABS($BS29)/6)*6+1,1)),0)","v":0}]
[null,null,null,null,null,null,null,null,null,null,null,null,null,null,null,null,null,null,null,null,null,null,null,null,null,null,null,null,null,null,null,null,null,null,null,null,null,null,null,null,null,null,null,null,null,null,null,null,null,null,null,null,null,null,null,null,null,null,null,null,null,null,null,null,null,null,null,null,null,{"$f":"SUM(План!BL1144:BO1144)","v":0},null,null,{"$f":"IF($BS28<=0,SUMIF(OFFSET($BX38:$DW43,0,52-INT(ABS($BS28)/6)-1,,INT(ABS($BS28)/6)+1),\"=\" & $T$75,OFFSET($BX$20:$DW$25,0,52-INT(ABS($BS28)/6)-1,,INT(ABS($BS28)/6)+1)))-IF(AND($BS28<=0,ABS($BS28)<INT(ABS($BS28)/6+1)*6-1),SUMIF(OFFSET($BX38:$DW43,0,52-INT(ABS($BS28)/6)-1,INT(ABS($BS28)/6+1)*6-1-ABS($BS28),1),\"=\" & $T$75,OFFSET($BX$20:$DW$25,0,52-INT(ABS($BS28)/6)-1,INT(ABS($BS28)/6+1)*6-1-ABS($BS28),1)))","v":0},{"$f":"IF($BS28<=0,SUMIF(OFFSET($BX38:$DW43,0,52-INT(ABS($BS28)/6)-1,,INT(ABS($BS28)/6)+1),\"=\" & $AG$75,OFFSET($BX$20:$DW$25,0,52-INT(ABS($BS28)/6)-1,,INT(ABS($BS28)/6)+1)))-IF(AND($BS28<=0,ABS($BS28)<INT(ABS($BS28)/6+1)*6-1),SUMIF(OFFSET($BX38:$DW43,0,52-INT(ABS($BS28)/6)-1,INT(ABS($BS28)/6+1)*6-1-ABS($BS28),1),\"=\" & $AG$75,OFFSET($BX$20:$DW$25,0,52-INT(ABS($BS28)/6)-1,INT(ABS($BS28)/6+1)*6-1-ABS($BS28),1)))-IF($BS29<=0,SUMIF(OFFSET($BX44:$DW49,(INT(ABS($BS29)/6)+1)*6-ABS($BS29)-1,52-INT(ABS($BS29)/6)-1,ABS($BS29)-INT(ABS($BS29)/6)*6+1,1),\"=\" & $AG$75,OFFSET($BX$20:$DW$25,(INT(ABS($BS29)/6)+1)*6-ABS($BS29)-1,52-INT(ABS($BS29)/6)-1,ABS($BS29)-INT(ABS($BS29)/6)*6+1,1)),0)","v":0},null,{"$f":"IF(B44=\"\",0,B44)","v":0},{"$f":"IF(C44=\"\",0,C44)","v":0},{"$f":"IF(D44=\"\",0,D44)","v":0},{"$f":"IF(E44=\"\",0,E44)","v":0},{"$f":"IF(F44=\"\",0,F44)","v":0},{"$f":"IF(G44=\"\",0,G44)","v":0},{"$f":"IF(H44=\"\",0,H44)","v":0},{"$f":"IF(I44=\"\",0,I44)","v":0},{"$f":"IF(J44=\"\",0,J44)","v":0},{"$f":"IF(K44=\"\",0,K44)","v":0},{"$f":"IF(L44=\"\",0,L44)","v":0},{"$f":"IF(M44=\"\",0,M44)","v":0},{"$f":"IF(N44=\"\",0,N44)","v":0},{"$f":"IF(O44=\"\",0,O44)","v":0},{"$f":"IF(P44=\"\",0,P44)","v":0},{"$f":"IF(Q44=\"\",0,Q44)","v":0},{"$f":"IF(R44=\"\",0,R44)","v":0},{"$f":"IF(S44=\"\",0,S44)","v":0},{"$f":"IF(T44=\"\",0,T44)","v":"Э"},{"$f":"IF(U44=\"\",0,U44)","v":"Э"},{"$f":"IF(V44=\"\",0,V44)","v":"Э"},{"$f":"IF(W44=\"\",0,W44)","v":"К"},{"$f":"IF(X44=\"\",0,X44)","v":"К"},{"$f":"IF(Y44=\"\",0,Y44)","v":"У"},{"$f":"IF(Z44=\"\",0,Z44)","v":"У"},{"$f":"IF(AA44=\"\",0,AA44)","v":"У"},{"$f":"IF(AB44=\"\",0,AB44)","v":"У"},{"$f":"IF(AC44=\"\",0,AC44)","v":0},{"$f":"IF(AD44=\"\",0,AD44)","v":0},{"$f":"IF(AE44=\"\",0,AE44)","v":0},{"$f":"IF(AF44=\"\",0,AF44)","v":0},{"$f":"IF(AG44=\"\",0,AG44)","v":0},{"$f":"IF(AH44=\"\",0,AH44)","v":0},{"$f":"IF(AI44=\"\",0,AI44)","v":0},{"$f":"IF(AJ44=\"\",0,AJ44)","v":0},{"$f":"IF(AK44=\"\",0,AK44)","v":0},{"$f":"IF(AL44=\"\",0,AL44)","v":0},{"$f":"IF(AM44=\"\",0,AM44)","v":0},{"$f":"IF(AN44=\"\",0,AN44)","v":0},{"$f":"IF(AO44=\"\",0,AO44)","v":0},{"$f":"IF(AP44=\"\",0,AP44)","v":0},{"$f":"IF(AQ44=\"\",0,AQ44)","v":"Э"},{"$f":"IF(AR44=\"\",0,AR44)","v":"Э"},{"$f":"IF(AS44=\"\",0,AS44)","v":"Э"},{"$f":"IF(AT44=\"\",0,AT44)","v":"К"},{"$f":"IF(AU44=\"\",0,AU44)","v":"К"},{"$f":"IF(AV44=\"\",0,AV44)","v":"К"},{"$f":"IF(AW44=\"\",0,AW44)","v":"К"},{"$f":"IF(AX44=\"\",0,AX44)","v":"К"},{"$f":"IF(AY44=\"\",0,AY44)","v":"К"},{"$f":"IF(AZ44=\"\",0,AZ44)","v":"К"},{"$f":"IF(BA44=\"\",0,BA44)","v":"К"}]
[null,null,null,null,null,null,null,null,null,null,null,null,null,null,null,null,null,null,null,null,null,null,null,null,null,null,null,null,null,null,null,null,null,null,null,null,null,null,null,null,null,null,null,null,null,null,null,null,null,null,null,null,null,null,null,null,null,null,null,null,null,null,null,null,null,null,null,null,null,null,null,null,null,{"$f":"IF($BS28<=0,SUMIF(OFFSET($BX38:$DW43,0,52-INT(ABS($BS28)/6)-1,,INT(ABS($BS28)/6)+1),\"=\" & $AR$75,OFFSET($BX$20:$DW$25,0,52-INT(ABS($BS28)/6)-1,,INT(ABS($BS28)/6)+1)))-IF(AND($BS28<=0,ABS($BS28)<INT(ABS($BS28)/6+1)*6-1),SUMIF(OFFSET($BX38:$DW43,0,52-INT(ABS($BS28)/6)-1,INT(ABS($BS28)/6+1)*6-1-ABS($BS28),1),\"=\" & $AR$75,OFFSET($BX$20:$DW$25,0,52-INT(ABS($BS28)/6)-1,INT(ABS($BS28)/6+1)*6-1-ABS($BS28),1)))-IF($BS29<=0,SUMIF(OFFSET($BX44:$DW49,(INT(ABS($BS29)/6)+1)*6-ABS($BS29)-1,52-INT(ABS($BS29)/6)-1,ABS($BS29)-INT(ABS($BS29)/6)*6+1,1),\"=\" & $AR$75,OFFSET($BX$20:$DW$25,(INT(ABS($BS29)/6)+1)*6-ABS($BS29)-1,52-INT(ABS($BS29)/6)-1,ABS($BS29)-INT(ABS($BS29)/6)*6+1,1)),0)","v":0},null,{"$f":"IF(B44=\"\",0,B44)","v":0},{"$f":"IF(C44=\"\",0,C44)","v":0},{"$f":"IF(D44=\"\",0,D44)","v":0},{"$f":"IF(E44=\"\",0,E44)","v":0},{"$f":"IF(F44=\"\",0,F44)","v":0},{"$f":"IF(G44=\"\",0,G44)","v":0},{"$f":"IF(H44=\"\",0,H44)","v":0},{"$f":"IF(I44=\"\",0,I44)","v":0},{"$f":"IF(J44=\"\",0,J44)","v":0},{"$f":"IF(K44=\"\",0,K44)","v":0},{"$f":"IF(L44=\"\",0,L44)","v":0},{"$f":"IF(M44=\"\",0,M44)","v":0},{"$f":"IF(N44=\"\",0,N44)","v":0},{"$f":"IF(O44=\"\",0,O44)","v":0},{"$f":"IF(P44=\"\",0,P44)","v":0},{"$f":"IF(Q44=\"\",0,Q44)","v":0},{"$f":"IF(R44=\"\",0,R44)","v":0},{"$f":"IF(S44=\"\",0,S44)","v":0},{"$f":"IF(T44=\"\",0,T44)","v":"Э"},{"$f":"IF(U44=\"\",0,U44)","v":"Э"},{"$f":"IF(V44=\"\",0,V44)","v":"Э"},{"$f":"IF(W44=\"\",0,W44)","v":"К"},{"$f":"IF(X44=\"\",0,X44)","v":"К"},{"$f":"IF(Y44=\"\",0,Y44)","v":"У"},{"$f":"IF(Z44=\"\",0,Z44)","v":"У"},{"$f":"IF(AA44=\"\",0,AA44)","v":"У"},{"$f":"IF(AB44=\"\",0,AB44)","v":"У"},{"$f":"IF(AC44=\"\",0,AC44)","v":0},{"$f":"IF(AD44=\"\",0,AD44)","v":0},{"$f":"IF(AE44=\"\",0,AE44)","v":0},{"$f":"IF(AF44=\"\",0,AF44)","v":0},{"$f":"IF(AG44=\"\",0,AG44)","v":0},{"$f":"IF(AH44=\"\",0,AH44)","v":0},{"$f":"IF(AI44=\"\",0,AI44)","v":0},{"$f":"IF(AJ44=\"\",0,AJ44)","v":0},{"$f":"IF(AK44=\"\",0,AK44)","v":0},{"$f":"IF(AL44=\"\",0,AL44)","v":0},{"$f":"IF(AM44=\"\",0,AM44)","v":0},{"$f":"IF(AN44=\"\",0,AN44)","v":0},{"$f":"IF(AO44=\"\",0,AO44)","v":0},{"$f":"IF(AP44=\"\",0,AP44)","v":0},{"$f":"IF(AQ44=\"\",0,AQ44)","v":"Э"},{"$f":"IF(AR44=\"\",0,AR44)","v":"Э"},{"$f":"IF(AS44=\"\",0,AS44)","v":"Э"},{"$f":"IF(AT44=\"\",0,AT44)","v":"К"},{"$f":"IF(AU44=\"\",0,AU44)","v":"К"},{"$f":"IF(AV44=\"\",0,AV44)","v":"К"},{"$f":"IF(AW44=\"\",0,AW44)","v":"К"},{"$f":"IF(AX44=\"\",0,AX44)","v":"К"},{"$f":"IF(AY44=\"\",0,AY44)","v":"К"},{"$f":"IF(AZ44=\"\",0,AZ44)","v":"К"},{"$f":"IF(BA44=\"\",0,BA44)","v":"К"}]
[null,null,null,null,null,null,null,null,null,null,null,null,null,null,null,null,null,null,null,null,null,null,null,null,null,null,null,null,null,null,null,null,null,null,null,null,null,null,null,null,null,null,null,null,null,null,null,null,null,null,null,null,null,null,null,null,null,null,null,null,null,null,null,null,null,null,null,null,null,null,null,null,null,{"$f":"IF($BS28<=0,SUMIF(OFFSET($BX38:$DW43,0,52-INT(ABS($BS28)/6)-1,,INT(ABS($BS28)/6)+1),\"=\" & $G$77,OFFSET($BX$20:$DW$25,0,52-INT(ABS($BS28)/6)-1,,INT(ABS($BS28)/6)+1)))-IF(AND($BS28<=0,ABS($BS28)<INT(ABS($BS28)/6+1)*6-1),SUMIF(OFFSET($BX38:$DW43,0,52-INT(ABS($BS28)/6)-1,INT(ABS($BS28)/6+1)*6-1-ABS($BS28),1),\"=\" & $G$77,OFFSET($BX$20:$DW$25,0,52-INT(ABS($BS28)/6)-1,INT(ABS($BS28)/6+1)*6-1-ABS($BS28),1)))-IF($BS29<=0,SUMIF(OFFSET($BX44:$DW49,(INT(ABS($BS29)/6)+1)*6-ABS($BS29)-1,52-INT(ABS($BS29)/6)-1,ABS($BS29)-INT(ABS($BS29)/6)*6+1,1),\"=\" & $G$77,OFFSET($BX$20:$DW$25,(INT(ABS($BS29)/6)+1)*6-ABS($BS29)-1,52-INT(ABS($BS29)/6)-1,ABS($BS29)-INT(ABS($BS29)/6)*6+1,1)),0)","v":0},null,{"$f":"IF(B44=\"\",0,B44)","v":0},{"$f":"IF(C44=\"\",0,C44)","v":0},{"$f":"IF(D44=\"\",0,D44)","v":0},{"$f":"IF(E44=\"\",0,E44)","v":0},{"$f":"IF(F44=\"\",0,F44)","v":0},{"$f":"IF(G44=\"\",0,G44)","v":0},{"$f":"IF(H44=\"\",0,H44)","v":0},{"$f":"IF(I44=\"\",0,I44)","v":0},{"$f":"IF(J44=\"\",0,J44)","v":0},{"$f":"IF(K44=\"\",0,K44)","v":0},{"$f":"IF(L44=\"\",0,L44)","v":0},{"$f":"IF(M44=\"\",0,M44)","v":0},{"$f":"IF(N44=\"\",0,N44)","v":0},{"$f":"IF(O44=\"\",0,O44)","v":0},{"$f":"IF(P44=\"\",0,P44)","v":0},{"$f":"IF(Q44=\"\",0,Q44)","v":0},{"$f":"IF(R44=\"\",0,R44)","v":0},{"$f":"IF(S44=\"\",0,S44)","v":0},{"$f":"IF(T44=\"\",0,T44)","v":"Э"},{"$f":"IF(U44=\"\",0,U44)","v":"Э"},{"$f":"IF(V44=\"\",0,V44)","v":"Э"},{"$f":"IF(W44=\"\",0,W44)","v":"К"},{"$f":"IF(X44=\"\",0,X44)","v":"К"},{"$f":"IF(Y44=\"\",0,Y44)","v":"У"},{"$f":"IF(Z44=\"\",0,Z44)","v":"У"},{"$f":"IF(AA44=\"\",0,AA44)","v":"У"},{"$f":"IF(AB44=\"\",0,AB44)","v":"У"},{"$f":"IF(AC44=\"\",0,AC44)","v":0},{"$f":"IF(AD44=\"\",0,AD44)","v":0},{"$f":"IF(AE44=\"\",0,AE44)","v":0},{"$f":"IF(AF44=\"\",0,AF44)","v":0},{"$f":"IF(AG44=\"\",0,AG44)","v":0},{"$f":"IF(AH44=\"\",0,AH44)","v":0},{"$f":"IF(AI44=\"\",0,AI44)","v":0},{"$f":"IF(AJ44=\"\",0,AJ44)","v":0},{"$f":"IF(AK44=\"\",0,AK44)","v":0},{"$f":"IF(AL44=\"\",0,AL44)","v":0},{"$f":"IF(AM44=\"\",0,AM44)","v":0},{"$f":"IF(AN44=\"\",0,AN44)","v":0},{"$f":"IF(AO44=\"\",0,AO44)","v":0},{"$f":"IF(AP44=\"\",0,AP44)","v":0},{"$f":"IF(AQ44=\"\",0,AQ44)","v":"Э"},{"$f":"IF(AR44=\"\",0,AR44)","v":"Э"},{"$f":"IF(AS44=\"\",0,AS44)","v":"Э"},{"$f":"IF(AT44=\"\",0,AT44)","v":"К"},{"$f":"IF(AU44=\"\",0,AU44)","v":"К"},{"$f":"IF(AV44=\"\",0,AV44)","v":"К"},{"$f":"IF(AW44=\"\",0,AW44)","v":"К"},{"$f":"IF(AX44=\"\",0,AX44)","v":"К"},{"$f":"IF(AY44=\"\",0,AY44)","v":"К"},{"$f":"IF(AZ44=\"\",0,AZ44)","v":"К"},{"$f":"IF(BA44=\"\",0,BA44)","v":"К"}]
[null,null,null,null,null,null,null,null,null,null,null,null,null,null,null,null,null,null,null,null,null,null,null,null,null,null,null,null,null,null,null,null,null,null,null,null,null,null,null,null,null,null,null,null,null,null,null,null,null,null,null,null,null,null,null,null,null,null,null,null,null,null,null,null,null,null,null,null,null,null,null,null,null,{"$f":"IF($BS28<=0,SUMIF(OFFSET($BX38:$DW43,0,52-INT(ABS($BS28)/6)-1,,INT(ABS($BS28)/6)+1),\"=\" & $T$77,OFFSET($BX$20:$DW$25,0,52-INT(ABS($BS28)/6)-1,,INT(ABS($BS28)/6)+1)))-IF(AND($BS28<=0,ABS($BS28)<INT(ABS($BS28)/6+1)*6-1),SUMIF(OFFSET($BX38:$DW43,0,52-INT(ABS($BS28)/6)-1,INT(ABS($BS28)/6+1)*6-1-ABS($BS28),1),\"=\" & $T$77,OFFSET($BX$20:$DW$25,0,52-INT(ABS($BS28)/6)-1,INT(ABS($BS28)/6+1)*6-1-ABS($BS28),1)))-IF($BS29<=0,SUMIF(OFFSET($BX44:$DW49,(INT(ABS($BS29)/6)+1)*6-ABS($BS29)-1,52-INT(ABS($BS29)/6)-1,ABS($BS29)-INT(ABS($BS29)/6)*6+1,1),\"=\" & $T$77,OFFSET($BX$20:$DW$25,(INT(ABS($BS29)/6)+1)*6-ABS($BS29)-1,52-INT(ABS($BS29)/6)-1,ABS($BS29)-INT(ABS($BS29)/6)*6+1,1)),0)","v":0},null,{"$f":"IF(B44=\"\",0,B44)","v":0},{"$f":"IF(C44=\"\",0,C44)","v":0},{"$f":"IF(D44=\"\",0,D44)","v":0},{"$f":"IF(E44=\"\",0,E44)","v":0},{"$f":"IF(F44=\"\",0,F44)","v":0},{"$f":"IF(G44=\"\",0,G44)","v":0},{"$f":"IF(H44=\"\",0,H44)","v":0},{"$f":"IF(I44=\"\",0,I44)","v":0},{"$f":"IF(J44=\"\",0,J44)","v":0},{"$f":"IF(K44=\"\",0,K44)","v":0},{"$f":"IF(L44=\"\",0,L44)","v":0},{"$f":"IF(M44=\"\",0,M44)","v":0},{"$f":"IF(N44=\"\",0,N44)","v":0},{"$f":"IF(O44=\"\",0,O44)","v":0},{"$f":"IF(P44=\"\",0,P44)","v":0},{"$f":"IF(Q44=\"\",0,Q44)","v":0},{"$f":"IF(R44=\"\",0,R44)","v":0},{"$f":"IF(S44=\"\",0,S44)","v":0},{"$f":"IF(T44=\"\",0,T44)","v":"Э"},{"$f":"IF(U44=\"\",0,U44)","v":"Э"},{"$f":"IF(V44=\"\",0,V44)","v":"Э"},{"$f":"IF(W44=\"\",0,W44)","v":"К"},{"$f":"IF(X44=\"\",0,X44)","v":"К"},{"$f":"IF(Y44=\"\",0,Y44)","v":"У"},{"$f":"IF(Z44=\"\",0,Z44)","v":"У"},{"$f":"IF(AA44=\"\",0,AA44)","v":"У"},{"$f":"IF(AB44=\"\",0,AB44)","v":"У"},{"$f":"IF(AC44=\"\",0,AC44)","v":0},{"$f":"IF(AD44=\"\",0,AD44)","v":0},{"$f":"IF(AE44=\"\",0,AE44)","v":0},{"$f":"IF(AF44=\"\",0,AF44)","v":0},{"$f":"IF(AG44=\"\",0,AG44)","v":0},{"$f":"IF(AH44=\"\",0,AH44)","v":0},{"$f":"IF(AI44=\"\",0,AI44)","v":0},{"$f":"IF(AJ44=\"\",0,AJ44)","v":0},{"$f":"IF(AK44=\"\",0,AK44)","v":0},{"$f":"IF(AL44=\"\",0,AL44)","v":0},{"$f":"IF(AM44=\"\",0,AM44)","v":0},{"$f":"IF(AN44=\"\",0,AN44)","v":0},{"$f":"IF(AO44=\"\",0,AO44)","v":0},{"$f":"IF(AP44=\"\",0,AP44)","v":0},{"$f":"IF(AQ44=\"\",0,AQ44)","v":"Э"},{"$f":"IF(AR44=\"\",0,AR44)","v":"Э"},{"$f":"IF(AS44=\"\",0,AS44)","v":"Э"},{"$f":"IF(AT44=\"\",0,AT44)","v":"К"},{"$f":"IF(AU44=\"\",0,AU44)","v":"К"},{"$f":"IF(AV44=\"\",0,AV44)","v":"К"},{"$f":"IF(AW44=\"\",0,AW44)","v":"К"},{"$f":"IF(AX44=\"\",0,AX44)","v":"К"},{"$f":"IF(AY44=\"\",0,AY44)","v":"К"},{"$f":"IF(AZ44=\"\",0,AZ44)","v":"К"},{"$f":"IF(BA44=\"\",0,BA44)","v":"К"}]
[4,null,null,null,null,null,null,null,null,null,null,null,null,null,null,null,null,null,null,null,null,null,null,null,null,null,null,null,null,null,null,null,null,null,null,null,null,null,null,null,null,null,null,null,null,null,null,null,null,null,null,null,null,null,null,null,null,null,null,null,null,null,null,null,null,null,4,null,null,null,null,null,{"$f":"SUMIF(OFFSET($BX44:$DW49,0,INT(($BT28-1)/6),,52-INT(($BT28-1)/6)-IF($BS29<=0,INT(ABS($BS29)/6),0)),\"=\" & $T$75,OFFSET($BX$20:$DW$25,0,INT(($BT28-1)/6),,52-INT(($BT28-1)/6)-IF($BS29<=0,INT(ABS($BS29)/6),0)))-IF($BT28>INT(($BT28-1)/6)*6+1,SUMIF(OFFSET($BX44:$DW49,0,INT(($BT28-1)/6),$BT28-INT(($BT28-1)/6)*6-1,1),\"=\" & $T$75,OFFSET($BX$20:$DW$25,0,INT(($BT28-1)/6),$BT28-INT(($BT28-1)/6)*6-1,1)))+IF($BS29>1,SUMIF(OFFSET($BX50:$DW55,0,0,,INT(($BS29-1)/6)+1),\"=\" & $T$75,OFFSET($BX$20:$DW$25,0,0,,INT(($BS29-1)/6)+1)))-IF($BS29>1,SUMIF(OFFSET($BX50:$DW55,$BS29-INT(($BS29-1)/6)*6-1,INT(($BS29-1)/6),(INT(($BS29-1)/6)+1)*6+1-$BS29,1),\"=\" & $T$75,OFFSET($BX$20:$DW$25,0,INT(($BS29-1)/6),(INT(($BS29-1)/6)+1)*6+1-$BS29,1)))-$DY44","v":2.9999999999999991},{"$f":"IF($BS28<=0,SUMIF(OFFSET($BX38:$DW43,0,52-INT(ABS($BS28)/6)-1,,INT(ABS($BS28)/6)+1),\"=\" & $AG$77,OFFSET($BX$20:$DW$25,0,52-INT(ABS($BS28)/6)-1,,INT(ABS($BS28)/6)+1)))-IF(AND($BS28<=0,ABS($BS28)<INT(ABS($BS28)/6+1)*6-1),SUMIF(OFFSET($BX38:$DW43,0,52-INT(ABS($BS28)/6)-1,INT(ABS($BS28)/6+1)*6-1-ABS($BS28),1),\"=\" & $AG$77,OFFSET($BX$20:$DW$25,0,52-INT(ABS($BS28)/6)-1,INT(ABS($BS28)/6+1)*6-1-ABS($BS28),1)))-IF($BS29<=0,SUMIF(OFFSET($BX44:$DW49,(INT(ABS($BS29)/6)+1)*6-ABS($BS29)-1,52-INT(ABS($BS29)/6)-1,ABS($BS29)-INT(ABS($BS29)/6)*6+1,1),\"=\" & $AG$77,OFFSET($BX$20:$DW$25,(INT(ABS($BS29)/6)+1)*6-ABS($BS29)-1,52-INT(ABS($BS29)/6)-1,ABS($BS29)-INT(ABS($BS29)/6)*6+1,1)),0)","v":0},null,{"$f":"IF(B44=\"\",0,B44)","v":0},{"$f":"IF(C44=\"\",0,C44)","v":0},{"$f":"IF(D44=\"\",0,D44)","v":0},{"$f":"IF(E44=\"\",0,E44)","v":0},{"$f":"IF(F44=\"\",0,F44)","v":0},{"$f":"IF(G44=\"\",0,G44)","v":0},{"$f":"IF(H44=\"\",0,H44)","v":0},{"$f":"IF(I44=\"\",0,I44)","v":0},{"$f":"IF(J44=\"\",0,J44)","v":0},{"$f":"IF(K44=\"\",0,K44)","v":0},{"$f":"IF(L44=\"\",0,L44)","v":0},{"$f":"IF(M44=\"\",0,M44)","v":0},{"$f":"IF(N44=\"\",0,N44)","v":0},{"$f":"IF(O44=\"\",0,O44)","v":0},{"$f":"IF(P44=\"\",0,P44)","v":0},{"$f":"IF(Q44=\"\",0,Q44)","v":0},{"$f":"IF(R44=\"\",0,R44)","v":0},{"$f":"IF(S44=\"\",0,S44)","v":0},{"$f":"IF(T44=\"\",0,T44)","v":"Э"},{"$f":"IF(U44=\"\",0,U44)","v":"Э"},{"$f":"IF(V44=\"\",0,V44)","v":"Э"},{"$f":"IF(W44=\"\",0,W44)","v":"К"},{"$f":"IF(X44=\"\",0,X44)","v":"К"},{"$f":"IF(Y44=\"\",0,Y44)","v":"У"},{"$f":"IF(Z44=\"\",0,Z44)","v":"У"},{"$f":"IF(AA44=\"\",0,AA44)","v":"У"},{"$f":"IF(AB44=\"\",0,AB44)","v":"У"},{"$f":"IF(AC44=\"\",0,AC44)","v":0},{"$f":"IF(AD44=\"\",0,AD44)","v":0},{"$f":"IF(AE44=\"\",0,AE44)","v":0},{"$f":"IF(AF44=\"\",0,AF44)","v":0},{"$f":"IF(AG44=\"\",0,AG44)","v":0},{"$f":"IF(AH44=\"\",0,AH44)","v":0},{"$f":"IF(AI44=\"\",0,AI44)","v":0},{"$f":"IF(AJ44=\"\",0,AJ44)","v":0},{"$f":"IF(AK44=\"\",0,AK44)","v":0},{"$f":"IF(AL44=\"\",0,AL44)","v":0},{"$f":"IF(AM44=\"\",0,AM44)","v":0},{"$f":"IF(AN44=\"\",0,AN44)","v":0},{"$f":"IF(AO44=\"\",0,AO44)","v":0},{"$f":"IF(AP44=\"\",0,AP44)","v":0},{"$f":"IF(AQ44=\"\",0,AQ44)","v":"Э"},{"$f":"IF(AR44=\"\",0,AR44)","v":"Э"},{"$f":"IF(AS44=\"\",0,AS44)","v":"Э"},{"$f":"IF(AT44=\"\",0,AT44)","v":"К"},{"$f":"IF(AU44=\"\",0,AU44)","v":"К"},{"$f":"IF(AV44=\"\",0,AV44)","v":"К"},{"$f":"IF(AW44=\"\",0,AW44)","v":"К"},{"$f":"IF(AX44=\"\",0,AX44)","v":"К"},{"$f":"IF(AY44=\"\",0,AY44)","v":"К"},{"$f":"IF(AZ44=\"\",0,AZ44)","v":"К"},{"$f":"IF(BA44=\"\",0,BA44)","v":"К"}]
[4,"","","","","","","","","","","","","","","","","","","Э","Э","Э","К","К","","","","","","","","","","","","","","","","Э","Э","П","П","П","П","К","К","К","К","К","К","К","К",{"$f":"SUMIF(OFFSET($BX50:$DW55,0,INT((IF($BS29>0,$BS29,1)-1)/6),,INT(($BT29-1)/6)-INT((IF($BS29>0,$BS29,1)-1)/6)),\"=0\",OFFSET($BX$20:$DW$25,0,INT((IF($BS29>0,$BS29,1)-1)/6)))-IF(AND($BS29>0,$BS29>INT(($BS29-1)/6)*6+1),SUMIF(OFFSET($BX50:$DW55,0,INT(($BS29-1)/6),$BS29-INT(($BS29-1)/6)*6-1,1),\"=0\",OFFSET($BX$20:$DW$25,0,INT(($BS29-1)/6),$BS29-INT(($BS29-1)/6)*6-1,1)))+IF(AND($BT29>0,$BT29>INT(($BT29-1)/6)*6+1),SUMIF(OFFSET($BX50:$DW55,0,INT(($BT29-1)/6),$BT29-INT(($BT29-1)/6)*6-1,1),\"=0\",OFFSET($BX$20:$DW$25,0,INT(($BT29-1)/6),$BT29-INT(($BT29-1)/6)*6-1,1)))+$BW50","v":17.999999999999989},{"$f":"SUMIF(OFFSET($BX50:$DW55,0,INT(($BT29-1)/6),,52-INT(($BT29-1)/6)-IF($BS30<=0,INT(ABS($BS30)/6)+1,0)),\"=0\",OFFSET($BX$20:$DW$25,0,INT(($BT29-1)/6),,52-INT(($BT29-1)/6)-IF($BS30<=0,INT(ABS($BS30)/6)+1,0)))-IF($BT29>INT(($BT29-1)/6)*6+1,SUMIF(OFFSET($BX50:$DW55,0,INT(($BT29-1)/6),$BT29-INT(($BT29-1)/6)*6-1,1),\"=0\",OFFSET($BX$20:$DW$25,0,INT(($BT29-1)/6),$BT29-INT(($BT29-1)/6)*6-1,1)))+IF($BS30>1,SUMIF(OFFSET($BX56:$DW61,0,0,,INT(($BS30-1)/6)+1),\"=0\",OFFSET($BX$20:$DW$25,0,0,,INT(($BS30-1)/6)+1)))-IF($BS30>1,SUMIF(OFFSET($BX56:$DW61,$BS30-INT(($BS30-1)/6)*6-1,INT(($BS30-1)/6),(INT(($BS30-1)/6)+1)*6+1-$BS30,1),\"=0\",OFFSET($BX$20:$DW$25,0,INT(($BS30-1)/6),(INT(($BS30-1)/6)+1)*6+1-$BS30,1)))-$DX50","v":14.99999999999998},{"$f":"Недель7+Недель8","v":32.999999999999972},{"$f":"Экз4Осень+Экз4Весна","v":4.9999999999999991},{"$f":"SUMIF(OFFSET($BX50:$DW55,0,INT((IF($BS29>0,$BS29,1)-1)/6),,52-INT((IF($BS29>0,$BS29,1)-1)/6)-IF($BS30<=0,INT(ABS($BS30)/6),0)),\"=\" & $AR$77,OFFSET($BX$20:$DW$25,0,INT((IF($BS29>0,$BS29,1)-1)/6),,52-INT((IF($BS29>0,$BS29,1)-1)/6)-IF($BS30<=0,INT(ABS($BS30)/6),0)))-IF(AND($BS29>0,$BS29>INT(($BS29-1)/6)*6+1),SUMIF(OFFSET($BX50:$DW55,0,INT(($BS29-1)/6),$BS29-INT(($BS29-1)/6)*6-1,1),\"=\" & $AR$77,OFFSET($BX$20:$DW$25,0,INT(($BS29-1)/6),$BS29-INT(($BS29-1)/6)*6-1,1)))+IF($BS30>1,SUMIF(OFFSET($BX56:$DW61,0,0,,INT(($BS30-1)/6)+1),\"=\" & $AR$77,OFFSET($BX$20:$DW$25,0,0,,INT(($BS30-1)/6)+1)))-IF($BS30>1,SUMIF(OFFSET($BX56:$DW61,$BS30-INT(($BS30-1)/6)*6-1,INT(($BS30-1)/6),(INT(($BS30-1)/6)+1)*6+1-$BS30,1),\"=\" & $AR$77,OFFSET($BX$20:$DW$25,0,INT(($BS30-1)/6),(INT(($BS30-1)/6)+1)*6+1-$BS30,1)))+$BV50","v":0},{"$f":"SUMIF(OFFSET($BX50:$DW55,0,INT((IF($BS29>0,$BS29,1)-1)/6),,52-INT((IF($BS29>0,$BS29,1)-1)/6)-IF($BS30<=0,INT(ABS($BS30)/6),0)),\"=\" & $AG$75,OFFSET($BX$20:$DW$25,0,INT((IF($BS29>0,$BS29,1)-1)/6),,52-INT((IF($BS29>0,$BS29,1)-1)/6)-IF($BS30<=0,INT(ABS($BS30)/6),0)))-IF(AND($BS29>0,$BS29>INT(($BS29-1)/6)*6+1),SUMIF(OFFSET($BX50:$DW55,0,INT(($BS29-1)/6),$BS29-INT(($BS29-1)/6)*6-1,1),\"=\" & $AG$75,OFFSET($BX$20:$DW$25,0,INT(($BS29-1)/6),$BS29-INT(($BS29-1)/6)*6-1,1)))+IF($BS30>1,SUMIF(OFFSET($BX56:$DW61,0,0,,INT(($BS30-1)/6)+1),\"=\" & $AG$75,OFFSET($BX$20:$DW$25,0,0,,INT(($BS30-1)/6)+1)))-IF($BS30>1,SUMIF(OFFSET($BX56:$DW61,$BS30-INT(($BS30-1)/6)*6-1,INT(($BS30-1)/6),(INT(($BS30-1)/6)+1)*6+1-$BS30,1),\"=\" & $AG$75,OFFSET($BX$20:$DW$25,0,INT(($BS30-1)/6),(INT(($BS30-1)/6)+1)*6+1-$BS30,1)))+$BV51","v":0},{"$f":"SUMIF(OFFSET($BX50:$DW55,0,INT((IF($BS29>0,$BS29,1)-1)/6),,52-INT((IF($BS29>0,$BS29,1)-1)/6)-IF($BS30<=0,INT(ABS($BS30)/6),0)),\"=\" & $AR$75,OFFSET($BX$20:$DW$25,0,INT((IF($BS29>0,$BS29,1)-1)/6),,52-INT((IF($BS29>0,$BS29,1)-1)/6)-IF($BS30<=0,INT(ABS($BS30)/6),0)))-IF(AND($BS29>0,$BS29>INT(($BS29-1)/6)*6+1),SUMIF(OFFSET($BX50:$DW55,0,INT(($BS29-1)/6),$BS29-INT(($BS29-1)/6)*6-1,1),\"=\" & $AR$75,OFFSET($BX$20:$DW$25,0,INT(($BS29-1)/6),$BS29-INT(($BS29-1)/6)*6-1,1)))+IF($BS30>1,SUMIF(OFFSET($BX56:$DW61,0,0,,INT(($BS30-1)/6)+1),\"=\" & $AR$75,OFFSET($BX$20:$DW$25,0,0,,INT(($BS30-1)/6)+1)))-IF($BS30>1,SUMIF(OFFSET($BX56:$DW61,$BS30-INT(($BS30-1)/6)*6-1,INT(($BS30-1)/6),(INT(($BS30-1)/6)+1)*6+1-$BS30,1),\"=\" & $AR$75,OFFSET($BX$20:$DW$25,0,INT(($BS30-1)/6),(INT(($BS30-1)/6)+1)*6+1-$BS30,1)))+$BV52","v":3.9999999999999982},{"$f":"SUMIF(OFFSET($BX50:$DW55,0,INT((IF($BS29>0,$BS29,1)-1)/6),,52-INT((IF($BS29>0,$BS29,1)-1)/6)-IF($BS30<=0,INT(ABS($BS30)/6),0)),\"=\" & $G$77,OFFSET($BX$20:$DW$25,0,INT((IF($BS29>0,$BS29,1)-1)/6),,52-INT((IF($BS29>0,$BS29,1)-1)/6)-IF($BS30<=0,INT(ABS($BS30)/6),0)))-IF(AND($BS29>0,$BS29>INT(($BS29-1)/6)*6+1),SUMIF(OFFSET($BX50:$DW55,0,INT(($BS29-1)/6),$BS29-INT(($BS29-1)/6)*6-1,1),\"=\" & $G$77,OFFSET($BX$20:$DW$25,0,INT(($BS29-1)/6),$BS29-INT(($BS29-1)/6)*6-1,1)))+IF($BS30>1,SUMIF(OFFSET($BX56:$DW61,0,0,,INT(($BS30-1)/6)+1),\"=\" & $G$77,OFFSET($BX$20:$DW$25,0,0,,INT(($BS30-1)/6)+1)))-IF($BS30>1,SUMIF(OFFSET($BX56:$DW61,$BS30-INT(($BS30-1)/6)*6-1,INT(($BS30-1)/6),(INT(($BS30-1)/6)+1)*6+1-$BS30,1),\"=\" & $G$77,OFFSET($BX$20:$DW$25,0,INT(($BS30-1)/6),(INT(($BS30-1)/6)+1)*6+1-$BS30,1)))+$BV53","v":0},{"$f":"SUMIF(OFFSET($BX50:$DW55,0,INT((IF($BS29>0,$BS29,1)-1)/6),,52-INT((IF($BS29>0,$BS29,1)-1)/6)-IF($BS30<=0,INT(ABS($BS30)/6),0)),\"=\" & $T$77,OFFSET($BX$20:$DW$25,0,INT((IF($BS29>0,$BS29,1)-1)/6),,52-INT((IF($BS29>0,$BS29,1)-1)/6)-IF($BS30<=0,INT(ABS($BS30)/6),0)))-IF(AND($BS29>0,$BS29>INT(($BS29-1)/6)*6+1),SUMIF(OFFSET($BX50:$DW55,0,INT(($BS29-1)/6),$BS29-INT(($BS29-1)/6)*6-1,1),\"=\" & $T$77,OFFSET($BX$20:$DW$25,0,INT(($BS29-1)/6),$BS29-INT(($BS29-1)/6)*6-1,1)))+IF($BS30>1,SUMIF(OFFSET($BX56:$DW61,0,0,,INT(($BS30-1)/6)+1),\"=\" & $T$77,OFFSET($BX$20:$DW$25,0,0,,INT(($BS30-1)/6)+1)))-IF($BS30>1,SUMIF(OFFSET($BX56:$DW61,$BS30-INT(($BS30-1)/6)*6-1,INT(($BS30-1)/6),(INT(($BS30-1)/6)+1)*6+1-$BS30,1),\"=\" & $T$77,OFFSET($BX$20:$DW$25,0,INT(($BS30-1)/6),(INT(($BS30-1)/6)+1)*6+1-$BS30,1)))+$BV54","v":0},{"$f":"SUMIF(OFFSET($BX50:$DW55,0,INT((IF($BS29>0,$BS29,1)-1)/6),,52-INT((IF($BS29>0,$BS29,1)-1)/6)-IF($BS30<=0,INT(ABS($BS30)/6),0)),\"=\" & $AG$77,OFFSET($BX$20:$DW$25,0,INT((IF($BS29>0,$BS29,1)-1)/6),,52-INT((IF($BS29>0,$BS29,1)-1)/6)-IF($BS30<=0,INT(ABS($BS30)/6),0)))-IF(AND($BS29>0,$BS29>INT(($BS29-1)/6)*6+1),SUMIF(OFFSET($BX50:$DW55,0,INT(($BS29-1)/6),$BS29-INT(($BS29-1)/6)*6-1,1),\"=\" & $AG$77,OFFSET($BX$20:$DW$25,0,INT(($BS29-1)/6),$BS29-INT(($BS29-1)/6)*6-1,1)))+IF($BS30>1,SUMIF(OFFSET($BX56:$DW61,0,0,,INT(($BS30-1)/6)+1),\"=\" & $AG$77,OFFSET($BX$20:$DW$25,0,0,,INT(($BS30-1)/6)+1)))-IF($BS30>1,SUMIF(OFFSET($BX56:$DW61,$BS30-INT(($BS30-1)/6)*6-1,INT(($BS30-1)/6),(INT(($BS30-1)/6)+1)*6+1-$BS30,1),\"=\" & $AG$77,OFFSET($BX$20:$DW$25,0,INT(($BS30-1)/6),(INT(($BS30-1)/6)+1)*6+1-$BS30,1)))+$BV55","v":9.9999999999999982},{"$f":"SUM($BD50:$BK55)","v":51.999999999999972},85,4,4,null,null,null,null,null,{"$f":"SUMIF(OFFSET($BX50:$DW55,0,INT((IF($BS29>0,$BS29,1)-1)/6),,INT(($BT29-1)/6)-INT((IF($BS29>0,$BS29,1)-1)/6)),\"=\" & $T$75,OFFSET($BX$20:$DW$25,0,INT((IF($BS29>0,$BS29,1)-1)/6)))-IF(AND($BS29>0,$BS29>INT(($BS29-1)/6)*6+1),SUMIF(OFFSET($BX50:$DW55,0,INT(($BS29-1)/6),$BS29-INT(($BS29-1)/6)*6-1,1),\"=\" & $T$75,OFFSET($BX$20:$DW$25,0,INT(($BS29-1)/6),$BS29-INT(($BS29-1)/6)*6-1,1)))+IF(AND($BT29>0,$BT29>INT(($BT29-1)/6)*6+1),SUMIF(OFFSET($BX50:$DW55,0,INT(($BT29-1)/6),$BT29-INT(($BT29-1)/6)*6-1,1),\"=\" & $T$75,OFFSET($BX$20:$DW$25,0,INT(($BT29-1)/6),$BT29-INT(($BT29-1)/6)*6-1,1)))+$BU51","v":2.9999999999999991},{"$f":"IF($BS29<=0,SUMIF(OFFSET($BX44:$DW49,0,52-INT(ABS($BS29)/6)-1,,INT(ABS($BS29)/6)+1),\"=\" & $AR$77,OFFSET($BX$20:$DW$25,0,52-INT(ABS($BS29)/6)-1,,INT(ABS($BS29)/6)+1)))-IF(AND($BS29<=0,ABS($BS29)<INT(ABS($BS29)/6+1)*6-1),SUMIF(OFFSET($BX44:$DW49,0,52-INT(ABS($BS29)/6)-1,INT(ABS($BS29)/6+1)*6-1-ABS($BS29),1),\"=\" & $AR$77,OFFSET($BX$20:$DW$25,0,52-INT(ABS($BS29)/6)-1,INT(ABS($BS29)/6+1)*6-1-ABS($BS29),1)))-IF($BS30<=0,SUMIF(OFFSET($BX50:$DW55,(INT(ABS($BS30)/6)+1)*6-ABS($BS30)-1,52-INT(ABS($BS30)/6)-1,ABS($BS30)-INT(ABS($BS30)/6)*6+1,1),\"=\" & $AR$77,OFFSET($BX$20:$DW$25,(INT(ABS($BS30)/6)+1)*6-ABS($BS30)-1,52-INT(ABS($BS30)/6)-1,ABS($BS30)-INT(ABS($BS30)/6)*6+1,1)),0)","v":0},{"$f":"IF($BS29<=0,SUMIF(OFFSET($BX44:$DW49,0,52-INT(ABS($BS29)/6)-1,,INT(ABS($BS29)/6)+1),\"=0\",OFFSET($BX$20:$DW$25,0,52-INT(ABS($BS29)/6)-1,,INT(ABS($BS29)/6)+1)))-IF(AND($BS29<=0,ABS($BS29)<INT(ABS($BS29)/6+1)*6-1),SUMIF(OFFSET($BX44:$DW49,0,52-INT(ABS($BS29)/6)-1,INT(ABS($BS29)/6+1)*6-1-ABS($BS29),1),\"=0\",OFFSET($BX$20:$DW$25,0,52-INT(ABS($BS29)/6)-1,INT(ABS($BS29)/6+1)*6-1-ABS($BS29),1)))","v":0},{"$f":"IF(B50=\"\",0,B50)","v":0},0,0,0,0,0,0,0,0,0,0,0,0,0,0,0,0,0,"Э","Э","Э","К","К",0,0,0,0,0,0,0,0,0,{"$f":"IF(AH50=\"\",0,AH50)","v":0},0,0,0,0,0,"Э","Э","П","П","П","П","К","К","К","К","К","К","К","К",{"$f":"IF($BS30<=0,SUMIF(OFFSET($BX50:$DW55,(INT(ABS($BS30)/6)+1)*6-ABS($BS30)-1,52-INT(ABS($BS30)/6)-1,ABS($BS30)-INT(ABS($BS30)/6)*6+1,1),\"=0\",OFFSET($BX$20:$DW$25,(INT(ABS($BS30)/6)+1)*6-ABS($BS30)-1,52-INT(ABS($BS30)/6)-1,ABS($BS30)-INT(ABS($BS30)/6)*6+1,1)),0)","v":0},{"$f":"IF($BS30<=0,SUMIF(OFFSET($BX50:$DW55,(INT(ABS($BS30)/6)+1)*6-ABS($BS30)-1,52-INT(ABS($BS30)/6)-1,ABS($BS30)-INT(ABS($BS30)/6)*6+1,1),\"=\" & $T$75,OFFSET($BX$20:$DW$25,(INT(ABS($BS30)/6)+1)*6-ABS($BS30)-1,52-INT(ABS($BS30)/6)-1,ABS($BS30)-INT(ABS($BS30)/6)*6+1,1)),0)","v":0}]
[null,null,null,null,null,null,null,null,null,null,null,null,null,null,null,null,null,null,null,null,null,null,null,null,null,null,null,null,null,null,null,null,null,null,null,null,null,null,null,null,null,null,null,null,null,null,null,null,null,null,null,null,null,null,null,null,null,null,null,null,null,null,null,null,null,null,null,null,null,null,null,null,{"$f":"IF($BS29<=0,SUMIF(OFFSET($BX44:$DW49,0,52-INT(ABS($BS29)/6)-1,,INT(ABS($BS29)/6)+1),\"=\" & $T$75,OFFSET($BX$20:$DW$25,0,52-INT(ABS($BS29)/6)-1,,INT(ABS($BS29)/6)+1)))-IF(AND($BS29<=0,ABS($BS29)<INT(ABS($BS29)/6+1)*6-1),SUMIF(OFFSET($BX44:$DW49,0,52-INT(ABS($BS29)/6)-1,INT(ABS($BS29)/6+1)*6-1-ABS($BS29),1),\"=\" & $T$75,OFFSET($BX$20:$DW$25,0,52-INT(ABS($BS29)/6)-1,INT(ABS($BS29)/6+1)*6-1-ABS($BS29),1)))","v":0},{"$f":"IF($BS29<=0,SUMIF(OFFSET($BX44:$DW49,0,52-INT(ABS($BS29)/6)-1,,INT(ABS($BS29)/6)+1),\"=\" & $AG$75,OFFSET($BX$20:$DW$25,0,52-INT(ABS($BS29)/6)-1,,INT(ABS($BS29)/6)+1)))-IF(AND($BS29<=0,ABS($BS29)<INT(ABS($BS29)/6+1)*6-1),SUMIF(OFFSET($BX44:$DW49,0,52-INT(ABS($BS29)/6)-1,INT(ABS($BS29)/6+1)*6-1-ABS($BS29),1),\"=\" & $AG$75,OFFSET($BX$20:$DW$25,0,52-INT(ABS($BS29)/6)-1,INT(ABS($BS29)/6+1)*6-1-ABS($BS29),1)))-IF($BS30<=0,SUMIF(OFFSET($BX50:$DW55,(INT(ABS($BS30)/6)+1)*6-ABS($BS30)-1,52-INT(ABS($BS30)/6)-1,ABS($BS30)-INT(ABS($BS30)/6)*6+1,1),\"=\" & $AG$75,OFFSET($BX$20:$DW$25,(INT(ABS($BS30)/6)+1)*6-ABS($BS30)-1,52-INT(ABS($BS30)/6)-1,ABS($BS30)-INT(ABS($BS30)/6)*6+1,1)),0)","v":0},null,{"$f":"IF(B50=\"\",0,B50)","v":0},{"$f":"IF(C50=\"\",0,C50)","v":0},{"$f":"IF(D50=\"\",0,D50)","v":0},{"$f":"IF(E50=\"\",0,E50)","v":0},{"$f":"IF(F50=\"\",0,F50)","v":0},{"$f":"IF(G50=\"\",0,G50)","v":0},{"$f":"IF(H50=\"\",0,H50)","v":0},{"$f":"IF(I50=\"\",0,I50)","v":0},{"$f":"IF(J50=\"\",0,J50)","v":0},{"$f":"IF(K50=\"\",0,K50)","v":0},{"$f":"IF(L50=\"\",0,L50)","v":0},{"$f":"IF(M50=\"\",0,M50)","v":0},{"$f":"IF(N50=\"\",0,N50)","v":0},{"$f":"IF(O50=\"\",0,O50)","v":0},{"$f":"IF(P50=\"\",0,P50)","v":0},{"$f":"IF(Q50=\"\",0,Q50)","v":0},{"$f":"IF(R50=\"\",0,R50)","v":0},{"$f":"IF(S50=\"\",0,S50)","v":0},{"$f":"IF(T50=\"\",0,T50)","v":"Э"},{"$f":"IF(U50=\"\",0,U50)","v":"Э"},{"$f":"IF(V50=\"\",0,V50)","v":"Э"},{"$f":"IF(W50=\"\",0,W50)","v":"К"},{"$f":"IF(X50=\"\",0,X50)","v":"К"},{"$f":"IF(Y50=\"\",0,Y50)","v":0},{"$f":"IF(Z50=\"\",0,Z50)","v":0},{"$f":"IF(AA50=\"\",0,AA50)","v":0},{"$f":"IF(AB50=\"\",0,AB50)","v":0},{"$f":"IF(AC50=\"\",0,AC50)","v":0},{"$f":"IF(AD50=\"\",0,AD50)","v":0},{"$f":"IF(AE50=\"\",0,AE50)","v":0},{"$f":"IF(AF50=\"\",0,AF50)","v":0},{"$f":"IF(AG50=\"\",0,AG50)","v":0},{"$f":"IF(AH50=\"\",0,AH50)","v":0},{"$f":"IF(AI50=\"\",0,AI50)","v":0},{"$f":"IF(AJ50=\"\",0,AJ50)","v":0},{"$f":"IF(AK50=\"\",0,AK50)","v":0},{"$f":"IF(AL50=\"\",0,AL50)","v":0},{"$f":"IF(AM50=\"\",0,AM50)","v":0},{"$f":"IF(AN50=\"\",0,AN50)","v":"Э"},{"$f":"IF(AO50=\"\",0,AO50)","v":"Э"},{"$f":"IF(AP50=\"\",0,AP50)","v":"П"},{"$f":"IF(AQ50=\"\",0,AQ50)","v":"П"},{"$f":"IF(AR50=\"\",0,AR50)","v":"П"},{"$f":"IF(AS50=\"\",0,AS50)","v":"П"},{"$f":"IF(AT50=\"\",0,AT50)","v":"К"},{"$f":"IF(AU50=\"\",0,AU50)","v":"К"},{"$f":"IF(AV50=\"\",0,AV50)","v":"К"},{"$f":"IF(AW50=\"\",0,AW50)","v":"К"},{"$f":"IF(AX50=\"\",0,AX50)","v":"К"},{"$f":"IF(AY50=\"\",0,AY50)","v":"К"},{"$f":"IF(AZ50=\"\",0,AZ50)","v":"К"},{"$f":"IF(BA50=\"\",0,BA50)","v":"К"}]
[null,null,null,null,null,null,null,null,null,null,null,null,null,null,null,null,null,null,null,null,null,null,null,null,null,null,null,null,null,null,null,null,null,null,null,null,null,null,null,null,null,null,null,null,null,null,null,null,null,null,null,null,null,null,null,null,null,null,null,null,null,null,null,null,null,null,null,null,null,null,null,null,null,{"$f":"IF($BS29<=0,SUMIF(OFFSET($BX44:$DW49,0,52-INT(ABS($BS29)/6)-1,,INT(ABS($BS29)/6)+1),\"=\" & $AR$75,OFFSET($BX$20:$DW$25,0,52-INT(ABS($BS29)/6)-1,,INT(ABS($BS29)/6)+1)))-IF(AND($BS29<=0,ABS($BS29)<INT(ABS($BS29)/6+1)*6-1),SUMIF(OFFSET($BX44:$DW49,0,52-INT(ABS($BS29)/6)-1,INT(ABS($BS29)/6+1)*6-1-ABS($BS29),1),\"=\" & $AR$75,OFFSET($BX$20:$DW$25,0,52-INT(ABS($BS29)/6)-1,INT(ABS($BS29)/6+1)*6-1-ABS($BS29),1)))-IF($BS30<=0,SUMIF(OFFSET($BX50:$DW55,(INT(ABS($BS30)/6)+1)*6-ABS($BS30)-1,52-INT(ABS($BS30)/6)-1,ABS($BS30)-INT(ABS($BS30)/6)*6+1,1),\"=\" & $AR$75,OFFSET($BX$20:$DW$25,(INT(ABS($BS30)/6)+1)*6-ABS($BS30)-1,52-INT(ABS($BS30)/6)-1,ABS($BS30)-INT(ABS($BS30)/6)*6+1,1)),0)","v":0},null,{"$f":"IF(B50=\"\",0,B50)","v":0},{"$f":"IF(C50=\"\",0,C50)","v":0},{"$f":"IF(D50=\"\",0,D50)","v":0},{"$f":"IF(E50=\"\",0,E50)","v":0},{"$f":"IF(F50=\"\",0,F50)","v":0},{"$f":"IF(G50=\"\",0,G50)","v":0},{"$f":"IF(H50=\"\",0,H50)","v":0},{"$f":"IF(I50=\"\",0,I50)","v":0},{"$f":"IF(J50=\"\",0,J50)","v":0},{"$f":"IF(K50=\"\",0,K50)","v":0},{"$f":"IF(L50=\"\",0,L50)","v":0},{"$f":"IF(M50=\"\",0,M50)","v":0},{"$f":"IF(N50=\"\",0,N50)","v":0},{"$f":"IF(O50=\"\",0,O50)","v":0},{"$f":"IF(P50=\"\",0,P50)","v":0},{"$f":"IF(Q50=\"\",0,Q50)","v":0},{"$f":"IF(R50=\"\",0,R50)","v":0},{"$f":"IF(S50=\"\",0,S50)","v":0},{"$f":"IF(T50=\"\",0,T50)","v":"Э"},{"$f":"IF(U50=\"\",0,U50)","v":"Э"},{"$f":"IF(V50=\"\",0,V50)","v":"Э"},{"$f":"IF(W50=\"\",0,W50)","v":"К"},{"$f":"IF(X50=\"\",0,X50)","v":"К"},{"$f":"IF(Y50=\"\",0,Y50)","v":0},{"$f":"IF(Z50=\"\",0,Z50)","v":0},{"$f":"IF(AA50=\"\",0,AA50)","v":0},{"$f":"IF(AB50=\"\",0,AB50)","v":0},{"$f":"IF(AC50=\"\",0,AC50)","v":0},{"$f":"IF(AD50=\"\",0,AD50)","v":0},{"$f":"IF(AE50=\"\",0,AE50)","v":0},{"$f":"IF(AF50=\"\",0,AF50)","v":0},{"$f":"IF(AG50=\"\",0,AG50)","v":0},{"$f":"IF(AH50=\"\",0,AH50)","v":0},{"$f":"IF(AI50=\"\",0,AI50)","v":0},{"$f":"IF(AJ50=\"\",0,AJ50)","v":0},{"$f":"IF(AK50=\"\",0,AK50)","v":0},{"$f":"IF(AL50=\"\",0,AL50)","v":0},{"$f":"IF(AM50=\"\",0,AM50)","v":0},{"$f":"IF(AN50=\"\",0,AN50)","v":"Э"},{"$f":"IF(AO50=\"\",0,AO50)","v":"Э"},{"$f":"IF(AP50=\"\",0,AP50)","v":"П"},{"$f":"IF(AQ50=\"\",0,AQ50)","v":"П"},{"$f":"IF(AR50=\"\",0,AR50)","v":"П"},{"$f":"IF(AS50=\"\",0,AS50)","v":"П"},{"$f":"IF(AT50=\"\",0,AT50)","v":"К"},{"$f":"IF(AU50=\"\",0,AU50)","v":"К"},{"$f":"IF(AV50=\"\",0,AV50)","v":"К"},{"$f":"IF(AW50=\"\",0,AW50)","v":"К"},{"$f":"IF(AX50=\"\",0,AX50)","v":"К"},{"$f":"IF(AY50=\"\",0,AY50)","v":"К"},{"$f":"IF(AZ50=\"\",0,AZ50)","v":"К"},{"$f":"IF(BA50=\"\",0,BA50)","v":"К"}]
[null,null,null,null,null,null,null,null,null,null,null,null,null,null,null,null,null,null,null,null,null,null,null,null,null,null,null,null,null,null,null,null,null,null,null,null,null,null,null,null,null,null,null,null,null,null,null,null,null,null,null,null,null,null,null,null,null,null,null,null,null,null,null,null,null,null,null,null,null,null,null,null,null,{"$f":"IF($BS29<=0,SUMIF(OFFSET($BX44:$DW49,0,52-INT(ABS($BS29)/6)-1,,INT(ABS($BS29)/6)+1),\"=\" & $G$77,OFFSET($BX$20:$DW$25,0,52-INT(ABS($BS29)/6)-1,,INT(ABS($BS29)/6)+1)))-IF(AND($BS29<=0,ABS($BS29)<INT(ABS($BS29)/6+1)*6-1),SUMIF(OFFSET($BX44:$DW49,0,52-INT(ABS($BS29)/6)-1,INT(ABS($BS29)/6+1)*6-1-ABS($BS29),1),\"=\" & $G$77,OFFSET($BX$20:$DW$25,0,52-INT(ABS($BS29)/6)-1,INT(ABS($BS29)/6+1)*6-1-ABS($BS29),1)))-IF($BS30<=0,SUMIF(OFFSET($BX50:$DW55,(INT(ABS($BS30)/6)+1)*6-ABS($BS30)-1,52-INT(ABS($BS30)/6)-1,ABS($BS30)-INT(ABS($BS30)/6)*6+1,1),\"=\" & $G$77,OFFSET($BX$20:$DW$25,(INT(ABS($BS30)/6)+1)*6-ABS($BS30)-1,52-INT(ABS($BS30)/6)-1,ABS($BS30)-INT(ABS($BS30)/6)*6+1,1)),0)","v":0},null,{"$f":"IF(B50=\"\",0,B50)","v":0},{"$f":"IF(C50=\"\",0,C50)","v":0},{"$f":"IF(D50=\"\",0,D50)","v":0},{"$f":"IF(E50=\"\",0,E50)","v":0},{"$f":"IF(F50=\"\",0,F50)","v":0},{"$f":"IF(G50=\"\",0,G50)","v":0},{"$f":"IF(H50=\"\",0,H50)","v":0},{"$f":"IF(I50=\"\",0,I50)","v":0},{"$f":"IF(J50=\"\",0,J50)","v":0},{"$f":"IF(K50=\"\",0,K50)","v":0},{"$f":"IF(L50=\"\",0,L50)","v":0},{"$f":"IF(M50=\"\",0,M50)","v":0},{"$f":"IF(N50=\"\",0,N50)","v":0},{"$f":"IF(O50=\"\",0,O50)","v":0},{"$f":"IF(P50=\"\",0,P50)","v":0},{"$f":"IF(Q50=\"\",0,Q50)","v":0},{"$f":"IF(R50=\"\",0,R50)","v":0},{"$f":"IF(S50=\"\",0,S50)","v":0},{"$f":"IF(T50=\"\",0,T50)","v":"Э"},{"$f":"IF(U50=\"\",0,U50)","v":"Э"},{"$f":"IF(V50=\"\",0,V50)","v":"Э"},{"$f":"IF(W50=\"\",0,W50)","v":"К"},{"$f":"IF(X50=\"\",0,X50)","v":"К"},{"$f":"IF(Y50=\"\",0,Y50)","v":0},{"$f":"IF(Z50=\"\",0,Z50)","v":0},{"$f":"IF(AA50=\"\",0,AA50)","v":0},{"$f":"IF(AB50=\"\",0,AB50)","v":0},{"$f":"IF(AC50=\"\",0,AC50)","v":0},{"$f":"IF(AD50=\"\",0,AD50)","v":0},{"$f":"IF(AE50=\"\",0,AE50)","v":0},{"$f":"IF(AF50=\"\",0,AF50)","v":0},{"$f":"IF(AG50=\"\",0,AG50)","v":0},{"$f":"IF(AH50=\"\",0,AH50)","v":0},{"$f":"IF(AI50=\"\",0,AI50)","v":0},{"$f":"IF(AJ50=\"\",0,AJ50)","v":0},{"$f":"IF(AK50=\"\",0,AK50)","v":0},{"$f":"IF(AL50=\"\",0,AL50)","v":0},{"$f":"IF(AM50=\"\",0,AM50)","v":0},{"$f":"IF(AN50=\"\",0,AN50)","v":"Э"},{"$f":"IF(AO50=\"\",0,AO50)","v":"Э"},{"$f":"IF(AP50=\"\",0,AP50)","v":"П"},{"$f":"IF(AQ50=\"\",0,AQ50)","v":"П"},{"$f":"IF(AR50=\"\",0,AR50)","v":"П"},{"$f":"IF(AS50=\"\",0,AS50)","v":"П"},{"$f":"IF(AT50=\"\",0,AT50)","v":"К"},{"$f":"IF(AU50=\"\",0,AU50)","v":"К"},{"$f":"IF(AV50=\"\",0,AV50)","v":"К"},{"$f":"IF(AW50=\"\",0,AW50)","v":"К"},{"$f":"IF(AX50=\"\",0,AX50)","v":"К"},{"$f":"IF(AY50=\"\",0,AY50)","v":"К"},{"$f":"IF(AZ50=\"\",0,AZ50)","v":"К"},{"$f":"IF(BA50=\"\",0,BA50)","v":"К"}]
[null,null,null,null,null,null,null,null,null,null,null,null,null,null,null,null,null,null,null,null,null,null,null,null,null,null,null,null,null,null,null,null,null,null,null,null,null,null,null,null,null,null,null,null,null,null,null,null,null,null,null,null,null,null,null,null,null,null,null,null,null,null,null,null,null,null,null,null,null,null,null,null,null,{"$f":"IF($BS29<=0,SUMIF(OFFSET($BX44:$DW49,0,52-INT(ABS($BS29)/6)-1,,INT(ABS($BS29)/6)+1),\"=\" & $T$77,OFFSET($BX$20:$DW$25,0,52-INT(ABS($BS29)/6)-1,,INT(ABS($BS29)/6)+1)))-IF(AND($BS29<=0,ABS($BS29)<INT(ABS($BS29)/6+1)*6-1),SUMIF(OFFSET($BX44:$DW49,0,52-INT(ABS($BS29)/6)-1,INT(ABS($BS29)/6+1)*6-1-ABS($BS29),1),\"=\" & $T$77,OFFSET($BX$20:$DW$25,0,52-INT(ABS($BS29)/6)-1,INT(ABS($BS29)/6+1)*6-1-ABS($BS29),1)))-IF($BS30<=0,SUMIF(OFFSET($BX50:$DW55,(INT(ABS($BS30)/6)+1)*6-ABS($BS30)-1,52-INT(ABS($BS30)/6)-1,ABS($BS30)-INT(ABS($BS30)/6)*6+1,1),\"=\" & $T$77,OFFSET($BX$20:$DW$25,(INT(ABS($BS30)/6)+1)*6-ABS($BS30)-1,52-INT(ABS($BS30)/6)-1,ABS($BS30)-INT(ABS($BS30)/6)*6+1,1)),0)","v":0},null,{"$f":"IF(B50=\"\",0,B50)","v":0},{"$f":"IF(C50=\"\",0,C50)","v":0},{"$f":"IF(D50=\"\",0,D50)","v":0},{"$f":"IF(E50=\"\",0,E50)","v":0},{"$f":"IF(F50=\"\",0,F50)","v":0},{"$f":"IF(G50=\"\",0,G50)","v":0},{"$f":"IF(H50=\"\",0,H50)","v":0},{"$f":"IF(I50=\"\",0,I50)","v":0},{"$f":"IF(J50=\"\",0,J50)","v":0},{"$f":"IF(K50=\"\",0,K50)","v":0},{"$f":"IF(L50=\"\",0,L50)","v":0},{"$f":"IF(M50=\"\",0,M50)","v":0},{"$f":"IF(N50=\"\",0,N50)","v":0},{"$f":"IF(O50=\"\",0,O50)","v":0},{"$f":"IF(P50=\"\",0,P50)","v":0},{"$f":"IF(Q50=\"\",0,Q50)","v":0},{"$f":"IF(R50=\"\",0,R50)","v":0},{"$f":"IF(S50=\"\",0,S50)","v":0},{"$f":"IF(T50=\"\",0,T50)","v":"Э"},{"$f":"IF(U50=\"\",0,U50)","v":"Э"},{"$f":"IF(V50=\"\",0,V50)","v":"Э"},{"$f":"IF(W50=\"\",0,W50)","v":"К"},{"$f":"IF(X50=\"\",0,X50)","v":"К"},{"$f":"IF(Y50=\"\",0,Y50)","v":0},{"$f":"IF(Z50=\"\",0,Z50)","v":0},{"$f":"IF(AA50=\"\",0,AA50)","v":0},{"$f":"IF(AB50=\"\",0,AB50)","v":0},{"$f":"IF(AC50=\"\",0,AC50)","v":0},{"$f":"IF(AD50=\"\",0,AD50)","v":0},{"$f":"IF(AE50=\"\",0,AE50)","v":0},{"$f":"IF(AF50=\"\",0,AF50)","v":0},{"$f":"IF(AG50=\"\",0,AG50)","v":0},{"$f":"IF(AH50=\"\",0,AH50)","v":0},{"$f":"IF(AI50=\"\",0,AI50)","v":0},{"$f":"IF(AJ50=\"\",0,AJ50)","v":0},{"$f":"IF(AK50=\"\",0,AK50)","v":0},{"$f":"IF(AL50=\"\",0,AL50)","v":0},{"$f":"IF(AM50=\"\",0,AM50)","v":0},{"$f":"IF(AN50=\"\",0,AN50)","v":"Э"},{"$f":"IF(AO50=\"\",0,AO50)","v":"Э"},{"$f":"IF(AP50=\"\",0,AP50)","v":"П"},{"$f":"IF(AQ50=\"\",0,AQ50)","v":"П"},{"$f":"IF(AR50=\"\",0,AR50)","v":"П"},{"$f":"IF(AS50=\"\",0,AS50)","v":"П"},{"$f":"IF(AT50=\"\",0,AT50)","v":"К"},{"$f":"IF(AU50=\"\",0,AU50)","v":"К"},{"$f":"IF(AV50=\"\",0,AV50)","v":"К"},{"$f":"IF(AW50=\"\",0,AW50)","v":"К"},{"$f":"IF(AX50=\"\",0,AX50)","v":"К"},{"$f":"IF(AY50=\"\",0,AY50)","v":"К"},{"$f":"IF(AZ50=\"\",0,AZ50)","v":"К"},{"$f":"IF(BA50=\"\",0,BA50)","v":"К"}]
[4,null,null,null,null,null,null,null,null,null,null,null,null,null,null,null,null,null,null,null,null,null,null,null,null,null,null,null,null,null,null,null,null,null,null,null,null,null,null,null,null,null,null,null,null,null,null,null,null,null,null,null,null,null,null,null,null,null,null,null,null,null,null,null,null,null,4,null,null,null,null,null,{"$f":"SUMIF(OFFSET($BX50:$DW55,0,INT(($BT29-1)/6),,52-INT(($BT29-1)/6)-IF($BS30<=0,INT(ABS($BS30)/6),0)),\"=\" & $T$75,OFFSET($BX$20:$DW$25,0,INT(($BT29-1)/6),,52-INT(($BT29-1)/6)-IF($BS30<=0,INT(ABS($BS30)/6),0)))-IF($BT29>INT(($BT29-1)/6)*6+1,SUMIF(OFFSET($BX50:$DW55,0,INT(($BT29-1)/6),$BT29-INT(($BT29-1)/6)*6-1,1),\"=\" & $T$75,OFFSET($BX$20:$DW$25,0,INT(($BT29-1)/6),$BT29-INT(($BT29-1)/6)*6-1,1)))+IF($BS30>1,SUMIF(OFFSET($BX56:$DW61,0,0,,INT(($BS30-1)/6)+1),\"=\" & $T$75,OFFSET($BX$20:$DW$25,0,0,,INT(($BS30-1)/6)+1)))-IF($BS30>1,SUMIF(OFFSET($BX56:$DW61,$BS30-INT(($BS30-1)/6)*6-1,INT(($BS30-1)/6),(INT(($BS30-1)/6)+1)*6+1-$BS30,1),\"=\" & $T$75,OFFSET($BX$20:$DW$25,0,INT(($BS30-1)/6),(INT(($BS30-1)/6)+1)*6+1-$BS30,1)))-$DY50","v":2},{"$f":"IF($BS29<=0,SUMIF(OFFSET($BX44:$DW49,0,52-INT(ABS($BS29)/6)-1,,INT(ABS($BS29)/6)+1),\"=\" & $AG$77,OFFSET($BX$20:$DW$25,0,52-INT(ABS($BS29)/6)-1,,INT(ABS($BS29)/6)+1)))-IF(AND($BS29<=0,ABS($BS29)<INT(ABS($BS29)/6+1)*6-1),SUMIF(OFFSET($BX44:$DW49,0,52-INT(ABS($BS29)/6)-1,INT(ABS($BS29)/6+1)*6-1-ABS($BS29),1),\"=\" & $AG$77,OFFSET($BX$20:$DW$25,0,52-INT(ABS($BS29)/6)-1,INT(ABS($BS29)/6+1)*6-1-ABS($BS29),1)))-IF($BS30<=0,SUMIF(OFFSET($BX50:$DW55,(INT(ABS($BS30)/6)+1)*6-ABS($BS30)-1,52-INT(ABS($BS30)/6)-1,ABS($BS30)-INT(ABS($BS30)/6)*6+1,1),\"=\" & $AG$77,OFFSET($BX$20:$DW$25,(INT(ABS($BS30)/6)+1)*6-ABS($BS30)-1,52-INT(ABS($BS30)/6)-1,ABS($BS30)-INT(ABS($BS30)/6)*6+1,1)),0)","v":0},null,{"$f":"IF(B50=\"\",0,B50)","v":0},{"$f":"IF(C50=\"\",0,C50)","v":0},{"$f":"IF(D50=\"\",0,D50)","v":0},{"$f":"IF(E50=\"\",0,E50)","v":0},{"$f":"IF(F50=\"\",0,F50)","v":0},{"$f":"IF(G50=\"\",0,G50)","v":0},{"$f":"IF(H50=\"\",0,H50)","v":0},{"$f":"IF(I50=\"\",0,I50)","v":0},{"$f":"IF(J50=\"\",0,J50)","v":0},{"$f":"IF(K50=\"\",0,K50)","v":0},{"$f":"IF(L50=\"\",0,L50)","v":0},{"$f":"IF(M50=\"\",0,M50)","v":0},{"$f":"IF(N50=\"\",0,N50)","v":0},{"$f":"IF(O50=\"\",0,O50)","v":0},{"$f":"IF(P50=\"\",0,P50)","v":0},{"$f":"IF(Q50=\"\",0,Q50)","v":0},{"$f":"IF(R50=\"\",0,R50)","v":0},{"$f":"IF(S50=\"\",0,S50)","v":0},{"$f":"IF(T50=\"\",0,T50)","v":"Э"},{"$f":"IF(U50=\"\",0,U50)","v":"Э"},{"$f":"IF(V50=\"\",0,V50)","v":"Э"},{"$f":"IF(W50=\"\",0,W50)","v":"К"},{"$f":"IF(X50=\"\",0,X50)","v":"К"},{"$f":"IF(Y50=\"\",0,Y50)","v":0},{"$f":"IF(Z50=\"\",0,Z50)","v":0},{"$f":"IF(AA50=\"\",0,AA50)","v":0},{"$f":"IF(AB50=\"\",0,AB50)","v":0},{"$f":"IF(AC50=\"\",0,AC50)","v":0},{"$f":"IF(AD50=\"\",0,AD50)","v":0},{"$f":"IF(AE50=\"\",0,AE50)","v":0},{"$f":"IF(AF50=\"\",0,AF50)","v":0},{"$f":"IF(AG50=\"\",0,AG50)","v":0},{"$f":"IF(AH50=\"\",0,AH50)","v":0},{"$f":"IF(AI50=\"\",0,AI50)","v":0},{"$f":"IF(AJ50=\"\",0,AJ50)","v":0},{"$f":"IF(AK50=\"\",0,AK50)","v":0},{"$f":"IF(AL50=\"\",0,AL50)","v":0},{"$f":"IF(AM50=\"\",0,AM50)","v":0},{"$f":"IF(AN50=\"\",0,AN50)","v":"Э"},{"$f":"IF(AO50=\"\",0,AO50)","v":"Э"},{"$f":"IF(AP50=\"\",0,AP50)","v":"П"},{"$f":"IF(AQ50=\"\",0,AQ50)","v":"П"},{"$f":"IF(AR50=\"\",0,AR50)","v":"П"},{"$f":"IF(AS50=\"\",0,AS50)","v":"П"},{"$f":"IF(AT50=\"\",0,AT50)","v":"К"},{"$f":"IF(AU50=\"\",0,AU50)","v":"К"},{"$f":"IF(AV50=\"\",0,AV50)","v":"К"},{"$f":"IF(AW50=\"\",0,AW50)","v":"К"},{"$f":"IF(AX50=\"\",0,AX50)","v":"К"},{"$f":"IF(AY50=\"\",0,AY50)","v":"К"},{"$f":"IF(AZ50=\"\",0,AZ50)","v":"К"},{"$f":"IF(BA50=\"\",0,BA50)","v":"К"}]
[5,"","","","","","","","","","","","","","","","Э","Э","Э","К","К","П","П","П","П","П","П","П","П","Г","Г","Д","Д","Д","Д","Д","Д","Д","Д","Д","Д","Д","Д","Д","Д","К","К","К","К","К","К","К","К",{"$f":"SUMIF(OFFSET($BX56:$DW61,0,INT((IF($BS30>0,$BS30,1)-1)/6),,INT(($BT30-1)/6)-INT((IF($BS30>0,$BS30,1)-1)/6)),\"=0\",OFFSET($BX$20:$DW$25,0,INT((IF($BS30>0,$BS30,1)-1)/6)))-IF(AND($BS30>0,$BS30>INT(($BS30-1)/6)*6+1),SUMIF(OFFSET($BX56:$DW61,0,INT(($BS30-1)/6),$BS30-INT(($BS30-1)/6)*6-1,1),\"=0\",OFFSET($BX$20:$DW$25,0,INT(($BS30-1)/6),$BS30-INT(($BS30-1)/6)*6-1,1)))+IF(AND($BT30>0,$BT30>INT(($BT30-1)/6)*6+1),SUMIF(OFFSET($BX56:$DW61,0,INT(($BT30-1)/6),$BT30-INT(($BT30-1)/6)*6-1,1),\"=0\",OFFSET($BX$20:$DW$25,0,INT(($BT30-1)/6),$BT30-INT(($BT30-1)/6)*6-1,1)))+$BW56","v":14.99999999999998},{"$f":"SUMIF(OFFSET($BX56:$DW61,0,INT(($BT30-1)/6),,52-INT(($BT30-1)/6)-IF($BS31<=0,INT(ABS($BS31)/6)+1,0)),\"=0\",OFFSET($BX$20:$DW$25,0,INT(($BT30-1)/6),,52-INT(($BT30-1)/6)-IF($BS31<=0,INT(ABS($BS31)/6)+1,0)))-IF($BT30>INT(($BT30-1)/6)*6+1,SUMIF(OFFSET($BX56:$DW61,0,INT(($BT30-1)/6),$BT30-INT(($BT30-1)/6)*6-1,1),\"=0\",OFFSET($BX$20:$DW$25,0,INT(($BT30-1)/6),$BT30-INT(($BT30-1)/6)*6-1,1)))+IF($BS31>1,SUMIF(OFFSET($BX62:$DW67,0,0,,INT(($BS31-1)/6)+1),\"=0\",OFFSET($BX$20:$DW$25,0,0,,INT(($BS31-1)/6)+1)))-IF($BS31>1,SUMIF(OFFSET($BX62:$DW67,$BS31-INT(($BS31-1)/6)*6-1,INT(($BS31-1)/6),(INT(($BS31-1)/6)+1)*6+1-$BS31,1),\"=0\",OFFSET($BX$20:$DW$25,0,INT(($BS31-1)/6),(INT(($BS31-1)/6)+1)*6+1-$BS31,1)))-$DX56","v":0},{"$f":"Недель9+Недель10","v":14.99999999999998},{"$f":"Экз5Осень+Экз5Весна","v":2.9999999999999991},{"$f":"SUMIF(OFFSET($BX56:$DW61,0,INT((IF($BS30>0,$BS30,1)-1)/6),,52-INT((IF($BS30>0,$BS30,1)-1)/6)-IF($BS31<=0,INT(ABS($BS31)/6),0)),\"=\" & $AR$77,OFFSET($BX$20:$DW$25,0,INT((IF($BS30>0,$BS30,1)-1)/6),,52-INT((IF($BS30>0,$BS30,1)-1)/6)-IF($BS31<=0,INT(ABS($BS31)/6),0)))-IF(AND($BS30>0,$BS30>INT(($BS30-1)/6)*6+1),SUMIF(OFFSET($BX56:$DW61,0,INT(($BS30-1)/6),$BS30-INT(($BS30-1)/6)*6-1,1),\"=\" & $AR$77,OFFSET($BX$20:$DW$25,0,INT(($BS30-1)/6),$BS30-INT(($BS30-1)/6)*6-1,1)))+IF($BS31>1,SUMIF(OFFSET($BX62:$DW67,0,0,,INT(($BS31-1)/6)+1),\"=\" & $AR$77,OFFSET($BX$20:$DW$25,0,0,,INT(($BS31-1)/6)+1)))-IF($BS31>1,SUMIF(OFFSET($BX62:$DW67,$BS31-INT(($BS31-1)/6)*6-1,INT(($BS31-1)/6),(INT(($BS31-1)/6)+1)*6+1-$BS31,1),\"=\" & $AR$77,OFFSET($BX$20:$DW$25,0,INT(($BS31-1)/6),(INT(($BS31-1)/6)+1)*6+1-$BS31,1)))+$BV56","v":0},{"$f":"SUMIF(OFFSET($BX56:$DW61,0,INT((IF($BS30>0,$BS30,1)-1)/6),,52-INT((IF($BS30>0,$BS30,1)-1)/6)-IF($BS31<=0,INT(ABS($BS31)/6),0)),\"=\" & $AG$75,OFFSET($BX$20:$DW$25,0,INT((IF($BS30>0,$BS30,1)-1)/6),,52-INT((IF($BS30>0,$BS30,1)-1)/6)-IF($BS31<=0,INT(ABS($BS31)/6),0)))-IF(AND($BS30>0,$BS30>INT(($BS30-1)/6)*6+1),SUMIF(OFFSET($BX56:$DW61,0,INT(($BS30-1)/6),$BS30-INT(($BS30-1)/6)*6-1,1),\"=\" & $AG$75,OFFSET($BX$20:$DW$25,0,INT(($BS30-1)/6),$BS30-INT(($BS30-1)/6)*6-1,1)))+IF($BS31>1,SUMIF(OFFSET($BX62:$DW67,0,0,,INT(($BS31-1)/6)+1),\"=\" & $AG$75,OFFSET($BX$20:$DW$25,0,0,,INT(($BS31-1)/6)+1)))-IF($BS31>1,SUMIF(OFFSET($BX62:$DW67,$BS31-INT(($BS31-1)/6)*6-1,INT(($BS31-1)/6),(INT(($BS31-1)/6)+1)*6+1-$BS31,1),\"=\" & $AG$75,OFFSET($BX$20:$DW$25,0,INT(($BS31-1)/6),(INT(($BS31-1)/6)+1)*6+1-$BS31,1)))+$BV57","v":0},{"$f":"SUMIF(OFFSET($BX56:$DW61,0,INT((IF($BS30>0,$BS30,1)-1)/6),,52-INT((IF($BS30>0,$BS30,1)-1)/6)-IF($BS31<=0,INT(ABS($BS31)/6),0)),\"=\" & $AR$75,OFFSET($BX$20:$DW$25,0,INT((IF($BS30>0,$BS30,1)-1)/6),,52-INT((IF($BS30>0,$BS30,1)-1)/6)-IF($BS31<=0,INT(ABS($BS31)/6),0)))-IF(AND($BS30>0,$BS30>INT(($BS30-1)/6)*6+1),SUMIF(OFFSET($BX56:$DW61,0,INT(($BS30-1)/6),$BS30-INT(($BS30-1)/6)*6-1,1),\"=\" & $AR$75,OFFSET($BX$20:$DW$25,0,INT(($BS30-1)/6),$BS30-INT(($BS30-1)/6)*6-1,1)))+IF($BS31>1,SUMIF(OFFSET($BX62:$DW67,0,0,,INT(($BS31-1)/6)+1),\"=\" & $AR$75,OFFSET($BX$20:$DW$25,0,0,,INT(($BS31-1)/6)+1)))-IF($BS31>1,SUMIF(OFFSET($BX62:$DW67,$BS31-INT(($BS31-1)/6)*6-1,INT(($BS31-1)/6),(INT(($BS31-1)/6)+1)*6+1-$BS31,1),\"=\" & $AR$75,OFFSET($BX$20:$DW$25,0,INT(($BS31-1)/6),(INT(($BS31-1)/6)+1)*6+1-$BS31,1)))+$BV58","v":8.0000000000000053},{"$f":"SUMIF(OFFSET($BX56:$DW61,0,INT((IF($BS30>0,$BS30,1)-1)/6),,52-INT((IF($BS30>0,$BS30,1)-1)/6)-IF($BS31<=0,INT(ABS($BS31)/6),0)),\"=\" & $G$77,OFFSET($BX$20:$DW$25,0,INT((IF($BS30>0,$BS30,1)-1)/6),,52-INT((IF($BS30>0,$BS30,1)-1)/6)-IF($BS31<=0,INT(ABS($BS31)/6),0)))-IF(AND($BS30>0,$BS30>INT(($BS30-1)/6)*6+1),SUMIF(OFFSET($BX56:$DW61,0,INT(($BS30-1)/6),$BS30-INT(($BS30-1)/6)*6-1,1),\"=\" & $G$77,OFFSET($BX$20:$DW$25,0,INT(($BS30-1)/6),$BS30-INT(($BS30-1)/6)*6-1,1)))+IF($BS31>1,SUMIF(OFFSET($BX62:$DW67,0,0,,INT(($BS31-1)/6)+1),\"=\" & $G$77,OFFSET($BX$20:$DW$25,0,0,,INT(($BS31-1)/6)+1)))-IF($BS31>1,SUMIF(OFFSET($BX62:$DW67,$BS31-INT(($BS31-1)/6)*6-1,INT(($BS31-1)/6),(INT(($BS31-1)/6)+1)*6+1-$BS31,1),\"=\" & $G$77,OFFSET($BX$20:$DW$25,0,INT(($BS31-1)/6),(INT(($BS31-1)/6)+1)*6+1-$BS31,1)))+$BV59","v":13.999999999999984},{"$f":"SUMIF(OFFSET($BX56:$DW61,0,INT((IF($BS30>0,$BS30,1)-1)/6),,52-INT((IF($BS30>0,$BS30,1)-1)/6)-IF($BS31<=0,INT(ABS($BS31)/6),0)),\"=\" & $T$77,OFFSET($BX$20:$DW$25,0,INT((IF($BS30>0,$BS30,1)-1)/6),,52-INT((IF($BS30>0,$BS30,1)-1)/6)-IF($BS31<=0,INT(ABS($BS31)/6),0)))-IF(AND($BS30>0,$BS30>INT(($BS30-1)/6)*6+1),SUMIF(OFFSET($BX56:$DW61,0,INT(($BS30-1)/6),$BS30-INT(($BS30-1)/6)*6-1,1),\"=\" & $T$77,OFFSET($BX$20:$DW$25,0,INT(($BS30-1)/6),$BS30-INT(($BS30-1)/6)*6-1,1)))+IF($BS31>1,SUMIF(OFFSET($BX62:$DW67,0,0,,INT(($BS31-1)/6)+1),\"=\" & $T$77,OFFSET($BX$20:$DW$25,0,0,,INT(($BS31-1)/6)+1)))-IF($BS31>1,SUMIF(OFFSET($BX62:$DW67,$BS31-INT(($BS31-1)/6)*6-1,INT(($BS31-1)/6),(INT(($BS31-1)/6)+1)*6+1-$BS31,1),\"=\" & $T$77,OFFSET($BX$20:$DW$25,0,INT(($BS31-1)/6),(INT(($BS31-1)/6)+1)*6+1-$BS31,1)))+$BV60","v":2},{"$f":"SUMIF(OFFSET($BX56:$DW61,0,INT((IF($BS30>0,$BS30,1)-1)/6),,52-INT((IF($BS30>0,$BS30,1)-1)/6)-IF($BS31<=0,INT(ABS($BS31)/6),0)),\"=\" & $AG$77,OFFSET($BX$20:$DW$25,0,INT((IF($BS30>0,$BS30,1)-1)/6),,52-INT((IF($BS30>0,$BS30,1)-1)/6)-IF($BS31<=0,INT(ABS($BS31)/6),0)))-IF(AND($BS30>0,$BS30>INT(($BS30-1)/6)*6+1),SUMIF(OFFSET($BX56:$DW61,0,INT(($BS30-1)/6),$BS30-INT(($BS30-1)/6)*6-1,1),\"=\" & $AG$77,OFFSET($BX$20:$DW$25,0,INT(($BS30-1)/6),$BS30-INT(($BS30-1)/6)*6-1,1)))+IF($BS31>1,SUMIF(OFFSET($BX62:$DW67,0,0,,INT(($BS31-1)/6)+1),\"=\" & $AG$77,OFFSET($BX$20:$DW$25,0,0,,INT(($BS31-1)/6)+1)))-IF($BS31>1,SUMIF(OFFSET($BX62:$DW67,$BS31-INT(($BS31-1)/6)*6-1,INT(($BS31-1)/6),(INT(($BS31-1)/6)+1)*6+1-$BS31,1),\"=\" & $AG$77,OFFSET($BX$20:$DW$25,0,INT(($BS31-1)/6),(INT(($BS31-1)/6)+1)*6+1-$BS31,1)))+$BV61","v":9.9999999999999982},{"$f":"SUM($BD56:$BK61)","v":51.999999999999972},99,5,5,null,null,null,null,null,{"$f":"SUMIF(OFFSET($BX56:$DW61,0,INT((IF($BS30>0,$BS30,1)-1)/6),,INT(($BT30-1)/6)-INT((IF($BS30>0,$BS30,1)-1)/6)),\"=\" & $T$75,OFFSET($BX$20:$DW$25,0,INT((IF($BS30>0,$BS30,1)-1)/6)))-IF(AND($BS30>0,$BS30>INT(($BS30-1)/6)*6+1),SUMIF(OFFSET($BX56:$DW61,0,INT(($BS30-1)/6),$BS30-INT(($BS30-1)/6)*6-1,1),\"=\" & $T$75,OFFSET($BX$20:$DW$25,0,INT(($BS30-1)/6),$BS30-INT(($BS30-1)/6)*6-1,1)))+IF(AND($BT30>0,$BT30>INT(($BT30-1)/6)*6+1),SUMIF(OFFSET($BX56:$DW61,0,INT(($BT30-1)/6),$BT30-INT(($BT30-1)/6)*6-1,1),\"=\" & $T$75,OFFSET($BX$20:$DW$25,0,INT(($BT30-1)/6),$BT30-INT(($BT30-1)/6)*6-1,1)))+$BU57","v":2.9999999999999991},{"$f":"IF($BS30<=0,SUMIF(OFFSET($BX50:$DW55,0,52-INT(ABS($BS30)/6)-1,,INT(ABS($BS30)/6)+1),\"=\" & $AR$77,OFFSET($BX$20:$DW$25,0,52-INT(ABS($BS30)/6)-1,,INT(ABS($BS30)/6)+1)))-IF(AND($BS30<=0,ABS($BS30)<INT(ABS($BS30)/6+1)*6-1),SUMIF(OFFSET($BX50:$DW55,0,52-INT(ABS($BS30)/6)-1,INT(ABS($BS30)/6+1)*6-1-ABS($BS30),1),\"=\" & $AR$77,OFFSET($BX$20:$DW$25,0,52-INT(ABS($BS30)/6)-1,INT(ABS($BS30)/6+1)*6-1-ABS($BS30),1)))-IF($BS31<=0,SUMIF(OFFSET($BX56:$DW561,(INT(ABS($BS31)/6)+1)*6-ABS($BS31)-1,52-INT(ABS($BS31)/6)-1,ABS($BS31)-INT(ABS($BS31)/6)*6+1,1),\"=\" & $AR$77,OFFSET($BX$20:$DW$25,(INT(ABS($BS31)/6)+1)*6-ABS($BS31)-1,52-INT(ABS($BS31)/6)-1,ABS($BS31)-INT(ABS($BS31)/6)*6+1,1)),0)","v":0},{"$f":"IF($BS30<=0,SUMIF(OFFSET($BX50:$DW55,0,52-INT(ABS($BS30)/6)-1,,INT(ABS($BS30)/6)+1),\"=0\",OFFSET($BX$20:$DW$25,0,52-INT(ABS($BS30)/6)-1,,INT(ABS($BS30)/6)+1)))-IF(AND($BS30<=0,ABS($BS30)<INT(ABS($BS30)/6+1)*6-1),SUMIF(OFFSET($BX50:$DW55,0,52-INT(ABS($BS30)/6)-1,INT(ABS($BS30)/6+1)*6-1-ABS($BS30),1),\"=0\",OFFSET($BX$20:$DW$25,0,52-INT(ABS($BS30)/6)-1,INT(ABS($BS30)/6+1)*6-1-ABS($BS30),1)))","v":0},{"$f":"IF(B56=\"\",0,B56)","v":0},0,0,0,0,0,0,0,0,0,0,0,0,0,0,"Э","Э","Э","К","К","П","П","П","П","П","П","П","П","Г","Г","Д","Д",{"$f":"IF(AH56=\"\",0,AH56)","v":"Д"},"Д","Д","Д","Д","Д","Д","Д","Д","Д","Д","Д","К","К","К","К","К","К","К","К",{"$f":"IF($BS31<=0,SUMIF(OFFSET($BX56:$DW61,(INT(ABS($BS31)/6)+1)*6-ABS($BS31)-1,52-INT(ABS($BS31)/6)-1,ABS($BS31)-INT(ABS($BS31)/6)*6+1,1),\"=0\",OFFSET($BX$20:$DW$25,(INT(ABS($BS31)/6)+1)*6-ABS($BS31)-1,52-INT(ABS($BS31)/6)-1,ABS($BS31)-INT(ABS($BS31)/6)*6+1,1)),0)","v":0},{"$f":"IF($BS31<=0,SUMIF(OFFSET($BX56:$DW61,(INT(ABS($BS31)/6)+1)*6-ABS($BS31)-1,52-INT(ABS($BS31)/6)-1,ABS($BS31)-INT(ABS($BS31)/6)*6+1,1),\"=\" & $T$75,OFFSET($BX$20:$DW$25,(INT(ABS($BS31)/6)+1)*6-ABS($BS31)-1,52-INT(ABS($BS31)/6)-1,ABS($BS31)-INT(ABS($BS31)/6)*6+1,1)),0)","v":0}]
[null,null,null,null,null,null,null,null,null,null,null,null,null,null,null,null,null,null,null,null,null,null,null,null,null,null,null,null,null,null,null,null,null,null,null,null,null,null,null,null,null,null,null,null,null,null,null,null,null,null,null,null,null,null,null,null,null,null,null,null,null,null,null,null,null,null,null,null,null,null,null,null,{"$f":"IF($BS30<=0,SUMIF(OFFSET($BX50:$DW55,0,52-INT(ABS($BS30)/6)-1,,INT(ABS($BS30)/6)+1),\"=\" & $T$75,OFFSET($BX$20:$DW$25,0,52-INT(ABS($BS30)/6)-1,,INT(ABS($BS30)/6)+1)))-IF(AND($BS30<=0,ABS($BS30)<INT(ABS($BS30)/6+1)*6-1),SUMIF(OFFSET($BX50:$DW55,0,52-INT(ABS($BS30)/6)-1,INT(ABS($BS30)/6+1)*6-1-ABS($BS30),1),\"=\" & $T$75,OFFSET($BX$20:$DW$25,0,52-INT(ABS($BS30)/6)-1,INT(ABS($BS30)/6+1)*6-1-ABS($BS30),1)))","v":0},{"$f":"IF($BS30<=0,SUMIF(OFFSET($BX50:$DW55,0,52-INT(ABS($BS30)/6)-1,,INT(ABS($BS30)/6)+1),\"=\" & $AG$75,OFFSET($BX$20:$DW$25,0,52-INT(ABS($BS30)/6)-1,,INT(ABS($BS30)/6)+1)))-IF(AND($BS30<=0,ABS($BS30)<INT(ABS($BS30)/6+1)*6-1),SUMIF(OFFSET($BX50:$DW55,0,52-INT(ABS($BS30)/6)-1,INT(ABS($BS30)/6+1)*6-1-ABS($BS30),1),\"=\" & $AG$75,OFFSET($BX$20:$DW$25,0,52-INT(ABS($BS30)/6)-1,INT(ABS($BS30)/6+1)*6-1-ABS($BS30),1)))-IF($BS31<=0,SUMIF(OFFSET($BX56:$DW61,(INT(ABS($BS31)/6)+1)*6-ABS($BS31)-1,52-INT(ABS($BS31)/6)-1,ABS($BS31)-INT(ABS($BS31)/6)*6+1,1),\"=\" & $AG$75,OFFSET($BX$20:$DW$25,(INT(ABS($BS31)/6)+1)*6-ABS($BS31)-1,52-INT(ABS($BS31)/6)-1,ABS($BS31)-INT(ABS($BS31)/6)*6+1,1)),0)","v":0},null,{"$f":"IF(B56=\"\",0,B56)","v":0},{"$f":"IF(C56=\"\",0,C56)","v":0},{"$f":"IF(D56=\"\",0,D56)","v":0},{"$f":"IF(E56=\"\",0,E56)","v":0},{"$f":"IF(F56=\"\",0,F56)","v":0},{"$f":"IF(G56=\"\",0,G56)","v":0},{"$f":"IF(H56=\"\",0,H56)","v":0},{"$f":"IF(I56=\"\",0,I56)","v":0},{"$f":"IF(J56=\"\",0,J56)","v":0},{"$f":"IF(K56=\"\",0,K56)","v":0},{"$f":"IF(L56=\"\",0,L56)","v":0},{"$f":"IF(M56=\"\",0,M56)","v":0},{"$f":"IF(N56=\"\",0,N56)","v":0},{"$f":"IF(O56=\"\",0,O56)","v":0},{"$f":"IF(P56=\"\",0,P56)","v":0},{"$f":"IF(Q56=\"\",0,Q56)","v":"Э"},{"$f":"IF(R56=\"\",0,R56)","v":"Э"},{"$f":"IF(S56=\"\",0,S56)","v":"Э"},{"$f":"IF(T56=\"\",0,T56)","v":"К"},{"$f":"IF(U56=\"\",0,U56)","v":"К"},{"$f":"IF(V56=\"\",0,V56)","v":"П"},{"$f":"IF(W56=\"\",0,W56)","v":"П"},{"$f":"IF(X56=\"\",0,X56)","v":"П"},{"$f":"IF(Y56=\"\",0,Y56)","v":"П"},{"$f":"IF(Z56=\"\",0,Z56)","v":"П"},{"$f":"IF(AA56=\"\",0,AA56)","v":"П"},{"$f":"IF(AB56=\"\",0,AB56)","v":"П"},{"$f":"IF(AC56=\"\",0,AC56)","v":"П"},{"$f":"IF(AD56=\"\",0,AD56)","v":"Г"},{"$f":"IF(AE56=\"\",0,AE56)","v":"Г"},{"$f":"IF(AF56=\"\",0,AF56)","v":"Д"},{"$f":"IF(AG56=\"\",0,AG56)","v":"Д"},{"$f":"IF(AH56=\"\",0,AH56)","v":"Д"},{"$f":"IF(AI56=\"\",0,AI56)","v":"Д"},{"$f":"IF(AJ56=\"\",0,AJ56)","v":"Д"},{"$f":"IF(AK56=\"\",0,AK56)","v":"Д"},{"$f":"IF(AL56=\"\",0,AL56)","v":"Д"},{"$f":"IF(AM56=\"\",0,AM56)","v":"Д"},{"$f":"IF(AN56=\"\",0,AN56)","v":"Д"},{"$f":"IF(AO56=\"\",0,AO56)","v":"Д"},{"$f":"IF(AP56=\"\",0,AP56)","v":"Д"},{"$f":"IF(AQ56=\"\",0,AQ56)","v":"Д"},{"$f":"IF(AR56=\"\",0,AR56)","v":"Д"},{"$f":"IF(AS56=\"\",0,AS56)","v":"Д"},{"$f":"IF(AT56=\"\",0,AT56)","v":"К"},{"$f":"IF(AU56=\"\",0,AU56)","v":"К"},{"$f":"IF(AV56=\"\",0,AV56)","v":"К"},{"$f":"IF(AW56=\"\",0,AW56)","v":"К"},{"$f":"IF(AX56=\"\",0,AX56)","v":"К"},{"$f":"IF(AY56=\"\",0,AY56)","v":"К"},{"$f":"IF(AZ56=\"\",0,AZ56)","v":"К"},{"$f":"IF(BA56=\"\",0,BA56)","v":"К"}]
[null,null,null,null,null,null,null,null,null,null,null,null,null,null,null,null,null,null,null,null,null,null,null,null,null,null,null,null,null,null,null,null,null,null,null,null,null,null,null,null,null,null,null,null,null,null,null,null,null,null,null,null,null,null,null,null,null,null,null,null,null,null,null,null,null,null,null,null,null,null,null,null,null,{"$f":"IF($BS30<=0,SUMIF(OFFSET($BX50:$DW55,0,52-INT(ABS($BS30)/6)-1,,INT(ABS($BS30)/6)+1),\"=\" & $AR$75,OFFSET($BX$20:$DW$25,0,52-INT(ABS($BS30)/6)-1,,INT(ABS($BS30)/6)+1)))-IF(AND($BS30<=0,ABS($BS30)<INT(ABS($BS30)/6+1)*6-1),SUMIF(OFFSET($BX50:$DW55,0,52-INT(ABS($BS30)/6)-1,INT(ABS($BS30)/6+1)*6-1-ABS($BS30),1),\"=\" & $AR$75,OFFSET($BX$20:$DW$25,0,52-INT(ABS($BS30)/6)-1,INT(ABS($BS30)/6+1)*6-1-ABS($BS30),1)))-IF($BS31<=0,SUMIF(OFFSET($BX56:$DW61,(INT(ABS($BS31)/6)+1)*6-ABS($BS31)-1,52-INT(ABS($BS31)/6)-1,ABS($BS31)-INT(ABS($BS31)/6)*6+1,1),\"=\" & $AR$75,OFFSET($BX$20:$DW$25,(INT(ABS($BS31)/6)+1)*6-ABS($BS31)-1,52-INT(ABS($BS31)/6)-1,ABS($BS31)-INT(ABS($BS31)/6)*6+1,1)),0)","v":0},null,{"$f":"IF(B56=\"\",0,B56)","v":0},{"$f":"IF(C56=\"\",0,C56)","v":0},{"$f":"IF(D56=\"\",0,D56)","v":0},{"$f":"IF(E56=\"\",0,E56)","v":0},{"$f":"IF(F56=\"\",0,F56)","v":0},{"$f":"IF(G56=\"\",0,G56)","v":0},{"$f":"IF(H56=\"\",0,H56)","v":0},{"$f":"IF(I56=\"\",0,I56)","v":0},{"$f":"IF(J56=\"\",0,J56)","v":0},{"$f":"IF(K56=\"\",0,K56)","v":0},{"$f":"IF(L56=\"\",0,L56)","v":0},{"$f":"IF(M56=\"\",0,M56)","v":0},{"$f":"IF(N56=\"\",0,N56)","v":0},{"$f":"IF(O56=\"\",0,O56)","v":0},{"$f":"IF(P56=\"\",0,P56)","v":0},{"$f":"IF(Q56=\"\",0,Q56)","v":"Э"},{"$f":"IF(R56=\"\",0,R56)","v":"Э"},{"$f":"IF(S56=\"\",0,S56)","v":"Э"},{"$f":"IF(T56=\"\",0,T56)","v":"К"},{"$f":"IF(U56=\"\",0,U56)","v":"К"},{"$f":"IF(V56=\"\",0,V56)","v":"П"},{"$f":"IF(W56=\"\",0,W56)","v":"П"},{"$f":"IF(X56=\"\",0,X56)","v":"П"},{"$f":"IF(Y56=\"\",0,Y56)","v":"П"},{"$f":"IF(Z56=\"\",0,Z56)","v":"П"},{"$f":"IF(AA56=\"\",0,AA56)","v":"П"},{"$f":"IF(AB56=\"\",0,AB56)","v":"П"},{"$f":"IF(AC56=\"\",0,AC56)","v":"П"},{"$f":"IF(AD56=\"\",0,AD56)","v":"Г"},{"$f":"IF(AE56=\"\",0,AE56)","v":"Г"},{"$f":"IF(AF56=\"\",0,AF56)","v":"Д"},{"$f":"IF(AG56=\"\",0,AG56)","v":"Д"},{"$f":"IF(AH56=\"\",0,AH56)","v":"Д"},{"$f":"IF(AI56=\"\",0,AI56)","v":"Д"},{"$f":"IF(AJ56=\"\",0,AJ56)","v":"Д"},{"$f":"IF(AK56=\"\",0,AK56)","v":"Д"},{"$f":"IF(AL56=\"\",0,AL56)","v":"Д"},{"$f":"IF(AM56=\"\",0,AM56)","v":"Д"},{"$f":"IF(AN56=\"\",0,AN56)","v":"Д"},{"$f":"IF(AO56=\"\",0,AO56)","v":"Д"},{"$f":"IF(AP56=\"\",0,AP56)","v":"Д"},{"$f":"IF(AQ56=\"\",0,AQ56)","v":"Д"},{"$f":"IF(AR56=\"\",0,AR56)","v":"Д"},{"$f":"IF(AS56=\"\",0,AS56)","v":"Д"},{"$f":"IF(AT56=\"\",0,AT56)","v":"К"},{"$f":"IF(AU56=\"\",0,AU56)","v":"К"},{"$f":"IF(AV56=\"\",0,AV56)","v":"К"},{"$f":"IF(AW56=\"\",0,AW56)","v":"К"},{"$f":"IF(AX56=\"\",0,AX56)","v":"К"},{"$f":"IF(AY56=\"\",0,AY56)","v":"К"},{"$f":"IF(AZ56=\"\",0,AZ56)","v":"К"},{"$f":"IF(BA56=\"\",0,BA56)","v":"К"}]
[null,null,null,null,null,null,null,null,null,null,null,null,null,null,null,null,null,null,null,null,null,null,null,null,null,null,null,null,null,null,null,null,null,null,null,null,null,null,null,null,null,null,null,null,null,null,null,null,null,null,null,null,null,null,null,null,null,null,null,null,null,null,null,null,null,null,null,null,null,null,null,null,null,{"$f":"IF($BS30<=0,SUMIF(OFFSET($BX50:$DW55,0,52-INT(ABS($BS30)/6)-1,,INT(ABS($BS30)/6)+1),\"=\" & $G$77,OFFSET($BX$20:$DW$25,0,52-INT(ABS($BS30)/6)-1,,INT(ABS($BS30)/6)+1)))-IF(AND($BS30<=0,ABS($BS30)<INT(ABS($BS30)/6+1)*6-1),SUMIF(OFFSET($BX50:$DW55,0,52-INT(ABS($BS30)/6)-1,INT(ABS($BS30)/6+1)*6-1-ABS($BS30),1),\"=\" & $G$77,OFFSET($BX$20:$DW$25,0,52-INT(ABS($BS30)/6)-1,INT(ABS($BS30)/6+1)*6-1-ABS($BS30),1)))-IF($BS31<=0,SUMIF(OFFSET($BX56:$DW61,(INT(ABS($BS31)/6)+1)*6-ABS($BS31)-1,52-INT(ABS($BS31)/6)-1,ABS($BS31)-INT(ABS($BS31)/6)*6+1,1),\"=\" & $G$77,OFFSET($BX$20:$DW$25,(INT(ABS($BS31)/6)+1)*6-ABS($BS31)-1,52-INT(ABS($BS31)/6)-1,ABS($BS31)-INT(ABS($BS31)/6)*6+1,1)),0)","v":0},null,{"$f":"IF(B56=\"\",0,B56)","v":0},{"$f":"IF(C56=\"\",0,C56)","v":0},{"$f":"IF(D56=\"\",0,D56)","v":0},{"$f":"IF(E56=\"\",0,E56)","v":0},{"$f":"IF(F56=\"\",0,F56)","v":0},{"$f":"IF(G56=\"\",0,G56)","v":0},{"$f":"IF(H56=\"\",0,H56)","v":0},{"$f":"IF(I56=\"\",0,I56)","v":0},{"$f":"IF(J56=\"\",0,J56)","v":0},{"$f":"IF(K56=\"\",0,K56)","v":0},{"$f":"IF(L56=\"\",0,L56)","v":0},{"$f":"IF(M56=\"\",0,M56)","v":0},{"$f":"IF(N56=\"\",0,N56)","v":0},{"$f":"IF(O56=\"\",0,O56)","v":0},{"$f":"IF(P56=\"\",0,P56)","v":0},{"$f":"IF(Q56=\"\",0,Q56)","v":"Э"},{"$f":"IF(R56=\"\",0,R56)","v":"Э"},{"$f":"IF(S56=\"\",0,S56)","v":"Э"},{"$f":"IF(T56=\"\",0,T56)","v":"К"},{"$f":"IF(U56=\"\",0,U56)","v":"К"},{"$f":"IF(V56=\"\",0,V56)","v":"П"},{"$f":"IF(W56=\"\",0,W56)","v":"П"},{"$f":"IF(X56=\"\",0,X56)","v":"П"},{"$f":"IF(Y56=\"\",0,Y56)","v":"П"},{"$f":"IF(Z56=\"\",0,Z56)","v":"П"},{"$f":"IF(AA56=\"\",0,AA56)","v":"П"},{"$f":"IF(AB56=\"\",0,AB56)","v":"П"},{"$f":"IF(AC56=\"\",0,AC56)","v":"П"},{"$f":"IF(AD56=\"\",0,AD56)","v":"Г"},{"$f":"IF(AE56=\"\",0,AE56)","v":"Г"},{"$f":"IF(AF56=\"\",0,AF56)","v":"Д"},{"$f":"IF(AG56=\"\",0,AG56)","v":"Д"},{"$f":"IF(AH56=\"\",0,AH56)","v":"Д"},{"$f":"IF(AI56=\"\",0,AI56)","v":"Д"},{"$f":"IF(AJ56=\"\",0,AJ56)","v":"Д"},{"$f":"IF(AK56=\"\",0,AK56)","v":"Д"},{"$f":"IF(AL56=\"\",0,AL56)","v":"Д"},{"$f":"IF(AM56=\"\",0,AM56)","v":"Д"},{"$f":"IF(AN56=\"\",0,AN56)","v":"Д"},{"$f":"IF(AO56=\"\",0,AO56)","v":"Д"},{"$f":"IF(AP56=\"\",0,AP56)","v":"Д"},{"$f":"IF(AQ56=\"\",0,AQ56)","v":"Д"},{"$f":"IF(AR56=\"\",0,AR56)","v":"Д"},{"$f":"IF(AS56=\"\",0,AS56)","v":"Д"},{"$f":"IF(AT56=\"\",0,AT56)","v":"К"},{"$f":"IF(AU56=\"\",0,AU56)","v":"К"},{"$f":"IF(AV56=\"\",0,AV56)","v":"К"},{"$f":"IF(AW56=\"\",0,AW56)","v":"К"},{"$f":"IF(AX56=\"\",0,AX56)","v":"К"},{"$f":"IF(AY56=\"\",0,AY56)","v":"К"},{"$f":"IF(AZ56=\"\",0,AZ56)","v":"К"},{"$f":"IF(BA56=\"\",0,BA56)","v":"К"}]
[null,null,null,null,null,null,null,null,null,null,null,null,null,null,null,null,null,null,null,null,null,null,null,null,null,null,null,null,null,null,null,null,null,null,null,null,null,null,null,null,null,null,null,null,null,null,null,null,null,null,null,null,null,null,null,null,null,null,null,null,null,null,null,null,null,null,null,null,null,null,null,null,null,{"$f":"IF($BS30<=0,SUMIF(OFFSET($BX50:$DW55,0,52-INT(ABS($BS30)/6)-1,,INT(ABS($BS30)/6)+1),\"=\" & $T$77,OFFSET($BX$20:$DW$25,0,52-INT(ABS($BS30)/6)-1,,INT(ABS($BS30)/6)+1)))-IF(AND($BS30<=0,ABS($BS30)<INT(ABS($BS30)/6+1)*6-1),SUMIF(OFFSET($BX50:$DW55,0,52-INT(ABS($BS30)/6)-1,INT(ABS($BS30)/6+1)*6-1-ABS($BS30),1),\"=\" & $T$77,OFFSET($BX$20:$DW$25,0,52-INT(ABS($BS30)/6)-1,INT(ABS($BS30)/6+1)*6-1-ABS($BS30),1)))-IF($BS31<=0,SUMIF(OFFSET($BX56:$DW61,(INT(ABS($BS31)/6)+1)*6-ABS($BS31)-1,52-INT(ABS($BS31)/6)-1,ABS($BS31)-INT(ABS($BS31)/6)*6+1,1),\"=\" & $T$77,OFFSET($BX$20:$DW$25,(INT(ABS($BS31)/6)+1)*6-ABS($BS31)-1,52-INT(ABS($BS31)/6)-1,ABS($BS31)-INT(ABS($BS31)/6)*6+1,1)),0)","v":0},null,{"$f":"IF(B56=\"\",0,B56)","v":0},{"$f":"IF(C56=\"\",0,C56)","v":0},{"$f":"IF(D56=\"\",0,D56)","v":0},{"$f":"IF(E56=\"\",0,E56)","v":0},{"$f":"IF(F56=\"\",0,F56)","v":0},{"$f":"IF(G56=\"\",0,G56)","v":0},{"$f":"IF(H56=\"\",0,H56)","v":0},{"$f":"IF(I56=\"\",0,I56)","v":0},{"$f":"IF(J56=\"\",0,J56)","v":0},{"$f":"IF(K56=\"\",0,K56)","v":0},{"$f":"IF(L56=\"\",0,L56)","v":0},{"$f":"IF(M56=\"\",0,M56)","v":0},{"$f":"IF(N56=\"\",0,N56)","v":0},{"$f":"IF(O56=\"\",0,O56)","v":0},{"$f":"IF(P56=\"\",0,P56)","v":0},{"$f":"IF(Q56=\"\",0,Q56)","v":"Э"},{"$f":"IF(R56=\"\",0,R56)","v":"Э"},{"$f":"IF(S56=\"\",0,S56)","v":"Э"},{"$f":"IF(T56=\"\",0,T56)","v":"К"},{"$f":"IF(U56=\"\",0,U56)","v":"К"},{"$f":"IF(V56=\"\",0,V56)","v":"П"},{"$f":"IF(W56=\"\",0,W56)","v":"П"},{"$f":"IF(X56=\"\",0,X56)","v":"П"},{"$f":"IF(Y56=\"\",0,Y56)","v":"П"},{"$f":"IF(Z56=\"\",0,Z56)","v":"П"},{"$f":"IF(AA56=\"\",0,AA56)","v":"П"},{"$f":"IF(AB56=\"\",0,AB56)","v":"П"},{"$f":"IF(AC56=\"\",0,AC56)","v":"П"},{"$f":"IF(AD56=\"\",0,AD56)","v":"Г"},{"$f":"IF(AE56=\"\",0,AE56)","v":"Г"},{"$f":"IF(AF56=\"\",0,AF56)","v":"Д"},{"$f":"IF(AG56=\"\",0,AG56)","v":"Д"},{"$f":"IF(AH56=\"\",0,AH56)","v":"Д"},{"$f":"IF(AI56=\"\",0,AI56)","v":"Д"},{"$f":"IF(AJ56=\"\",0,AJ56)","v":"Д"},{"$f":"IF(AK56=\"\",0,AK56)","v":"Д"},{"$f":"IF(AL56=\"\",0,AL56)","v":"Д"},{"$f":"IF(AM56=\"\",0,AM56)","v":"Д"},{"$f":"IF(AN56=\"\",0,AN56)","v":"Д"},{"$f":"IF(AO56=\"\",0,AO56)","v":"Д"},{"$f":"IF(AP56=\"\",0,AP56)","v":"Д"},{"$f":"IF(AQ56=\"\",0,AQ56)","v":"Д"},{"$f":"IF(AR56=\"\",0,AR56)","v":"Д"},{"$f":"IF(AS56=\"\",0,AS56)","v":"Д"},{"$f":"IF(AT56=\"\",0,AT56)","v":"К"},{"$f":"IF(AU56=\"\",0,AU56)","v":"К"},{"$f":"IF(AV56=\"\",0,AV56)","v":"К"},{"$f":"IF(AW56=\"\",0,AW56)","v":"К"},{"$f":"IF(AX56=\"\",0,AX56)","v":"К"},{"$f":"IF(AY56=\"\",0,AY56)","v":"К"},{"$f":"IF(AZ56=\"\",0,AZ56)","v":"К"},{"$f":"IF(BA56=\"\",0,BA56)","v":"К"}]
[null,null,null,null,null,null,null,null,null,null,null,null,null,null,null,null,null,null,null,null,null,null,null,null,null,null,null,null,null,null,null,null,null,null,null,null,null,null,null,null,null,null,null,null,null,null,null,null,null,null,null,null,null,null,null,null,null,null,null,null,null,null,null,null,null,null,null,null,null,null,null,null,{"$f":"SUMIF(OFFSET($BX56:$DW61,0,INT(($BT30-1)/6),,52-INT(($BT30-1)/6)-IF($BS31<=0,INT(ABS($BS31)/6),0)),\"=\" & $T$75,OFFSET($BX$20:$DW$25,0,INT(($BT30-1)/6),,52-INT(($BT30-1)/6)-IF($BS31<=0,INT(ABS($BS31)/6),0)))-IF($BT30>INT(($BT30-1)/6)*6+1,SUMIF(OFFSET($BX56:$DW61,0,INT(($BT30-1)/6),$BT30-INT(($BT30-1)/6)*6-1,1),\"=\" & $T$75,OFFSET($BX$20:$DW$25,0,INT(($BT30-1)/6),$BT30-INT(($BT30-1)/6)*6-1,1)))+IF($BS31>1,SUMIF(OFFSET($BX62:$DW67,0,0,,INT(($BS31-1)/6)+1),\"=\" & $T$75,OFFSET($BX$20:$DW$25,0,0,,INT(($BS31-1)/6)+1)))-IF($BS31>1,SUMIF(OFFSET($BX62:$DW67,$BS31-INT(($BS31-1)/6)*6-1,INT(($BS31-1)/6),(INT(($BS31-1)/6)+1)*6+1-$BS31,1),\"=\" & $T$75,OFFSET($BX$20:$DW$25,0,INT(($BS31-1)/6),(INT(($BS31-1)/6)+1)*6+1-$BS31,1)))-$DY56","v":0},{"$f":"IF($BS30<=0,SUMIF(OFFSET($BX50:$DW55,0,52-INT(ABS($BS30)/6)-1,,INT(ABS($BS30)/6)+1),\"=\" & $AG$77,OFFSET($BX$20:$DW$25,0,52-INT(ABS($BS30)/6)-1,,INT(ABS($BS30)/6)+1)))-IF(AND($BS30<=0,ABS($BS30)<INT(ABS($BS30)/6+1)*6-1),SUMIF(OFFSET($BX50:$DW55,0,52-INT(ABS($BS30)/6)-1,INT(ABS($BS30)/6+1)*6-1-ABS($BS30),1),\"=\" & $AG$77,OFFSET($BX$20:$DW$25,0,52-INT(ABS($BS30)/6)-1,INT(ABS($BS30)/6+1)*6-1-ABS($BS30),1)))-IF($BS31<=0,SUMIF(OFFSET($BX56:$DW61,(INT(ABS($BS31)/6)+1)*6-ABS($BS31)-1,52-INT(ABS($BS31)/6)-1,ABS($BS31)-INT(ABS($BS31)/6)*6+1,1),\"=\" & $AG$77,OFFSET($BX$20:$DW$25,(INT(ABS($BS31)/6)+1)*6-ABS($BS31)-1,52-INT(ABS($BS31)/6)-1,ABS($BS31)-INT(ABS($BS31)/6)*6+1,1)),0)","v":0},null,{"$f":"IF(B56=\"\",0,B56)","v":0},{"$f":"IF(C56=\"\",0,C56)","v":0},{"$f":"IF(D56=\"\",0,D56)","v":0},{"$f":"IF(E56=\"\",0,E56)","v":0},{"$f":"IF(F56=\"\",0,F56)","v":0},{"$f":"IF(G56=\"\",0,G56)","v":0},{"$f":"IF(H56=\"\",0,H56)","v":0},{"$f":"IF(I56=\"\",0,I56)","v":0},{"$f":"IF(J56=\"\",0,J56)","v":0},{"$f":"IF(K56=\"\",0,K56)","v":0},{"$f":"IF(L56=\"\",0,L56)","v":0},{"$f":"IF(M56=\"\",0,M56)","v":0},{"$f":"IF(N56=\"\",0,N56)","v":0},{"$f":"IF(O56=\"\",0,O56)","v":0},{"$f":"IF(P56=\"\",0,P56)","v":0},{"$f":"IF(Q56=\"\",0,Q56)","v":"Э"},{"$f":"IF(R56=\"\",0,R56)","v":"Э"},{"$f":"IF(S56=\"\",0,S56)","v":"Э"},{"$f":"IF(T56=\"\",0,T56)","v":"К"},{"$f":"IF(U56=\"\",0,U56)","v":"К"},{"$f":"IF(V56=\"\",0,V56)","v":"П"},{"$f":"IF(W56=\"\",0,W56)","v":"П"},{"$f":"IF(X56=\"\",0,X56)","v":"П"},{"$f":"IF(Y56=\"\",0,Y56)","v":"П"},{"$f":"IF(Z56=\"\",0,Z56)","v":"П"},{"$f":"IF(AA56=\"\",0,AA56)","v":"П"},{"$f":"IF(AB56=\"\",0,AB56)","v":"П"},{"$f":"IF(AC56=\"\",0,AC56)","v":"П"},{"$f":"IF(AD56=\"\",0,AD56)","v":"Г"},{"$f":"IF(AE56=\"\",0,AE56)","v":"Г"},{"$f":"IF(AF56=\"\",0,AF56)","v":"Д"},{"$f":"IF(AG56=\"\",0,AG56)","v":"Д"},{"$f":"IF(AH56=\"\",0,AH56)","v":"Д"},{"$f":"IF(AI56=\"\",0,AI56)","v":"Д"},{"$f":"IF(AJ56=\"\",0,AJ56)","v":"Д"},{"$f":"IF(AK56=\"\",0,AK56)","v":"Д"},{"$f":"IF(AL56=\"\",0,AL56)","v":"Д"},{"$f":"IF(AM56=\"\",0,AM56)","v":"Д"},{"$f":"IF(AN56=\"\",0,AN56)","v":"Д"},{"$f":"IF(AO56=\"\",0,AO56)","v":"Д"},{"$f":"IF(AP56=\"\",0,AP56)","v":"Д"},{"$f":"IF(AQ56=\"\",0,AQ56)","v":"Д"},{"$f":"IF(AR56=\"\",0,AR56)","v":"Д"},{"$f":"IF(AS56=\"\",0,AS56)","v":"Д"},{"$f":"IF(AT56=\"\",0,AT56)","v":"К"},{"$f":"IF(AU56=\"\",0,AU56)","v":"К"},{"$f":"IF(AV56=\"\",0,AV56)","v":"К"},{"$f":"IF(AW56=\"\",0,AW56)","v":"К"},{"$f":"IF(AX56=\"\",0,AX56)","v":"К"},{"$f":"IF(AY56=\"\",0,AY56)","v":"К"},{"$f":"IF(AZ56=\"\",0,AZ56)","v":"К"},{"$f":"IF(BA56=\"\",0,BA56)","v":"К"}]
[6,"=","=","=","=","=","=","=","=","=","=","=","=","=","=","=","=","=","=","=","=","=","=","=","=","=","=","=","=","=","=","=","=","=","=","=","=","=","=","=","=","=","=","=","=","=","=","=","=","=","=","=","=",{"$f":"SUMIF(OFFSET($BX62:$DW67,0,INT((IF($BS31>0,$BS31,1)-1)/6),,INT(($BT31-1)/6)-INT((IF($BS31>0,$BS31,1)-1)/6)),\"=0\",OFFSET($BX$20:$DW$25,0,INT((IF($BS31>0,$BS31,1)-1)/6)))-IF(AND($BS31>0,$BS31>INT(($BS31-1)/6)*6+1),SUMIF(OFFSET($BX62:$DW67,0,INT(($BS31-1)/6),$BS31-INT(($BS31-1)/6)*6-1,1),\"=0\",OFFSET($BX$20:$DW$25,0,INT(($BS31-1)/6),$BS31-INT(($BS31-1)/6)*6-1,1)))+IF(AND($BT31>0,$BT31>INT(($BT31-1)/6)*6+1),SUMIF(OFFSET($BX62:$DW67,0,INT(($BT31-1)/6),$BT31-INT(($BT31-1)/6)*6-1,1),\"=0\",OFFSET($BX$20:$DW$25,0,INT(($BT31-1)/6),$BT31-INT(($BT31-1)/6)*6-1,1)))+$BW62","v":0},{"$f":"SUMIF(OFFSET($BX62:$DW67,0,INT(($BT31-1)/6),,52-INT(($BT31-1)/6)-IF($BS32<=0,INT(ABS($BS32)/6)+1,0)),\"=0\",OFFSET($BX$20:$DW$25,0,INT(($BT31-1)/6),,52-INT(($BT31-1)/6)-IF($BS32<=0,INT(ABS($BS32)/6)+1,0)))-IF($BT31>INT(($BT31-1)/6)*6+1,SUMIF(OFFSET($BX62:$DW67,0,INT(($BT31-1)/6),$BT31-INT(($BT31-1)/6)*6-1,1),\"=0\",OFFSET($BX$20:$DW$25,0,INT(($BT31-1)/6),$BT31-INT(($BT31-1)/6)*6-1,1)))+IF($BS32>1,SUMIF(OFFSET($BX68:$DW73,0,0,,INT(($BS32-1)/6)+1),\"=0\",OFFSET($BX$20:$DW$25,0,0,,INT(($BS32-1)/6)+1)))-IF($BS32>1,SUMIF(OFFSET($BX68:$DW73,$BS32-INT(($BS32-1)/6)*6-1,INT(($BS32-1)/6),(INT(($BS32-1)/6)+1)*6+1-$BS32,1),\"=0\",OFFSET($BX$20:$DW$25,0,INT(($BS32-1)/6),(INT(($BS32-1)/6)+1)*6+1-$BS32,1)))-$DX62","v":0},{"$f":"Недель11+Недель12","v":0},{"$f":"Экз6Осень+Экз6Весна","v":0},{"$f":"SUMIF(OFFSET($BX62:$DW67,0,INT((IF($BS31>0,$BS31,1)-1)/6),,52-INT((IF($BS31>0,$BS31,1)-1)/6)-IF($BS32<=0,INT(ABS($BS32)/6),0)),\"=\" & $AR$77,OFFSET($BX$20:$DW$25,0,INT((IF($BS31>0,$BS31,1)-1)/6),,52-INT((IF($BS31>0,$BS31,1)-1)/6)-IF($BS32<=0,INT(ABS($BS32)/6),0)))-IF(AND($BS31>0,$BS31>INT(($BS31-1)/6)*6+1),SUMIF(OFFSET($BX62:$DW67,0,INT(($BS31-1)/6),$BS31-INT(($BS31-1)/6)*6-1,1),\"=\" & $AR$77,OFFSET($BX$20:$DW$25,0,INT(($BS31-1)/6),$BS31-INT(($BS31-1)/6)*6-1,1)))+IF($BS32>1,SUMIF(OFFSET($BX68:$DW73,0,0,,INT(($BS32-1)/6)+1),\"=\" & $AR$77,OFFSET($BX$20:$DW$25,0,0,,INT(($BS32-1)/6)+1)))-IF($BS32>1,SUMIF(OFFSET($BX68:$DW73,$BS32-INT(($BS32-1)/6)*6-1,INT(($BS32-1)/6),(INT(($BS32-1)/6)+1)*6+1-$BS32,1),\"=\" & $AR$77,OFFSET($BX$20:$DW$25,0,INT(($BS32-1)/6),(INT(($BS32-1)/6)+1)*6+1-$BS32,1)))+$BV62","v":0},{"$f":"SUMIF(OFFSET($BX62:$DW67,0,INT((IF($BS31>0,$BS31,1)-1)/6),,52-INT((IF($BS31>0,$BS31,1)-1)/6)-IF($BS32<=0,INT(ABS($BS32)/6),0)),\"=\" & $AG$75,OFFSET($BX$20:$DW$25,0,INT((IF($BS31>0,$BS31,1)-1)/6),,52-INT((IF($BS31>0,$BS31,1)-1)/6)-IF($BS32<=0,INT(ABS($BS32)/6),0)))-IF(AND($BS31>0,$BS31>INT(($BS31-1)/6)*6+1),SUMIF(OFFSET($BX62:$DW67,0,INT(($BS31-1)/6),$BS31-INT(($BS31-1)/6)*6-1,1),\"=\" & $AG$75,OFFSET($BX$20:$DW$25,0,INT(($BS31-1)/6),$BS31-INT(($BS31-1)/6)*6-1,1)))+IF($BS32>1,SUMIF(OFFSET($BX68:$DW73,0,0,,INT(($BS32-1)/6)+1),\"=\" & $AG$75,OFFSET($BX$20:$DW$25,0,0,,INT(($BS32-1)/6)+1)))-IF($BS32>1,SUMIF(OFFSET($BX68:$DW73,$BS32-INT(($BS32-1)/6)*6-1,INT(($BS32-1)/6),(INT(($BS32-1)/6)+1)*6+1-$BS32,1),\"=\" & $AG$75,OFFSET($BX$20:$DW$25,0,INT(($BS32-1)/6),(INT(($BS32-1)/6)+1)*6+1-$BS32,1)))+$BV63","v":0},{"$f":"SUMIF(OFFSET($BX62:$DW67,0,INT((IF($BS31>0,$BS31,1)-1)/6),,52-INT((IF($BS31>0,$BS31,1)-1)/6)-IF($BS32<=0,INT(ABS($BS32)/6),0)),\"=\" & $AR$75,OFFSET($BX$20:$DW$25,0,INT((IF($BS31>0,$BS31,1)-1)/6),,52-INT((IF($BS31>0,$BS31,1)-1)/6)-IF($BS32<=0,INT(ABS($BS32)/6),0)))-IF(AND($BS31>0,$BS31>INT(($BS31-1)/6)*6+1),SUMIF(OFFSET($BX62:$DW67,0,INT(($BS31-1)/6),$BS31-INT(($BS31-1)/6)*6-1,1),\"=\" & $AR$75,OFFSET($BX$20:$DW$25,0,INT(($BS31-1)/6),$BS31-INT(($BS31-1)/6)*6-1,1)))+IF($BS32>1,SUMIF(OFFSET($BX68:$DW73,0,0,,INT(($BS32-1)/6)+1),\"=\" & $AR$75,OFFSET($BX$20:$DW$25,0,0,,INT(($BS32-1)/6)+1)))-IF($BS32>1,SUMIF(OFFSET($BX68:$DW73,$BS32-INT(($BS32-1)/6)*6-1,INT(($BS32-1)/6),(INT(($BS32-1)/6)+1)*6+1-$BS32,1),\"=\" & $AR$75,OFFSET($BX$20:$DW$25,0,INT(($BS32-1)/6),(INT(($BS32-1)/6)+1)*6+1-$BS32,1)))+$BV64","v":0},{"$f":"SUMIF(OFFSET($BX62:$DW67,0,INT((IF($BS31>0,$BS31,1)-1)/6),,52-INT((IF($BS31>0,$BS31,1)-1)/6)-IF($BS32<=0,INT(ABS($BS32)/6),0)),\"=\" & $G$77,OFFSET($BX$20:$DW$25,0,INT((IF($BS31>0,$BS31,1)-1)/6),,52-INT((IF($BS31>0,$BS31,1)-1)/6)-IF($BS32<=0,INT(ABS($BS32)/6),0)))-IF(AND($BS31>0,$BS31>INT(($BS31-1)/6)*6+1),SUMIF(OFFSET($BX62:$DW67,0,INT(($BS31-1)/6),$BS31-INT(($BS31-1)/6)*6-1,1),\"=\" & $G$77,OFFSET($BX$20:$DW$25,0,INT(($BS31-1)/6),$BS31-INT(($BS31-1)/6)*6-1,1)))+IF($BS32>1,SUMIF(OFFSET($BX68:$DW73,0,0,,INT(($BS32-1)/6)+1),\"=\" & $G$77,OFFSET($BX$20:$DW$25,0,0,,INT(($BS32-1)/6)+1)))-IF($BS32>1,SUMIF(OFFSET($BX68:$DW73,$BS32-INT(($BS32-1)/6)*6-1,INT(($BS32-1)/6),(INT(($BS32-1)/6)+1)*6+1-$BS32,1),\"=\" & $G$77,OFFSET($BX$20:$DW$25,0,INT(($BS32-1)/6),(INT(($BS32-1)/6)+1)*6+1-$BS32,1)))+$BV65","v":0},{"$f":"SUMIF(OFFSET($BX62:$DW67,0,INT((IF($BS31>0,$BS31,1)-1)/6),,52-INT((IF($BS31>0,$BS31,1)-1)/6)-IF($BS32<=0,INT(ABS($BS32)/6),0)),\"=\" & $T$77,OFFSET($BX$20:$DW$25,0,INT((IF($BS31>0,$BS31,1)-1)/6),,52-INT((IF($BS31>0,$BS31,1)-1)/6)-IF($BS32<=0,INT(ABS($BS32)/6),0)))-IF(AND($BS31>0,$BS31>INT(($BS31-1)/6)*6+1),SUMIF(OFFSET($BX62:$DW67,0,INT(($BS31-1)/6),$BS31-INT(($BS31-1)/6)*6-1,1),\"=\" & $T$77,OFFSET($BX$20:$DW$25,0,INT(($BS31-1)/6),$BS31-INT(($BS31-1)/6)*6-1,1)))+IF($BS32>1,SUMIF(OFFSET($BX68:$DW73,0,0,,INT(($BS32-1)/6)+1),\"=\" & $T$77,OFFSET($BX$20:$DW$25,0,0,,INT(($BS32-1)/6)+1)))-IF($BS32>1,SUMIF(OFFSET($BX68:$DW73,$BS32-INT(($BS32-1)/6)*6-1,INT(($BS32-1)/6),(INT(($BS32-1)/6)+1)*6+1-$BS32,1),\"=\" & $T$77,OFFSET($BX$20:$DW$25,0,INT(($BS32-1)/6),(INT(($BS32-1)/6)+1)*6+1-$BS32,1)))+$BV66","v":0},{"$f":"SUMIF(OFFSET($BX62:$DW67,0,INT((IF($BS31>0,$BS31,1)-1)/6),,52-INT((IF($BS31>0,$BS31,1)-1)/6)-IF($BS32<=0,INT(ABS($BS32)/6),0)),\"=\" & $AG$77,OFFSET($BX$20:$DW$25,0,INT((IF($BS31>0,$BS31,1)-1)/6),,52-INT((IF($BS31>0,$BS31,1)-1)/6)-IF($BS32<=0,INT(ABS($BS32)/6),0)))-IF(AND($BS31>0,$BS31>INT(($BS31-1)/6)*6+1),SUMIF(OFFSET($BX62:$DW67,0,INT(($BS31-1)/6),$BS31-INT(($BS31-1)/6)*6-1,1),\"=\" & $AG$77,OFFSET($BX$20:$DW$25,0,INT(($BS31-1)/6),$BS31-INT(($BS31-1)/6)*6-1,1)))+IF($BS32>1,SUMIF(OFFSET($BX68:$DW73,0,0,,INT(($BS32-1)/6)+1),\"=\" & $AG$77,OFFSET($BX$20:$DW$25,0,0,,INT(($BS32-1)/6)+1)))-IF($BS32>1,SUMIF(OFFSET($BX68:$DW73,$BS32-INT(($BS32-1)/6)*6-1,INT(($BS32-1)/6),(INT(($BS32-1)/6)+1)*6+1-$BS32,1),\"=\" & $AG$77,OFFSET($BX$20:$DW$25,0,INT(($BS32-1)/6),(INT(($BS32-1)/6)+1)*6+1-$BS32,1)))+$BV67","v":0},{"$f":"SUM($BD62:$BK67)","v":0},0,0,6,null,null,null,null,null,{"$f":"SUMIF(OFFSET($BX62:$DW67,0,INT((IF($BS31>0,$BS31,1)-1)/6),,INT(($BT31-1)/6)-INT((IF($BS31>0,$BS31,1)-1)/6)),\"=\" & $T$75,OFFSET($BX$20:$DW$25,0,INT((IF($BS31>0,$BS31,1)-1)/6)))-IF(AND($BS31>0,$BS31>INT(($BS31-1)/6)*6+1),SUMIF(OFFSET($BX62:$DW67,0,INT(($BS31-1)/6),$BS31-INT(($BS31-1)/6)*6-1,1),\"=\" & $T$75,OFFSET($BX$20:$DW$25,0,INT(($BS31-1)/6),$BS31-INT(($BS31-1)/6)*6-1,1)))+IF(AND($BT31>0,$BT31>INT(($BT31-1)/6)*6+1),SUMIF(OFFSET($BX62:$DW67,0,INT(($BT31-1)/6),$BT31-INT(($BT31-1)/6)*6-1,1),\"=\" & $T$75,OFFSET($BX$20:$DW$25,0,INT(($BT31-1)/6),$BT31-INT(($BT31-1)/6)*6-1,1)))+$BU63","v":0},{"$f":"IF($BS31<=0,SUMIF(OFFSET($BX56:$DW61,0,52-INT(ABS($BS31)/6)-1,,INT(ABS($BS31)/6)+1),\"=\" & $AR$77,OFFSET($BX$20:$DW$25,0,52-INT(ABS($BS31)/6)-1,,INT(ABS($BS31)/6)+1)))-IF(AND($BS31<=0,ABS($BS31)<INT(ABS($BS31)/6+1)*6-1),SUMIF(OFFSET($BX56:$DW61,0,52-INT(ABS($BS31)/6)-1,INT(ABS($BS31)/6+1)*6-1-ABS($BS31),1),\"=\" & $AR$77,OFFSET($BX$20:$DW$25,0,52-INT(ABS($BS31)/6)-1,INT(ABS($BS31)/6+1)*6-1-ABS($BS31),1)))-IF($BS32<=0,SUMIF(OFFSET($BX62:$DW67,(INT(ABS($BS32)/6)+1)*6-ABS($BS32)-1,52-INT(ABS($BS32)/6)-1,ABS($BS32)-INT(ABS($BS32)/6)*6+1,1),\"=\" & $AR$77,OFFSET($BX$20:$DW$25,(INT(ABS($BS32)/6)+1)*6-ABS($BS32)-1,52-INT(ABS($BS32)/6)-1,ABS($BS32)-INT(ABS($BS32)/6)*6+1,1)),0)","v":0},{"$f":"IF($BS31<=0,SUMIF(OFFSET($BX56:$DW61,0,52-INT(ABS($BS31)/6)-1,,INT(ABS($BS31)/6)+1),\"=0\",OFFSET($BX$20:$DW$25,0,52-INT(ABS($BS31)/6)-1,,INT(ABS($BS31)/6)+1)))-IF(AND($BS31<=0,ABS($BS31)<INT(ABS($BS31)/6+1)*6-1),SUMIF(OFFSET($BX56:$DW61,0,52-INT(ABS($BS31)/6)-1,INT(ABS($BS31)/6+1)*6-1-ABS($BS31),1),\"=0\",OFFSET($BX$20:$DW$25,0,52-INT(ABS($BS31)/6)-1,INT(ABS($BS31)/6+1)*6-1-ABS($BS31),1)))","v":0},{"$f":"IF(B62=\"\",0,B62)","v":"="},"=","=","=","=","=","=","=","=","=","=","=","=","=","=","=","=","=","=","=","=","=","=","=","=","=","=","=","=","=","=","=",{"$f":"IF(AH62=\"\",0,AH62)","v":"="},"=","=","=","=","=","=","=","=","=","=","=","=","=","=","=","=","=","=","=",{"$f":"IF($BS32<=0,SUMIF(OFFSET($BX62:$DW67,(INT(ABS($BS32)/6)+1)*6-ABS($BS32)-1,52-INT(ABS($BS32)/6)-1,ABS($BS32)-INT(ABS($BS32)/6)*6+1,1),\"=0\",OFFSET($BX$20:$DW$25,(INT(ABS($BS32)/6)+1)*6-ABS($BS32)-1,52-INT(ABS($BS32)/6)-1,ABS($BS32)-INT(ABS($BS32)/6)*6+1,1)),0)","v":0},{"$f":"IF($BS32<=0,SUMIF(OFFSET($BX62:$DW67,(INT(ABS($BS32)/6)+1)*6-ABS($BS32)-1,52-INT(ABS($BS32)/6)-1,ABS($BS32)-INT(ABS($BS32)/6)*6+1,1),\"=\" & $T$75,OFFSET($BX$20:$DW$25,(INT(ABS($BS32)/6)+1)*6-ABS($BS32)-1,52-INT(ABS($BS32)/6)-1,ABS($BS32)-INT(ABS($BS32)/6)*6+1,1)),0)","v":0}]
[null,null,null,null,null,null,null,null,null,null,null,null,null,null,null,null,null,null,null,null,null,null,null,null,null,null,null,null,null,null,null,null,null,null,null,null,null,null,null,null,null,null,null,null,null,null,null,null,null,null,null,null,null,null,null,null,null,null,null,null,null,null,null,null,null,null,null,null,null,null,null,null,{"$f":"IF($BS31<=0,SUMIF(OFFSET($BX56:$DW61,0,52-INT(ABS($BS31)/6)-1,,INT(ABS($BS31)/6)+1),\"=\" & $T$75,OFFSET($BX$20:$DW$25,0,52-INT(ABS($BS31)/6)-1,,INT(ABS($BS31)/6)+1)))-IF(AND($BS31<=0,ABS($BS31)<INT(ABS($BS31)/6+1)*6-1),SUMIF(OFFSET($BX56:$DW61,0,52-INT(ABS($BS31)/6)-1,INT(ABS($BS31)/6+1)*6-1-ABS($BS31),1),\"=\" & $T$75,OFFSET($BX$20:$DW$25,0,52-INT(ABS($BS31)/6)-1,INT(ABS($BS31)/6+1)*6-1-ABS($BS31),1)))","v":0},{"$f":"IF($BS31<=0,SUMIF(OFFSET($BX56:$DW61,0,52-INT(ABS($BS31)/6)-1,,INT(ABS($BS31)/6)+1),\"=\" & $AG$75,OFFSET($BX$20:$DW$25,0,52-INT(ABS($BS31)/6)-1,,INT(ABS($BS31)/6)+1)))-IF(AND($BS31<=0,ABS($BS31)<INT(ABS($BS31)/6+1)*6-1),SUMIF(OFFSET($BX56:$DW61,0,52-INT(ABS($BS31)/6)-1,INT(ABS($BS31)/6+1)*6-1-ABS($BS31),1),\"=\" & $AG$75,OFFSET($BX$20:$DW$25,0,52-INT(ABS($BS31)/6)-1,INT(ABS($BS31)/6+1)*6-1-ABS($BS31),1)))-IF($BS32<=0,SUMIF(OFFSET($BX62:$DW67,(INT(ABS($BS32)/6)+1)*6-ABS($BS32)-1,52-INT(ABS($BS32)/6)-1,ABS($BS32)-INT(ABS($BS32)/6)*6+1,1),\"=\" & $AG$75,OFFSET($BX$20:$DW$25,(INT(ABS($BS32)/6)+1)*6-ABS($BS32)-1,52-INT(ABS($BS32)/6)-1,ABS($BS32)-INT(ABS($BS32)/6)*6+1,1)),0)","v":0},null,{"$f":"IF(B62=\"\",0,B62)","v":"="},{"$f":"IF(C62=\"\",0,C62)","v":"="},{"$f":"IF(D62=\"\",0,D62)","v":"="},{"$f":"IF(E62=\"\",0,E62)","v":"="},{"$f":"IF(F62=\"\",0,F62)","v":"="},{"$f":"IF(G62=\"\",0,G62)","v":"="},{"$f":"IF(H62=\"\",0,H62)","v":"="},{"$f":"IF(I62=\"\",0,I62)","v":"="},{"$f":"IF(J62=\"\",0,J62)","v":"="},{"$f":"IF(K62=\"\",0,K62)","v":"="},{"$f":"IF(L62=\"\",0,L62)","v":"="},{"$f":"IF(M62=\"\",0,M62)","v":"="},{"$f":"IF(N62=\"\",0,N62)","v":"="},{"$f":"IF(O62=\"\",0,O62)","v":"="},{"$f":"IF(P62=\"\",0,P62)","v":"="},{"$f":"IF(Q62=\"\",0,Q62)","v":"="},{"$f":"IF(R62=\"\",0,R62)","v":"="},{"$f":"IF(S62=\"\",0,S62)","v":"="},{"$f":"IF(T62=\"\",0,T62)","v":"="},{"$f":"IF(U62=\"\",0,U62)","v":"="},{"$f":"IF(V62=\"\",0,V62)","v":"="},{"$f":"IF(W62=\"\",0,W62)","v":"="},{"$f":"IF(X62=\"\",0,X62)","v":"="},{"$f":"IF(Y62=\"\",0,Y62)","v":"="},{"$f":"IF(Z62=\"\",0,Z62)","v":"="},{"$f":"IF(AA62=\"\",0,AA62)","v":"="},{"$f":"IF(AB62=\"\",0,AB62)","v":"="},{"$f":"IF(AC62=\"\",0,AC62)","v":"="},{"$f":"IF(AD62=\"\",0,AD62)","v":"="},{"$f":"IF(AE62=\"\",0,AE62)","v":"="},{"$f":"IF(AF62=\"\",0,AF62)","v":"="},{"$f":"IF(AG62=\"\",0,AG62)","v":"="},{"$f":"IF(AH62=\"\",0,AH62)","v":"="},{"$f":"IF(AI62=\"\",0,AI62)","v":"="},{"$f":"IF(AJ62=\"\",0,AJ62)","v":"="},{"$f":"IF(AK62=\"\",0,AK62)","v":"="},{"$f":"IF(AL62=\"\",0,AL62)","v":"="},{"$f":"IF(AM62=\"\",0,AM62)","v":"="},{"$f":"IF(AN62=\"\",0,AN62)","v":"="},{"$f":"IF(AO62=\"\",0,AO62)","v":"="},{"$f":"IF(AP62=\"\",0,AP62)","v":"="},{"$f":"IF(AQ62=\"\",0,AQ62)","v":"="},{"$f":"IF(AR62=\"\",0,AR62)","v":"="},{"$f":"IF(AS62=\"\",0,AS62)","v":"="},{"$f":"IF(AT62=\"\",0,AT62)","v":"="},{"$f":"IF(AU62=\"\",0,AU62)","v":"="},{"$f":"IF(AV62=\"\",0,AV62)","v":"="},{"$f":"IF(AW62=\"\",0,AW62)","v":"="},{"$f":"IF(AX62=\"\",0,AX62)","v":"="},{"$f":"IF(AY62=\"\",0,AY62)","v":"="},{"$f":"IF(AZ62=\"\",0,AZ62)","v":"="},{"$f":"IF(BA62=\"\",0,BA62)","v":"="}]
[null,null,null,null,null,null,null,null,null,null,null,null,null,null,null,null,null,null,null,null,null,null,null,null,null,null,null,null,null,null,null,null,null,null,null,null,null,null,null,null,null,null,null,null,null,null,null,null,null,null,null,null,null,null,null,null,null,null,null,null,null,null,null,null,null,null,null,null,null,null,null,null,null,{"$f":"IF($BS31<=0,SUMIF(OFFSET($BX56:$DW61,0,52-INT(ABS($BS31)/6)-1,,INT(ABS($BS31)/6)+1),\"=\" & $AR$75,OFFSET($BX$20:$DW$25,0,52-INT(ABS($BS31)/6)-1,,INT(ABS($BS31)/6)+1)))-IF(AND($BS31<=0,ABS($BS31)<INT(ABS($BS31)/6+1)*6-1),SUMIF(OFFSET($BX56:$DW61,0,52-INT(ABS($BS31)/6)-1,INT(ABS($BS31)/6+1)*6-1-ABS($BS31),1),\"=\" & $AR$75,OFFSET($BX$20:$DW$25,0,52-INT(ABS($BS31)/6)-1,INT(ABS($BS31)/6+1)*6-1-ABS($BS31),1)))-IF($BS32<=0,SUMIF(OFFSET($BX62:$DW67,(INT(ABS($BS32)/6)+1)*6-ABS($BS32)-1,52-INT(ABS($BS32)/6)-1,ABS($BS32)-INT(ABS($BS32)/6)*6+1,1),\"=\" & $AR$75,OFFSET($BX$20:$DW$25,(INT(ABS($BS32)/6)+1)*6-ABS($BS32)-1,52-INT(ABS($BS32)/6)-1,ABS($BS32)-INT(ABS($BS32)/6)*6+1,1)),0)","v":0},null,{"$f":"IF(B62=\"\",0,B62)","v":"="},{"$f":"IF(C62=\"\",0,C62)","v":"="},{"$f":"IF(D62=\"\",0,D62)","v":"="},{"$f":"IF(E62=\"\",0,E62)","v":"="},{"$f":"IF(F62=\"\",0,F62)","v":"="},{"$f":"IF(G62=\"\",0,G62)","v":"="},{"$f":"IF(H62=\"\",0,H62)","v":"="},{"$f":"IF(I62=\"\",0,I62)","v":"="},{"$f":"IF(J62=\"\",0,J62)","v":"="},{"$f":"IF(K62=\"\",0,K62)","v":"="},{"$f":"IF(L62=\"\",0,L62)","v":"="},{"$f":"IF(M62=\"\",0,M62)","v":"="},{"$f":"IF(N62=\"\",0,N62)","v":"="},{"$f":"IF(O62=\"\",0,O62)","v":"="},{"$f":"IF(P62=\"\",0,P62)","v":"="},{"$f":"IF(Q62=\"\",0,Q62)","v":"="},{"$f":"IF(R62=\"\",0,R62)","v":"="},{"$f":"IF(S62=\"\",0,S62)","v":"="},{"$f":"IF(T62=\"\",0,T62)","v":"="},{"$f":"IF(U62=\"\",0,U62)","v":"="},{"$f":"IF(V62=\"\",0,V62)","v":"="},{"$f":"IF(W62=\"\",0,W62)","v":"="},{"$f":"IF(X62=\"\",0,X62)","v":"="},{"$f":"IF(Y62=\"\",0,Y62)","v":"="},{"$f":"IF(Z62=\"\",0,Z62)","v":"="},{"$f":"IF(AA62=\"\",0,AA62)","v":"="},{"$f":"IF(AB62=\"\",0,AB62)","v":"="},{"$f":"IF(AC62=\"\",0,AC62)","v":"="},{"$f":"IF(AD62=\"\",0,AD62)","v":"="},{"$f":"IF(AE62=\"\",0,AE62)","v":"="},{"$f":"IF(AF62=\"\",0,AF62)","v":"="},{"$f":"IF(AG62=\"\",0,AG62)","v":"="},{"$f":"IF(AH62=\"\",0,AH62)","v":"="},{"$f":"IF(AI62=\"\",0,AI62)","v":"="},{"$f":"IF(AJ62=\"\",0,AJ62)","v":"="},{"$f":"IF(AK62=\"\",0,AK62)","v":"="},{"$f":"IF(AL62=\"\",0,AL62)","v":"="},{"$f":"IF(AM62=\"\",0,AM62)","v":"="},{"$f":"IF(AN62=\"\",0,AN62)","v":"="},{"$f":"IF(AO62=\"\",0,AO62)","v":"="},{"$f":"IF(AP62=\"\",0,AP62)","v":"="},{"$f":"IF(AQ62=\"\",0,AQ62)","v":"="},{"$f":"IF(AR62=\"\",0,AR62)","v":"="},{"$f":"IF(AS62=\"\",0,AS62)","v":"="},{"$f":"IF(AT62=\"\",0,AT62)","v":"="},{"$f":"IF(AU62=\"\",0,AU62)","v":"="},{"$f":"IF(AV62=\"\",0,AV62)","v":"="},{"$f":"IF(AW62=\"\",0,AW62)","v":"="},{"$f":"IF(AX62=\"\",0,AX62)","v":"="},{"$f":"IF(AY62=\"\",0,AY62)","v":"="},{"$f":"IF(AZ62=\"\",0,AZ62)","v":"="},{"$f":"IF(BA62=\"\",0,BA62)","v":"="}]
[null,null,null,null,null,null,null,null,null,null,null,null,null,null,null,null,null,null,null,null,null,null,null,null,null,null,null,null,null,null,null,null,null,null,null,null,null,null,null,null,null,null,null,null,null,null,null,null,null,null,null,null,null,null,null,null,null,null,null,null,null,null,null,null,null,null,null,null,null,null,null,null,null,{"$f":"IF($BS31<=0,SUMIF(OFFSET($BX56:$DW61,0,52-INT(ABS($BS31)/6)-1,,INT(ABS($BS31)/6)+1),\"=\" & $G$77,OFFSET($BX$20:$DW$25,0,52-INT(ABS($BS31)/6)-1,,INT(ABS($BS31)/6)+1)))-IF(AND($BS31<=0,ABS($BS31)<INT(ABS($BS31)/6+1)*6-1),SUMIF(OFFSET($BX56:$DW61,0,52-INT(ABS($BS31)/6)-1,INT(ABS($BS31)/6+1)*6-1-ABS($BS31),1),\"=\" & $G$77,OFFSET($BX$20:$DW$25,0,52-INT(ABS($BS31)/6)-1,INT(ABS($BS31)/6+1)*6-1-ABS($BS31),1)))-IF($BS32<=0,SUMIF(OFFSET($BX62:$DW67,(INT(ABS($BS32)/6)+1)*6-ABS($BS32)-1,52-INT(ABS($BS32)/6)-1,ABS($BS32)-INT(ABS($BS32)/6)*6+1,1),\"=\" & $G$77,OFFSET($BX$20:$DW$25,(INT(ABS($BS32)/6)+1)*6-ABS($BS32)-1,52-INT(ABS($BS32)/6)-1,ABS($BS32)-INT(ABS($BS32)/6)*6+1,1)),0)","v":0},null,{"$f":"IF(B62=\"\",0,B62)","v":"="},{"$f":"IF(C62=\"\",0,C62)","v":"="},{"$f":"IF(D62=\"\",0,D62)","v":"="},{"$f":"IF(E62=\"\",0,E62)","v":"="},{"$f":"IF(F62=\"\",0,F62)","v":"="},{"$f":"IF(G62=\"\",0,G62)","v":"="},{"$f":"IF(H62=\"\",0,H62)","v":"="},{"$f":"IF(I62=\"\",0,I62)","v":"="},{"$f":"IF(J62=\"\",0,J62)","v":"="},{"$f":"IF(K62=\"\",0,K62)","v":"="},{"$f":"IF(L62=\"\",0,L62)","v":"="},{"$f":"IF(M62=\"\",0,M62)","v":"="},{"$f":"IF(N62=\"\",0,N62)","v":"="},{"$f":"IF(O62=\"\",0,O62)","v":"="},{"$f":"IF(P62=\"\",0,P62)","v":"="},{"$f":"IF(Q62=\"\",0,Q62)","v":"="},{"$f":"IF(R62=\"\",0,R62)","v":"="},{"$f":"IF(S62=\"\",0,S62)","v":"="},{"$f":"IF(T62=\"\",0,T62)","v":"="},{"$f":"IF(U62=\"\",0,U62)","v":"="},{"$f":"IF(V62=\"\",0,V62)","v":"="},{"$f":"IF(W62=\"\",0,W62)","v":"="},{"$f":"IF(X62=\"\",0,X62)","v":"="},{"$f":"IF(Y62=\"\",0,Y62)","v":"="},{"$f":"IF(Z62=\"\",0,Z62)","v":"="},{"$f":"IF(AA62=\"\",0,AA62)","v":"="},{"$f":"IF(AB62=\"\",0,AB62)","v":"="},{"$f":"IF(AC62=\"\",0,AC62)","v":"="},{"$f":"IF(AD62=\"\",0,AD62)","v":"="},{"$f":"IF(AE62=\"\",0,AE62)","v":"="},{"$f":"IF(AF62=\"\",0,AF62)","v":"="},{"$f":"IF(AG62=\"\",0,AG62)","v":"="},{"$f":"IF(AH62=\"\",0,AH62)","v":"="},{"$f":"IF(AI62=\"\",0,AI62)","v":"="},{"$f":"IF(AJ62=\"\",0,AJ62)","v":"="},{"$f":"IF(AK62=\"\",0,AK62)","v":"="},{"$f":"IF(AL62=\"\",0,AL62)","v":"="},{"$f":"IF(AM62=\"\",0,AM62)","v":"="},{"$f":"IF(AN62=\"\",0,AN62)","v":"="},{"$f":"IF(AO62=\"\",0,AO62)","v":"="},{"$f":"IF(AP62=\"\",0,AP62)","v":"="},{"$f":"IF(AQ62=\"\",0,AQ62)","v":"="},{"$f":"IF(AR62=\"\",0,AR62)","v":"="},{"$f":"IF(AS62=\"\",0,AS62)","v":"="},{"$f":"IF(AT62=\"\",0,AT62)","v":"="},{"$f":"IF(AU62=\"\",0,AU62)","v":"="},{"$f":"IF(AV62=\"\",0,AV62)","v":"="},{"$f":"IF(AW62=\"\",0,AW62)","v":"="},{"$f":"IF(AX62=\"\",0,AX62)","v":"="},{"$f":"IF(AY62=\"\",0,AY62)","v":"="},{"$f":"IF(AZ62=\"\",0,AZ62)","v":"="},{"$f":"IF(BA62=\"\",0,BA62)","v":"="}]
[null,null,null,null,null,null,null,null,null,null,null,null,null,null,null,null,null,null,null,null,null,null,null,null,null,null,null,null,null,null,null,null,null,null,null,null,null,null,null,null,null,null,null,null,null,null,null,null,null,null,null,null,null,null,null,null,null,null,null,null,null,null,null,null,null,null,null,null,null,null,null,null,null,{"$f":"IF($BS31<=0,SUMIF(OFFSET($BX56:$DW61,0,52-INT(ABS($BS31)/6)-1,,INT(ABS($BS31)/6)+1),\"=\" & $T$77,OFFSET($BX$20:$DW$25,0,52-INT(ABS($BS31)/6)-1,,INT(ABS($BS31)/6)+1)))-IF(AND($BS31<=0,ABS($BS31)<INT(ABS($BS31)/6+1)*6-1),SUMIF(OFFSET($BX56:$DW61,0,52-INT(ABS($BS31)/6)-1,INT(ABS($BS31)/6+1)*6-1-ABS($BS31),1),\"=\" & $T$77,OFFSET($BX$20:$DW$25,0,52-INT(ABS($BS31)/6)-1,INT(ABS($BS31)/6+1)*6-1-ABS($BS31),1)))-IF($BS32<=0,SUMIF(OFFSET($BX62:$DW67,(INT(ABS($BS32)/6)+1)*6-ABS($BS32)-1,52-INT(ABS($BS32)/6)-1,ABS($BS32)-INT(ABS($BS32)/6)*6+1,1),\"=\" & $T$77,OFFSET($BX$20:$DW$25,(INT(ABS($BS32)/6)+1)*6-ABS($BS32)-1,52-INT(ABS($BS32)/6)-1,ABS($BS32)-INT(ABS($BS32)/6)*6+1,1)),0)","v":0},null,{"$f":"IF(B62=\"\",0,B62)","v":"="},{"$f":"IF(C62=\"\",0,C62)","v":"="},{"$f":"IF(D62=\"\",0,D62)","v":"="},{"$f":"IF(E62=\"\",0,E62)","v":"="},{"$f":"IF(F62=\"\",0,F62)","v":"="},{"$f":"IF(G62=\"\",0,G62)","v":"="},{"$f":"IF(H62=\"\",0,H62)","v":"="},{"$f":"IF(I62=\"\",0,I62)","v":"="},{"$f":"IF(J62=\"\",0,J62)","v":"="},{"$f":"IF(K62=\"\",0,K62)","v":"="},{"$f":"IF(L62=\"\",0,L62)","v":"="},{"$f":"IF(M62=\"\",0,M62)","v":"="},{"$f":"IF(N62=\"\",0,N62)","v":"="},{"$f":"IF(O62=\"\",0,O62)","v":"="},{"$f":"IF(P62=\"\",0,P62)","v":"="},{"$f":"IF(Q62=\"\",0,Q62)","v":"="},{"$f":"IF(R62=\"\",0,R62)","v":"="},{"$f":"IF(S62=\"\",0,S62)","v":"="},{"$f":"IF(T62=\"\",0,T62)","v":"="},{"$f":"IF(U62=\"\",0,U62)","v":"="},{"$f":"IF(V62=\"\",0,V62)","v":"="},{"$f":"IF(W62=\"\",0,W62)","v":"="},{"$f":"IF(X62=\"\",0,X62)","v":"="},{"$f":"IF(Y62=\"\",0,Y62)","v":"="},{"$f":"IF(Z62=\"\",0,Z62)","v":"="},{"$f":"IF(AA62=\"\",0,AA62)","v":"="},{"$f":"IF(AB62=\"\",0,AB62)","v":"="},{"$f":"IF(AC62=\"\",0,AC62)","v":"="},{"$f":"IF(AD62=\"\",0,AD62)","v":"="},{"$f":"IF(AE62=\"\",0,AE62)","v":"="},{"$f":"IF(AF62=\"\",0,AF62)","v":"="},{"$f":"IF(AG62=\"\",0,AG62)","v":"="},{"$f":"IF(AH62=\"\",0,AH62)","v":"="},{"$f":"IF(AI62=\"\",0,AI62)","v":"="},{"$f":"IF(AJ62=\"\",0,AJ62)","v":"="},{"$f":"IF(AK62=\"\",0,AK62)","v":"="},{"$f":"IF(AL62=\"\",0,AL62)","v":"="},{"$f":"IF(AM62=\"\",0,AM62)","v":"="},{"$f":"IF(AN62=\"\",0,AN62)","v":"="},{"$f":"IF(AO62=\"\",0,AO62)","v":"="},{"$f":"IF(AP62=\"\",0,AP62)","v":"="},{"$f":"IF(AQ62=\"\",0,AQ62)","v":"="},{"$f":"IF(AR62=\"\",0,AR62)","v":"="},{"$f":"IF(AS62=\"\",0,AS62)","v":"="},{"$f":"IF(AT62=\"\",0,AT62)","v":"="},{"$f":"IF(AU62=\"\",0,AU62)","v":"="},{"$f":"IF(AV62=\"\",0,AV62)","v":"="},{"$f":"IF(AW62=\"\",0,AW62)","v":"="},{"$f":"IF(AX62=\"\",0,AX62)","v":"="},{"$f":"IF(AY62=\"\",0,AY62)","v":"="},{"$f":"IF(AZ62=\"\",0,AZ62)","v":"="},{"$f":"IF(BA62=\"\",0,BA62)","v":"="}]
[null,null,null,null,null,null,null,null,null,null,null,null,null,null,null,null,null,null,null,null,null,null,null,null,null,null,null,null,null,null,null,null,null,null,null,null,null,null,null,null,null,null,null,null,null,null,null,null,null,null,null,null,null,null,null,null,null,null,null,null,null,null,null,null,null,null,6,null,null,null,null,null,{"$f":"SUMIF(OFFSET($BX62:$DW67,0,INT(($BT31-1)/6),,52-INT(($BT31-1)/6)-IF($BS32<=0,INT(ABS($BS32)/6),0)),\"=\" & $T$75,OFFSET($BX$20:$DW$25,0,INT(($BT31-1)/6),,52-INT(($BT31-1)/6)-IF($BS32<=0,INT(ABS($BS32)/6),0)))-IF($BT31>INT(($BT31-1)/6)*6+1,SUMIF(OFFSET($BX62:$DW67,0,INT(($BT31-1)/6),$BT31-INT(($BT31-1)/6)*6-1,1),\"=\" & $T$75,OFFSET($BX$20:$DW$25,0,INT(($BT31-1)/6),$BT31-INT(($BT31-1)/6)*6-1,1)))+IF($BS32>1,SUMIF(OFFSET($BX68:$DW73,0,0,,INT(($BS32-1)/6)+1),\"=\" & $T$75,OFFSET($BX$20:$DW$25,0,0,,INT(($BS32-1)/6)+1)))-IF($BS32>1,SUMIF(OFFSET($BX68:$DW73,$BS32-INT(($BS32-1)/6)*6-1,INT(($BS32-1)/6),(INT(($BS32-1)/6)+1)*6+1-$BS32,1),\"=\" & $T$75,OFFSET($BX$20:$DW$25,0,INT(($BS32-1)/6),(INT(($BS32-1)/6)+1)*6+1-$BS32,1)))-$DY62","v":0},{"$f":"IF($BS31<=0,SUMIF(OFFSET($BX56:$DW61,0,52-INT(ABS($BS31)/6)-1,,INT(ABS($BS31)/6)+1),\"=\" & $AG$77,OFFSET($BX$20:$DW$25,0,52-INT(ABS($BS31)/6)-1,,INT(ABS($BS31)/6)+1)))-IF(AND($BS31<=0,ABS($BS31)<INT(ABS($BS31)/6+1)*6-1),SUMIF(OFFSET($BX56:$DW61,0,52-INT(ABS($BS31)/6)-1,INT(ABS($BS31)/6+1)*6-1-ABS($BS31),1),\"=\" & $AG$77,OFFSET($BX$20:$DW$25,0,52-INT(ABS($BS31)/6)-1,INT(ABS($BS31)/6+1)*6-1-ABS($BS31),1)))-IF($BS32<=0,SUMIF(OFFSET($BX62:$DW67,(INT(ABS($BS32)/6)+1)*6-ABS($BS32)-1,52-INT(ABS($BS32)/6)-1,ABS($BS32)-INT(ABS($BS32)/6)*6+1,1),\"=\" & $AG$77,OFFSET($BX$20:$DW$25,(INT(ABS($BS32)/6)+1)*6-ABS($BS32)-1,52-INT(ABS($BS32)/6)-1,ABS($BS32)-INT(ABS($BS32)/6)*6+1,1)),0)","v":0},null,{"$f":"IF(B62=\"\",0,B62)","v":"="},{"$f":"IF(C62=\"\",0,C62)","v":"="},{"$f":"IF(D62=\"\",0,D62)","v":"="},{"$f":"IF(E62=\"\",0,E62)","v":"="},{"$f":"IF(F62=\"\",0,F62)","v":"="},{"$f":"IF(G62=\"\",0,G62)","v":"="},{"$f":"IF(H62=\"\",0,H62)","v":"="},{"$f":"IF(I62=\"\",0,I62)","v":"="},{"$f":"IF(J62=\"\",0,J62)","v":"="},{"$f":"IF(K62=\"\",0,K62)","v":"="},{"$f":"IF(L62=\"\",0,L62)","v":"="},{"$f":"IF(M62=\"\",0,M62)","v":"="},{"$f":"IF(N62=\"\",0,N62)","v":"="},{"$f":"IF(O62=\"\",0,O62)","v":"="},{"$f":"IF(P62=\"\",0,P62)","v":"="},{"$f":"IF(Q62=\"\",0,Q62)","v":"="},{"$f":"IF(R62=\"\",0,R62)","v":"="},{"$f":"IF(S62=\"\",0,S62)","v":"="},{"$f":"IF(T62=\"\",0,T62)","v":"="},{"$f":"IF(U62=\"\",0,U62)","v":"="},{"$f":"IF(V62=\"\",0,V62)","v":"="},{"$f":"IF(W62=\"\",0,W62)","v":"="},{"$f":"IF(X62=\"\",0,X62)","v":"="},{"$f":"IF(Y62=\"\",0,Y62)","v":"="},{"$f":"IF(Z62=\"\",0,Z62)","v":"="},{"$f":"IF(AA62=\"\",0,AA62)","v":"="},{"$f":"IF(AB62=\"\",0,AB62)","v":"="},{"$f":"IF(AC62=\"\",0,AC62)","v":"="},{"$f":"IF(AD62=\"\",0,AD62)","v":"="},{"$f":"IF(AE62=\"\",0,AE62)","v":"="},{"$f":"IF(AF62=\"\",0,AF62)","v":"="},{"$f":"IF(AG62=\"\",0,AG62)","v":"="},{"$f":"IF(AH62=\"\",0,AH62)","v":"="},{"$f":"IF(AI62=\"\",0,AI62)","v":"="},{"$f":"IF(AJ62=\"\",0,AJ62)","v":"="},{"$f":"IF(AK62=\"\",0,AK62)","v":"="},{"$f":"IF(AL62=\"\",0,AL62)","v":"="},{"$f":"IF(AM62=\"\",0,AM62)","v":"="},{"$f":"IF(AN62=\"\",0,AN62)","v":"="},{"$f":"IF(AO62=\"\",0,AO62)","v":"="},{"$f":"IF(AP62=\"\",0,AP62)","v":"="},{"$f":"IF(AQ62=\"\",0,AQ62)","v":"="},{"$f":"IF(AR62=\"\",0,AR62)","v":"="},{"$f":"IF(AS62=\"\",0,AS62)","v":"="},{"$f":"IF(AT62=\"\",0,AT62)","v":"="},{"$f":"IF(AU62=\"\",0,AU62)","v":"="},{"$f":"IF(AV62=\"\",0,AV62)","v":"="},{"$f":"IF(AW62=\"\",0,AW62)","v":"="},{"$f":"IF(AX62=\"\",0,AX62)","v":"="},{"$f":"IF(AY62=\"\",0,AY62)","v":"="},{"$f":"IF(AZ62=\"\",0,AZ62)","v":"="},{"$f":"IF(BA62=\"\",0,BA62)","v":"="}]
[7,"=","=","=","=","=","=","=","=","=","=","=","=","=","=","=","=","=","=","=","=","=","=","=","=","=","=","=","=","=","=","=","=","=","=","=","=","=","=","=","=","=","=","=","=","=","=","=","=","=","=","=","=",{"$f":"SUMIF(OFFSET($BX68:$DW73,0,INT((IF($BS32>0,$BS32,1)-1)/6),,INT(($BT32-1)/6)-INT((IF($BS32>0,$BS32,1)-1)/6)),\"=0\",OFFSET($BX$20:$DW$25,0,INT((IF($BS32>0,$BS32,1)-1)/6)))-IF(AND($BS32>0,$BS32>INT(($BS32-1)/6)*6+1),SUMIF(OFFSET($BX68:$DW73,0,INT(($BS32-1)/6),$BS32-INT(($BS32-1)/6)*6-1,1),\"=0\",OFFSET($BX$20:$DW$25,0,INT(($BS32-1)/6),$BS32-INT(($BS32-1)/6)*6-1,1)))+IF(AND($BT32>0,$BT32>INT(($BT32-1)/6)*6+1),SUMIF(OFFSET($BX68:$DW73,0,INT(($BT32-1)/6),$BT32-INT(($BT32-1)/6)*6-1,1),\"=0\",OFFSET($BX$20:$DW$25,0,INT(($BT32-1)/6),$BT32-INT(($BT32-1)/6)*6-1,1)))+$BW68","v":0},{"$f":"SUMIF(OFFSET($BX68:$DW73,0,INT(($BT32-1)/6),,52-INT(($BT32-1)/6)),\"=0\",OFFSET($BX$20:$DW$25,0,INT(($BT32-1)/6),,52-INT(($BT32-1)/6)))-IF($BT32>INT(($BT32-1)/6)*6+1,SUMIF(OFFSET($BX68:$DW73,0,INT(($BT32-1)/6),$BT32-INT(($BT32-1)/6)*6-1,1),\"=0\",OFFSET($BX$20:$DW$25,0,INT(($BT32-1)/6),$BT32-INT(($BT32-1)/6)*6-1,1)))","v":0},{"$f":"Недель13+Недель14","v":0},{"$f":"Экз7Осень+Экз7Весна","v":0},{"$f":"SUMIF(OFFSET($BX68:$DW73,0,INT((IF($BS32>0,$BS32,1)-1)/6),,52-INT((IF($BS32>0,$BS32,1)-1)/6)),\"=\" & $AR$77,OFFSET($BX$20:$DW$25,0,INT((IF($BS32>0,$BS32,1)-1)/6),,52-INT((IF($BS32>0,$BS32,1)-1)/6)))-IF(AND($BS32>0,$BS32>INT(($BS32-1)/6)*6+1),SUMIF(OFFSET($BX68:$DW73,0,INT(($BS32-1)/6),$BS32-INT(($BS32-1)/6)*6-1,1),\"=\" & $AR$77,OFFSET($BX$20:$DW$25,0,INT(($BS32-1)/6),$BS32-INT(($BS32-1)/6)*6-1,1)))+$BV68","v":0},{"$f":"SUMIF(OFFSET($BX68:$DW73,0,INT((IF($BS32>0,$BS32,1)-1)/6),,52-INT((IF($BS32>0,$BS32,1)-1)/6)),\"=\" & $AG$75,OFFSET($BX$20:$DW$25,0,INT((IF($BS32>0,$BS32,1)-1)/6),,52-INT((IF($BS32>0,$BS32,1)-1)/6)))-IF(AND($BS32>0,$BS32>INT(($BS32-1)/6)*6+1),SUMIF(OFFSET($BX68:$DW73,0,INT(($BS32-1)/6),$BS32-INT(($BS32-1)/6)*6-1,1),\"=\" & $AG$75,OFFSET($BX$20:$DW$25,0,INT(($BS32-1)/6),$BS32-INT(($BS32-1)/6)*6-1,1)))+$BV69","v":0},{"$f":"SUMIF(OFFSET($BX68:$DW73,0,INT((IF($BS32>0,$BS32,1)-1)/6),,52-INT((IF($BS32>0,$BS32,1)-1)/6)),\"=\" & $AR$75,OFFSET($BX$20:$DW$25,0,INT((IF($BS32>0,$BS32,1)-1)/6),,52-INT((IF($BS32>0,$BS32,1)-1)/6)))-IF(AND($BS32>0,$BS32>INT(($BS32-1)/6)*6+1),SUMIF(OFFSET($BX68:$DW73,0,INT(($BS32-1)/6),$BS32-INT(($BS32-1)/6)*6-1,1),\"=\" & $AR$75,OFFSET($BX$20:$DW$25,0,INT(($BS32-1)/6),$BS32-INT(($BS32-1)/6)*6-1,1)))+$BV70","v":0},{"$f":"SUMIF(OFFSET($BX68:$DW73,0,INT((IF($BS32>0,$BS32,1)-1)/6),,52-INT((IF($BS32>0,$BS32,1)-1)/6)),\"=\" & $G$77,OFFSET($BX$20:$DW$25,0,INT((IF($BS32>0,$BS32,1)-1)/6),,52-INT((IF($BS32>0,$BS32,1)-1)/6)))-IF(AND($BS32>0,$BS32>INT(($BS32-1)/6)*6+1),SUMIF(OFFSET($BX68:$DW73,0,INT(($BS32-1)/6),$BS32-INT(($BS32-1)/6)*6-1,1),\"=\" & $G$77,OFFSET($BX$20:$DW$25,0,INT(($BS32-1)/6),$BS32-INT(($BS32-1)/6)*6-1,1)))+$BV71","v":0},{"$f":"SUMIF(OFFSET($BX68:$DW73,0,INT((IF($BS32>0,$BS32,1)-1)/6),,52-INT((IF($BS32>0,$BS32,1)-1)/6)),\"=\" & $T$77,OFFSET($BX$20:$DW$25,0,INT((IF($BS32>0,$BS32,1)-1)/6),,52-INT((IF($BS32>0,$BS32,1)-1)/6)))-IF(AND($BS32>0,$BS32>INT(($BS32-1)/6)*6+1),SUMIF(OFFSET($BX68:$DW73,0,INT(($BS32-1)/6),$BS32-INT(($BS32-1)/6)*6-1,1),\"=\" & $T$77,OFFSET($BX$20:$DW$25,0,INT(($BS32-1)/6),$BS32-INT(($BS32-1)/6)*6-1,1)))+$BV72","v":0},{"$f":"SUMIF(OFFSET($BX68:$DW73,0,INT((IF($BS32>0,$BS32,1)-1)/6),,52-INT((IF($BS32>0,$BS32,1)-1)/6)),\"=\" & $AG$77,OFFSET($BX$20:$DW$25,0,INT((IF($BS32>0,$BS32,1)-1)/6),,52-INT((IF($BS32>0,$BS32,1)-1)/6)))-IF(AND($BS32>0,$BS32>INT(($BS32-1)/6)*6+1),SUMIF(OFFSET($BX68:$DW73,0,INT(($BS32-1)/6),$BS32-INT(($BS32-1)/6)*6-1,1),\"=\" & $AG$77,OFFSET($BX$20:$DW$25,0,INT(($BS32-1)/6),$BS32-INT(($BS32-1)/6)*6-1,1)))+$BV73","v":0},{"$f":"SUM($BD68:$BK73)","v":0},0,0,7,null,null,null,null,null,{"$f":"SUMIF(OFFSET($BX68:$DW73,0,INT((IF($BS32>0,$BS32,1)-1)/6),,INT(($BT32-1)/6)-INT((IF($BS32>0,$BS32,1)-1)/6)),\"=\" & $T$75,OFFSET($BX$20:$DW$25,0,INT((IF($BS32>0,$BS32,1)-1)/6)))-IF(AND($BS32>0,$BS32>INT(($BS32-1)/6)*6+1),SUMIF(OFFSET($BX68:$DW73,0,INT(($BS32-1)/6),$BS32-INT(($BS32-1)/6)*6-1,1),\"=\" & $T$75,OFFSET($BX$20:$DW$25,0,INT(($BS32-1)/6),$BS32-INT(($BS32-1)/6)*6-1,1)))+IF(AND($BT32>0,$BT32>INT(($BT32-1)/6)*6+1),SUMIF(OFFSET($BX68:$DW73,0,INT(($BT32-1)/6),$BT32-INT(($BT32-1)/6)*6-1,1),\"=\" & $T$75,OFFSET($BX$20:$DW$25,0,INT(($BT32-1)/6),$BT32-INT(($BT32-1)/6)*6-1,1)))+$BU69","v":0},{"$f":"IF($BS32<=0,SUMIF(OFFSET($BX62:$DW67,0,52-INT(ABS($BS32)/6)-1,,INT(ABS($BS32)/6)+1),\"=\" & $AR$77,OFFSET($BX$20:$DW$25,0,52-INT(ABS($BS32)/6)-1,,INT(ABS($BS32)/6)+1)))-IF(AND($BS32<=0,ABS($BS32)<INT(ABS($BS32)/6+1)*6-1),SUMIF(OFFSET($BX62:$DW67,0,52-INT(ABS($BS32)/6)-1,INT(ABS($BS32)/6+1)*6-1-ABS($BS32),1),\"=\" & $AR$77,OFFSET($BX$20:$DW$25,0,52-INT(ABS($BS32)/6)-1,INT(ABS($BS32)/6+1)*6-1-ABS($BS32),1)))","v":0},{"$f":"IF($BS32<=0,SUMIF(OFFSET($BX62:$DW67,0,52-INT(ABS($BS32)/6)-1,,INT(ABS($BS32)/6)+1),\"=0\",OFFSET($BX$20:$DW$25,0,52-INT(ABS($BS32)/6)-1,,INT(ABS($BS32)/6)+1)))-IF(AND($BS32<=0,ABS($BS32)<INT(ABS($BS32)/6+1)*6-1),SUMIF(OFFSET($BX62:$DW67,0,52-INT(ABS($BS32)/6)-1,INT(ABS($BS32)/6+1)*6-1-ABS($BS32),1),\"=0\",OFFSET($BX$20:$DW$25,0,52-INT(ABS($BS32)/6)-1,INT(ABS($BS32)/6+1)*6-1-ABS($BS32),1)))","v":0},{"$f":"IF(B68=\"\",0,B68)","v":"="},"=","=","=","=","=","=","=","=","=","=","=","=","=","=","=","=","=","=","=","=","=","=","=","=","=","=","=","=","=","=","=",{"$f":"IF(AH68=\"\",0,AH68)","v":"="},"=","=","=","=","=","=","=","=","=","=","=","=","=","=","=","=","=","=","="]
[null,null,null,null,null,null,null,null,null,null,null,null,null,null,null,null,null,null,null,null,null,null,null,null,null,null,null,null,null,null,null,null,null,null,null,null,null,null,null,null,null,null,null,null,null,null,null,null,null,null,null,null,null,null,null,null,null,null,null,null,null,null,null,null,null,null,null,null,null,null,null,null,{"$f":"IF($BS32<=0,SUMIF(OFFSET($BX62:$DW67,0,52-INT(ABS($BS32)/6)-1,,INT(ABS($BS32)/6)+1),\"=\" & $T$75,OFFSET($BX$20:$DW$25,0,52-INT(ABS($BS32)/6)-1,,INT(ABS($BS32)/6)+1)))-IF(AND($BS32<=0,ABS($BS32)<INT(ABS($BS32)/6+1)*6-1),SUMIF(OFFSET($BX62:$DW67,0,52-INT(ABS($BS32)/6)-1,INT(ABS($BS32)/6+1)*6-1-ABS($BS32),1),\"=\" & $T$75,OFFSET($BX$20:$DW$25,0,52-INT(ABS($BS32)/6)-1,INT(ABS($BS32)/6+1)*6-1-ABS($BS32),1)))","v":0},{"$f":"IF($BS32<=0,SUMIF(OFFSET($BX62:$DW67,0,52-INT(ABS($BS32)/6)-1,,INT(ABS($BS32)/6)+1),\"=\" & $AG$75,OFFSET($BX$20:$DW$25,0,52-INT(ABS($BS32)/6)-1,,INT(ABS($BS32)/6)+1)))-IF(AND($BS32<=0,ABS($BS32)<INT(ABS($BS32)/6+1)*6-1),SUMIF(OFFSET($BX62:$DW67,0,52-INT(ABS($BS32)/6)-1,INT(ABS($BS32)/6+1)*6-1-ABS($BS32),1),\"=\" & $AG$75,OFFSET($BX$20:$DW$25,0,52-INT(ABS($BS32)/6)-1,INT(ABS($BS32)/6+1)*6-1-ABS($BS32),1)))","v":0},null,{"$f":"IF(B68=\"\",0,B68)","v":"="},{"$f":"IF(C68=\"\",0,C68)","v":"="},{"$f":"IF(D68=\"\",0,D68)","v":"="},{"$f":"IF(E68=\"\",0,E68)","v":"="},{"$f":"IF(F68=\"\",0,F68)","v":"="},{"$f":"IF(G68=\"\",0,G68)","v":"="},{"$f":"IF(H68=\"\",0,H68)","v":"="},{"$f":"IF(I68=\"\",0,I68)","v":"="},{"$f":"IF(J68=\"\",0,J68)","v":"="},{"$f":"IF(K68=\"\",0,K68)","v":"="},{"$f":"IF(L68=\"\",0,L68)","v":"="},{"$f":"IF(M68=\"\",0,M68)","v":"="},{"$f":"IF(N68=\"\",0,N68)","v":"="},{"$f":"IF(O68=\"\",0,O68)","v":"="},{"$f":"IF(P68=\"\",0,P68)","v":"="},{"$f":"IF(Q68=\"\",0,Q68)","v":"="},{"$f":"IF(R68=\"\",0,R68)","v":"="},{"$f":"IF(S68=\"\",0,S68)","v":"="},{"$f":"IF(T68=\"\",0,T68)","v":"="},{"$f":"IF(U68=\"\",0,U68)","v":"="},{"$f":"IF(V68=\"\",0,V68)","v":"="},{"$f":"IF(W68=\"\",0,W68)","v":"="},{"$f":"IF(X68=\"\",0,X68)","v":"="},{"$f":"IF(Y68=\"\",0,Y68)","v":"="},{"$f":"IF(Z68=\"\",0,Z68)","v":"="},{"$f":"IF(AA68=\"\",0,AA68)","v":"="},{"$f":"IF(AB68=\"\",0,AB68)","v":"="},{"$f":"IF(AC68=\"\",0,AC68)","v":"="},{"$f":"IF(AD68=\"\",0,AD68)","v":"="},{"$f":"IF(AE68=\"\",0,AE68)","v":"="},{"$f":"IF(AF68=\"\",0,AF68)","v":"="},{"$f":"IF(AG68=\"\",0,AG68)","v":"="},{"$f":"IF(AH68=\"\",0,AH68)","v":"="},{"$f":"IF(AI68=\"\",0,AI68)","v":"="},{"$f":"IF(AJ68=\"\",0,AJ68)","v":"="},{"$f":"IF(AK68=\"\",0,AK68)","v":"="},{"$f":"IF(AL68=\"\",0,AL68)","v":"="},{"$f":"IF(AM68=\"\",0,AM68)","v":"="},{"$f":"IF(AN68=\"\",0,AN68)","v":"="},{"$f":"IF(AO68=\"\",0,AO68)","v":"="},{"$f":"IF(AP68=\"\",0,AP68)","v":"="},{"$f":"IF(AQ68=\"\",0,AQ68)","v":"="},{"$f":"IF(AR68=\"\",0,AR68)","v":"="},{"$f":"IF(AS68=\"\",0,AS68)","v":"="},{"$f":"IF(AT68=\"\",0,AT68)","v":"="},{"$f":"IF(AU68=\"\",0,AU68)","v":"="},{"$f":"IF(AV68=\"\",0,AV68)","v":"="},{"$f":"IF(AW68=\"\",0,AW68)","v":"="},{"$f":"IF(AX68=\"\",0,AX68)","v":"="},{"$f":"IF(AY68=\"\",0,AY68)","v":"="},{"$f":"IF(AZ68=\"\",0,AZ68)","v":"="},{"$f":"IF(BA68=\"\",0,BA68)","v":"="}]
[null,null,null,null,null,null,null,null,null,null,null,null,null,null,null,null,null,null,null,null,null,null,null,null,null,null,null,null,null,null,null,null,null,null,null,null,null,null,null,null,null,null,null,null,null,null,null,null,null,null,null,null,null,null,null,null,null,null,null,null,null,null,null,null,null,null,null,null,null,null,null,null,null,{"$f":"IF($BS32<=0,SUMIF(OFFSET($BX62:$DW67,0,52-INT(ABS($BS32)/6)-1,,INT(ABS($BS32)/6)+1),\"=\" & $AR$75,OFFSET($BX$20:$DW$25,0,52-INT(ABS($BS32)/6)-1,,INT(ABS($BS32)/6)+1)))-IF(AND($BS32<=0,ABS($BS32)<INT(ABS($BS32)/6+1)*6-1),SUMIF(OFFSET($BX62:$DW67,0,52-INT(ABS($BS32)/6)-1,INT(ABS($BS32)/6+1)*6-1-ABS($BS32),1),\"=\" & $AR$75,OFFSET($BX$20:$DW$25,0,52-INT(ABS($BS32)/6)-1,INT(ABS($BS32)/6+1)*6-1-ABS($BS32),1)))","v":0},null,{"$f":"IF(B68=\"\",0,B68)","v":"="},{"$f":"IF(C68=\"\",0,C68)","v":"="},{"$f":"IF(D68=\"\",0,D68)","v":"="},{"$f":"IF(E68=\"\",0,E68)","v":"="},{"$f":"IF(F68=\"\",0,F68)","v":"="},{"$f":"IF(G68=\"\",0,G68)","v":"="},{"$f":"IF(H68=\"\",0,H68)","v":"="},{"$f":"IF(I68=\"\",0,I68)","v":"="},{"$f":"IF(J68=\"\",0,J68)","v":"="},{"$f":"IF(K68=\"\",0,K68)","v":"="},{"$f":"IF(L68=\"\",0,L68)","v":"="},{"$f":"IF(M68=\"\",0,M68)","v":"="},{"$f":"IF(N68=\"\",0,N68)","v":"="},{"$f":"IF(O68=\"\",0,O68)","v":"="},{"$f":"IF(P68=\"\",0,P68)","v":"="},{"$f":"IF(Q68=\"\",0,Q68)","v":"="},{"$f":"IF(R68=\"\",0,R68)","v":"="},{"$f":"IF(S68=\"\",0,S68)","v":"="},{"$f":"IF(T68=\"\",0,T68)","v":"="},{"$f":"IF(U68=\"\",0,U68)","v":"="},{"$f":"IF(V68=\"\",0,V68)","v":"="},{"$f":"IF(W68=\"\",0,W68)","v":"="},{"$f":"IF(X68=\"\",0,X68)","v":"="},{"$f":"IF(Y68=\"\",0,Y68)","v":"="},{"$f":"IF(Z68=\"\",0,Z68)","v":"="},{"$f":"IF(AA68=\"\",0,AA68)","v":"="},{"$f":"IF(AB68=\"\",0,AB68)","v":"="},{"$f":"IF(AC68=\"\",0,AC68)","v":"="},{"$f":"IF(AD68=\"\",0,AD68)","v":"="},{"$f":"IF(AE68=\"\",0,AE68)","v":"="},{"$f":"IF(AF68=\"\",0,AF68)","v":"="},{"$f":"IF(AG68=\"\",0,AG68)","v":"="},{"$f":"IF(AH68=\"\",0,AH68)","v":"="},{"$f":"IF(AI68=\"\",0,AI68)","v":"="},{"$f":"IF(AJ68=\"\",0,AJ68)","v":"="},{"$f":"IF(AK68=\"\",0,AK68)","v":"="},{"$f":"IF(AL68=\"\",0,AL68)","v":"="},{"$f":"IF(AM68=\"\",0,AM68)","v":"="},{"$f":"IF(AN68=\"\",0,AN68)","v":"="},{"$f":"IF(AO68=\"\",0,AO68)","v":"="},{"$f":"IF(AP68=\"\",0,AP68)","v":"="},{"$f":"IF(AQ68=\"\",0,AQ68)","v":"="},{"$f":"IF(AR68=\"\",0,AR68)","v":"="},{"$f":"IF(AS68=\"\",0,AS68)","v":"="},{"$f":"IF(AT68=\"\",0,AT68)","v":"="},{"$f":"IF(AU68=\"\",0,AU68)","v":"="},{"$f":"IF(AV68=\"\",0,AV68)","v":"="},{"$f":"IF(AW68=\"\",0,AW68)","v":"="},{"$f":"IF(AX68=\"\",0,AX68)","v":"="},{"$f":"IF(AY68=\"\",0,AY68)","v":"="},{"$f":"IF(AZ68=\"\",0,AZ68)","v":"="},{"$f":"IF(BA68=\"\",0,BA68)","v":"="}]
[null,null,null,null,null,null,null,null,null,null,null,null,null,null,null,null,null,null,null,null,null,null,null,null,null,null,null,null,null,null,null,null,null,null,null,null,null,null,null,null,null,null,null,null,null,null,null,null,null,null,null,null,null,null,null,null,null,null,null,null,null,null,null,null,null,null,null,null,null,null,null,null,null,{"$f":"IF($BS32<=0,SUMIF(OFFSET($BX62:$DW67,0,52-INT(ABS($BS32)/6)-1,,INT(ABS($BS32)/6)+1),\"=\" & $G$77,OFFSET($BX$20:$DW$25,0,52-INT(ABS($BS32)/6)-1,,INT(ABS($BS32)/6)+1)))-IF(AND($BS32<=0,ABS($BS32)<INT(ABS($BS32)/6+1)*6-1),SUMIF(OFFSET($BX62:$DW67,0,52-INT(ABS($BS32)/6)-1,INT(ABS($BS32)/6+1)*6-1-ABS($BS32),1),\"=\" & $G$77,OFFSET($BX$20:$DW$25,0,52-INT(ABS($BS32)/6)-1,INT(ABS($BS32)/6+1)*6-1-ABS($BS32),1)))","v":0},null,{"$f":"IF(B68=\"\",0,B68)","v":"="},{"$f":"IF(C68=\"\",0,C68)","v":"="},{"$f":"IF(D68=\"\",0,D68)","v":"="},{"$f":"IF(E68=\"\",0,E68)","v":"="},{"$f":"IF(F68=\"\",0,F68)","v":"="},{"$f":"IF(G68=\"\",0,G68)","v":"="},{"$f":"IF(H68=\"\",0,H68)","v":"="},{"$f":"IF(I68=\"\",0,I68)","v":"="},{"$f":"IF(J68=\"\",0,J68)","v":"="},{"$f":"IF(K68=\"\",0,K68)","v":"="},{"$f":"IF(L68=\"\",0,L68)","v":"="},{"$f":"IF(M68=\"\",0,M68)","v":"="},{"$f":"IF(N68=\"\",0,N68)","v":"="},{"$f":"IF(O68=\"\",0,O68)","v":"="},{"$f":"IF(P68=\"\",0,P68)","v":"="},{"$f":"IF(Q68=\"\",0,Q68)","v":"="},{"$f":"IF(R68=\"\",0,R68)","v":"="},{"$f":"IF(S68=\"\",0,S68)","v":"="},{"$f":"IF(T68=\"\",0,T68)","v":"="},{"$f":"IF(U68=\"\",0,U68)","v":"="},{"$f":"IF(V68=\"\",0,V68)","v":"="},{"$f":"IF(W68=\"\",0,W68)","v":"="},{"$f":"IF(X68=\"\",0,X68)","v":"="},{"$f":"IF(Y68=\"\",0,Y68)","v":"="},{"$f":"IF(Z68=\"\",0,Z68)","v":"="},{"$f":"IF(AA68=\"\",0,AA68)","v":"="},{"$f":"IF(AB68=\"\",0,AB68)","v":"="},{"$f":"IF(AC68=\"\",0,AC68)","v":"="},{"$f":"IF(AD68=\"\",0,AD68)","v":"="},{"$f":"IF(AE68=\"\",0,AE68)","v":"="},{"$f":"IF(AF68=\"\",0,AF68)","v":"="},{"$f":"IF(AG68=\"\",0,AG68)","v":"="},{"$f":"IF(AH68=\"\",0,AH68)","v":"="},{"$f":"IF(AI68=\"\",0,AI68)","v":"="},{"$f":"IF(AJ68=\"\",0,AJ68)","v":"="},{"$f":"IF(AK68=\"\",0,AK68)","v":"="},{"$f":"IF(AL68=\"\",0,AL68)","v":"="},{"$f":"IF(AM68=\"\",0,AM68)","v":"="},{"$f":"IF(AN68=\"\",0,AN68)","v":"="},{"$f":"IF(AO68=\"\",0,AO68)","v":"="},{"$f":"IF(AP68=\"\",0,AP68)","v":"="},{"$f":"IF(AQ68=\"\",0,AQ68)","v":"="},{"$f":"IF(AR68=\"\",0,AR68)","v":"="},{"$f":"IF(AS68=\"\",0,AS68)","v":"="},{"$f":"IF(AT68=\"\",0,AT68)","v":"="},{"$f":"IF(AU68=\"\",0,AU68)","v":"="},{"$f":"IF(AV68=\"\",0,AV68)","v":"="},{"$f":"IF(AW68=\"\",0,AW68)","v":"="},{"$f":"IF(AX68=\"\",0,AX68)","v":"="},{"$f":"IF(AY68=\"\",0,AY68)","v":"="},{"$f":"IF(AZ68=\"\",0,AZ68)","v":"="},{"$f":"IF(BA68=\"\",0,BA68)","v":"="}]
[null,null,null,null,null,null,null,null,null,null,null,null,null,null,null,null,null,null,null,null,null,null,null,null,null,null,null,null,null,null,null,null,null,null,null,null,null,null,null,null,null,null,null,null,null,null,null,null,null,null,null,null,null,null,null,null,null,null,null,null,null,null,null,null,null,null,null,null,null,null,null,null,null,{"$f":"IF($BS32<=0,SUMIF(OFFSET($BX62:$DW67,0,52-INT(ABS($BS32)/6)-1,,INT(ABS($BS32)/6)+1),\"=\" & $T$77,OFFSET($BX$20:$DW$25,0,52-INT(ABS($BS32)/6)-1,,INT(ABS($BS32)/6)+1)))-IF(AND($BS32<=0,ABS($BS32)<INT(ABS($BS32)/6+1)*6-1),SUMIF(OFFSET($BX62:$DW67,0,52-INT(ABS($BS32)/6)-1,INT(ABS($BS32)/6+1)*6-1-ABS($BS32),1),\"=\" & $T$77,OFFSET($BX$20:$DW$25,0,52-INT(ABS($BS32)/6)-1,INT(ABS($BS32)/6+1)*6-1-ABS($BS32),1)))","v":0},null,{"$f":"IF(B68=\"\",0,B68)","v":"="},{"$f":"IF(C68=\"\",0,C68)","v":"="},{"$f":"IF(D68=\"\",0,D68)","v":"="},{"$f":"IF(E68=\"\",0,E68)","v":"="},{"$f":"IF(F68=\"\",0,F68)","v":"="},{"$f":"IF(G68=\"\",0,G68)","v":"="},{"$f":"IF(H68=\"\",0,H68)","v":"="},{"$f":"IF(I68=\"\",0,I68)","v":"="},{"$f":"IF(J68=\"\",0,J68)","v":"="},{"$f":"IF(K68=\"\",0,K68)","v":"="},{"$f":"IF(L68=\"\",0,L68)","v":"="},{"$f":"IF(M68=\"\",0,M68)","v":"="},{"$f":"IF(N68=\"\",0,N68)","v":"="},{"$f":"IF(O68=\"\",0,O68)","v":"="},{"$f":"IF(P68=\"\",0,P68)","v":"="},{"$f":"IF(Q68=\"\",0,Q68)","v":"="},{"$f":"IF(R68=\"\",0,R68)","v":"="},{"$f":"IF(S68=\"\",0,S68)","v":"="},{"$f":"IF(T68=\"\",0,T68)","v":"="},{"$f":"IF(U68=\"\",0,U68)","v":"="},{"$f":"IF(V68=\"\",0,V68)","v":"="},{"$f":"IF(W68=\"\",0,W68)","v":"="},{"$f":"IF(X68=\"\",0,X68)","v":"="},{"$f":"IF(Y68=\"\",0,Y68)","v":"="},{"$f":"IF(Z68=\"\",0,Z68)","v":"="},{"$f":"IF(AA68=\"\",0,AA68)","v":"="},{"$f":"IF(AB68=\"\",0,AB68)","v":"="},{"$f":"IF(AC68=\"\",0,AC68)","v":"="},{"$f":"IF(AD68=\"\",0,AD68)","v":"="},{"$f":"IF(AE68=\"\",0,AE68)","v":"="},{"$f":"IF(AF68=\"\",0,AF68)","v":"="},{"$f":"IF(AG68=\"\",0,AG68)","v":"="},{"$f":"IF(AH68=\"\",0,AH68)","v":"="},{"$f":"IF(AI68=\"\",0,AI68)","v":"="},{"$f":"IF(AJ68=\"\",0,AJ68)","v":"="},{"$f":"IF(AK68=\"\",0,AK68)","v":"="},{"$f":"IF(AL68=\"\",0,AL68)","v":"="},{"$f":"IF(AM68=\"\",0,AM68)","v":"="},{"$f":"IF(AN68=\"\",0,AN68)","v":"="},{"$f":"IF(AO68=\"\",0,AO68)","v":"="},{"$f":"IF(AP68=\"\",0,AP68)","v":"="},{"$f":"IF(AQ68=\"\",0,AQ68)","v":"="},{"$f":"IF(AR68=\"\",0,AR68)","v":"="},{"$f":"IF(AS68=\"\",0,AS68)","v":"="},{"$f":"IF(AT68=\"\",0,AT68)","v":"="},{"$f":"IF(AU68=\"\",0,AU68)","v":"="},{"$f":"IF(AV68=\"\",0,AV68)","v":"="},{"$f":"IF(AW68=\"\",0,AW68)","v":"="},{"$f":"IF(AX68=\"\",0,AX68)","v":"="},{"$f":"IF(AY68=\"\",0,AY68)","v":"="},{"$f":"IF(AZ68=\"\",0,AZ68)","v":"="},{"$f":"IF(BA68=\"\",0,BA68)","v":"="}]
[null,null,null,null,null,null,null,null,null,null,null,null,null,null,null,null,null,null,null,null,null,null,null,null,null,null,null,null,null,null,null,null,null,null,null,null,null,null,null,null,null,null,null,null,null,null,null,null,null,null,null,null,null,null,null,null,null,null,null,null,null,null,null,null,null,null,6,null,null,null,null,null,{"$f":"SUMIF(OFFSET($BX68:$DW73,0,INT(($BT32-1)/6),,52-INT(($BT32-1)/6)-IF($BS63<=0,INT(ABS($BS63)/6)-1,0)),\"=\" & $T$75,OFFSET($BX$20:$DW$25,0,INT(($BT32-1)/6),,52-INT(($BT32-1)/6)-IF($BS63<=0,INT(ABS($BS63)/6)-1,0)))-IF($BT32>INT(($BT32-1)/6)*6+1,SUMIF(OFFSET($BX68:$DW73,0,INT(($BT32-1)/6),$BT32-INT(($BT32-1)/6)*6-1,1),\"=\" & $T$75,OFFSET($BX$20:$DW$25,0,INT(($BT32-1)/6),$BT32-INT(($BT32-1)/6)*6-1,1)))","v":0},{"$f":"IF($BS32<=0,SUMIF(OFFSET($BX62:$DW67,0,52-INT(ABS($BS32)/6)-1,,INT(ABS($BS32)/6)+1),\"=\" & $AG$77,OFFSET($BX$20:$DW$25,0,52-INT(ABS($BS32)/6)-1,,INT(ABS($BS32)/6)+1)))-IF(AND($BS32<=0,ABS($BS32)<INT(ABS($BS32)/6+1)*6-1),SUMIF(OFFSET($BX62:$DW67,0,52-INT(ABS($BS32)/6)-1,INT(ABS($BS32)/6+1)*6-1-ABS($BS32),1),\"=\" & $AG$77,OFFSET($BX$20:$DW$25,0,52-INT(ABS($BS32)/6)-1,INT(ABS($BS32)/6+1)*6-1-ABS($BS32),1)))","v":0},null,{"$f":"IF(B68=\"\",0,B68)","v":"="},{"$f":"IF(C68=\"\",0,C68)","v":"="},{"$f":"IF(D68=\"\",0,D68)","v":"="},{"$f":"IF(E68=\"\",0,E68)","v":"="},{"$f":"IF(F68=\"\",0,F68)","v":"="},{"$f":"IF(G68=\"\",0,G68)","v":"="},{"$f":"IF(H68=\"\",0,H68)","v":"="},{"$f":"IF(I68=\"\",0,I68)","v":"="},{"$f":"IF(J68=\"\",0,J68)","v":"="},{"$f":"IF(K68=\"\",0,K68)","v":"="},{"$f":"IF(L68=\"\",0,L68)","v":"="},{"$f":"IF(M68=\"\",0,M68)","v":"="},{"$f":"IF(N68=\"\",0,N68)","v":"="},{"$f":"IF(O68=\"\",0,O68)","v":"="},{"$f":"IF(P68=\"\",0,P68)","v":"="},{"$f":"IF(Q68=\"\",0,Q68)","v":"="},{"$f":"IF(R68=\"\",0,R68)","v":"="},{"$f":"IF(S68=\"\",0,S68)","v":"="},{"$f":"IF(T68=\"\",0,T68)","v":"="},{"$f":"IF(U68=\"\",0,U68)","v":"="},{"$f":"IF(V68=\"\",0,V68)","v":"="},{"$f":"IF(W68=\"\",0,W68)","v":"="},{"$f":"IF(X68=\"\",0,X68)","v":"="},{"$f":"IF(Y68=\"\",0,Y68)","v":"="},{"$f":"IF(Z68=\"\",0,Z68)","v":"="},{"$f":"IF(AA68=\"\",0,AA68)","v":"="},{"$f":"IF(AB68=\"\",0,AB68)","v":"="},{"$f":"IF(AC68=\"\",0,AC68)","v":"="},{"$f":"IF(AD68=\"\",0,AD68)","v":"="},{"$f":"IF(AE68=\"\",0,AE68)","v":"="},{"$f":"IF(AF68=\"\",0,AF68)","v":"="},{"$f":"IF(AG68=\"\",0,AG68)","v":"="},{"$f":"IF(AH68=\"\",0,AH68)","v":"="},{"$f":"IF(AI68=\"\",0,AI68)","v":"="},{"$f":"IF(AJ68=\"\",0,AJ68)","v":"="},{"$f":"IF(AK68=\"\",0,AK68)","v":"="},{"$f":"IF(AL68=\"\",0,AL68)","v":"="},{"$f":"IF(AM68=\"\",0,AM68)","v":"="},{"$f":"IF(AN68=\"\",0,AN68)","v":"="},{"$f":"IF(AO68=\"\",0,AO68)","v":"="},{"$f":"IF(AP68=\"\",0,AP68)","v":"="},{"$f":"IF(AQ68=\"\",0,AQ68)","v":"="},{"$f":"IF(AR68=\"\",0,AR68)","v":"="},{"$f":"IF(AS68=\"\",0,AS68)","v":"="},{"$f":"IF(AT68=\"\",0,AT68)","v":"="},{"$f":"IF(AU68=\"\",0,AU68)","v":"="},{"$f":"IF(AV68=\"\",0,AV68)","v":"="},{"$f":"IF(AW68=\"\",0,AW68)","v":"="},{"$f":"IF(AX68=\"\",0,AX68)","v":"="},{"$f":"IF(AY68=\"\",0,AY68)","v":"="},{"$f":"IF(AZ68=\"\",0,AZ68)","v":"="},{"$f":"IF(BA68=\"\",0,BA68)","v":"="}]
[null,null,null,null,null,null,null,null,null,null,null,null,null,null,null,null,null,null,null,null,null,null,null,null,null,null,null,null,null,null,null,null,null,null,null,null,null,null,null,null,null,null,null,null,null,null,null,null,null,null,null,null,null,null,null,{"$f":"SUM(BD26:BD73)","v":151.99999999999986},{"$f":"SUM(BE26:BE73)","v":25.999999999999993},0,3.9999999999999982,12.000000000000004,13.999999999999984,2,49.999999999999993,259.99999999999989,328,16]
["Обозначения:",null,null,null,null,null,null,{"$f":"\"- \" & BB24","v":"- Теоретическое обучение"},null,null,null,null,null,null,null,null,null,null,null,"Э",{"$f":"\"- \" & BE24","v":"- Экзаменационные сессии"},null,null,null,null,null,null,null,null,null,null,null,"У",{"$f":"\"- \" &BG24","v":"- Учебная практика"},null,null,null,null,null,null,null,null,null,"П",{"$f":"\"- \" &BH24","v":"- Другие Практики, НИР"},null,null,null,null,null,null,null,null,"число","- Наличие  распределенной практики или НИР",null,null,null,null,null,null,null,{"$f":"IF(B11=\"Сокращенный срок обучения на базе ВПО\",\" - Перезачтено\",\" - Переаттестовано\")","v":" - Переаттестовано"}]
[]
[null,null,null,null,null,null,"Д",{"$f":"\"- \"&BI24","v":"- Дипломная работа (ВКР)"},null,null,null,null,null,null,null,null,null,null,null,"Г",{"$f":"\"- \"&BJ24","v":"- Гос. Экзамены и защита"},null,null,null,null,null,null,null,null,null,null,null,"К",{"$f":"\"- \"&BK24","v":"- Каникулы"},null,null,null,null,null,null,null,null,null,"А",{"$f":"\"- \"&BF24","v":"- Итоговая Аттестация"},null,null,null,null,null,null,null,null,null,null,null,null,null,"=","- Неделя отсутствует"]

{"sheet":"План","index":1,"n_rows":1409,"n_cols":182,"rows_kept":281,"cut":true,"hidden":false,"merged":[[0,180,3,180],[2,137,3,137],[2,109,3,109],[2,110,3,110],[2,115,3,115],[2,116,3,116],[2,111,3,111],[0,77,3,77],[2,100,3,100],[2,104,3,104],[1,133,1,136],[2,135,3,135],[2,128,3,128],[2,117,3,117],[2,118,3,118],[2,119,3,119],[2,120,3,120],[2,122,3,122],[2,125,3,125],[1,117,1,120],[1,121,1,124],[1,125,1,128],[2,112,3,112],[2,91,3,91],[2,143,3,143],[2,139,3,139],[2,140,3,140],[2,141,3,141],[2,142,3,142],[0,81,3,81],[2,138,3,138],[1,105,1,108],[1,109,1,112],[1,113,1,116],[2,105,3,105],[2,106,3,106],[2,107,3,107],[2,108,3,108],[2,121,3,121],[2,127,3,127],[1,97,1,100],[2,97,3,97],[2,98,3,98],[1,101,1,104],[2,99,3,99],[2,101,3,101],[2,102,3,102],[2,103,3,103],[1,0,3,0],[2,6,3,6],[2,8,3,8],[2,2,3,2],[2,3,3,3],[2,5,3,5],[1,1,3,1],[1,2,1,5],[2,7,3,7],[1,8,1,10],[2,86,3,86],[1400,2,1400,9],[2,9,3,9],[1397,2,1397,9],[2,10,3,10],[1396,2,1396,10],[1,11,1,18],[1399,2,1399,9],[1,6,1,7],[2,85,3,85],[1398,2,1398,9],[2,4,3,4],[1,59,1,66],[0,76,3,76],[2,146,3,146],[2,147,3,147],[0,11,0,58],[1,51,1,58],[1,35,1,42],[1,19,1,26],[1,27,1,34],[0,67,3,67],[1,43,1,50],[2,93,3,93],[0,83,0,87],[0,88,3,88],[2,87,3,87],[2,89,3,89],[2,92,3,92],[2,84,3,84],[1,89,1,92],[1,93,1,96],[2,90,3,90],[2,83,3,83],[1,83,1,86],[2,94,3,94],[2,95,3,95],[2,96,3,96],[0,179,3,179],[2,148,3,148],[2,113,3,113],[2,123,3,123],[2,124,3,124],[2,114,3,114],[2,126,3,126],[0,177,3,177],[2,136,3,136],[2,129,3,129],[2,130,3,130],[2,131,3,131],[2,132,3,132],[2,133,3,133],[2,134,3,134],[0,175,3,175],[1,129,1,132],[1,137,1,140],[1,141,1,144],[2,144,3,144],[0,176,3,176],[0,171,3,171],[1,145,1,148],[2,145,3,145]],"bounds":{"rows_first":125,"rows_last":31,"rows_between":125,"halvings":4}}
[null,null,null,null,null,null,null,null,null,null,null,"Распределение по курсам и семестрам",null,null,null,null,null,null,null,null,null,null,null,null,null,null,null,null,null,null,null,null,null,null,null,null,null,null,null,null,null,null,null,null,null,null,null,null,null,null,null,null,null,null,null,null,null,null,null,null,null,null,null,null,null,null,null,"Закрепленная кафедра","КСР",null,null,null,null,null,null,null,"Общая трудоемкость","Индикатор итогового",2,null,{"$f":"IF(OR(CA1>0,TRIM(B1)<>\"\"),1,0)","v":1},null,null,{"$f":"\"Уже изучено и \"&IF(Титул!B11=\"Сокращенный срок обучения на базе ВПО\",\"перзачтено\",\"переаттестовано\")","v":"Уже изучено и переаттестовано"},null,null,null,null,"Всего подлежит изучению (час)",null,null,null,null,null,null,null,null,null,null,null,null,null,null,null,null,null,null,null,null,null,null,null,null,null,null,null,null,null,null,null,null,null,null,null,null,null,null,null,null,null,null,null,null,null,null,null,null,null,null,null,null,null,null,null,null,null,null,null,null,null,1,1,1,1,1,1,1,1,1,1,1,1,1,1,null,null,null,null,6,65,"Ф","Индикатор дисциплины без учета контроля",null,null,null,"Всего ЗЕТ (эксперт)","Всего ЗЕТ по Плану","Перечень реализуемых компетенций",{"$f":"LEFT(Рабочий!B95,1)=\"С\"","v":false},"В интерактивной форме, час","Накоплено по листам курсов, ЗЕТ"]
["№","Название дисциплины","По семестрам",null,null,null,"Часов",null,{"$f":"IF(ПерезачтеноВсего>0,\"По сокращенной\",\"В том числе\")","v":"В том числе"},null,null,"1 курс",null,null,null,null,null,null,null,"2 курс",null,null,null,null,null,null,null,"3 курс",null,null,null,null,null,null,null,"4 курс",null,null,null,null,null,null,null,"5 курс",null,null,null,null,null,null,null,"6 курс",null,null,null,null,null,null,null,"7 курс",null,null,null,null,null,null,null,null,"ИЗ",null,null,null,null,null,null,null,null,null,2,null,{"$f":"IF(OR(CA2>0,TRIM(B2)<>\"\"),1,0)","v":1},null,null,"Контроль (сем)",null,null,null,"Час",null,"1",null,null,null,"2",null,null,null,"3",null,null,null,"4",null,null,null,"5",null,null,null,"6",null,null,null,"7",null,null,null,"8",null,null,null,"9",null,null,null,"A",null,null,null,"B",null,null,null,"C",null,null,null,"D",null,null,null,"E",null,null,null,"Перезачет",null,null,null,null,1,1,1,1,1,1,1,1,1,1,1,1,1,1,null,null,null,null,66,99,"Р"]
[null,null,"Экзамены","Зачеты","Курсовые проекты, контрольные (к), рефераты (р), эссе (э), РГР (г), Оц. (о)","Курсовые работы",{"$f":"IF(СЭкзаменами,\"Всего с Эк\",\"Всего\")","v":"Всего"},{"$f":"IF(СЭкзаменами,\"Всего по ГОС или по ЗЕТ с Эк\",\"Всего по ГОС или по ЗЕТ\")","v":"Всего по ГОС или по ЗЕТ"},"Аудиторные","КСР","Сам.работа",1,"сем",{"$f":"Недель1-IF(isFGOS,Курс1!L4,0)","v":17.999999999999989},"нед",2,"сем",{"$f":"Недель2-IF(isFGOS,Курс1!V4,0)","v":17.999999999999989},"нед",3,"сем",{"$f":"Недель3-IF(isFGOS,Курс2!L4,0)","v":17.999999999999989},"нед",4,"сем",{"$f":"Недель4-IF(isFGOS,Курс2!V4,0)","v":17.999999999999989},"нед",5,"сем",{"$f":"Недель5-IF(isFGOS,Курс3!L4,0)","v":17.999999999999989},"нед",6,"сем",{"$f":"Недель6-IF(isFGOS,Курс3!V4,0)","v":13.999999999999984},"нед",7,"сем",{"$f":"Недель7-IF(isFGOS,Курс4!L4,0)","v":17.999999999999989},"нед",8,"сем",{"$f":"Недель8-IF(isFGOS,Курс4!V4,0)","v":14.99999999999998},"нед","9","сем",{"$f":"Недель9-IF(isFGOS,Курс5!L4,0)","v":14.99999999999998},"нед","A","сем",{"$f":"Недель10-IF(isFGOS,Курс5!V4,0)","v":0},"нед","B","сем",{"$f":"Недель11-IF(isFGOS,Курс6!L4,0)","v":0},"нед","C","сем",{"$f":"Недель12-IF(isFGOS,Курс6!V4,0)","v":0},"нед","D","сем",{"$f":"Недель13-IF(isFGOS,Курс7!L4,0)","v":0},"нед","E","сем",{"$f":"Недель14-IF(isFGOS,Курс7!V4,0)","v":0},"нед",null,"По курсам",null,null,null,null,null,null,null,null,null,2,null,{"$f":"IF(OR(CA3>0,TRIM(B3)<>\"\"),1,0)","v":1},null,null,"Экзамены","Зачеты",{"$f":"E3","v":"Курсовые проекты, контрольные (к), рефераты (р), эссе (э), РГР (г), Оц. (о)"},"Курсовые работы",{"$f":"IF(Титул!B11=\"Сокращенный срок обучения на базе ВПО\",\"Всего перезачтено\",\"Всего переаттест.\")","v":"Всего переаттест."},null,"Экзамены","Зачеты","Курсовые проекты","Курсовые работы","Экзамены","Зачеты","Курсовые проекты","Курсовые работы","Экзамены","Зачеты","Курсовые проекты","Курсовые работы","Экзамены","Зачеты","Курсовые проекты","Курсовые работы","Экзамены","Зачеты","Курсовые проекты","Курсовые работы","Экзамены","Зачеты","Курсовые проекты","Курсовые работы","Экзамены","Зачеты","Курсовые проекты","Курсовые работы","Экзамены","Зачеты","Курсовые проекты","Курсовые работы","Экзамены","Зачеты","Курсовые проекты","Курсовые работы","Экзамены","Зачеты","Курсовые проекты","Курсовые работы","Экзамены","Зачеты","Курсовые проекты","Курсовые работы","Экзамены","Зачеты","Курсовые проекты","Курсовые работы","Экзамены","Зачеты","Курсовые проекты","Курсовые работы","Экзамены","Зачеты","Курсовые проекты","Курсовые работы","Экзамены","Зачеты","Курсовые проекты","Курсовые работы",null,1,1,1,1,1,1,1,1,1,1,1,1,1,1,null,null,null,null,103,109,"В"]
[null,null,null,null,null,null,null,null,null,null,null,"Лекций","Лабораторных","Практических",{"$f":"КСР","v":"КСР"},"Лекций","Лабораторных","Практических",{"$f":"КСР","v":"КСР"},"Лекций","Лабораторных","Практических",{"$f":"КСР","v":"КСР"},"Лекций","Лабораторных","Практических",{"$f":"КСР","v":"КСР"},"Лекций","Лабораторных","Практических",{"$f":"КСР","v":"КСР"},"Лекций","Лабораторных","Практических",{"$f":"КСР","v":"КСР"},"Лекций","Лабораторных","Практических",{"$f":"КСР","v":"КСР"},"Лекций","Лабораторных","Практических",{"$f":"КСР","v":"КСР"},"Лекций","Лабораторных","Практических",{"$f":"КСР","v":"КСР"},"Лекций","Лабораторных","Практических",{"$f":"КСР","v":"КСР"},"Лекций","Лабораторных","Практических",{"$f":"КСР","v":"КСР"},"Лекций","Лабораторных","Практических",{"$f":"КСР","v":"КСР"},"Лекций","Лабораторных","Практических",{"$f":"КСР","v":"КСР"},"Лекций","Лабораторных","Практических",{"$f":"КСР","v":"КСР"},null,1,2,3,4,5,6,7,"Ку",null,null,2,null,{"$f":"IF(OR(CA4>0,TRIM(B4)<>\"\"),1,0)","v":1},null,null,null,null,null,null,null,null,null,null,null,null,null,null,null,null,null,null,null,null,null,null,null,null,null,null,null,null,null,null,null,null,null,null,null,null,null,null,null,null,null,null,null,null,null,null,null,null,null,null,null,null,null,null,null,null,null,null,null,null,null,null,null,null,null,null,null,null,null,1,2,3,4,5,6,7,8,9,10,11,12,13,14,"Признак названия разделов","Признак раздела","Индикатор физкультуры","Номер блока",113,119,"В",null,null,null,"Часов в кредите"]
[{"$f":"IF(isFGOS,\"[\"&Свод!E21&\";\"&Свод!F21&\"]\",НормаГСЭ)","v":1800},{"$f":"Рабочий!B95","v":"ГСЭ"},{"$f":"IF(OR(B100<>\"\",A5>0),Рабочий!C95,\"\")","v":"Цикл общих гуманитарных и социально-экономических дисциплин"},null,null,null,null,null,null,null,null,null,null,null,null,null,null,null,null,{"$f":"IF(isFGOS,\"   Всего ЗЕТ: \"&FU232&\"=\"&FU5&\"+\"&FU232-FU5,\"\")","v":""},null,null,null,null,null,null,null,null,null,null,null,null,null,null,null,null,null,null,null,null,null,null,null,null,null,null,null,null,null,null,null,null,null,null,null,null,null,null,null,null,null,null,null,null,null,null,null,null,null,null,null,null,null,null,null,null,null,null,{"$f":"IF(TRIM(B6)<>\"\",2,0)","v":2},null,{"$f":"IF(OR(CA5>0,TRIM(B5)<>\"\"),1,0)","v":1},null,null,null,null,null,null,null,null,null,null,null,null,null,null,null,null,null,null,null,null,null,null,null,null,null,null,null,null,null,null,null,null,null,null,null,null,null,null,null,null,null,null,null,null,null,null,null,null,null,null,null,null,null,null,null,null,null,null,null,null,null,null,null,null,null,null,null,null,null,{"$f":"IF(SUM(EU6:EU99)>0,1,0)","v":1},1,1,1,1,1,1,1,0,0,0,0,0,0,0,0,null,null,123,129,"В",null,null,null,null,null,{"$f":"SUMIF($FI6:$FI65,\"=0\",FU6:FU65)-SUMIF(План!$FK6:$FK65,\"=1\",План!FU6:FU65)","v":26.5},null,null,null,{"$f":"SUMIF($FI6:$FI65,\"=0\",FY6:FY65)-SUMIF(План!$FK6:$FK65,\"=1\",План!FY6:FY65)","v":26.5}]
[{"$f":"IF(TRIM(B6)<>\"\",B$5&IF(isFGOS,\".Б.\",\".Ф.\")&FQ6&IF(FR6>0,\".\"&FR6,\"\"),\"\")","v":"ГСЭ.Ф.1"},"Иностранный язык","4","123",null,null,{"$f":"IF($FI6>0,$FW6,SUM(I6:K6)+CJ6+IF(СЭкзаменами,SUMIF(Курс1!$AL$7:$AL$75,\"=\"&ROW(),Курс1!$AA$7:$AA$75)+SUMIF(Курс2!$AL$7:$AL$75,\"=\"&ROW(),Курс2!$AA$7:$AA$75)+SUMIF(Курс3!$AL$7:$AL$75,\"=\"&ROW(),Курс3!$AA$7:$AA$75)+SUMIF(Курс4!$AL$7:$AL$75,\"=\"&ROW(),Курс4!$AA$7:$AA$75)+SUMIF(Курс5!$AL$7:$AL$75,\"=\"&ROW(),Курс5!$AA$7:$AA$75)+SUMIF(Курс6!$AL$7:$AL$75,\"=\"&ROW(),Курс6!$AA$7:$AA$75)+SUMIF(Курс7!$AL$7:$AL$75,\"=\"&ROW(),Курс7!$AA$7:$AA$75),0))","v":340},340,{"$f":"SUM(L6:N6)+SUM(P6:R6)+SUM(T6:V6)+SUM(X6:Z6)+SUM(AB6:AD6)+SUM(AF6:AH6)+SUM(AJ6:AL6)+SUM(AN6:AP6)+SUM(AR6:AT6)+SUM(AV6:AX6)+SUM(AZ6:BB6)+SUM(BD6:BF6)+SUM(BH6:BJ6)+SUM(BL6:BN6)","v":180},{"$f":"O6+S6+W6+AA6+AE6+AI6+AM6+AQ6+AU6+AY6+BC6+BG6+BK6+BO6","v":0},160,null,null,54,null,null,null,36,null,null,null,36,null,null,null,54,null,null,null,null,null,null,null,null,null,null,null,null,null,null,null,null,null,null,null,null,null,null,null,null,null,null,null,null,null,null,null,null,null,null,null,null,null,null,null,null,null,3,{"$f":"IF(SUM($L6:$S6)>0,SUM($L6:$S6)/SUM($L6:$BO6),0)","v":0.5},{"$f":"IF(SUM($T6:$AA6)>0,SUM($T6:$AA6)/SUM($L6:$BO6),0)","v":0.5},{"$f":"IF(SUM($AB6:$AI6)>0,SUM($AB6:$AI6)/SUM($L6:$BO6),0)","v":0},{"$f":"IF(SUM($AJ6:$AQ6)>0,SUM($AJ6:$AQ6)/SUM($L6:$BO6),0)","v":0},{"$f":"IF(SUM($AR6:$AY6)>0,SUM($AR6:$AY6)/SUM($L6:$BO6),0)","v":0},{"$f":"IF(SUM($AZ6:$BG6)>0,SUM($AZ6:$BG6)/SUM($L6:$BO6),0)","v":0},{"$f":"IF(SUM($BH6:$BO6)>0,SUM($BH6:$BO6)/SUM($L6:$BO6),0)","v":0},0,{"$f":"IF(FI6=0,$H6*MAX(1,$BX6)*($BQ6*Конт1+$BR6*Конт2+$BS6*Конт3+$BT6*Конт4+$BU6*Конт5+$BV6*Конт6)/IF(СреднееКСГ>0,СреднееКСГ,21)+((CL6+CP6)*Экз+(CM6+CQ6)*Зач+(CN6+CR6)*Проект+(CO6+CS6)*Работа)*Конт1+((CT6+CX6)*Экз+(CU6+CY6)*Зач+(CV6+CZ6)*Проект+(CW6+DA6)*Работа)*Конт2+((DB6+DF6)*Экз+(DC6+DG6)*Зач+(DD6+DH6)*Проект+(DE6+DI6)*Работа)*Конт3+((DJ6+DN6)*Экз+(DK6+DO6)*Зач+(DL6+DP6)*Проект+(DM6+DQ6)*Работа)*Конт4+((DR6+DV6)*Экз+(DO6+DW6)*Зач+(DT6+DX6)*Проект+(DU6+DY6)*Работа)*Конт5+((DZ6+ED6)*Экз+(EA6+EE6)*Зач+(EB6+EF6)*Проект+(EC6+EG6)*Работа)*Конт6,0)","v":580.18095238095236},{"$f":"IF(AND(UPPER(LEFT(B6,8))=\"ИТОГОВЫЙ\",TRIM(C6)<>\"\"),1,0)","v":0},{"$f":"IF(SUM(G6:H6)=0,0,IF(SUM(L6:O6,T6:W6,AB6:AE6,AJ6:AM6,AR6:AU6,AZ6:BC6)=0,3,IF(SUM(P6:S6,X6:AA6,AF6:AI6,AN6:AQ6,AV6:AY6,BD6:BG6)=0,1,2)))","v":2},{"$f":"IF(OR(TRIM(B6)=\"\",FJ6=1),0,1)","v":1},1,null,{"$f":"CL6+CP6+CT6+CX6+DB6+DF6+DJ6+DN6+DR6+DV6+DZ6+ED6+CM6+CQ6+CU6+CY6+DC6+DG6+DK6+DO6+DS6+DW6+EA6+EE6","v":4},null,null,null,null,0,{"$f":"SUM(I6:K6)","v":340},{"$f":"IF(OR($FI6=1,$FP6=1),0,IF(ISNUMBER(FIND(CL$2,$C6,1)),MAX(1-$BZ6,0),0))","v":0},{"$f":"IF(OR($FI6=1,$FP6=1),0,IF(ISNUMBER(FIND(CL$2,$D6,1)),1,0))","v":1},{"$f":"IF(ISNUMBER(FIND(CL$2,$E6,1)),IF(OR(FI6=1,$FP6=1),0,1),0)","v":0},{"$f":"IF(ISNUMBER(FIND(CL$2,$F6,1)),IF(OR(FI6=1,$FP6=1),0,1),0)","v":0},{"$f":"IF(OR($FI6=1,$FP6=1),0,IF(ISNUMBER(FIND(CP$2,$C6,1)),MAX(1-$BZ6,0),0))","v":0},{"$f":"IF(OR($FI6=1,$FP6=1),0,IF(ISNUMBER(FIND(CP$2,$D6,1)),1,0))","v":1},{"$f":"IF(ISNUMBER(FIND(CP$2,$E6,1)),IF(OR(FI6=1,$FP6=1),0,1),0)","v":0},{"$f":"IF(ISNUMBER(FIND(CP$2,$F6,1)),IF(OR($FI6=1,$FP6=1),0,1),0)","v":0},{"$f":"IF(OR($FI6=1,$FP6=1),0,IF(ISNUMBER(FIND(CT$2,$C6,1)),MAX(1-$BZ6,0),0))","v":0},{"$f":"IF(OR($FI6=1,$FP6=1),0,IF(ISNUMBER(FIND(CT$2,$D6,1)),1,0))","v":1},{"$f":"IF(ISNUMBER(FIND(CT$2,$E6,1)),IF(OR($FI6=1,$FP6=1),0,1),0)","v":0},{"$f":"IF(ISNUMBER(FIND(CT$2,$F6,1)),IF(OR($FI6=1,$FP6=1),0,1),0)","v":0},{"$f":"IF(OR($FI6=1,$FP6=1),0,IF(ISNUMBER(FIND(CX$2,$C6,1)),MAX(1-$BZ6,0),0))","v":1},{"$f":"IF(OR($FI6=1,$FP6=1),0,IF(ISNUMBER(FIND(CX$2,$D6,1)),1,0))","v":0},{"$f":"IF(ISNUMBER(FIND(CX$2,$E6,1)),IF(OR($FI6=1,$FP6=1),0,1),0)","v":0},{"$f":"IF(ISNUMBER(FIND(CX$2,$F6,1)),IF(OR($FI6=1,$FP6=1),0,1),0)","v":0},{"$f":"IF(OR($FI6=1,$FP6=1),0,IF(ISNUMBER(FIND(DB$2,$C6,1)),MAX(1-$BZ6,0),0))","v":0},{"$f":"IF(OR($FI6=1,$FP6=1),0,IF(ISNUMBER(FIND(DB$2,$D6,1)),1,0))","v":0},{"$f":"IF(ISNUMBER(FIND(DB$2,$E6,1)),IF(OR($FI6=1,$FP6=1),0,1),0)","v":0},{"$f":"IF(ISNUMBER(FIND(DB$2,$F6,1)),IF(OR($FI6=1,$FP6=1),0,1),0)","v":0},{"$f":"IF(OR($FI6=1,$FP6=1),0,IF(ISNUMBER(FIND(DF$2,$C6,1)),MAX(1-$BZ6,0),0))","v":0},{"$f":"IF(OR($FI6=1,$FP6=1),0,IF(ISNUMBER(FIND(DF$2,$D6,1)),1,0))","v":0},{"$f":"IF(ISNUMBER(FIND(DF$2,$E6,1)),IF(OR($FI6=1,$FP6=1),0,1),0)","v":0},{"$f":"IF(ISNUMBER(FIND(DF$2,$F6,1)),IF(OR($FI6=1,$FP6=1),0,1),0)","v":0},{"$f":"IF(OR($FI6=1,$FP6=1),0,IF(ISNUMBER(FIND(DJ$2,$C6,1)),MAX(1-$BZ6,0),0))","v":0},{"$f":"IF(OR($FI6=1,$FP6=1),0,IF(ISNUMBER(FIND(DJ$2,$D6,1)),1,0))","v":0},{"$f":"IF(ISNUMBER(FIND(DJ$2,$E6,1)),IF(OR($FI6=1,$FP6=1),0,1),0)","v":0},{"$f":"IF(ISNUMBER(FIND(DJ$2,$F6,1)),IF(OR($FI6=1,$FP6=1),0,1),0)","v":0},{"$f":"IF(OR($FI6=1,$FP6=1),0,IF(ISNUMBER(FIND(DN$2,$C6,1)),MAX(1-$BZ6,0),0))","v":0},{"$f":"IF(OR($FI6=1,$FP6=1),0,IF(ISNUMBER(FIND(DN$2,$D6,1)),1,0))","v":0},{"$f":"IF(ISNUMBER(FIND(DN$2,$E6,1)),IF(OR($FI6=1,$FP6=1),0,1),0)","v":0},{"$f":"IF(ISNUMBER(FIND(DN$2,$F6,1)),IF(OR($FI6=1,$FP6=1),0,1),0)","v":0},{"$f":"IF(OR($FI6=1,$FP6=1),0,IF(ISNUMBER(FIND(DR$2,$C6,1)),MAX(1-$BZ6,0),0))","v":0},{"$f":"IF(OR($FI6=1,$FP6=1),0,IF(ISNUMBER(FIND(DR$2,$D6,1)),1,0))","v":0},{"$f":"IF(ISNUMBER(FIND(DR$2,$E6,1)),IF(OR($FI6=1,$FP6=1),0,1),0)","v":0},{"$f":"IF(ISNUMBER(FIND(DR$2,$F6,1)),IF(OR($FI6=1,$FP6=1),0,1),0)","v":0},{"$f":"IF(OR($FI6=1,$FP6=1),0,IF(ISNUMBER(FIND(DV$2,$C6,1)),MAX(1-$BZ6,0),0))","v":0},{"$f":"IF(OR($FI6=1,$FP6=1),0,IF(ISNUMBER(FIND(DV$2,$D6,1)),1,0))","v":0},{"$f":"IF(ISNUMBER(FIND(DV$2,$E6,1)),IF(OR($FI6=1,$FP6=1),0,1),0)","v":0},{"$f":"IF(ISNUMBER(FIND(DV$2,$F6,1)),IF(OR($FI6=1,$FP6=1),0,1),0)","v":0},{"$f":"IF(OR($FI6=1,$FP6=1),0,IF(ISNUMBER(FIND(DZ$2,$C6,1)),MAX(1-$BZ6,0),0))","v":0},{"$f":"IF(OR($FI6=1,$FP6=1),0,IF(ISNUMBER(FIND(DZ$2,$D6,1)),1,0))","v":0},{"$f":"IF(ISNUMBER(FIND(DZ$2,$E6,1)),IF(OR($FI6=1,$FP6=1),0,1),0)","v":0},{"$f":"IF(ISNUMBER(FIND(DZ$2,$F6,1)),IF(OR($FI6=1,$FP6=1),0,1),0)","v":0},{"$f":"IF(OR($FI6=1,$FP6=1),0,IF(ISNUMBER(FIND(ED$2,$C6,1)),MAX(1-$BZ6,0),0))","v":0},{"$f":"IF(OR($FI6=1,$FP6=1),0,IF(ISNUMBER(FIND(ED$2,$D6,1)),1,0))","v":0},{"$f":"IF(ISNUMBER(FIND(ED$2,$E6,1)),IF(OR($FI6=1,$FP6=1),0,1),0)","v":0},{"$f":"IF(ISNUMBER(FIND(ED$2,$F6,1)),IF(OR($FI6=1,$FP6=1),0,1),0)","v":0},{"$f":"IF(OR($FI6=1,$FP6=1),0,IF(ISNUMBER(FIND(EH$2,$C6,1)),MAX(1-$BZ6,0),0))","v":0},{"$f":"IF(OR($FI6=1,$FP6=1),0,IF(ISNUMBER(FIND(EH$2,$D6,1)),1,0))","v":0},{"$f":"IF(ISNUMBER(FIND(EH$2,$E6,1)),IF(OR($FI6=1,$FP6=1),0,1),0)","v":0},{"$f":"IF(ISNUMBER(FIND(EH$2,$F6,1)),IF(OR($FI6=1,$FP6=1),0,1),0)","v":0},{"$f":"IF(OR($FI6=1,$FP6=1),0,IF(ISNUMBER(FIND(EL$2,$C6,1)),MAX(1-$BZ6,0),0))","v":0},{"$f":"IF(OR($FI6=1,$FP6=1),0,IF(ISNUMBER(FIND(EL$2,$D6,1)),1,0))","v":0},{"$f":"IF(ISNUMBER(FIND(EL$2,$E6,1)),IF(OR($FI6=1,$FP6=1),0,1),0)","v":0},{"$f":"IF(ISNUMBER(FIND(EL$2,$F6,1)),IF(OR($FI6=1,$FP6=1),0,1),0)","v":0},{"$f":"IF(OR($FI6=1,$FP6=1),0,LEN(TRIM(CF6)))","v":0},{"$f":"IF(OR($FI6=1,$FP6=1),0,LEN(TRIM(CG6)))","v":0},{"$f":"FormKontroljaInRange(CH6)","v":0},{"$f":"IF(OR($FI6=1,$FP6=1),0,LEN(TRIM(CI6)))","v":0},null,{"$f":"IF(SUM(L6:O6)>0,1,0)","v":1},{"$f":"IF(SUM(P6:S6)>0,1,0)","v":1},{"$f":"IF(SUM(T6:W6)>0,1,0)","v":1},{"$f":"IF(SUM(X6:AA6)>0,1,0)","v":1},{"$f":"IF(SUM(AB6:AE6)>0,1,0)","v":0},{"$f":"IF(SUM(AF6:AI6)>0,1,0)","v":0},{"$f":"IF(SUM(AJ6:AM6)>0,1,0)","v":0},{"$f":"IF(SUM(AN6:AQ6)>0,1,0)","v":0},{"$f":"IF(SUM(AR6:AU6)>0,1,0)","v":0},{"$f":"IF(SUM(AV6:AY6)>0,1,0)","v":0},{"$f":"IF(SUM(AZ6:BC6)>0,1,0)","v":0},{"$f":"IF(SUM(BD6:BG6)>0,1,0)","v":0},{"$f":"IF(SUM(BH6:BK6)>0,1,0)","v":0},{"$f":"IF(SUM(BL6:BO6)>0,1,0)","v":0},0,0,{"$f":"IF(AND(OR(LEFT(B6,19)=\"Физическая культура\",LEFT(B6,21)=\"Физическая подготовка\"),FI6<>1),1,0)","v":0},1,133,139,"В",0,{"$f":"SUM($CB$6:$CB6)","v":1},{"$f":"IF(FI5=1,1,IF(FJ6=1,FR5+1,0))","v":0},0,0,{"$f":"IF(FT6=0,FLOOR(IF(СЭкзаменами,H6,(H6+SUMIF(Курс1!$AL$7:$AL$75,\"=\"&ROW(),Курс1!$AA$7:$AA$75)+SUMIF(Курс2!$AL$7:$AL$75,\"=\"&ROW(),Курс2!$AA$7:$AA$75)+SUMIF(Курс3!$AL$7:$AL$75,\"=\"&ROW(),Курс3!$AA$7:$AA$75)+SUMIF(Курс4!$AL$7:$AL$75,\"=\"&ROW(),Курс4!$AA$7:$AA$75)+SUMIF(Курс5!$AL$7:$AL$75,\"=\"&ROW(),Курс5!$AA$7:$AA$75)+SUMIF(Курс6!$AL$7:$AL$75,\"=\"&ROW(),Курс6!$AA$7:$AA$75)+SUMIF(Курс7!$AL$7:$AL$75,\"=\"&ROW(),Курс7!$AA$7:$AA$75)))/IF(ЧасовВКредите>0,ЧасовВКредите,36),0.5),FT6)","v":10},"",null,0,{"$f":"SUMIF(Курс1!$AL$7:$AL$75,\"=\"&ROW(),Курс1!$AC$7:$AC$75)+SUMIF(Курс2!$AL$7:$AL$75,\"=\"&ROW(),Курс2!$AC$7:$AC$75)+SUMIF(Курс3!$AL$7:$AL$75,\"=\"&ROW(),Курс3!$AC$7:$AC$75)+SUMIF(Курс4!$AL$7:$AL$75,\"=\"&ROW(),Курс4!$AC$7:$AC$75)+SUMIF(Курс5!$AL$7:$AL$75,\"=\"&ROW(),Курс5!$AC$7:$AC$75)+SUMIF(Курс6!$AL$7:$AL$75,\"=\"&ROW(),Курс6!$AC$7:$AC$75)+SUMIF(Курс7!$AL$7:$AL$75,\"=\"&ROW(),Курс7!$AC$7:$AC$75)","v":10}]
["ГСЭ.Ф.2","Физическая культура",null,"12345678",null,null,{"$f":"IF($FI7>0,$FW7,SUM(I7:K7)+CJ7+IF(СЭкзаменами,SUMIF(Курс1!$AL$7:$AL$75,\"=\"&ROW(),Курс1!$AA$7:$AA$75)+SUMIF(Курс2!$AL$7:$AL$75,\"=\"&ROW(),Курс2!$AA$7:$AA$75)+SUMIF(Курс3!$AL$7:$AL$75,\"=\"&ROW(),Курс3!$AA$7:$AA$75)+SUMIF(Курс4!$AL$7:$AL$75,\"=\"&ROW(),Курс4!$AA$7:$AA$75)+SUMIF(Курс5!$AL$7:$AL$75,\"=\"&ROW(),Курс5!$AA$7:$AA$75)+SUMIF(Курс6!$AL$7:$AL$75,\"=\"&ROW(),Курс6!$AA$7:$AA$75)+SUMIF(Курс7!$AL$7:$AL$75,\"=\"&ROW(),Курс7!$AA$7:$AA$75),0))","v":408},408,{"$f":"SUM(L7:N7)+SUM(P7:R7)+SUM(T7:V7)+SUM(X7:Z7)+SUM(AB7:AD7)+SUM(AF7:AH7)+SUM(AJ7:AL7)+SUM(AN7:AP7)+SUM(AR7:AT7)+SUM(AV7:AX7)+SUM(AZ7:BB7)+SUM(BD7:BF7)+SUM(BH7:BJ7)+SUM(BL7:BN7)","v":378},{"$f":"O7+S7+W7+AA7+AE7+AI7+AM7+AQ7+AU7+AY7+BC7+BG7+BK7+BO7","v":0},30,8,null,28,null,6,null,48,null,8,null,46,null,6,null,48,null,4,null,50,null,4,null,38,null,null,null,54,null,null,null,30,null,null,null,null,null,null,null,null,null,null,null,null,null,null,null,null,null,null,null,null,null,null,null,null,null,21,{"$f":"IF(SUM($L7:$S7)>0,SUM($L7:$S7)/SUM($L7:$BO7),0)","v":0.23809523809523808},{"$f":"IF(SUM($T7:$AA7)>0,SUM($T7:$AA7)/SUM($L7:$BO7),0)","v":0.2857142857142857},{"$f":"IF(SUM($AB7:$AI7)>0,SUM($AB7:$AI7)/SUM($L7:$BO7),0)","v":0.25396825396825395},{"$f":"IF(SUM($AJ7:$AQ7)>0,SUM($AJ7:$AQ7)/SUM($L7:$BO7),0)","v":0.22222222222222221},{"$f":"IF(SUM($AR7:$AY7)>0,SUM($AR7:$AY7)/SUM($L7:$BO7),0)","v":0},{"$f":"IF(SUM($AZ7:$BG7)>0,SUM($AZ7:$BG7)/SUM($L7:$BO7),0)","v":0},{"$f":"IF(SUM($BH7:$BO7)>0,SUM($BH7:$BO7)/SUM($L7:$BO7),0)","v":0},0,1096.6349206349205,0,2,{"$f":"IF(OR(TRIM(B7)=\"\",FJ7=1),0,1)","v":1},1,null,0,null,null,null,null,0,408,{"$f":"IF(OR($FI7=1,$FP7=1),0,IF(ISNUMBER(FIND(CL$2,$C7,1)),MAX(1-$BZ7,0),0))","v":0},{"$f":"IF(OR($FI7=1,$FP7=1),0,IF(ISNUMBER(FIND(CL$2,$D7,1)),1,0))","v":0},{"$f":"IF(ISNUMBER(FIND(CL$2,$E7,1)),IF(OR(FI7=1,$FP7=1),0,1),0)","v":0},{"$f":"IF(ISNUMBER(FIND(CL$2,$F7,1)),IF(OR(FI7=1,$FP7=1),0,1),0)","v":0},{"$f":"IF(OR($FI7=1,$FP7=1),0,IF(ISNUMBER(FIND(CP$2,$C7,1)),MAX(1-$BZ7,0),0))","v":0},{"$f":"IF(OR($FI7=1,$FP7=1),0,IF(ISNUMBER(FIND(CP$2,$D7,1)),1,0))","v":0},{"$f":"IF(ISNUMBER(FIND(CP$2,$E7,1)),IF(OR(FI7=1,$FP7=1),0,1),0)","v":0},{"$f":"IF(ISNUMBER(FIND(CP$2,$F7,1)),IF(OR($FI7=1,$FP7=1),0,1),0)","v":0},{"$f":"IF(OR($FI7=1,$FP7=1),0,IF(ISNUMBER(FIND(CT$2,$C7,1)),MAX(1-$BZ7,0),0))","v":0},{"$f":"IF(OR($FI7=1,$FP7=1),0,IF(ISNUMBER(FIND(CT$2,$D7,1)),1,0))","v":0},{"$f":"IF(ISNUMBER(FIND(CT$2,$E7,1)),IF(OR($FI7=1,$FP7=1),0,1),0)","v":0},{"$f":"IF(ISNUMBER(FIND(CT$2,$F7,1)),IF(OR($FI7=1,$FP7=1),0,1),0)","v":0},{"$f":"IF(OR($FI7=1,$FP7=1),0,IF(ISNUMBER(FIND(CX$2,$C7,1)),MAX(1-$BZ7,0),0))","v":0},{"$f":"IF(OR($FI7=1,$FP7=1),0,IF(ISNUMBER(FIND(CX$2,$D7,1)),1,0))","v":0},{"$f":"IF(ISNUMBER(FIND(CX$2,$E7,1)),IF(OR($FI7=1,$FP7=1),0,1),0)","v":0},{"$f":"IF(ISNUMBER(FIND(CX$2,$F7,1)),IF(OR($FI7=1,$FP7=1),0,1),0)","v":0},{"$f":"IF(OR($FI7=1,$FP7=1),0,IF(ISNUMBER(FIND(DB$2,$C7,1)),MAX(1-$BZ7,0),0))","v":0},{"$f":"IF(OR($FI7=1,$FP7=1),0,IF(ISNUMBER(FIND(DB$2,$D7,1)),1,0))","v":0},{"$f":"IF(ISNUMBER(FIND(DB$2,$E7,1)),IF(OR($FI7=1,$FP7=1),0,1),0)","v":0},{"$f":"IF(ISNUMBER(FIND(DB$2,$F7,1)),IF(OR($FI7=1,$FP7=1),0,1),0)","v":0},{"$f":"IF(OR($FI7=1,$FP7=1),0,IF(ISNUMBER(FIND(DF$2,$C7,1)),MAX(1-$BZ7,0),0))","v":0},{"$f":"IF(OR($FI7=1,$FP7=1),0,IF(ISNUMBER(FIND(DF$2,$D7,1)),1,0))","v":0},{"$f":"IF(ISNUMBER(FIND(DF$2,$E7,1)),IF(OR($FI7=1,$FP7=1),0,1),0)","v":0},{"$f":"IF(ISNUMBER(FIND(DF$2,$F7,1)),IF(OR($FI7=1,$FP7=1),0,1),0)","v":0},{"$f":"IF(OR($FI7=1,$FP7=1),0,IF(ISNUMBER(FIND(DJ$2,$C7,1)),MAX(1-$BZ7,0),0))","v":0},{"$f":"IF(OR($FI7=1,$FP7=1),0,IF(ISNUMBER(FIND(DJ$2,$D7,1)),1,0))","v":0},{"$f":"IF(ISNUMBER(FIND(DJ$2,$E7,1)),IF(OR($FI7=1,$FP7=1),0,1),0)","v":0},{"$f":"IF(ISNUMBER(FIND(DJ$2,$F7,1)),IF(OR($FI7=1,$FP7=1),0,1),0)","v":0},{"$f":"IF(OR($FI7=1,$FP7=1),0,IF(ISNUMBER(FIND(DN$2,$C7,1)),MAX(1-$BZ7,0),0))","v":0},{"$f":"IF(OR($FI7=1,$FP7=1),0,IF(ISNUMBER(FIND(DN$2,$D7,1)),1,0))","v":0},{"$f":"IF(ISNUMBER(FIND(DN$2,$E7,1)),IF(OR($FI7=1,$FP7=1),0,1),0)","v":0},{"$f":"IF(ISNUMBER(FIND(DN$2,$F7,1)),IF(OR($FI7=1,$FP7=1),0,1),0)","v":0},{"$f":"IF(OR($FI7=1,$FP7=1),0,IF(ISNUMBER(FIND(DR$2,$C7,1)),MAX(1-$BZ7,0),0))","v":0},{"$f":"IF(OR($FI7=1,$FP7=1),0,IF(ISNUMBER(FIND(DR$2,$D7,1)),1,0))","v":0},{"$f":"IF(ISNUMBER(FIND(DR$2,$E7,1)),IF(OR($FI7=1,$FP7=1),0,1),0)","v":0},{"$f":"IF(ISNUMBER(FIND(DR$2,$F7,1)),IF(OR($FI7=1,$FP7=1),0,1),0)","v":0},{"$f":"IF(OR($FI7=1,$FP7=1),0,IF(ISNUMBER(FIND(DV$2,$C7,1)),MAX(1-$BZ7,0),0))","v":0},{"$f":"IF(OR($FI7=1,$FP7=1),0,IF(ISNUMBER(FIND(DV$2,$D7,1)),1,0))","v":0},{"$f":"IF(ISNUMBER(FIND(DV$2,$E7,1)),IF(OR($FI7=1,$FP7=1),0,1),0)","v":0},{"$f":"IF(ISNUMBER(FIND(DV$2,$F7,1)),IF(OR($FI7=1,$FP7=1),0,1),0)","v":0},{"$f":"IF(OR($FI7=1,$FP7=1),0,IF(ISNUMBER(FIND(DZ$2,$C7,1)),MAX(1-$BZ7,0),0))","v":0},{"$f":"IF(OR($FI7=1,$FP7=1),0,IF(ISNUMBER(FIND(DZ$2,$D7,1)),1,0))","v":0},{"$f":"IF(ISNUMBER(FIND(DZ$2,$E7,1)),IF(OR($FI7=1,$FP7=1),0,1),0)","v":0},{"$f":"IF(ISNUMBER(FIND(DZ$2,$F7,1)),IF(OR($FI7=1,$FP7=1),0,1),0)","v":0},{"$f":"IF(OR($FI7=1,$FP7=1),0,IF(ISNUMBER(FIND(ED$2,$C7,1)),MAX(1-$BZ7,0),0))","v":0},{"$f":"IF(OR($FI7=1,$FP7=1),0,IF(ISNUMBER(FIND(ED$2,$D7,1)),1,0))","v":0},{"$f":"IF(ISNUMBER(FIND(ED$2,$E7,1)),IF(OR($FI7=1,$FP7=1),0,1),0)","v":0},{"$f":"IF(ISNUMBER(FIND(ED$2,$F7,1)),IF(OR($FI7=1,$FP7=1),0,1),0)","v":0},{"$f":"IF(OR($FI7=1,$FP7=1),0,IF(ISNUMBER(FIND(EH$2,$C7,1)),MAX(1-$BZ7,0),0))","v":0},{"$f":"IF(OR($FI7=1,$FP7=1),0,IF(ISNUMBER(FIND(EH$2,$D7,1)),1,0))","v":0},{"$f":"IF(ISNUMBER(FIND(EH$2,$E7,1)),IF(OR($FI7=1,$FP7=1),0,1),0)","v":0},{"$f":"IF(ISNUMBER(FIND(EH$2,$F7,1)),IF(OR($FI7=1,$FP7=1),0,1),0)","v":0},{"$f":"IF(OR($FI7=1,$FP7=1),0,IF(ISNUMBER(FIND(EL$2,$C7,1)),MAX(1-$BZ7,0),0))","v":0},{"$f":"IF(OR($FI7=1,$FP7=1),0,IF(ISNUMBER(FIND(EL$2,$D7,1)),1,0))","v":0},{"$f":"IF(ISNUMBER(FIND(EL$2,$E7,1)),IF(OR($FI7=1,$FP7=1),0,1),0)","v":0},{"$f":"IF(ISNUMBER(FIND(EL$2,$F7,1)),IF(OR($FI7=1,$FP7=1),0,1),0)","v":0},{"$f":"IF(OR($FI7=1,$FP7=1),0,LEN(TRIM(CF7)))","v":0},{"$f":"IF(OR($FI7=1,$FP7=1),0,LEN(TRIM(CG7)))","v":0},0,{"$f":"IF(OR($FI7=1,$FP7=1),0,LEN(TRIM(CI7)))","v":0},null,{"$f":"IF(SUM(L7:O7)>0,1,0)","v":1},1,1,1,1,1,1,1,0,0,0,{"$f":"IF(SUM(BD7:BG7)>0,1,0)","v":0},{"$f":"IF(SUM(BH7:BK7)>0,1,0)","v":0},{"$f":"IF(SUM(BL7:BO7)>0,1,0)","v":0},0,0,1,1,143,149,"В",1,{"$f":"SUM($CB$6:$CB7)","v":2},{"$f":"IF(FI6=1,1,IF(FJ7=1,FR6+1,0))","v":0},0,0,{"$f":"IF(FT7=0,FLOOR(IF(СЭкзаменами,H7,(H7+SUMIF(Курс1!$AL$7:$AL$75,\"=\"&ROW(),Курс1!$AA$7:$AA$75)+SUMIF(Курс2!$AL$7:$AL$75,\"=\"&ROW(),Курс2!$AA$7:$AA$75)+SUMIF(Курс3!$AL$7:$AL$75,\"=\"&ROW(),Курс3!$AA$7:$AA$75)+SUMIF(Курс4!$AL$7:$AL$75,\"=\"&ROW(),Курс4!$AA$7:$AA$75)+SUMIF(Курс5!$AL$7:$AL$75,\"=\"&ROW(),Курс5!$AA$7:$AA$75)+SUMIF(Курс6!$AL$7:$AL$75,\"=\"&ROW(),Курс6!$AA$7:$AA$75)+SUMIF(Курс7!$AL$7:$AL$75,\"=\"&ROW(),Курс7!$AA$7:$AA$75)))/IF(ЧасовВКредите>0,ЧасовВКредите,36),0.5),FT7)","v":11},"",null,0,{"$f":"SUMIF(Курс1!$AL$7:$AL$75,\"=\"&ROW(),Курс1!$AC$7:$AC$75)+SUMIF(Курс2!$AL$7:$AL$75,\"=\"&ROW(),Курс2!$AC$7:$AC$75)+SUMIF(Курс3!$AL$7:$AL$75,\"=\"&ROW(),Курс3!$AC$7:$AC$75)+SUMIF(Курс4!$AL$7:$AL$75,\"=\"&ROW(),Курс4!$AC$7:$AC$75)+SUMIF(Курс5!$AL$7:$AL$75,\"=\"&ROW(),Курс5!$AC$7:$AC$75)+SUMIF(Курс6!$AL$7:$AL$75,\"=\"&ROW(),Курс6!$AC$7:$AC$75)+SUMIF(Курс7!$AL$7:$AL$75,\"=\"&ROW(),Курс7!$AC$7:$AC$75)","v":11}]
["ГСЭ.Ф.3","Отечественная история","2",null,null,null,{"$f":"IF($FI8>0,$FW8,SUM(I8:K8)+CJ8+IF(СЭкзаменами,SUMIF(Курс1!$AL$7:$AL$75,\"=\"&ROW(),Курс1!$AA$7:$AA$75)+SUMIF(Курс2!$AL$7:$AL$75,\"=\"&ROW(),Курс2!$AA$7:$AA$75)+SUMIF(Курс3!$AL$7:$AL$75,\"=\"&ROW(),Курс3!$AA$7:$AA$75)+SUMIF(Курс4!$AL$7:$AL$75,\"=\"&ROW(),Курс4!$AA$7:$AA$75)+SUMIF(Курс5!$AL$7:$AL$75,\"=\"&ROW(),Курс5!$AA$7:$AA$75)+SUMIF(Курс6!$AL$7:$AL$75,\"=\"&ROW(),Курс6!$AA$7:$AA$75)+SUMIF(Курс7!$AL$7:$AL$75,\"=\"&ROW(),Курс7!$AA$7:$AA$75),0))","v":136},136,72,0,64,null,null,null,null,36,null,36,null,null,null,null,null,null,null,null,null,null,null,null,null,null,null,null,null,null,null,null,null,null,null,null,null,null,null,null,null,null,null,null,null,null,null,null,null,null,null,null,null,null,null,null,null,null,null,null,null,1,1,0,0,0,0,0,0,0,163.82857142857142,0,3,1,1,null,1,null,null,null,null,0,136,0,0,0,0,1,0,0,0,0,0,0,0,0,0,0,0,0,0,0,0,0,0,0,0,0,0,0,0,0,0,0,0,0,0,0,0,0,0,0,0,0,0,0,0,0,0,0,0,0,0,0,0,0,0,0,0,0,0,0,0,null,0,1,0,0,0,0,0,0,0,0,0,0,0,0,0,0,0,1,153,159,"В",0,{"$f":"SUM($CB$6:$CB8)","v":3},0,0,0,{"$f":"IF(FT8=0,FLOOR(IF(СЭкзаменами,H8,(H8+SUMIF(Курс1!$AL$7:$AL$75,\"=\"&ROW(),Курс1!$AA$7:$AA$75)+SUMIF(Курс2!$AL$7:$AL$75,\"=\"&ROW(),Курс2!$AA$7:$AA$75)+SUMIF(Курс3!$AL$7:$AL$75,\"=\"&ROW(),Курс3!$AA$7:$AA$75)+SUMIF(Курс4!$AL$7:$AL$75,\"=\"&ROW(),Курс4!$AA$7:$AA$75)+SUMIF(Курс5!$AL$7:$AL$75,\"=\"&ROW(),Курс5!$AA$7:$AA$75)+SUMIF(Курс6!$AL$7:$AL$75,\"=\"&ROW(),Курс6!$AA$7:$AA$75)+SUMIF(Курс7!$AL$7:$AL$75,\"=\"&ROW(),Курс7!$AA$7:$AA$75)))/IF(ЧасовВКредите>0,ЧасовВКредите,36),0.5),FT8)","v":4.5},"",null,0,{"$f":"SUMIF(Курс1!$AL$7:$AL$75,\"=\"&ROW(),Курс1!$AC$7:$AC$75)+SUMIF(Курс2!$AL$7:$AL$75,\"=\"&ROW(),Курс2!$AC$7:$AC$75)+SUMIF(Курс3!$AL$7:$AL$75,\"=\"&ROW(),Курс3!$AC$7:$AC$75)+SUMIF(Курс4!$AL$7:$AL$75,\"=\"&ROW(),Курс4!$AC$7:$AC$75)+SUMIF(Курс5!$AL$7:$AL$75,\"=\"&ROW(),Курс5!$AC$7:$AC$75)+SUMIF(Курс6!$AL$7:$AL$75,\"=\"&ROW(),Курс6!$AC$7:$AC$75)+SUMIF(Курс7!$AL$7:$AL$75,\"=\"&ROW(),Курс7!$AC$7:$AC$75)","v":4.5}]
["ГСЭ.Ф.4","Философия","3",null,null,null,{"$f":"IF($FI9>0,$FW9,SUM(I9:K9)+CJ9+IF(СЭкзаменами,SUMIF(Курс1!$AL$7:$AL$75,\"=\"&ROW(),Курс1!$AA$7:$AA$75)+SUMIF(Курс2!$AL$7:$AL$75,\"=\"&ROW(),Курс2!$AA$7:$AA$75)+SUMIF(Курс3!$AL$7:$AL$75,\"=\"&ROW(),Курс3!$AA$7:$AA$75)+SUMIF(Курс4!$AL$7:$AL$75,\"=\"&ROW(),Курс4!$AA$7:$AA$75)+SUMIF(Курс5!$AL$7:$AL$75,\"=\"&ROW(),Курс5!$AA$7:$AA$75)+SUMIF(Курс6!$AL$7:$AL$75,\"=\"&ROW(),Курс6!$AA$7:$AA$75)+SUMIF(Курс7!$AL$7:$AL$75,\"=\"&ROW(),Курс7!$AA$7:$AA$75),0))","v":144},144,72,0,72,null,null,null,null,null,null,null,null,36,null,36,null,null,null,null,null,null,null,null,null,null,null,null,null,null,null,null,null,null,null,null,null,null,null,null,null,null,null,null,null,null,null,null,null,null,null,null,null,null,null,null,null,null,null,null,null,2,0,1,0,0,0,0,0,0,309.90714285714284,0,1,1,1,null,1,null,null,null,null,0,144,0,0,0,0,0,0,0,0,1,0,0,0,0,0,0,0,0,0,0,0,0,0,0,0,0,0,0,0,0,0,0,0,0,0,0,0,0,0,0,0,0,0,0,0,0,0,0,0,0,0,0,0,0,0,0,0,0,0,0,0,null,0,0,1,0,0,0,0,0,0,0,0,0,0,0,0,0,0,1,163,169,"В",0,{"$f":"SUM($CB$6:$CB9)","v":4},0,0,0,{"$f":"IF(FT9=0,FLOOR(IF(СЭкзаменами,H9,(H9+SUMIF(Курс1!$AL$7:$AL$75,\"=\"&ROW(),Курс1!$AA$7:$AA$75)+SUMIF(Курс2!$AL$7:$AL$75,\"=\"&ROW(),Курс2!$AA$7:$AA$75)+SUMIF(Курс3!$AL$7:$AL$75,\"=\"&ROW(),Курс3!$AA$7:$AA$75)+SUMIF(Курс4!$AL$7:$AL$75,\"=\"&ROW(),Курс4!$AA$7:$AA$75)+SUMIF(Курс5!$AL$7:$AL$75,\"=\"&ROW(),Курс5!$AA$7:$AA$75)+SUMIF(Курс6!$AL$7:$AL$75,\"=\"&ROW(),Курс6!$AA$7:$AA$75)+SUMIF(Курс7!$AL$7:$AL$75,\"=\"&ROW(),Курс7!$AA$7:$AA$75)))/IF(ЧасовВКредите>0,ЧасовВКредите,36),0.5),FT9)","v":4.5},"",null,0,{"$f":"SUMIF(Курс1!$AL$7:$AL$75,\"=\"&ROW(),Курс1!$AC$7:$AC$75)+SUMIF(Курс2!$AL$7:$AL$75,\"=\"&ROW(),Курс2!$AC$7:$AC$75)+SUMIF(Курс3!$AL$7:$AL$75,\"=\"&ROW(),Курс3!$AC$7:$AC$75)+SUMIF(Курс4!$AL$7:$AL$75,\"=\"&ROW(),Курс4!$AC$7:$AC$75)+SUMIF(Курс5!$AL$7:$AL$75,\"=\"&ROW(),Курс5!$AC$7:$AC$75)+SUMIF(Курс6!$AL$7:$AL$75,\"=\"&ROW(),Курс6!$AC$7:$AC$75)+SUMIF(Курс7!$AL$7:$AL$75,\"=\"&ROW(),Курс7!$AC$7:$AC$75)","v":4.5}]
["ГСЭ.Ф.5","Психология и педагогика","2",null,null,null,{"$f":"IF($FI10>0,$FW10,SUM(I10:K10)+CJ10+IF(СЭкзаменами,SUMIF(Курс1!$AL$7:$AL$75,\"=\"&ROW(),Курс1!$AA$7:$AA$75)+SUMIF(Курс2!$AL$7:$AL$75,\"=\"&ROW(),Курс2!$AA$7:$AA$75)+SUMIF(Курс3!$AL$7:$AL$75,\"=\"&ROW(),Курс3!$AA$7:$AA$75)+SUMIF(Курс4!$AL$7:$AL$75,\"=\"&ROW(),Курс4!$AA$7:$AA$75)+SUMIF(Курс5!$AL$7:$AL$75,\"=\"&ROW(),Курс5!$AA$7:$AA$75)+SUMIF(Курс6!$AL$7:$AL$75,\"=\"&ROW(),Курс6!$AA$7:$AA$75)+SUMIF(Курс7!$AL$7:$AL$75,\"=\"&ROW(),Курс7!$AA$7:$AA$75),0))","v":108},108,54,0,54,null,null,null,null,36,null,18,null,null,null,null,null,null,null,null,null,null,null,null,null,null,null,null,null,null,null,null,null,null,null,null,null,null,null,null,null,null,null,null,null,null,null,null,null,null,null,null,null,null,null,null,null,null,null,null,null,4,1,0,0,0,0,0,0,0,131.82857142857142,0,3,1,1,null,1,null,null,null,null,0,108,0,0,0,0,1,0,0,0,0,0,0,0,0,0,0,0,0,0,0,0,0,0,0,0,0,0,0,0,0,0,0,0,0,0,0,0,0,0,0,0,0,0,0,0,0,0,0,0,0,0,0,0,0,0,0,0,0,0,0,0,null,0,1,0,0,0,0,0,0,0,0,0,0,0,0,0,0,0,1,173,179,"В",0,{"$f":"SUM($CB$6:$CB10)","v":5},0,0,0,{"$f":"IF(FT10=0,FLOOR(IF(СЭкзаменами,H10,(H10+SUMIF(Курс1!$AL$7:$AL$75,\"=\"&ROW(),Курс1!$AA$7:$AA$75)+SUMIF(Курс2!$AL$7:$AL$75,\"=\"&ROW(),Курс2!$AA$7:$AA$75)+SUMIF(Курс3!$AL$7:$AL$75,\"=\"&ROW(),Курс3!$AA$7:$AA$75)+SUMIF(Курс4!$AL$7:$AL$75,\"=\"&ROW(),Курс4!$AA$7:$AA$75)+SUMIF(Курс5!$AL$7:$AL$75,\"=\"&ROW(),Курс5!$AA$7:$AA$75)+SUMIF(Курс6!$AL$7:$AL$75,\"=\"&ROW(),Курс6!$AA$7:$AA$75)+SUMIF(Курс7!$AL$7:$AL$75,\"=\"&ROW(),Курс7!$AA$7:$AA$75)))/IF(ЧасовВКредите>0,ЧасовВКредите,36),0.5),FT10)","v":3.5},"",null,0,{"$f":"SUMIF(Курс1!$AL$7:$AL$75,\"=\"&ROW(),Курс1!$AC$7:$AC$75)+SUMIF(Курс2!$AL$7:$AL$75,\"=\"&ROW(),Курс2!$AC$7:$AC$75)+SUMIF(Курс3!$AL$7:$AL$75,\"=\"&ROW(),Курс3!$AC$7:$AC$75)+SUMIF(Курс4!$AL$7:$AL$75,\"=\"&ROW(),Курс4!$AC$7:$AC$75)+SUMIF(Курс5!$AL$7:$AL$75,\"=\"&ROW(),Курс5!$AC$7:$AC$75)+SUMIF(Курс6!$AL$7:$AL$75,\"=\"&ROW(),Курс6!$AC$7:$AC$75)+SUMIF(Курс7!$AL$7:$AL$75,\"=\"&ROW(),Курс7!$AC$7:$AC$75)","v":3.5}]
["ГСЭ.Ф.6","Экономика","4",null,null,null,{"$f":"IF($FI11>0,$FW11,SUM(I11:K11)+CJ11+IF(СЭкзаменами,SUMIF(Курс1!$AL$7:$AL$75,\"=\"&ROW(),Курс1!$AA$7:$AA$75)+SUMIF(Курс2!$AL$7:$AL$75,\"=\"&ROW(),Курс2!$AA$7:$AA$75)+SUMIF(Курс3!$AL$7:$AL$75,\"=\"&ROW(),Курс3!$AA$7:$AA$75)+SUMIF(Курс4!$AL$7:$AL$75,\"=\"&ROW(),Курс4!$AA$7:$AA$75)+SUMIF(Курс5!$AL$7:$AL$75,\"=\"&ROW(),Курс5!$AA$7:$AA$75)+SUMIF(Курс6!$AL$7:$AL$75,\"=\"&ROW(),Курс6!$AA$7:$AA$75)+SUMIF(Курс7!$AL$7:$AL$75,\"=\"&ROW(),Курс7!$AA$7:$AA$75),0))","v":124},124,72,0,52,null,null,null,null,null,null,null,null,null,null,null,null,36,null,36,null,null,null,null,null,null,null,null,null,null,null,null,null,null,null,null,null,null,null,null,null,null,null,null,null,null,null,null,null,null,null,null,null,null,null,null,null,null,null,null,null,10,0,1,0,0,0,0,0,0,268.95476190476188,0,3,1,1,null,1,null,null,null,null,0,124,0,0,0,0,0,0,0,0,0,0,0,0,1,0,0,0,0,0,0,0,0,0,0,0,0,0,0,0,0,0,0,0,0,0,0,0,0,0,0,0,0,0,0,0,0,0,0,0,0,0,0,0,0,0,0,0,0,0,0,0,null,0,0,0,1,0,0,0,0,0,0,0,0,0,0,0,0,0,1,183,189,"В",0,{"$f":"SUM($CB$6:$CB11)","v":6},0,0,0,{"$f":"IF(FT11=0,FLOOR(IF(СЭкзаменами,H11,(H11+SUMIF(Курс1!$AL$7:$AL$75,\"=\"&ROW(),Курс1!$AA$7:$AA$75)+SUMIF(Курс2!$AL$7:$AL$75,\"=\"&ROW(),Курс2!$AA$7:$AA$75)+SUMIF(Курс3!$AL$7:$AL$75,\"=\"&ROW(),Курс3!$AA$7:$AA$75)+SUMIF(Курс4!$AL$7:$AL$75,\"=\"&ROW(),Курс4!$AA$7:$AA$75)+SUMIF(Курс5!$AL$7:$AL$75,\"=\"&ROW(),Курс5!$AA$7:$AA$75)+SUMIF(Курс6!$AL$7:$AL$75,\"=\"&ROW(),Курс6!$AA$7:$AA$75)+SUMIF(Курс7!$AL$7:$AL$75,\"=\"&ROW(),Курс7!$AA$7:$AA$75)))/IF(ЧасовВКредите>0,ЧасовВКредите,36),0.5),FT11)","v":4},"",null,0,{"$f":"SUMIF(Курс1!$AL$7:$AL$75,\"=\"&ROW(),Курс1!$AC$7:$AC$75)+SUMIF(Курс2!$AL$7:$AL$75,\"=\"&ROW(),Курс2!$AC$7:$AC$75)+SUMIF(Курс3!$AL$7:$AL$75,\"=\"&ROW(),Курс3!$AC$7:$AC$75)+SUMIF(Курс4!$AL$7:$AL$75,\"=\"&ROW(),Курс4!$AC$7:$AC$75)+SUMIF(Курс5!$AL$7:$AL$75,\"=\"&ROW(),Курс5!$AC$7:$AC$75)+SUMIF(Курс6!$AL$7:$AL$75,\"=\"&ROW(),Курс6!$AC$7:$AC$75)+SUMIF(Курс7!$AL$7:$AL$75,\"=\"&ROW(),Курс7!$AC$7:$AC$75)","v":4}]
["",null,null,null,null,null,{"$f":"IF($FI12>0,$FW12,SUM(I12:K12)+CJ12+IF(СЭкзаменами,SUMIF(Курс1!$AL$7:$AL$75,\"=\"&ROW(),Курс1!$AA$7:$AA$75)+SUMIF(Курс2!$AL$7:$AL$75,\"=\"&ROW(),Курс2!$AA$7:$AA$75)+SUMIF(Курс3!$AL$7:$AL$75,\"=\"&ROW(),Курс3!$AA$7:$AA$75)+SUMIF(Курс4!$AL$7:$AL$75,\"=\"&ROW(),Курс4!$AA$7:$AA$75)+SUMIF(Курс5!$AL$7:$AL$75,\"=\"&ROW(),Курс5!$AA$7:$AA$75)+SUMIF(Курс6!$AL$7:$AL$75,\"=\"&ROW(),Курс6!$AA$7:$AA$75)+SUMIF(Курс7!$AL$7:$AL$75,\"=\"&ROW(),Курс7!$AA$7:$AA$75),0))","v":0},null,0,0,null,null,null,null,null,null,null,null,null,null,null,null,null,null,null,null,null,null,null,null,null,null,null,null,null,null,null,null,null,null,null,null,null,null,null,null,null,null,null,null,null,null,null,null,null,null,null,null,null,null,null,null,null,null,null,null,null,null,0,0,0,0,0,0,0,null,0,0,0,0,0,null,0,null,null,null,null,null,0,0,0,0,0,0,0,0,0,0,0,0,0,0,0,0,0,0,0,0,0,0,0,0,0,0,0,0,0,0,0,0,0,0,0,0,0,0,0,0,0,0,0,0,0,0,0,0,0,0,0,0,0,0,0,0,0,0,0,0,0,null,0,0,0,0,0,0,0,0,0,0,0,0,0,0,0,0,0,1,193,199,"В",0,{"$f":"SUM($CB$6:$CB12)","v":6},0,0,0,{"$f":"IF(FT12=0,FLOOR(IF(СЭкзаменами,H12,(H12+SUMIF(Курс1!$AL$7:$AL$75,\"=\"&ROW(),Курс1!$AA$7:$AA$75)+SUMIF(Курс2!$AL$7:$AL$75,\"=\"&ROW(),Курс2!$AA$7:$AA$75)+SUMIF(Курс3!$AL$7:$AL$75,\"=\"&ROW(),Курс3!$AA$7:$AA$75)+SUMIF(Курс4!$AL$7:$AL$75,\"=\"&ROW(),Курс4!$AA$7:$AA$75)+SUMIF(Курс5!$AL$7:$AL$75,\"=\"&ROW(),Курс5!$AA$7:$AA$75)+SUMIF(Курс6!$AL$7:$AL$75,\"=\"&ROW(),Курс6!$AA$7:$AA$75)+SUMIF(Курс7!$AL$7:$AL$75,\"=\"&ROW(),Курс7!$AA$7:$AA$75)))/IF(ЧасовВКредите>0,ЧасовВКредите,36),0.5),FT12)","v":0},null,null,null,{"$f":"SUMIF(Курс1!$AL$7:$AL$75,\"=\"&ROW(),Курс1!$AC$7:$AC$75)+SUMIF(Курс2!$AL$7:$AL$75,\"=\"&ROW(),Курс2!$AC$7:$AC$75)+SUMIF(Курс3!$AL$7:$AL$75,\"=\"&ROW(),Курс3!$AC$7:$AC$75)+SUMIF(Курс4!$AL$7:$AL$75,\"=\"&ROW(),Курс4!$AC$7:$AC$75)+SUMIF(Курс5!$AL$7:$AL$75,\"=\"&ROW(),Курс5!$AC$7:$AC$75)+SUMIF(Курс6!$AL$7:$AL$75,\"=\"&ROW(),Курс6!$AC$7:$AC$75)+SUMIF(Курс7!$AL$7:$AL$75,\"=\"&ROW(),Курс7!$AC$7:$AC$75)","v":0}]
["",null,null,null,null,null,{"$f":"IF($FI13>0,$FW13,SUM(I13:K13)+CJ13+IF(СЭкзаменами,SUMIF(Курс1!$AL$7:$AL$75,\"=\"&ROW(),Курс1!$AA$7:$AA$75)+SUMIF(Курс2!$AL$7:$AL$75,\"=\"&ROW(),Курс2!$AA$7:$AA$75)+SUMIF(Курс3!$AL$7:$AL$75,\"=\"&ROW(),Курс3!$AA$7:$AA$75)+SUMIF(Курс4!$AL$7:$AL$75,\"=\"&ROW(),Курс4!$AA$7:$AA$75)+SUMIF(Курс5!$AL$7:$AL$75,\"=\"&ROW(),Курс5!$AA$7:$AA$75)+SUMIF(Курс6!$AL$7:$AL$75,\"=\"&ROW(),Курс6!$AA$7:$AA$75)+SUMIF(Курс7!$AL$7:$AL$75,\"=\"&ROW(),Курс7!$AA$7:$AA$75),0))","v":0},null,0,0,null,null,null,null,null,null,null,null,null,null,null,null,null,null,null,null,null,null,null,null,null,null,null,null,null,null,null,null,null,null,null,null,null,null,null,null,null,null,null,null,null,null,null,null,null,null,null,null,null,null,null,null,null,null,null,null,null,null,0,0,0,0,0,0,0,null,0,0,0,0,0,null,0,null,null,null,null,null,0,0,0,0,0,0,0,0,0,0,0,0,0,0,0,0,0,0,0,0,0,0,0,0,0,0,0,0,0,0,0,0,0,0,0,0,0,0,0,0,0,0,0,0,0,0,0,0,0,0,0,0,0,0,0,0,0,0,0,0,0,null,0,0,0,0,0,0,0,0,0,0,0,0,0,0,0,0,0,1,203,209,"В",0,{"$f":"SUM($CB$6:$CB13)","v":6},0,0,0,{"$f":"IF(FT13=0,FLOOR(IF(СЭкзаменами,H13,(H13+SUMIF(Курс1!$AL$7:$AL$75,\"=\"&ROW(),Курс1!$AA$7:$AA$75)+SUMIF(Курс2!$AL$7:$AL$75,\"=\"&ROW(),Курс2!$AA$7:$AA$75)+SUMIF(Курс3!$AL$7:$AL$75,\"=\"&ROW(),Курс3!$AA$7:$AA$75)+SUMIF(Курс4!$AL$7:$AL$75,\"=\"&ROW(),Курс4!$AA$7:$AA$75)+SUMIF(Курс5!$AL$7:$AL$75,\"=\"&ROW(),Курс5!$AA$7:$AA$75)+SUMIF(Курс6!$AL$7:$AL$75,\"=\"&ROW(),Курс6!$AA$7:$AA$75)+SUMIF(Курс7!$AL$7:$AL$75,\"=\"&ROW(),Курс7!$AA$7:$AA$75)))/IF(ЧасовВКредите>0,ЧасовВКредите,36),0.5),FT13)","v":0},null,null,null,{"$f":"SUMIF(Курс1!$AL$7:$AL$75,\"=\"&ROW(),Курс1!$AC$7:$AC$75)+SUMIF(Курс2!$AL$7:$AL$75,\"=\"&ROW(),Курс2!$AC$7:$AC$75)+SUMIF(Курс3!$AL$7:$AL$75,\"=\"&ROW(),Курс3!$AC$7:$AC$75)+SUMIF(Курс4!$AL$7:$AL$75,\"=\"&ROW(),Курс4!$AC$7:$AC$75)+SUMIF(Курс5!$AL$7:$AL$75,\"=\"&ROW(),Курс5!$AC$7:$AC$75)+SUMIF(Курс6!$AL$7:$AL$75,\"=\"&ROW(),Курс6!$AC$7:$AC$75)+SUMIF(Курс7!$AL$7:$AL$75,\"=\"&ROW(),Курс7!$AC$7:$AC$75)","v":0}]
["",null,null,null,null,null,{"$f":"IF($FI14>0,$FW14,SUM(I14:K14)+CJ14+IF(СЭкзаменами,SUMIF(Курс1!$AL$7:$AL$75,\"=\"&ROW(),Курс1!$AA$7:$AA$75)+SUMIF(Курс2!$AL$7:$AL$75,\"=\"&ROW(),Курс2!$AA$7:$AA$75)+SUMIF(Курс3!$AL$7:$AL$75,\"=\"&ROW(),Курс3!$AA$7:$AA$75)+SUMIF(Курс4!$AL$7:$AL$75,\"=\"&ROW(),Курс4!$AA$7:$AA$75)+SUMIF(Курс5!$AL$7:$AL$75,\"=\"&ROW(),Курс5!$AA$7:$AA$75)+SUMIF(Курс6!$AL$7:$AL$75,\"=\"&ROW(),Курс6!$AA$7:$AA$75)+SUMIF(Курс7!$AL$7:$AL$75,\"=\"&ROW(),Курс7!$AA$7:$AA$75),0))","v":0},null,0,0,null,null,null,null,null,null,null,null,null,null,null,null,null,null,null,null,null,null,null,null,null,null,null,null,null,null,null,null,null,null,null,null,null,null,null,null,null,null,null,null,null,null,null,null,null,null,null,null,null,null,null,null,null,null,null,null,null,null,0,0,0,0,0,0,0,null,0,0,0,0,0,null,0,null,null,null,null,null,0,0,0,0,0,0,0,0,0,0,0,0,0,0,0,0,0,0,0,0,0,0,0,0,0,0,0,0,0,0,0,0,0,0,0,0,0,0,0,0,0,0,0,0,0,0,0,0,0,0,0,0,0,0,0,0,0,0,0,0,0,null,0,0,0,0,0,0,0,0,0,0,0,0,0,0,0,0,0,1,213,219,"В",0,{"$f":"SUM($CB$6:$CB14)","v":6},0,0,0,{"$f":"IF(FT14=0,FLOOR(IF(СЭкзаменами,H14,(H14+SUMIF(Курс1!$AL$7:$AL$75,\"=\"&ROW(),Курс1!$AA$7:$AA$75)+SUMIF(Курс2!$AL$7:$AL$75,\"=\"&ROW(),Курс2!$AA$7:$AA$75)+SUMIF(Курс3!$AL$7:$AL$75,\"=\"&ROW(),Курс3!$AA$7:$AA$75)+SUMIF(Курс4!$AL$7:$AL$75,\"=\"&ROW(),Курс4!$AA$7:$AA$75)+SUMIF(Курс5!$AL$7:$AL$75,\"=\"&ROW(),Курс5!$AA$7:$AA$75)+SUMIF(Курс6!$AL$7:$AL$75,\"=\"&ROW(),Курс6!$AA$7:$AA$75)+SUMIF(Курс7!$AL$7:$AL$75,\"=\"&ROW(),Курс7!$AA$7:$AA$75)))/IF(ЧасовВКредите>0,ЧасовВКредите,36),0.5),FT14)","v":0},null,null,null,{"$f":"SUMIF(Курс1!$AL$7:$AL$75,\"=\"&ROW(),Курс1!$AC$7:$AC$75)+SUMIF(Курс2!$AL$7:$AL$75,\"=\"&ROW(),Курс2!$AC$7:$AC$75)+SUMIF(Курс3!$AL$7:$AL$75,\"=\"&ROW(),Курс3!$AC$7:$AC$75)+SUMIF(Курс4!$AL$7:$AL$75,\"=\"&ROW(),Курс4!$AC$7:$AC$75)+SUMIF(Курс5!$AL$7:$AL$75,\"=\"&ROW(),Курс5!$AC$7:$AC$75)+SUMIF(Курс6!$AL$7:$AL$75,\"=\"&ROW(),Курс6!$AC$7:$AC$75)+SUMIF(Курс7!$AL$7:$AL$75,\"=\"&ROW(),Курс7!$AC$7:$AC$75)","v":0}]
["",null,null,null,null,null,{"$f":"IF($FI15>0,$FW15,SUM(I15:K15)+CJ15+IF(СЭкзаменами,SUMIF(Курс1!$AL$7:$AL$75,\"=\"&ROW(),Курс1!$AA$7:$AA$75)+SUMIF(Курс2!$AL$7:$AL$75,\"=\"&ROW(),Курс2!$AA$7:$AA$75)+SUMIF(Курс3!$AL$7:$AL$75,\"=\"&ROW(),Курс3!$AA$7:$AA$75)+SUMIF(Курс4!$AL$7:$AL$75,\"=\"&ROW(),Курс4!$AA$7:$AA$75)+SUMIF(Курс5!$AL$7:$AL$75,\"=\"&ROW(),Курс5!$AA$7:$AA$75)+SUMIF(Курс6!$AL$7:$AL$75,\"=\"&ROW(),Курс6!$AA$7:$AA$75)+SUMIF(Курс7!$AL$7:$AL$75,\"=\"&ROW(),Курс7!$AA$7:$AA$75),0))","v":0},null,0,0,null,null,null,null,null,null,null,null,null,null,null,null,null,null,null,null,null,null,null,null,null,null,null,null,null,null,null,null,null,null,null,null,null,null,null,null,null,null,null,null,null,null,null,null,null,null,null,null,null,null,null,null,null,null,null,null,null,null,0,0,0,0,0,0,0,null,0,0,0,0,0,null,0,null,null,null,null,null,0,0,0,0,0,0,0,0,0,0,0,0,0,0,0,0,0,0,0,0,0,0,0,0,0,0,0,0,0,0,0,0,0,0,0,0,0,0,0,0,0,0,0,0,0,0,0,0,0,0,0,0,0,0,0,0,0,0,0,0,0,null,0,0,0,0,0,0,0,0,0,0,0,0,0,0,0,0,0,1,223,229,"В",0,{"$f":"SUM($CB$6:$CB15)","v":6},0,null,0,{"$f":"IF(FT15=0,FLOOR(IF(СЭкзаменами,H15,(H15+SUMIF(Курс1!$AL$7:$AL$75,\"=\"&ROW(),Курс1!$AA$7:$AA$75)+SUMIF(Курс2!$AL$7:$AL$75,\"=\"&ROW(),Курс2!$AA$7:$AA$75)+SUMIF(Курс3!$AL$7:$AL$75,\"=\"&ROW(),Курс3!$AA$7:$AA$75)+SUMIF(Курс4!$AL$7:$AL$75,\"=\"&ROW(),Курс4!$AA$7:$AA$75)+SUMIF(Курс5!$AL$7:$AL$75,\"=\"&ROW(),Курс5!$AA$7:$AA$75)+SUMIF(Курс6!$AL$7:$AL$75,\"=\"&ROW(),Курс6!$AA$7:$AA$75)+SUMIF(Курс7!$AL$7:$AL$75,\"=\"&ROW(),Курс7!$AA$7:$AA$75)))/IF(ЧасовВКредите>0,ЧасовВКредите,36),0.5),FT15)","v":0},null,null,null,{"$f":"SUMIF(Курс1!$AL$7:$AL$75,\"=\"&ROW(),Курс1!$AC$7:$AC$75)+SUMIF(Курс2!$AL$7:$AL$75,\"=\"&ROW(),Курс2!$AC$7:$AC$75)+SUMIF(Курс3!$AL$7:$AL$75,\"=\"&ROW(),Курс3!$AC$7:$AC$75)+SUMIF(Курс4!$AL$7:$AL$75,\"=\"&ROW(),Курс4!$AC$7:$AC$75)+SUMIF(Курс5!$AL$7:$AL$75,\"=\"&ROW(),Курс5!$AC$7:$AC$75)+SUMIF(Курс6!$AL$7:$AL$75,\"=\"&ROW(),Курс6!$AC$7:$AC$75)+SUMIF(Курс7!$AL$7:$AL$75,\"=\"&ROW(),Курс7!$AC$7:$AC$75)","v":0}]
["",null,null,null,null,null,{"$f":"IF($FI16>0,$FW16,SUM(I16:K16)+CJ16+IF(СЭкзаменами,SUMIF(Курс1!$AL$7:$AL$75,\"=\"&ROW(),Курс1!$AA$7:$AA$75)+SUMIF(Курс2!$AL$7:$AL$75,\"=\"&ROW(),Курс2!$AA$7:$AA$75)+SUMIF(Курс3!$AL$7:$AL$75,\"=\"&ROW(),Курс3!$AA$7:$AA$75)+SUMIF(Курс4!$AL$7:$AL$75,\"=\"&ROW(),Курс4!$AA$7:$AA$75)+SUMIF(Курс5!$AL$7:$AL$75,\"=\"&ROW(),Курс5!$AA$7:$AA$75)+SUMIF(Курс6!$AL$7:$AL$75,\"=\"&ROW(),Курс6!$AA$7:$AA$75)+SUMIF(Курс7!$AL$7:$AL$75,\"=\"&ROW(),Курс7!$AA$7:$AA$75),0))","v":0},null,0,0,null,null,null,null,null,null,null,null,null,null,null,null,null,null,null,null,null,null,null,null,null,null,null,null,null,null,null,null,null,null,null,null,null,null,null,null,null,null,null,null,null,null,null,null,null,null,null,null,null,null,null,null,null,null,null,null,null,null,0,0,0,0,0,0,0,null,0,0,0,0,0,null,0,null,null,null,null,null,0,0,0,0,0,0,0,0,0,0,0,0,0,0,0,0,0,0,0,0,0,0,0,0,0,0,0,0,0,0,0,0,0,0,0,0,0,0,0,0,0,0,0,0,0,0,0,0,0,0,0,0,0,0,0,0,0,0,0,0,0,null,0,0,0,0,0,0,0,0,0,0,0,0,0,0,0,0,0,1,234,293,"Ф",0,{"$f":"SUM($CB$6:$CB16)","v":6},0,null,0,{"$f":"IF(FT16=0,FLOOR(IF(СЭкзаменами,H16,(H16+SUMIF(Курс1!$AL$7:$AL$75,\"=\"&ROW(),Курс1!$AA$7:$AA$75)+SUMIF(Курс2!$AL$7:$AL$75,\"=\"&ROW(),Курс2!$AA$7:$AA$75)+SUMIF(Курс3!$AL$7:$AL$75,\"=\"&ROW(),Курс3!$AA$7:$AA$75)+SUMIF(Курс4!$AL$7:$AL$75,\"=\"&ROW(),Курс4!$AA$7:$AA$75)+SUMIF(Курс5!$AL$7:$AL$75,\"=\"&ROW(),Курс5!$AA$7:$AA$75)+SUMIF(Курс6!$AL$7:$AL$75,\"=\"&ROW(),Курс6!$AA$7:$AA$75)+SUMIF(Курс7!$AL$7:$AL$75,\"=\"&ROW(),Курс7!$AA$7:$AA$75)))/IF(ЧасовВКредите>0,ЧасовВКредите,36),0.5),FT16)","v":0},null,null,null,{"$f":"SUMIF(Курс1!$AL$7:$AL$75,\"=\"&ROW(),Курс1!$AC$7:$AC$75)+SUMIF(Курс2!$AL$7:$AL$75,\"=\"&ROW(),Курс2!$AC$7:$AC$75)+SUMIF(Курс3!$AL$7:$AL$75,\"=\"&ROW(),Курс3!$AC$7:$AC$75)+SUMIF(Курс4!$AL$7:$AL$75,\"=\"&ROW(),Курс4!$AC$7:$AC$75)+SUMIF(Курс5!$AL$7:$AL$75,\"=\"&ROW(),Курс5!$AC$7:$AC$75)+SUMIF(Курс6!$AL$7:$AL$75,\"=\"&ROW(),Курс6!$AC$7:$AC$75)+SUMIF(Курс7!$AL$7:$AL$75,\"=\"&ROW(),Курс7!$AC$7:$AC$75)","v":0}]
["",null,null,null,null,null,{"$f":"IF($FI17>0,$FW17,SUM(I17:K17)+CJ17+IF(СЭкзаменами,SUMIF(Курс1!$AL$7:$AL$75,\"=\"&ROW(),Курс1!$AA$7:$AA$75)+SUMIF(Курс2!$AL$7:$AL$75,\"=\"&ROW(),Курс2!$AA$7:$AA$75)+SUMIF(Курс3!$AL$7:$AL$75,\"=\"&ROW(),Курс3!$AA$7:$AA$75)+SUMIF(Курс4!$AL$7:$AL$75,\"=\"&ROW(),Курс4!$AA$7:$AA$75)+SUMIF(Курс5!$AL$7:$AL$75,\"=\"&ROW(),Курс5!$AA$7:$AA$75)+SUMIF(Курс6!$AL$7:$AL$75,\"=\"&ROW(),Курс6!$AA$7:$AA$75)+SUMIF(Курс7!$AL$7:$AL$75,\"=\"&ROW(),Курс7!$AA$7:$AA$75),0))","v":0},null,0,0,null,null,null,null,null,null,null,null,null,null,null,null,null,null,null,null,null,null,null,null,null,null,null,null,null,null,null,null,null,null,null,null,null,null,null,null,null,null,null,null,null,null,null,null,null,null,null,null,null,null,null,null,null,null,null,null,null,null,0,0,0,0,0,0,0,null,0,0,0,0,0,null,0,null,null,null,null,null,0,0,0,0,0,0,0,0,0,0,0,0,0,0,0,0,0,0,0,0,0,0,0,0,0,0,0,0,0,0,0,0,0,0,0,0,0,0,0,0,0,0,0,0,0,0,0,0,0,0,0,0,0,0,0,0,0,0,0,0,0,null,0,0,0,0,0,0,0,0,0,0,0,0,0,0,0,0,0,1,294,327,"Р",0,{"$f":"SUM($CB$6:$CB17)","v":6},0,null,0,{"$f":"IF(FT17=0,FLOOR(IF(СЭкзаменами,H17,(H17+SUMIF(Курс1!$AL$7:$AL$75,\"=\"&ROW(),Курс1!$AA$7:$AA$75)+SUMIF(Курс2!$AL$7:$AL$75,\"=\"&ROW(),Курс2!$AA$7:$AA$75)+SUMIF(Курс3!$AL$7:$AL$75,\"=\"&ROW(),Курс3!$AA$7:$AA$75)+SUMIF(Курс4!$AL$7:$AL$75,\"=\"&ROW(),Курс4!$AA$7:$AA$75)+SUMIF(Курс5!$AL$7:$AL$75,\"=\"&ROW(),Курс5!$AA$7:$AA$75)+SUMIF(Курс6!$AL$7:$AL$75,\"=\"&ROW(),Курс6!$AA$7:$AA$75)+SUMIF(Курс7!$AL$7:$AL$75,\"=\"&ROW(),Курс7!$AA$7:$AA$75)))/IF(ЧасовВКредите>0,ЧасовВКредите,36),0.5),FT17)","v":0},null,null,null,{"$f":"SUMIF(Курс1!$AL$7:$AL$75,\"=\"&ROW(),Курс1!$AC$7:$AC$75)+SUMIF(Курс2!$AL$7:$AL$75,\"=\"&ROW(),Курс2!$AC$7:$AC$75)+SUMIF(Курс3!$AL$7:$AL$75,\"=\"&ROW(),Курс3!$AC$7:$AC$75)+SUMIF(Курс4!$AL$7:$AL$75,\"=\"&ROW(),Курс4!$AC$7:$AC$75)+SUMIF(Курс5!$AL$7:$AL$75,\"=\"&ROW(),Курс5!$AC$7:$AC$75)+SUMIF(Курс6!$AL$7:$AL$75,\"=\"&ROW(),Курс6!$AC$7:$AC$75)+SUMIF(Курс7!$AL$7:$AL$75,\"=\"&ROW(),Курс7!$AC$7:$AC$75)","v":0}]
["",null,null,null,null,null,{"$f":"IF($FI18>0,$FW18,SUM(I18:K18)+CJ18+IF(СЭкзаменами,SUMIF(Курс1!$AL$7:$AL$75,\"=\"&ROW(),Курс1!$AA$7:$AA$75)+SUMIF(Курс2!$AL$7:$AL$75,\"=\"&ROW(),Курс2!$AA$7:$AA$75)+SUMIF(Курс3!$AL$7:$AL$75,\"=\"&ROW(),Курс3!$AA$7:$AA$75)+SUMIF(Курс4!$AL$7:$AL$75,\"=\"&ROW(),Курс4!$AA$7:$AA$75)+SUMIF(Курс5!$AL$7:$AL$75,\"=\"&ROW(),Курс5!$AA$7:$AA$75)+SUMIF(Курс6!$AL$7:$AL$75,\"=\"&ROW(),Курс6!$AA$7:$AA$75)+SUMIF(Курс7!$AL$7:$AL$75,\"=\"&ROW(),Курс7!$AA$7:$AA$75),0))","v":0},null,0,0,null,null,null,null,null,null,null,null,null,null,null,null,null,null,null,null,null,null,null,null,null,null,null,null,null,null,null,null,null,null,null,null,null,null,null,null,null,null,null,null,null,null,null,null,null,null,null,null,null,null,null,null,null,null,null,null,null,null,0,0,0,0,0,0,0,null,0,0,0,0,0,null,0,null,null,null,null,null,0,0,0,0,0,0,0,0,0,0,0,0,0,0,0,0,0,0,0,0,0,0,0,0,0,0,0,0,0,0,0,0,0,0,0,0,0,0,0,0,0,0,0,0,0,0,0,0,0,0,0,0,0,0,0,0,0,0,0,0,0,null,0,0,0,0,0,0,0,0,0,0,0,0,0,0,0,0,0,1,331,337,"В",0,{"$f":"SUM($CB$6:$CB18)","v":6},0,null,0,{"$f":"IF(FT18=0,FLOOR(IF(СЭкзаменами,H18,(H18+SUMIF(Курс1!$AL$7:$AL$75,\"=\"&ROW(),Курс1!$AA$7:$AA$75)+SUMIF(Курс2!$AL$7:$AL$75,\"=\"&ROW(),Курс2!$AA$7:$AA$75)+SUMIF(Курс3!$AL$7:$AL$75,\"=\"&ROW(),Курс3!$AA$7:$AA$75)+SUMIF(Курс4!$AL$7:$AL$75,\"=\"&ROW(),Курс4!$AA$7:$AA$75)+SUMIF(Курс5!$AL$7:$AL$75,\"=\"&ROW(),Курс5!$AA$7:$AA$75)+SUMIF(Курс6!$AL$7:$AL$75,\"=\"&ROW(),Курс6!$AA$7:$AA$75)+SUMIF(Курс7!$AL$7:$AL$75,\"=\"&ROW(),Курс7!$AA$7:$AA$75)))/IF(ЧасовВКредите>0,ЧасовВКредите,36),0.5),FT18)","v":0},null,null,null,{"$f":"SUMIF(Курс1!$AL$7:$AL$75,\"=\"&ROW(),Курс1!$AC$7:$AC$75)+SUMIF(Курс2!$AL$7:$AL$75,\"=\"&ROW(),Курс2!$AC$7:$AC$75)+SUMIF(Курс3!$AL$7:$AL$75,\"=\"&ROW(),Курс3!$AC$7:$AC$75)+SUMIF(Курс4!$AL$7:$AL$75,\"=\"&ROW(),Курс4!$AC$7:$AC$75)+SUMIF(Курс5!$AL$7:$AL$75,\"=\"&ROW(),Курс5!$AC$7:$AC$75)+SUMIF(Курс6!$AL$7:$AL$75,\"=\"&ROW(),Курс6!$AC$7:$AC$75)+SUMIF(Курс7!$AL$7:$AL$75,\"=\"&ROW(),Курс7!$AC$7:$AC$75)","v":0}]
["",null,null,null,null,null,{"$f":"IF($FI19>0,$FW19,SUM(I19:K19)+CJ19+IF(СЭкзаменами,SUMIF(Курс1!$AL$7:$AL$75,\"=\"&ROW(),Курс1!$AA$7:$AA$75)+SUMIF(Курс2!$AL$7:$AL$75,\"=\"&ROW(),Курс2!$AA$7:$AA$75)+SUMIF(Курс3!$AL$7:$AL$75,\"=\"&ROW(),Курс3!$AA$7:$AA$75)+SUMIF(Курс4!$AL$7:$AL$75,\"=\"&ROW(),Курс4!$AA$7:$AA$75)+SUMIF(Курс5!$AL$7:$AL$75,\"=\"&ROW(),Курс5!$AA$7:$AA$75)+SUMIF(Курс6!$AL$7:$AL$75,\"=\"&ROW(),Курс6!$AA$7:$AA$75)+SUMIF(Курс7!$AL$7:$AL$75,\"=\"&ROW(),Курс7!$AA$7:$AA$75),0))","v":0},null,0,0,null,null,null,null,null,null,null,null,null,null,null,null,null,null,null,null,null,null,null,null,null,null,null,null,null,null,null,null,null,null,null,null,null,null,null,null,null,null,null,null,null,null,null,null,null,null,null,null,null,null,null,null,null,null,null,null,null,null,0,0,0,0,0,0,0,null,0,0,0,0,0,null,0,null,null,null,null,null,0,0,0,0,0,0,0,0,0,0,0,0,0,0,0,0,0,0,0,0,0,0,0,0,0,0,0,0,0,0,0,0,0,0,0,0,0,0,0,0,0,0,0,0,0,0,0,0,0,0,0,0,0,0,0,0,0,0,0,0,0,null,0,0,0,0,0,0,0,0,0,0,0,0,0,0,0,0,0,1,341,347,"В",0,{"$f":"SUM($CB$6:$CB19)","v":6},0,null,0,{"$f":"IF(FT19=0,FLOOR(IF(СЭкзаменами,H19,(H19+SUMIF(Курс1!$AL$7:$AL$75,\"=\"&ROW(),Курс1!$AA$7:$AA$75)+SUMIF(Курс2!$AL$7:$AL$75,\"=\"&ROW(),Курс2!$AA$7:$AA$75)+SUMIF(Курс3!$AL$7:$AL$75,\"=\"&ROW(),Курс3!$AA$7:$AA$75)+SUMIF(Курс4!$AL$7:$AL$75,\"=\"&ROW(),Курс4!$AA$7:$AA$75)+SUMIF(Курс5!$AL$7:$AL$75,\"=\"&ROW(),Курс5!$AA$7:$AA$75)+SUMIF(Курс6!$AL$7:$AL$75,\"=\"&ROW(),Курс6!$AA$7:$AA$75)+SUMIF(Курс7!$AL$7:$AL$75,\"=\"&ROW(),Курс7!$AA$7:$AA$75)))/IF(ЧасовВКредите>0,ЧасовВКредите,36),0.5),FT19)","v":0},null,null,null,{"$f":"SUMIF(Курс1!$AL$7:$AL$75,\"=\"&ROW(),Курс1!$AC$7:$AC$75)+SUMIF(Курс2!$AL$7:$AL$75,\"=\"&ROW(),Курс2!$AC$7:$AC$75)+SUMIF(Курс3!$AL$7:$AL$75,\"=\"&ROW(),Курс3!$AC$7:$AC$75)+SUMIF(Курс4!$AL$7:$AL$75,\"=\"&ROW(),Курс4!$AC$7:$AC$75)+SUMIF(Курс5!$AL$7:$AL$75,\"=\"&ROW(),Курс5!$AC$7:$AC$75)+SUMIF(Курс6!$AL$7:$AL$75,\"=\"&ROW(),Курс6!$AC$7:$AC$75)+SUMIF(Курс7!$AL$7:$AL$75,\"=\"&ROW(),Курс7!$AC$7:$AC$75)","v":0}]
["",null,null,null,null,null,{"$f":"IF($FI20>0,$FW20,SUM(I20:K20)+CJ20+IF(СЭкзаменами,SUMIF(Курс1!$AL$7:$AL$75,\"=\"&ROW(),Курс1!$AA$7:$AA$75)+SUMIF(Курс2!$AL$7:$AL$75,\"=\"&ROW(),Курс2!$AA$7:$AA$75)+SUMIF(Курс3!$AL$7:$AL$75,\"=\"&ROW(),Курс3!$AA$7:$AA$75)+SUMIF(Курс4!$AL$7:$AL$75,\"=\"&ROW(),Курс4!$AA$7:$AA$75)+SUMIF(Курс5!$AL$7:$AL$75,\"=\"&ROW(),Курс5!$AA$7:$AA$75)+SUMIF(Курс6!$AL$7:$AL$75,\"=\"&ROW(),Курс6!$AA$7:$AA$75)+SUMIF(Курс7!$AL$7:$AL$75,\"=\"&ROW(),Курс7!$AA$7:$AA$75),0))","v":0},null,0,0,null,null,null,null,null,null,null,null,null,null,null,null,null,null,null,null,null,null,null,null,null,null,null,null,null,null,null,null,null,null,null,null,null,null,null,null,null,null,null,null,null,null,null,null,null,null,null,null,null,null,null,null,null,null,null,null,null,null,0,0,0,0,0,0,0,null,0,0,0,0,0,null,0,null,null,null,null,null,0,0,0,0,0,0,0,0,0,0,0,0,0,0,0,0,0,0,0,0,0,0,0,0,0,0,0,0,0,0,0,0,0,0,0,0,0,0,0,0,0,0,0,0,0,0,0,0,0,0,0,0,0,0,0,0,0,0,0,0,0,null,0,0,0,0,0,0,0,0,0,0,0,0,0,0,0,0,0,1,351,357,"В",0,{"$f":"SUM($CB$6:$CB20)","v":6},0,null,0,{"$f":"IF(FT20=0,FLOOR(IF(СЭкзаменами,H20,(H20+SUMIF(Курс1!$AL$7:$AL$75,\"=\"&ROW(),Курс1!$AA$7:$AA$75)+SUMIF(Курс2!$AL$7:$AL$75,\"=\"&ROW(),Курс2!$AA$7:$AA$75)+SUMIF(Курс3!$AL$7:$AL$75,\"=\"&ROW(),Курс3!$AA$7:$AA$75)+SUMIF(Курс4!$AL$7:$AL$75,\"=\"&ROW(),Курс4!$AA$7:$AA$75)+SUMIF(Курс5!$AL$7:$AL$75,\"=\"&ROW(),Курс5!$AA$7:$AA$75)+SUMIF(Курс6!$AL$7:$AL$75,\"=\"&ROW(),Курс6!$AA$7:$AA$75)+SUMIF(Курс7!$AL$7:$AL$75,\"=\"&ROW(),Курс7!$AA$7:$AA$75)))/IF(ЧасовВКредите>0,ЧасовВКредите,36),0.5),FT20)","v":0},null,null,null,{"$f":"SUMIF(Курс1!$AL$7:$AL$75,\"=\"&ROW(),Курс1!$AC$7:$AC$75)+SUMIF(Курс2!$AL$7:$AL$75,\"=\"&ROW(),Курс2!$AC$7:$AC$75)+SUMIF(Курс3!$AL$7:$AL$75,\"=\"&ROW(),Курс3!$AC$7:$AC$75)+SUMIF(Курс4!$AL$7:$AL$75,\"=\"&ROW(),Курс4!$AC$7:$AC$75)+SUMIF(Курс5!$AL$7:$AL$75,\"=\"&ROW(),Курс5!$AC$7:$AC$75)+SUMIF(Курс6!$AL$7:$AL$75,\"=\"&ROW(),Курс6!$AC$7:$AC$75)+SUMIF(Курс7!$AL$7:$AL$75,\"=\"&ROW(),Курс7!$AC$7:$AC$75)","v":0}]
["",null,null,null,null,null,{"$f":"IF($FI21>0,$FW21,SUM(I21:K21)+CJ21+IF(СЭкзаменами,SUMIF(Курс1!$AL$7:$AL$75,\"=\"&ROW(),Курс1!$AA$7:$AA$75)+SUMIF(Курс2!$AL$7:$AL$75,\"=\"&ROW(),Курс2!$AA$7:$AA$75)+SUMIF(Курс3!$AL$7:$AL$75,\"=\"&ROW(),Курс3!$AA$7:$AA$75)+SUMIF(Курс4!$AL$7:$AL$75,\"=\"&ROW(),Курс4!$AA$7:$AA$75)+SUMIF(Курс5!$AL$7:$AL$75,\"=\"&ROW(),Курс5!$AA$7:$AA$75)+SUMIF(Курс6!$AL$7:$AL$75,\"=\"&ROW(),Курс6!$AA$7:$AA$75)+SUMIF(Курс7!$AL$7:$AL$75,\"=\"&ROW(),Курс7!$AA$7:$AA$75),0))","v":0},null,0,0,null,null,null,null,null,null,null,null,null,null,null,null,null,null,null,null,null,null,null,null,null,null,null,null,null,null,null,null,null,null,null,null,null,null,null,null,null,null,null,null,null,null,null,null,null,null,null,null,null,null,null,null,null,null,null,null,null,null,0,0,0,0,0,0,0,null,0,0,0,0,0,null,0,null,null,null,null,null,0,0,0,0,0,0,0,0,0,0,0,0,0,0,0,0,0,0,0,0,0,0,0,0,0,0,0,0,0,0,0,0,0,0,0,0,0,0,0,0,0,0,0,0,0,0,0,0,0,0,0,0,0,0,0,0,0,0,0,0,0,null,0,0,0,0,0,0,0,0,0,0,0,0,0,0,0,0,0,1,361,367,"В",0,{"$f":"SUM($CB$6:$CB21)","v":6},0,null,0,{"$f":"IF(FT21=0,FLOOR(IF(СЭкзаменами,H21,(H21+SUMIF(Курс1!$AL$7:$AL$75,\"=\"&ROW(),Курс1!$AA$7:$AA$75)+SUMIF(Курс2!$AL$7:$AL$75,\"=\"&ROW(),Курс2!$AA$7:$AA$75)+SUMIF(Курс3!$AL$7:$AL$75,\"=\"&ROW(),Курс3!$AA$7:$AA$75)+SUMIF(Курс4!$AL$7:$AL$75,\"=\"&ROW(),Курс4!$AA$7:$AA$75)+SUMIF(Курс5!$AL$7:$AL$75,\"=\"&ROW(),Курс5!$AA$7:$AA$75)+SUMIF(Курс6!$AL$7:$AL$75,\"=\"&ROW(),Курс6!$AA$7:$AA$75)+SUMIF(Курс7!$AL$7:$AL$75,\"=\"&ROW(),Курс7!$AA$7:$AA$75)))/IF(ЧасовВКредите>0,ЧасовВКредите,36),0.5),FT21)","v":0},null,null,null,{"$f":"SUMIF(Курс1!$AL$7:$AL$75,\"=\"&ROW(),Курс1!$AC$7:$AC$75)+SUMIF(Курс2!$AL$7:$AL$75,\"=\"&ROW(),Курс2!$AC$7:$AC$75)+SUMIF(Курс3!$AL$7:$AL$75,\"=\"&ROW(),Курс3!$AC$7:$AC$75)+SUMIF(Курс4!$AL$7:$AL$75,\"=\"&ROW(),Курс4!$AC$7:$AC$75)+SUMIF(Курс5!$AL$7:$AL$75,\"=\"&ROW(),Курс5!$AC$7:$AC$75)+SUMIF(Курс6!$AL$7:$AL$75,\"=\"&ROW(),Курс6!$AC$7:$AC$75)+SUMIF(Курс7!$AL$7:$AL$75,\"=\"&ROW(),Курс7!$AC$7:$AC$75)","v":0}]
["",null,null,null,null,null,{"$f":"IF($FI22>0,$FW22,SUM(I22:K22)+CJ22+IF(СЭкзаменами,SUMIF(Курс1!$AL$7:$AL$75,\"=\"&ROW(),Курс1!$AA$7:$AA$75)+SUMIF(Курс2!$AL$7:$AL$75,\"=\"&ROW(),Курс2!$AA$7:$AA$75)+SUMIF(Курс3!$AL$7:$AL$75,\"=\"&ROW(),Курс3!$AA$7:$AA$75)+SUMIF(Курс4!$AL$7:$AL$75,\"=\"&ROW(),Курс4!$AA$7:$AA$75)+SUMIF(Курс5!$AL$7:$AL$75,\"=\"&ROW(),Курс5!$AA$7:$AA$75)+SUMIF(Курс6!$AL$7:$AL$75,\"=\"&ROW(),Курс6!$AA$7:$AA$75)+SUMIF(Курс7!$AL$7:$AL$75,\"=\"&ROW(),Курс7!$AA$7:$AA$75),0))","v":0},null,0,0,null,null,null,null,null,null,null,null,null,null,null,null,null,null,null,null,null,null,null,null,null,null,null,null,null,null,null,null,null,null,null,null,null,null,null,null,null,null,null,null,null,null,null,null,null,null,null,null,null,null,null,null,null,null,null,null,null,null,0,0,0,0,0,0,0,null,0,0,0,0,0,null,0,null,null,null,null,null,0,0,0,0,0,0,0,0,0,0,0,0,0,0,0,0,0,0,0,0,0,0,0,0,0,0,0,0,0,0,0,0,0,0,0,0,0,0,0,0,0,0,0,0,0,0,0,0,0,0,0,0,0,0,0,0,0,0,0,0,0,null,0,0,0,0,0,0,0,0,0,0,0,0,0,0,0,0,0,1,371,377,"В",0,{"$f":"SUM($CB$6:$CB22)","v":6},0,null,0,{"$f":"IF(FT22=0,FLOOR(IF(СЭкзаменами,H22,(H22+SUMIF(Курс1!$AL$7:$AL$75,\"=\"&ROW(),Курс1!$AA$7:$AA$75)+SUMIF(Курс2!$AL$7:$AL$75,\"=\"&ROW(),Курс2!$AA$7:$AA$75)+SUMIF(Курс3!$AL$7:$AL$75,\"=\"&ROW(),Курс3!$AA$7:$AA$75)+SUMIF(Курс4!$AL$7:$AL$75,\"=\"&ROW(),Курс4!$AA$7:$AA$75)+SUMIF(Курс5!$AL$7:$AL$75,\"=\"&ROW(),Курс5!$AA$7:$AA$75)+SUMIF(Курс6!$AL$7:$AL$75,\"=\"&ROW(),Курс6!$AA$7:$AA$75)+SUMIF(Курс7!$AL$7:$AL$75,\"=\"&ROW(),Курс7!$AA$7:$AA$75)))/IF(ЧасовВКредите>0,ЧасовВКредите,36),0.5),FT22)","v":0},null,null,null,{"$f":"SUMIF(Курс1!$AL$7:$AL$75,\"=\"&ROW(),Курс1!$AC$7:$AC$75)+SUMIF(Курс2!$AL$7:$AL$75,\"=\"&ROW(),Курс2!$AC$7:$AC$75)+SUMIF(Курс3!$AL$7:$AL$75,\"=\"&ROW(),Курс3!$AC$7:$AC$75)+SUMIF(Курс4!$AL$7:$AL$75,\"=\"&ROW(),Курс4!$AC$7:$AC$75)+SUMIF(Курс5!$AL$7:$AL$75,\"=\"&ROW(),Курс5!$AC$7:$AC$75)+SUMIF(Курс6!$AL$7:$AL$75,\"=\"&ROW(),Курс6!$AC$7:$AC$75)+SUMIF(Курс7!$AL$7:$AL$75,\"=\"&ROW(),Курс7!$AC$7:$AC$75)","v":0}]
["",null,null,null,null,null,{"$f":"IF($FI23>0,$FW23,SUM(I23:K23)+CJ23+IF(СЭкзаменами,SUMIF(Курс1!$AL$7:$AL$75,\"=\"&ROW(),Курс1!$AA$7:$AA$75)+SUMIF(Курс2!$AL$7:$AL$75,\"=\"&ROW(),Курс2!$AA$7:$AA$75)+SUMIF(Курс3!$AL$7:$AL$75,\"=\"&ROW(),Курс3!$AA$7:$AA$75)+SUMIF(Курс4!$AL$7:$AL$75,\"=\"&ROW(),Курс4!$AA$7:$AA$75)+SUMIF(Курс5!$AL$7:$AL$75,\"=\"&ROW(),Курс5!$AA$7:$AA$75)+SUMIF(Курс6!$AL$7:$AL$75,\"=\"&ROW(),Курс6!$AA$7:$AA$75)+SUMIF(Курс7!$AL$7:$AL$75,\"=\"&ROW(),Курс7!$AA$7:$AA$75),0))","v":0},null,0,0,null,null,null,null,null,null,null,null,null,null,null,null,null,null,null,null,null,null,null,null,null,null,null,null,null,null,null,null,null,null,null,null,null,null,null,null,null,null,null,null,null,null,null,null,null,null,null,null,null,null,null,null,null,null,null,null,null,null,0,0,0,0,0,0,0,null,0,0,0,0,0,null,0,null,null,null,null,null,0,0,0,0,0,0,0,0,0,0,0,0,0,0,0,0,0,0,0,0,0,0,0,0,0,0,0,0,0,0,0,0,0,0,0,0,0,0,0,0,0,0,0,0,0,0,0,0,0,0,0,0,0,0,0,0,0,0,0,0,0,null,0,0,0,0,0,0,0,0,0,0,0,0,0,0,0,0,0,1,381,387,"В",0,{"$f":"SUM($CB$6:$CB23)","v":6},0,null,0,{"$f":"IF(FT23=0,FLOOR(IF(СЭкзаменами,H23,(H23+SUMIF(Курс1!$AL$7:$AL$75,\"=\"&ROW(),Курс1!$AA$7:$AA$75)+SUMIF(Курс2!$AL$7:$AL$75,\"=\"&ROW(),Курс2!$AA$7:$AA$75)+SUMIF(Курс3!$AL$7:$AL$75,\"=\"&ROW(),Курс3!$AA$7:$AA$75)+SUMIF(Курс4!$AL$7:$AL$75,\"=\"&ROW(),Курс4!$AA$7:$AA$75)+SUMIF(Курс5!$AL$7:$AL$75,\"=\"&ROW(),Курс5!$AA$7:$AA$75)+SUMIF(Курс6!$AL$7:$AL$75,\"=\"&ROW(),Курс6!$AA$7:$AA$75)+SUMIF(Курс7!$AL$7:$AL$75,\"=\"&ROW(),Курс7!$AA$7:$AA$75)))/IF(ЧасовВКредите>0,ЧасовВКредите,36),0.5),FT23)","v":0},null,null,null,{"$f":"SUMIF(Курс1!$AL$7:$AL$75,\"=\"&ROW(),Курс1!$AC$7:$AC$75)+SUMIF(Курс2!$AL$7:$AL$75,\"=\"&ROW(),Курс2!$AC$7:$AC$75)+SUMIF(Курс3!$AL$7:$AL$75,\"=\"&ROW(),Курс3!$AC$7:$AC$75)+SUMIF(Курс4!$AL$7:$AL$75,\"=\"&ROW(),Курс4!$AC$7:$AC$75)+SUMIF(Курс5!$AL$7:$AL$75,\"=\"&ROW(),Курс5!$AC$7:$AC$75)+SUMIF(Курс6!$AL$7:$AL$75,\"=\"&ROW(),Курс6!$AC$7:$AC$75)+SUMIF(Курс7!$AL$7:$AL$75,\"=\"&ROW(),Курс7!$AC$7:$AC$75)","v":0}]
["",null,null,null,null,null,{"$f":"IF($FI24>0,$FW24,SUM(I24:K24)+CJ24+IF(СЭкзаменами,SUMIF(Курс1!$AL$7:$AL$75,\"=\"&ROW(),Курс1!$AA$7:$AA$75)+SUMIF(Курс2!$AL$7:$AL$75,\"=\"&ROW(),Курс2!$AA$7:$AA$75)+SUMIF(Курс3!$AL$7:$AL$75,\"=\"&ROW(),Курс3!$AA$7:$AA$75)+SUMIF(Курс4!$AL$7:$AL$75,\"=\"&ROW(),Курс4!$AA$7:$AA$75)+SUMIF(Курс5!$AL$7:$AL$75,\"=\"&ROW(),Курс5!$AA$7:$AA$75)+SUMIF(Курс6!$AL$7:$AL$75,\"=\"&ROW(),Курс6!$AA$7:$AA$75)+SUMIF(Курс7!$AL$7:$AL$75,\"=\"&ROW(),Курс7!$AA$7:$AA$75),0))","v":0},null,0,0,null,null,null,null,null,null,null,null,null,null,null,null,null,null,null,null,null,null,null,null,null,null,null,null,null,null,null,null,null,null,null,null,null,null,null,null,null,null,null,null,null,null,null,null,null,null,null,null,null,null,null,null,null,null,null,null,null,null,0,0,0,0,0,0,0,null,0,0,0,0,0,null,0,null,null,null,null,null,0,0,0,0,0,0,0,0,0,0,0,0,0,0,0,0,0,0,0,0,0,0,0,0,0,0,0,0,0,0,0,0,0,0,0,0,0,0,0,0,0,0,0,0,0,0,0,0,0,0,0,0,0,0,0,0,0,0,0,0,0,null,0,0,0,0,0,0,0,0,0,0,0,0,0,0,0,0,0,1,391,397,"В",0,{"$f":"SUM($CB$6:$CB24)","v":6},0,null,0,{"$f":"IF(FT24=0,FLOOR(IF(СЭкзаменами,H24,(H24+SUMIF(Курс1!$AL$7:$AL$75,\"=\"&ROW(),Курс1!$AA$7:$AA$75)+SUMIF(Курс2!$AL$7:$AL$75,\"=\"&ROW(),Курс2!$AA$7:$AA$75)+SUMIF(Курс3!$AL$7:$AL$75,\"=\"&ROW(),Курс3!$AA$7:$AA$75)+SUMIF(Курс4!$AL$7:$AL$75,\"=\"&ROW(),Курс4!$AA$7:$AA$75)+SUMIF(Курс5!$AL$7:$AL$75,\"=\"&ROW(),Курс5!$AA$7:$AA$75)+SUMIF(Курс6!$AL$7:$AL$75,\"=\"&ROW(),Курс6!$AA$7:$AA$75)+SUMIF(Курс7!$AL$7:$AL$75,\"=\"&ROW(),Курс7!$AA$7:$AA$75)))/IF(ЧасовВКредите>0,ЧасовВКредите,36),0.5),FT24)","v":0},null,null,null,{"$f":"SUMIF(Курс1!$AL$7:$AL$75,\"=\"&ROW(),Курс1!$AC$7:$AC$75)+SUMIF(Курс2!$AL$7:$AL$75,\"=\"&ROW(),Курс2!$AC$7:$AC$75)+SUMIF(Курс3!$AL$7:$AL$75,\"=\"&ROW(),Курс3!$AC$7:$AC$75)+SUMIF(Курс4!$AL$7:$AL$75,\"=\"&ROW(),Курс4!$AC$7:$AC$75)+SUMIF(Курс5!$AL$7:$AL$75,\"=\"&ROW(),Курс5!$AC$7:$AC$75)+SUMIF(Курс6!$AL$7:$AL$75,\"=\"&ROW(),Курс6!$AC$7:$AC$75)+SUMIF(Курс7!$AL$7:$AL$75,\"=\"&ROW(),Курс7!$AC$7:$AC$75)","v":0}]
["",null,null,null,null,null,{"$f":"IF($FI25>0,$FW25,SUM(I25:K25)+CJ25+IF(СЭкзаменами,SUMIF(Курс1!$AL$7:$AL$75,\"=\"&ROW(),Курс1!$AA$7:$AA$75)+SUMIF(Курс2!$AL$7:$AL$75,\"=\"&ROW(),Курс2!$AA$7:$AA$75)+SUMIF(Курс3!$AL$7:$AL$75,\"=\"&ROW(),Курс3!$AA$7:$AA$75)+SUMIF(Курс4!$AL$7:$AL$75,\"=\"&ROW(),Курс4!$AA$7:$AA$75)+SUMIF(Курс5!$AL$7:$AL$75,\"=\"&ROW(),Курс5!$AA$7:$AA$75)+SUMIF(Курс6!$AL$7:$AL$75,\"=\"&ROW(),Курс6!$AA$7:$AA$75)+SUMIF(Курс7!$AL$7:$AL$75,\"=\"&ROW(),Курс7!$AA$7:$AA$75),0))","v":0},null,0,0,null,null,null,null,null,null,null,null,null,null,null,null,null,null,null,null,null,null,null,null,null,null,null,null,null,null,null,null,null,null,null,null,null,null,null,null,null,null,null,null,null,null,null,null,null,null,null,null,null,null,null,null,null,null,null,null,null,null,0,0,0,0,0,0,0,null,0,0,0,0,0,null,0,null,null,null,null,null,0,0,0,0,0,0,0,0,0,0,0,0,0,0,0,0,0,0,0,0,0,0,0,0,0,0,0,0,0,0,0,0,0,0,0,0,0,0,0,0,0,0,0,0,0,0,0,0,0,0,0,0,0,0,0,0,0,0,0,0,0,null,0,0,0,0,0,0,0,0,0,0,0,0,0,0,0,0,0,1,401,407,"В",0,{"$f":"SUM($CB$6:$CB25)","v":6},0,null,0,{"$f":"IF(FT25=0,FLOOR(IF(СЭкзаменами,H25,(H25+SUMIF(Курс1!$AL$7:$AL$75,\"=\"&ROW(),Курс1!$AA$7:$AA$75)+SUMIF(Курс2!$AL$7:$AL$75,\"=\"&ROW(),Курс2!$AA$7:$AA$75)+SUMIF(Курс3!$AL$7:$AL$75,\"=\"&ROW(),Курс3!$AA$7:$AA$75)+SUMIF(Курс4!$AL$7:$AL$75,\"=\"&ROW(),Курс4!$AA$7:$AA$75)+SUMIF(Курс5!$AL$7:$AL$75,\"=\"&ROW(),Курс5!$AA$7:$AA$75)+SUMIF(Курс6!$AL$7:$AL$75,\"=\"&ROW(),Курс6!$AA$7:$AA$75)+SUMIF(Курс7!$AL$7:$AL$75,\"=\"&ROW(),Курс7!$AA$7:$AA$75)))/IF(ЧасовВКредите>0,ЧасовВКредите,36),0.5),FT25)","v":0},null,null,null,{"$f":"SUMIF(Курс1!$AL$7:$AL$75,\"=\"&ROW(),Курс1!$AC$7:$AC$75)+SUMIF(Курс2!$AL$7:$AL$75,\"=\"&ROW(),Курс2!$AC$7:$AC$75)+SUMIF(Курс3!$AL$7:$AL$75,\"=\"&ROW(),Курс3!$AC$7:$AC$75)+SUMIF(Курс4!$AL$7:$AL$75,\"=\"&ROW(),Курс4!$AC$7:$AC$75)+SUMIF(Курс5!$AL$7:$AL$75,\"=\"&ROW(),Курс5!$AC$7:$AC$75)+SUMIF(Курс6!$AL$7:$AL$75,\"=\"&ROW(),Курс6!$AC$7:$AC$75)+SUMIF(Курс7!$AL$7:$AL$75,\"=\"&ROW(),Курс7!$AC$7:$AC$75)","v":0}]
["",null,null,null,null,null,{"$f":"IF($FI26>0,$FW26,SUM(I26:K26)+CJ26+IF(СЭкзаменами,SUMIF(Курс1!$AL$7:$AL$75,\"=\"&ROW(),Курс1!$AA$7:$AA$75)+SUMIF(Курс2!$AL$7:$AL$75,\"=\"&ROW(),Курс2!$AA$7:$AA$75)+SUMIF(Курс3!$AL$7:$AL$75,\"=\"&ROW(),Курс3!$AA$7:$AA$75)+SUMIF(Курс4!$AL$7:$AL$75,\"=\"&ROW(),Курс4!$AA$7:$AA$75)+SUMIF(Курс5!$AL$7:$AL$75,\"=\"&ROW(),Курс5!$AA$7:$AA$75)+SUMIF(Курс6!$AL$7:$AL$75,\"=\"&ROW(),Курс6!$AA$7:$AA$75)+SUMIF(Курс7!$AL$7:$AL$75,\"=\"&ROW(),Курс7!$AA$7:$AA$75),0))","v":0},null,0,0,null,null,null,null,null,null,null,null,null,null,null,null,null,null,null,null,null,null,null,null,null,null,null,null,null,null,null,null,null,null,null,null,null,null,null,null,null,null,null,null,null,null,null,null,null,null,null,null,null,null,null,null,null,null,null,null,null,null,0,0,0,0,0,0,0,null,0,0,0,0,0,null,0,null,null,null,null,null,0,0,0,0,0,0,0,0,0,0,0,0,0,0,0,0,0,0,0,0,0,0,0,0,0,0,0,0,0,0,0,0,0,0,0,0,0,0,0,0,0,0,0,0,0,0,0,0,0,0,0,0,0,0,0,0,0,0,0,0,0,null,0,0,0,0,0,0,0,0,0,0,0,0,0,0,0,0,0,1,411,417,"В",0,{"$f":"SUM($CB$6:$CB26)","v":6},0,null,0,{"$f":"IF(FT26=0,FLOOR(IF(СЭкзаменами,H26,(H26+SUMIF(Курс1!$AL$7:$AL$75,\"=\"&ROW(),Курс1!$AA$7:$AA$75)+SUMIF(Курс2!$AL$7:$AL$75,\"=\"&ROW(),Курс2!$AA$7:$AA$75)+SUMIF(Курс3!$AL$7:$AL$75,\"=\"&ROW(),Курс3!$AA$7:$AA$75)+SUMIF(Курс4!$AL$7:$AL$75,\"=\"&ROW(),Курс4!$AA$7:$AA$75)+SUMIF(Курс5!$AL$7:$AL$75,\"=\"&ROW(),Курс5!$AA$7:$AA$75)+SUMIF(Курс6!$AL$7:$AL$75,\"=\"&ROW(),Курс6!$AA$7:$AA$75)+SUMIF(Курс7!$AL$7:$AL$75,\"=\"&ROW(),Курс7!$AA$7:$AA$75)))/IF(ЧасовВКредите>0,ЧасовВКредите,36),0.5),FT26)","v":0},null,null,null,{"$f":"SUMIF(Курс1!$AL$7:$AL$75,\"=\"&ROW(),Курс1!$AC$7:$AC$75)+SUMIF(Курс2!$AL$7:$AL$75,\"=\"&ROW(),Курс2!$AC$7:$AC$75)+SUMIF(Курс3!$AL$7:$AL$75,\"=\"&ROW(),Курс3!$AC$7:$AC$75)+SUMIF(Курс4!$AL$7:$AL$75,\"=\"&ROW(),Курс4!$AC$7:$AC$75)+SUMIF(Курс5!$AL$7:$AL$75,\"=\"&ROW(),Курс5!$AC$7:$AC$75)+SUMIF(Курс6!$AL$7:$AL$75,\"=\"&ROW(),Курс6!$AC$7:$AC$75)+SUMIF(Курс7!$AL$7:$AL$75,\"=\"&ROW(),Курс7!$AC$7:$AC$75)","v":0}]
["",null,null,null,null,null,{"$f":"IF($FI27>0,$FW27,SUM(I27:K27)+CJ27+IF(СЭкзаменами,SUMIF(Курс1!$AL$7:$AL$75,\"=\"&ROW(),Курс1!$AA$7:$AA$75)+SUMIF(Курс2!$AL$7:$AL$75,\"=\"&ROW(),Курс2!$AA$7:$AA$75)+SUMIF(Курс3!$AL$7:$AL$75,\"=\"&ROW(),Курс3!$AA$7:$AA$75)+SUMIF(Курс4!$AL$7:$AL$75,\"=\"&ROW(),Курс4!$AA$7:$AA$75)+SUMIF(Курс5!$AL$7:$AL$75,\"=\"&ROW(),Курс5!$AA$7:$AA$75)+SUMIF(Курс6!$AL$7:$AL$75,\"=\"&ROW(),Курс6!$AA$7:$AA$75)+SUMIF(Курс7!$AL$7:$AL$75,\"=\"&ROW(),Курс7!$AA$7:$AA$75),0))","v":0},null,0,0,null,null,null,null,null,null,null,null,null,null,null,null,null,null,null,null,null,null,null,null,null,null,null,null,null,null,null,null,null,null,null,null,null,null,null,null,null,null,null,null,null,null,null,null,null,null,null,null,null,null,null,null,null,null,null,null,null,null,0,0,0,0,0,0,0,null,0,0,0,0,0,null,0,null,null,null,null,null,0,0,0,0,0,0,0,0,0,0,0,0,0,0,0,0,0,0,0,0,0,0,0,0,0,0,0,0,0,0,0,0,0,0,0,0,0,0,0,0,0,0,0,0,0,0,0,0,0,0,0,0,0,0,0,0,0,0,0,0,0,null,0,0,0,0,0,0,0,0,0,0,0,0,0,0,0,0,0,1,421,427,"В",0,{"$f":"SUM($CB$6:$CB27)","v":6},0,null,0,{"$f":"IF(FT27=0,FLOOR(IF(СЭкзаменами,H27,(H27+SUMIF(Курс1!$AL$7:$AL$75,\"=\"&ROW(),Курс1!$AA$7:$AA$75)+SUMIF(Курс2!$AL$7:$AL$75,\"=\"&ROW(),Курс2!$AA$7:$AA$75)+SUMIF(Курс3!$AL$7:$AL$75,\"=\"&ROW(),Курс3!$AA$7:$AA$75)+SUMIF(Курс4!$AL$7:$AL$75,\"=\"&ROW(),Курс4!$AA$7:$AA$75)+SUMIF(Курс5!$AL$7:$AL$75,\"=\"&ROW(),Курс5!$AA$7:$AA$75)+SUMIF(Курс6!$AL$7:$AL$75,\"=\"&ROW(),Курс6!$AA$7:$AA$75)+SUMIF(Курс7!$AL$7:$AL$75,\"=\"&ROW(),Курс7!$AA$7:$AA$75)))/IF(ЧасовВКредите>0,ЧасовВКредите,36),0.5),FT27)","v":0},null,null,null,{"$f":"SUMIF(Курс1!$AL$7:$AL$75,\"=\"&ROW(),Курс1!$AC$7:$AC$75)+SUMIF(Курс2!$AL$7:$AL$75,\"=\"&ROW(),Курс2!$AC$7:$AC$75)+SUMIF(Курс3!$AL$7:$AL$75,\"=\"&ROW(),Курс3!$AC$7:$AC$75)+SUMIF(Курс4!$AL$7:$AL$75,\"=\"&ROW(),Курс4!$AC$7:$AC$75)+SUMIF(Курс5!$AL$7:$AL$75,\"=\"&ROW(),Курс5!$AC$7:$AC$75)+SUMIF(Курс6!$AL$7:$AL$75,\"=\"&ROW(),Курс6!$AC$7:$AC$75)+SUMIF(Курс7!$AL$7:$AL$75,\"=\"&ROW(),Курс7!$AC$7:$AC$75)","v":0}]
["",null,null,null,null,null,{"$f":"IF($FI28>0,$FW28,SUM(I28:K28)+CJ28+IF(СЭкзаменами,SUMIF(Курс1!$AL$7:$AL$75,\"=\"&ROW(),Курс1!$AA$7:$AA$75)+SUMIF(Курс2!$AL$7:$AL$75,\"=\"&ROW(),Курс2!$AA$7:$AA$75)+SUMIF(Курс3!$AL$7:$AL$75,\"=\"&ROW(),Курс3!$AA$7:$AA$75)+SUMIF(Курс4!$AL$7:$AL$75,\"=\"&ROW(),Курс4!$AA$7:$AA$75)+SUMIF(Курс5!$AL$7:$AL$75,\"=\"&ROW(),Курс5!$AA$7:$AA$75)+SUMIF(Курс6!$AL$7:$AL$75,\"=\"&ROW(),Курс6!$AA$7:$AA$75)+SUMIF(Курс7!$AL$7:$AL$75,\"=\"&ROW(),Курс7!$AA$7:$AA$75),0))","v":0},null,0,0,null,null,null,null,null,null,null,null,null,null,null,null,null,null,null,null,null,null,null,null,null,null,null,null,null,null,null,null,null,null,null,null,null,null,null,null,null,null,null,null,null,null,null,null,null,null,null,null,null,null,null,null,null,null,null,null,null,null,0,0,0,0,0,0,0,null,0,0,0,0,0,null,0,null,null,null,null,null,0,0,0,0,0,0,0,0,0,0,0,0,0,0,0,0,0,0,0,0,0,0,0,0,0,0,0,0,0,0,0,0,0,0,0,0,0,0,0,0,0,0,0,0,0,0,0,0,0,0,0,0,0,0,0,0,0,0,0,0,0,null,0,0,0,0,0,0,0,0,0,0,0,0,0,0,0,0,0,1,431,437,"В",0,{"$f":"SUM($CB$6:$CB28)","v":6},0,null,0,{"$f":"IF(FT28=0,FLOOR(IF(СЭкзаменами,H28,(H28+SUMIF(Курс1!$AL$7:$AL$75,\"=\"&ROW(),Курс1!$AA$7:$AA$75)+SUMIF(Курс2!$AL$7:$AL$75,\"=\"&ROW(),Курс2!$AA$7:$AA$75)+SUMIF(Курс3!$AL$7:$AL$75,\"=\"&ROW(),Курс3!$AA$7:$AA$75)+SUMIF(Курс4!$AL$7:$AL$75,\"=\"&ROW(),Курс4!$AA$7:$AA$75)+SUMIF(Курс5!$AL$7:$AL$75,\"=\"&ROW(),Курс5!$AA$7:$AA$75)+SUMIF(Курс6!$AL$7:$AL$75,\"=\"&ROW(),Курс6!$AA$7:$AA$75)+SUMIF(Курс7!$AL$7:$AL$75,\"=\"&ROW(),Курс7!$AA$7:$AA$75)))/IF(ЧасовВКредите>0,ЧасовВКредите,36),0.5),FT28)","v":0},null,null,null,{"$f":"SUMIF(Курс1!$AL$7:$AL$75,\"=\"&ROW(),Курс1!$AC$7:$AC$75)+SUMIF(Курс2!$AL$7:$AL$75,\"=\"&ROW(),Курс2!$AC$7:$AC$75)+SUMIF(Курс3!$AL$7:$AL$75,\"=\"&ROW(),Курс3!$AC$7:$AC$75)+SUMIF(Курс4!$AL$7:$AL$75,\"=\"&ROW(),Курс4!$AC$7:$AC$75)+SUMIF(Курс5!$AL$7:$AL$75,\"=\"&ROW(),Курс5!$AC$7:$AC$75)+SUMIF(Курс6!$AL$7:$AL$75,\"=\"&ROW(),Курс6!$AC$7:$AC$75)+SUMIF(Курс7!$AL$7:$AL$75,\"=\"&ROW(),Курс7!$AC$7:$AC$75)","v":0}]
["",null,null,null,null,null,{"$f":"IF($FI29>0,$FW29,SUM(I29:K29)+CJ29+IF(СЭкзаменами,SUMIF(Курс1!$AL$7:$AL$75,\"=\"&ROW(),Курс1!$AA$7:$AA$75)+SUMIF(Курс2!$AL$7:$AL$75,\"=\"&ROW(),Курс2!$AA$7:$AA$75)+SUMIF(Курс3!$AL$7:$AL$75,\"=\"&ROW(),Курс3!$AA$7:$AA$75)+SUMIF(Курс4!$AL$7:$AL$75,\"=\"&ROW(),Курс4!$AA$7:$AA$75)+SUMIF(Курс5!$AL$7:$AL$75,\"=\"&ROW(),Курс5!$AA$7:$AA$75)+SUMIF(Курс6!$AL$7:$AL$75,\"=\"&ROW(),Курс6!$AA$7:$AA$75)+SUMIF(Курс7!$AL$7:$AL$75,\"=\"&ROW(),Курс7!$AA$7:$AA$75),0))","v":0},null,0,0,null,null,null,null,null,null,null,null,null,null,null,null,null,null,null,null,null,null,null,null,null,null,null,null,null,null,null,null,null,null,null,null,null,null,null,null,null,null,null,null,null,null,null,null,null,null,null,null,null,null,null,null,null,null,null,null,null,null,0,0,0,0,0,0,0,null,0,0,0,0,0,null,0,null,null,null,null,null,0,0,0,0,0,0,0,0,0,0,0,0,0,0,0,0,0,0,0,0,0,0,0,0,0,0,0,0,0,0,0,0,0,0,0,0,0,0,0,0,0,0,0,0,0,0,0,0,0,0,0,0,0,0,0,0,0,0,0,0,0,null,0,0,0,0,0,0,0,0,0,0,0,0,0,0,0,0,0,1,441,447,"В",0,{"$f":"SUM($CB$6:$CB29)","v":6},0,null,0,{"$f":"IF(FT29=0,FLOOR(IF(СЭкзаменами,H29,(H29+SUMIF(Курс1!$AL$7:$AL$75,\"=\"&ROW(),Курс1!$AA$7:$AA$75)+SUMIF(Курс2!$AL$7:$AL$75,\"=\"&ROW(),Курс2!$AA$7:$AA$75)+SUMIF(Курс3!$AL$7:$AL$75,\"=\"&ROW(),Курс3!$AA$7:$AA$75)+SUMIF(Курс4!$AL$7:$AL$75,\"=\"&ROW(),Курс4!$AA$7:$AA$75)+SUMIF(Курс5!$AL$7:$AL$75,\"=\"&ROW(),Курс5!$AA$7:$AA$75)+SUMIF(Курс6!$AL$7:$AL$75,\"=\"&ROW(),Курс6!$AA$7:$AA$75)+SUMIF(Курс7!$AL$7:$AL$75,\"=\"&ROW(),Курс7!$AA$7:$AA$75)))/IF(ЧасовВКредите>0,ЧасовВКредите,36),0.5),FT29)","v":0},null,null,null,{"$f":"SUMIF(Курс1!$AL$7:$AL$75,\"=\"&ROW(),Курс1!$AC$7:$AC$75)+SUMIF(Курс2!$AL$7:$AL$75,\"=\"&ROW(),Курс2!$AC$7:$AC$75)+SUMIF(Курс3!$AL$7:$AL$75,\"=\"&ROW(),Курс3!$AC$7:$AC$75)+SUMIF(Курс4!$AL$7:$AL$75,\"=\"&ROW(),Курс4!$AC$7:$AC$75)+SUMIF(Курс5!$AL$7:$AL$75,\"=\"&ROW(),Курс5!$AC$7:$AC$75)+SUMIF(Курс6!$AL$7:$AL$75,\"=\"&ROW(),Курс6!$AC$7:$AC$75)+SUMIF(Курс7!$AL$7:$AL$75,\"=\"&ROW(),Курс7!$AC$7:$AC$75)","v":0}]
["",null,null,null,null,null,{"$f":"IF($FI30>0,$FW30,SUM(I30:K30)+CJ30+IF(СЭкзаменами,SUMIF(Курс1!$AL$7:$AL$75,\"=\"&ROW(),Курс1!$AA$7:$AA$75)+SUMIF(Курс2!$AL$7:$AL$75,\"=\"&ROW(),Курс2!$AA$7:$AA$75)+SUMIF(Курс3!$AL$7:$AL$75,\"=\"&ROW(),Курс3!$AA$7:$AA$75)+SUMIF(Курс4!$AL$7:$AL$75,\"=\"&ROW(),Курс4!$AA$7:$AA$75)+SUMIF(Курс5!$AL$7:$AL$75,\"=\"&ROW(),Курс5!$AA$7:$AA$75)+SUMIF(Курс6!$AL$7:$AL$75,\"=\"&ROW(),Курс6!$AA$7:$AA$75)+SUMIF(Курс7!$AL$7:$AL$75,\"=\"&ROW(),Курс7!$AA$7:$AA$75),0))","v":0},null,0,0,null,null,null,null,null,null,null,null,null,null,null,null,null,null,null,null,null,null,null,null,null,null,null,null,null,null,null,null,null,null,null,null,null,null,null,null,null,null,null,null,null,null,null,null,null,null,null,null,null,null,null,null,null,null,null,null,null,null,0,0,0,0,0,0,0,null,0,0,0,0,0,null,0,null,null,null,null,null,0,0,0,0,0,0,0,0,0,0,0,0,0,0,0,0,0,0,0,0,0,0,0,0,0,0,0,0,0,0,0,0,0,0,0,0,0,0,0,0,0,0,0,0,0,0,0,0,0,0,0,0,0,0,0,0,0,0,0,0,0,null,0,0,0,0,0,0,0,0,0,0,0,0,0,0,0,0,0,1,451,457,"В",0,{"$f":"SUM($CB$6:$CB30)","v":6},0,null,0,{"$f":"IF(FT30=0,FLOOR(IF(СЭкзаменами,H30,(H30+SUMIF(Курс1!$AL$7:$AL$75,\"=\"&ROW(),Курс1!$AA$7:$AA$75)+SUMIF(Курс2!$AL$7:$AL$75,\"=\"&ROW(),Курс2!$AA$7:$AA$75)+SUMIF(Курс3!$AL$7:$AL$75,\"=\"&ROW(),Курс3!$AA$7:$AA$75)+SUMIF(Курс4!$AL$7:$AL$75,\"=\"&ROW(),Курс4!$AA$7:$AA$75)+SUMIF(Курс5!$AL$7:$AL$75,\"=\"&ROW(),Курс5!$AA$7:$AA$75)+SUMIF(Курс6!$AL$7:$AL$75,\"=\"&ROW(),Курс6!$AA$7:$AA$75)+SUMIF(Курс7!$AL$7:$AL$75,\"=\"&ROW(),Курс7!$AA$7:$AA$75)))/IF(ЧасовВКредите>0,ЧасовВКредите,36),0.5),FT30)","v":0},null,null,null,{"$f":"SUMIF(Курс1!$AL$7:$AL$75,\"=\"&ROW(),Курс1!$AC$7:$AC$75)+SUMIF(Курс2!$AL$7:$AL$75,\"=\"&ROW(),Курс2!$AC$7:$AC$75)+SUMIF(Курс3!$AL$7:$AL$75,\"=\"&ROW(),Курс3!$AC$7:$AC$75)+SUMIF(Курс4!$AL$7:$AL$75,\"=\"&ROW(),Курс4!$AC$7:$AC$75)+SUMIF(Курс5!$AL$7:$AL$75,\"=\"&ROW(),Курс5!$AC$7:$AC$75)+SUMIF(Курс6!$AL$7:$AL$75,\"=\"&ROW(),Курс6!$AC$7:$AC$75)+SUMIF(Курс7!$AL$7:$AL$75,\"=\"&ROW(),Курс7!$AC$7:$AC$75)","v":0}]
["",null,null,null,null,null,{"$f":"IF($FI31>0,$FW31,SUM(I31:K31)+CJ31+IF(СЭкзаменами,SUMIF(Курс1!$AL$7:$AL$75,\"=\"&ROW(),Курс1!$AA$7:$AA$75)+SUMIF(Курс2!$AL$7:$AL$75,\"=\"&ROW(),Курс2!$AA$7:$AA$75)+SUMIF(Курс3!$AL$7:$AL$75,\"=\"&ROW(),Курс3!$AA$7:$AA$75)+SUMIF(Курс4!$AL$7:$AL$75,\"=\"&ROW(),Курс4!$AA$7:$AA$75)+SUMIF(Курс5!$AL$7:$AL$75,\"=\"&ROW(),Курс5!$AA$7:$AA$75)+SUMIF(Курс6!$AL$7:$AL$75,\"=\"&ROW(),Курс6!$AA$7:$AA$75)+SUMIF(Курс7!$AL$7:$AL$75,\"=\"&ROW(),Курс7!$AA$7:$AA$75),0))","v":0},null,{"$f":"SUM(L31:N31)+SUM(P31:R31)+SUM(T31:V31)+SUM(X31:Z31)+SUM(AB31:AD31)+SUM(AF31:AH31)+SUM(AJ31:AL31)+SUM(AN31:AP31)+SUM(AR31:AT31)+SUM(AV31:AX31)+SUM(AZ31:BB31)+SUM(BD31:BF31)+SUM(BH31:BJ31)+SUM(BL31:BN31)","v":0},{"$f":"O31+S31+W31+AA31+AE31+AI31+AM31+AQ31+AU31+AY31+BC31+BG31+BK31+BO31","v":0},null,null,null,null,null,null,null,null,null,null,null,null,null,null,null,null,null,null,null,null,null,null,null,null,null,null,null,null,null,null,null,null,null,null,null,null,null,null,null,null,null,null,null,null,null,null,null,null,null,null,null,null,null,null,null,null,null,null,0,0,0,0,0,0,0,null,{"$f":"IF(FI31=0,$H31*MAX(1,$BX31)*($BQ31*Конт1+$BR31*Конт2+$BS31*Конт3+$BT31*Конт4+$BU31*Конт5+$BV31*Конт6)/IF(СреднееКСГ>0,СреднееКСГ,21)+((CL31+CP31)*Экз+(CM31+CQ31)*Зач+(CN31+CR31)*Проект+(CO31+CS31)*Работа)*Конт1+((CT31+CX31)*Экз+(CU31+CY31)*Зач+(CV31+CZ31)*Проект+(CW31+DA31)*Работа)*Конт2+((DB31+DF31)*Экз+(DC31+DG31)*Зач+(DD31+DH31)*Проект+(DE31+DI31)*Работа)*Конт3+((DJ31+DN31)*Экз+(DK31+DO31)*Зач+(DL31+DP31)*Проект+(DM31+DQ31)*Работа)*Конт4+((DR31+DV31)*Экз+(DO31+DW31)*Зач+(DT31+DX31)*Проект+(DU31+DY31)*Работа)*Конт5+((DZ31+ED31)*Экз+(EA31+EE31)*Зач+(EB31+EF31)*Проект+(EC31+EG31)*Работа)*Конт6,0)","v":0},{"$f":"IF(AND(UPPER(LEFT(B31,8))=\"ИТОГОВЫЙ\",TRIM(C31)<>\"\"),1,0)","v":0},{"$f":"IF(SUM(G31:H31)=0,0,IF(SUM(L31:O31,T31:W31,AB31:AE31,AJ31:AM31,AR31:AU31,AZ31:BC31)=0,3,IF(SUM(P31:S31,X31:AA31,AF31:AI31,AN31:AQ31,AV31:AY31,BD31:BG31)=0,1,2)))","v":0},{"$f":"IF(OR(TRIM(B31)=\"\",FJ31=1),0,1)","v":0},{"$f":"IF(OR(CA31>0,TRIM(B31)<>\"\"),1,0)","v":0},null,{"$f":"CL31+CP31+CT31+CX31+DB31+DF31+DJ31+DN31+DR31+DV31+DZ31+ED31+CM31+CQ31+CU31+CY31+DC31+DG31+DK31+DO31+DS31+DW31+EA31+EE31","v":0},null,null,null,null,null,{"$f":"SUM(I31:K31)","v":0},0,0,{"$f":"IF(ISNUMBER(FIND(CL$2,$E31,1)),IF(OR(FI31=1,$FP31=1),0,1),0)","v":0},{"$f":"IF(ISNUMBER(FIND(CL$2,$F31,1)),IF(OR(FI31=1,$FP31=1),0,1),0)","v":0},0,0,{"$f":"IF(ISNUMBER(FIND(CP$2,$E31,1)),IF(OR(FI31=1,$FP31=1),0,1),0)","v":0},{"$f":"IF(ISNUMBER(FIND(CP$2,$F31,1)),IF(OR($FI31=1,$FP31=1),0,1),0)","v":0},0,0,{"$f":"IF(ISNUMBER(FIND(CT$2,$E31,1)),IF(OR($FI31=1,$FP31=1),0,1),0)","v":0},{"$f":"IF(ISNUMBER(FIND(CT$2,$F31,1)),IF(OR($FI31=1,$FP31=1),0,1),0)","v":0},0,0,{"$f":"IF(ISNUMBER(FIND(CX$2,$E31,1)),IF(OR($FI31=1,$FP31=1),0,1),0)","v":0},{"$f":"IF(ISNUMBER(FIND(CX$2,$F31,1)),IF(OR($FI31=1,$FP31=1),0,1),0)","v":0},0,0,{"$f":"IF(ISNUMBER(FIND(DB$2,$E31,1)),IF(OR($FI31=1,$FP31=1),0,1),0)","v":0},{"$f":"IF(ISNUMBER(FIND(DB$2,$F31,1)),IF(OR($FI31=1,$FP31=1),0,1),0)","v":0},0,0,{"$f":"IF(ISNUMBER(FIND(DF$2,$E31,1)),IF(OR($FI31=1,$FP31=1),0,1),0)","v":0},{"$f":"IF(ISNUMBER(FIND(DF$2,$F31,1)),IF(OR($FI31=1,$FP31=1),0,1),0)","v":0},0,0,{"$f":"IF(ISNUMBER(FIND(DJ$2,$E31,1)),IF(OR($FI31=1,$FP31=1),0,1),0)","v":0},{"$f":"IF(ISNUMBER(FIND(DJ$2,$F31,1)),IF(OR($FI31=1,$FP31=1),0,1),0)","v":0},0,0,{"$f":"IF(ISNUMBER(FIND(DN$2,$E31,1)),IF(OR($FI31=1,$FP31=1),0,1),0)","v":0},{"$f":"IF(ISNUMBER(FIND(DN$2,$F31,1)),IF(OR($FI31=1,$FP31=1),0,1),0)","v":0},0,0,{"$f":"IF(ISNUMBER(FIND(DR$2,$E31,1)),IF(OR($FI31=1,$FP31=1),0,1),0)","v":0},{"$f":"IF(ISNUMBER(FIND(DR$2,$F31,1)),IF(OR($FI31=1,$FP31=1),0,1),0)","v":0},0,0,{"$f":"IF(ISNUMBER(FIND(DV$2,$E31,1)),IF(OR($FI31=1,$FP31=1),0,1),0)","v":0},{"$f":"IF(ISNUMBER(FIND(DV$2,$F31,1)),IF(OR($FI31=1,$FP31=1),0,1),0)","v":0},0,0,{"$f":"IF(ISNUMBER(FIND(DZ$2,$E31,1)),IF(OR($FI31=1,$FP31=1),0,1),0)","v":0},{"$f":"IF(ISNUMBER(FIND(DZ$2,$F31,1)),IF(OR($FI31=1,$FP31=1),0,1),0)","v":0},0,0,{"$f":"IF(ISNUMBER(FIND(ED$2,$E31,1)),IF(OR($FI31=1,$FP31=1),0,1),0)","v":0},{"$f":"IF(ISNUMBER(FIND(ED$2,$F31,1)),IF(OR($FI31=1,$FP31=1),0,1),0)","v":0},0,0,{"$f":"IF(ISNUMBER(FIND(EH$2,$E31,1)),IF(OR($FI31=1,$FP31=1),0,1),0)","v":0},{"$f":"IF(ISNUMBER(FIND(EH$2,$F31,1)),IF(OR($FI31=1,$FP31=1),0,1),0)","v":0},0,0,{"$f":"IF(ISNUMBER(FIND(EL$2,$E31,1)),IF(OR($FI31=1,$FP31=1),0,1),0)","v":0},{"$f":"IF(ISNUMBER(FIND(EL$2,$F31,1)),IF(OR($FI31=1,$FP31=1),0,1),0)","v":0},{"$f":"IF(OR($FI31=1,$FP31=1),0,LEN(TRIM(CF31)))","v":0},{"$f":"IF(OR($FI31=1,$FP31=1),0,LEN(TRIM(CG31)))","v":0},0,{"$f":"IF(OR($FI31=1,$FP31=1),0,LEN(TRIM(CI31)))","v":0},null,{"$f":"IF(SUM(L31:O31)>0,1,0)","v":0},{"$f":"IF(SUM(P31:S31)>0,1,0)","v":0},{"$f":"IF(SUM(T31:W31)>0,1,0)","v":0},{"$f":"IF(SUM(X31:AA31)>0,1,0)","v":0},{"$f":"IF(SUM(AB31:AE31)>0,1,0)","v":0},{"$f":"IF(SUM(AF31:AI31)>0,1,0)","v":0},{"$f":"IF(SUM(AJ31:AM31)>0,1,0)","v":0},{"$f":"IF(SUM(AN31:AQ31)>0,1,0)","v":0},{"$f":"IF(SUM(AR31:AU31)>0,1,0)","v":0},{"$f":"IF(SUM(AV31:AY31)>0,1,0)","v":0},{"$f":"IF(SUM(AZ31:BC31)>0,1,0)","v":0},{"$f":"IF(SUM(BD31:BG31)>0,1,0)","v":0},{"$f":"IF(SUM(BH31:BK31)>0,1,0)","v":0},{"$f":"IF(SUM(BL31:BO31)>0,1,0)","v":0},0,0,0,1,462,521,"Ф",0,{"$f":"SUM($CB$6:$CB31)","v":6},{"$f":"IF(FI30=1,1,IF(FJ31=1,FR30+1,0))","v":0},0,0,{"$f":"IF(FT31=0,FLOOR(IF(СЭкзаменами,H31,(H31+SUMIF(Курс1!$AL$7:$AL$75,\"=\"&ROW(),Курс1!$AA$7:$AA$75)+SUMIF(Курс2!$AL$7:$AL$75,\"=\"&ROW(),Курс2!$AA$7:$AA$75)+SUMIF(Курс3!$AL$7:$AL$75,\"=\"&ROW(),Курс3!$AA$7:$AA$75)+SUMIF(Курс4!$AL$7:$AL$75,\"=\"&ROW(),Курс4!$AA$7:$AA$75)+SUMIF(Курс5!$AL$7:$AL$75,\"=\"&ROW(),Курс5!$AA$7:$AA$75)+SUMIF(Курс6!$AL$7:$AL$75,\"=\"&ROW(),Курс6!$AA$7:$AA$75)+SUMIF(Курс7!$AL$7:$AL$75,\"=\"&ROW(),Курс7!$AA$7:$AA$75)))/IF(ЧасовВКредите>0,ЧасовВКредите,36),0.5),FT31)","v":0},null,null,null,{"$f":"SUMIF(Курс1!$AL$7:$AL$75,\"=\"&ROW(),Курс1!$AC$7:$AC$75)+SUMIF(Курс2!$AL$7:$AL$75,\"=\"&ROW(),Курс2!$AC$7:$AC$75)+SUMIF(Курс3!$AL$7:$AL$75,\"=\"&ROW(),Курс3!$AC$7:$AC$75)+SUMIF(Курс4!$AL$7:$AL$75,\"=\"&ROW(),Курс4!$AC$7:$AC$75)+SUMIF(Курс5!$AL$7:$AL$75,\"=\"&ROW(),Курс5!$AC$7:$AC$75)+SUMIF(Курс6!$AL$7:$AL$75,\"=\"&ROW(),Курс6!$AC$7:$AC$75)+SUMIF(Курс7!$AL$7:$AL$75,\"=\"&ROW(),Курс7!$AC$7:$AC$75)","v":0}]
["",null,null,null,null,null,{"$f":"IF($FI32>0,$FW32,SUM(I32:K32)+CJ32+IF(СЭкзаменами,SUMIF(Курс1!$AL$7:$AL$75,\"=\"&ROW(),Курс1!$AA$7:$AA$75)+SUMIF(Курс2!$AL$7:$AL$75,\"=\"&ROW(),Курс2!$AA$7:$AA$75)+SUMIF(Курс3!$AL$7:$AL$75,\"=\"&ROW(),Курс3!$AA$7:$AA$75)+SUMIF(Курс4!$AL$7:$AL$75,\"=\"&ROW(),Курс4!$AA$7:$AA$75)+SUMIF(Курс5!$AL$7:$AL$75,\"=\"&ROW(),Курс5!$AA$7:$AA$75)+SUMIF(Курс6!$AL$7:$AL$75,\"=\"&ROW(),Курс6!$AA$7:$AA$75)+SUMIF(Курс7!$AL$7:$AL$75,\"=\"&ROW(),Курс7!$AA$7:$AA$75),0))","v":0},null,0,0,null,null,null,null,null,null,null,null,null,null,null,null,null,null,null,null,null,null,null,null,null,null,null,null,null,null,null,null,null,null,null,null,null,null,null,null,null,null,null,null,null,null,null,null,null,null,null,null,null,null,null,null,null,null,null,null,null,null,0,0,0,0,0,0,0,null,0,0,0,0,0,null,0,null,null,null,null,null,0,0,0,0,0,0,0,0,0,0,0,0,0,0,0,0,0,0,0,0,0,0,0,0,0,0,0,0,0,0,0,0,0,0,0,0,0,0,0,0,0,0,0,0,0,0,0,0,0,0,0,0,0,0,0,0,0,0,0,0,0,null,0,0,0,0,0,0,0,0,0,0,0,0,0,0,0,0,0,1,522,555,"Р",0,{"$f":"SUM($CB$6:$CB32)","v":6},0,0,0,{"$f":"IF(FT32=0,FLOOR(IF(СЭкзаменами,H32,(H32+SUMIF(Курс1!$AL$7:$AL$75,\"=\"&ROW(),Курс1!$AA$7:$AA$75)+SUMIF(Курс2!$AL$7:$AL$75,\"=\"&ROW(),Курс2!$AA$7:$AA$75)+SUMIF(Курс3!$AL$7:$AL$75,\"=\"&ROW(),Курс3!$AA$7:$AA$75)+SUMIF(Курс4!$AL$7:$AL$75,\"=\"&ROW(),Курс4!$AA$7:$AA$75)+SUMIF(Курс5!$AL$7:$AL$75,\"=\"&ROW(),Курс5!$AA$7:$AA$75)+SUMIF(Курс6!$AL$7:$AL$75,\"=\"&ROW(),Курс6!$AA$7:$AA$75)+SUMIF(Курс7!$AL$7:$AL$75,\"=\"&ROW(),Курс7!$AA$7:$AA$75)))/IF(ЧасовВКредите>0,ЧасовВКредите,36),0.5),FT32)","v":0},null,null,null,{"$f":"SUMIF(Курс1!$AL$7:$AL$75,\"=\"&ROW(),Курс1!$AC$7:$AC$75)+SUMIF(Курс2!$AL$7:$AL$75,\"=\"&ROW(),Курс2!$AC$7:$AC$75)+SUMIF(Курс3!$AL$7:$AL$75,\"=\"&ROW(),Курс3!$AC$7:$AC$75)+SUMIF(Курс4!$AL$7:$AL$75,\"=\"&ROW(),Курс4!$AC$7:$AC$75)+SUMIF(Курс5!$AL$7:$AL$75,\"=\"&ROW(),Курс5!$AC$7:$AC$75)+SUMIF(Курс6!$AL$7:$AL$75,\"=\"&ROW(),Курс6!$AC$7:$AC$75)+SUMIF(Курс7!$AL$7:$AL$75,\"=\"&ROW(),Курс7!$AC$7:$AC$75)","v":0}]
["",null,null,null,null,null,{"$f":"IF($FI33>0,$FW33,SUM(I33:K33)+CJ33+IF(СЭкзаменами,SUMIF(Курс1!$AL$7:$AL$75,\"=\"&ROW(),Курс1!$AA$7:$AA$75)+SUMIF(Курс2!$AL$7:$AL$75,\"=\"&ROW(),Курс2!$AA$7:$AA$75)+SUMIF(Курс3!$AL$7:$AL$75,\"=\"&ROW(),Курс3!$AA$7:$AA$75)+SUMIF(Курс4!$AL$7:$AL$75,\"=\"&ROW(),Курс4!$AA$7:$AA$75)+SUMIF(Курс5!$AL$7:$AL$75,\"=\"&ROW(),Курс5!$AA$7:$AA$75)+SUMIF(Курс6!$AL$7:$AL$75,\"=\"&ROW(),Курс6!$AA$7:$AA$75)+SUMIF(Курс7!$AL$7:$AL$75,\"=\"&ROW(),Курс7!$AA$7:$AA$75),0))","v":0},null,0,0,null,null,null,null,null,null,null,null,null,null,null,null,null,null,null,null,null,null,null,null,null,null,null,null,null,null,null,null,null,null,null,null,null,null,null,null,null,null,null,null,null,null,null,null,null,null,null,null,null,null,null,null,null,null,null,null,null,null,0,0,0,0,0,0,0,null,0,0,0,0,0,null,0,null,null,null,null,null,0,0,0,0,0,0,0,0,0,0,0,0,0,0,0,0,0,0,0,0,0,0,0,0,0,0,0,0,0,0,0,0,0,0,0,0,0,0,0,0,0,0,0,0,0,0,0,0,0,0,0,0,0,0,0,0,0,0,0,0,0,null,0,0,0,0,0,0,0,0,0,0,0,0,0,0,0,0,0,1,559,565,"В",0,{"$f":"SUM($CB$6:$CB33)","v":6},0,0,0,{"$f":"IF(FT33=0,FLOOR(IF(СЭкзаменами,H33,(H33+SUMIF(Курс1!$AL$7:$AL$75,\"=\"&ROW(),Курс1!$AA$7:$AA$75)+SUMIF(Курс2!$AL$7:$AL$75,\"=\"&ROW(),Курс2!$AA$7:$AA$75)+SUMIF(Курс3!$AL$7:$AL$75,\"=\"&ROW(),Курс3!$AA$7:$AA$75)+SUMIF(Курс4!$AL$7:$AL$75,\"=\"&ROW(),Курс4!$AA$7:$AA$75)+SUMIF(Курс5!$AL$7:$AL$75,\"=\"&ROW(),Курс5!$AA$7:$AA$75)+SUMIF(Курс6!$AL$7:$AL$75,\"=\"&ROW(),Курс6!$AA$7:$AA$75)+SUMIF(Курс7!$AL$7:$AL$75,\"=\"&ROW(),Курс7!$AA$7:$AA$75)))/IF(ЧасовВКредите>0,ЧасовВКредите,36),0.5),FT33)","v":0},null,null,null,{"$f":"SUMIF(Курс1!$AL$7:$AL$75,\"=\"&ROW(),Курс1!$AC$7:$AC$75)+SUMIF(Курс2!$AL$7:$AL$75,\"=\"&ROW(),Курс2!$AC$7:$AC$75)+SUMIF(Курс3!$AL$7:$AL$75,\"=\"&ROW(),Курс3!$AC$7:$AC$75)+SUMIF(Курс4!$AL$7:$AL$75,\"=\"&ROW(),Курс4!$AC$7:$AC$75)+SUMIF(Курс5!$AL$7:$AL$75,\"=\"&ROW(),Курс5!$AC$7:$AC$75)+SUMIF(Курс6!$AL$7:$AL$75,\"=\"&ROW(),Курс6!$AC$7:$AC$75)+SUMIF(Курс7!$AL$7:$AL$75,\"=\"&ROW(),Курс7!$AC$7:$AC$75)","v":0}]
["",null,null,null,null,null,{"$f":"IF($FI34>0,$FW34,SUM(I34:K34)+CJ34+IF(СЭкзаменами,SUMIF(Курс1!$AL$7:$AL$75,\"=\"&ROW(),Курс1!$AA$7:$AA$75)+SUMIF(Курс2!$AL$7:$AL$75,\"=\"&ROW(),Курс2!$AA$7:$AA$75)+SUMIF(Курс3!$AL$7:$AL$75,\"=\"&ROW(),Курс3!$AA$7:$AA$75)+SUMIF(Курс4!$AL$7:$AL$75,\"=\"&ROW(),Курс4!$AA$7:$AA$75)+SUMIF(Курс5!$AL$7:$AL$75,\"=\"&ROW(),Курс5!$AA$7:$AA$75)+SUMIF(Курс6!$AL$7:$AL$75,\"=\"&ROW(),Курс6!$AA$7:$AA$75)+SUMIF(Курс7!$AL$7:$AL$75,\"=\"&ROW(),Курс7!$AA$7:$AA$75),0))","v":0},null,0,0,null,null,null,null,null,null,null,null,null,null,null,null,null,null,null,null,null,null,null,null,null,null,null,null,null,null,null,null,null,null,null,null,null,null,null,null,null,null,null,null,null,null,null,null,null,null,null,null,null,null,null,null,null,null,null,null,null,null,0,0,0,0,0,0,0,null,0,0,0,0,0,null,0,null,null,null,null,null,0,0,0,0,0,0,0,0,0,0,0,0,0,0,0,0,0,0,0,0,0,0,0,0,0,0,0,0,0,0,0,0,0,0,0,0,0,0,0,0,0,0,0,0,0,0,0,0,0,0,0,0,0,0,0,0,0,0,0,0,0,null,0,0,0,0,0,0,0,0,0,0,0,0,0,0,0,0,0,1,569,575,"В",0,{"$f":"SUM($CB$6:$CB34)","v":6},0,0,0,{"$f":"IF(FT34=0,FLOOR(IF(СЭкзаменами,H34,(H34+SUMIF(Курс1!$AL$7:$AL$75,\"=\"&ROW(),Курс1!$AA$7:$AA$75)+SUMIF(Курс2!$AL$7:$AL$75,\"=\"&ROW(),Курс2!$AA$7:$AA$75)+SUMIF(Курс3!$AL$7:$AL$75,\"=\"&ROW(),Курс3!$AA$7:$AA$75)+SUMIF(Курс4!$AL$7:$AL$75,\"=\"&ROW(),Курс4!$AA$7:$AA$75)+SUMIF(Курс5!$AL$7:$AL$75,\"=\"&ROW(),Курс5!$AA$7:$AA$75)+SUMIF(Курс6!$AL$7:$AL$75,\"=\"&ROW(),Курс6!$AA$7:$AA$75)+SUMIF(Курс7!$AL$7:$AL$75,\"=\"&ROW(),Курс7!$AA$7:$AA$75)))/IF(ЧасовВКредите>0,ЧасовВКредите,36),0.5),FT34)","v":0},null,null,null,{"$f":"SUMIF(Курс1!$AL$7:$AL$75,\"=\"&ROW(),Курс1!$AC$7:$AC$75)+SUMIF(Курс2!$AL$7:$AL$75,\"=\"&ROW(),Курс2!$AC$7:$AC$75)+SUMIF(Курс3!$AL$7:$AL$75,\"=\"&ROW(),Курс3!$AC$7:$AC$75)+SUMIF(Курс4!$AL$7:$AL$75,\"=\"&ROW(),Курс4!$AC$7:$AC$75)+SUMIF(Курс5!$AL$7:$AL$75,\"=\"&ROW(),Курс5!$AC$7:$AC$75)+SUMIF(Курс6!$AL$7:$AL$75,\"=\"&ROW(),Курс6!$AC$7:$AC$75)+SUMIF(Курс7!$AL$7:$AL$75,\"=\"&ROW(),Курс7!$AC$7:$AC$75)","v":0}]
["",null,null,null,null,null,{"$f":"IF($FI35>0,$FW35,SUM(I35:K35)+CJ35+IF(СЭкзаменами,SUMIF(Курс1!$AL$7:$AL$75,\"=\"&ROW(),Курс1!$AA$7:$AA$75)+SUMIF(Курс2!$AL$7:$AL$75,\"=\"&ROW(),Курс2!$AA$7:$AA$75)+SUMIF(Курс3!$AL$7:$AL$75,\"=\"&ROW(),Курс3!$AA$7:$AA$75)+SUMIF(Курс4!$AL$7:$AL$75,\"=\"&ROW(),Курс4!$AA$7:$AA$75)+SUMIF(Курс5!$AL$7:$AL$75,\"=\"&ROW(),Курс5!$AA$7:$AA$75)+SUMIF(Курс6!$AL$7:$AL$75,\"=\"&ROW(),Курс6!$AA$7:$AA$75)+SUMIF(Курс7!$AL$7:$AL$75,\"=\"&ROW(),Курс7!$AA$7:$AA$75),0))","v":0},null,0,0,null,null,null,null,null,null,null,null,null,null,null,null,null,null,null,null,null,null,null,null,null,null,null,null,null,null,null,null,null,null,null,null,null,null,null,null,null,null,null,null,null,null,null,null,null,null,null,null,null,null,null,null,null,null,null,null,null,null,0,0,0,0,0,0,0,null,0,0,0,0,0,null,0,null,null,null,null,null,0,0,0,0,0,0,0,0,0,0,0,0,0,0,0,0,0,0,0,0,0,0,0,0,0,0,0,0,0,0,0,0,0,0,0,0,0,0,0,0,0,0,0,0,0,0,0,0,0,0,0,0,0,0,0,0,0,0,0,0,0,null,0,0,0,0,0,0,0,0,0,0,0,0,0,0,0,0,0,1,579,585,"В",0,{"$f":"SUM($CB$6:$CB35)","v":6},0,null,0,{"$f":"IF(FT35=0,FLOOR(IF(СЭкзаменами,H35,(H35+SUMIF(Курс1!$AL$7:$AL$75,\"=\"&ROW(),Курс1!$AA$7:$AA$75)+SUMIF(Курс2!$AL$7:$AL$75,\"=\"&ROW(),Курс2!$AA$7:$AA$75)+SUMIF(Курс3!$AL$7:$AL$75,\"=\"&ROW(),Курс3!$AA$7:$AA$75)+SUMIF(Курс4!$AL$7:$AL$75,\"=\"&ROW(),Курс4!$AA$7:$AA$75)+SUMIF(Курс5!$AL$7:$AL$75,\"=\"&ROW(),Курс5!$AA$7:$AA$75)+SUMIF(Курс6!$AL$7:$AL$75,\"=\"&ROW(),Курс6!$AA$7:$AA$75)+SUMIF(Курс7!$AL$7:$AL$75,\"=\"&ROW(),Курс7!$AA$7:$AA$75)))/IF(ЧасовВКредите>0,ЧасовВКредите,36),0.5),FT35)","v":0},null,null,null,{"$f":"SUMIF(Курс1!$AL$7:$AL$75,\"=\"&ROW(),Курс1!$AC$7:$AC$75)+SUMIF(Курс2!$AL$7:$AL$75,\"=\"&ROW(),Курс2!$AC$7:$AC$75)+SUMIF(Курс3!$AL$7:$AL$75,\"=\"&ROW(),Курс3!$AC$7:$AC$75)+SUMIF(Курс4!$AL$7:$AL$75,\"=\"&ROW(),Курс4!$AC$7:$AC$75)+SUMIF(Курс5!$AL$7:$AL$75,\"=\"&ROW(),Курс5!$AC$7:$AC$75)+SUMIF(Курс6!$AL$7:$AL$75,\"=\"&ROW(),Курс6!$AC$7:$AC$75)+SUMIF(Курс7!$AL$7:$AL$75,\"=\"&ROW(),Курс7!$AC$7:$AC$75)","v":0}]
["",null,null,null,null,null,{"$f":"IF($FI36>0,$FW36,SUM(I36:K36)+CJ36+IF(СЭкзаменами,SUMIF(Курс1!$AL$7:$AL$75,\"=\"&ROW(),Курс1!$AA$7:$AA$75)+SUMIF(Курс2!$AL$7:$AL$75,\"=\"&ROW(),Курс2!$AA$7:$AA$75)+SUMIF(Курс3!$AL$7:$AL$75,\"=\"&ROW(),Курс3!$AA$7:$AA$75)+SUMIF(Курс4!$AL$7:$AL$75,\"=\"&ROW(),Курс4!$AA$7:$AA$75)+SUMIF(Курс5!$AL$7:$AL$75,\"=\"&ROW(),Курс5!$AA$7:$AA$75)+SUMIF(Курс6!$AL$7:$AL$75,\"=\"&ROW(),Курс6!$AA$7:$AA$75)+SUMIF(Курс7!$AL$7:$AL$75,\"=\"&ROW(),Курс7!$AA$7:$AA$75),0))","v":0},null,0,0,null,null,null,null,null,null,null,null,null,null,null,null,null,null,null,null,null,null,null,null,null,null,null,null,null,null,null,null,null,null,null,null,null,null,null,null,null,null,null,null,null,null,null,null,null,null,null,null,null,null,null,null,null,null,null,null,null,null,0,0,0,0,0,0,0,null,0,0,0,0,0,null,0,null,null,null,null,null,0,0,0,0,0,0,0,0,0,0,0,0,0,0,0,0,0,0,0,0,0,0,0,0,0,0,0,0,0,0,0,0,0,0,0,0,0,0,0,0,0,0,0,0,0,0,0,0,0,0,0,0,0,0,0,0,0,0,0,0,0,null,0,0,0,0,0,0,0,0,0,0,0,0,0,0,0,0,0,1,589,595,"В",0,{"$f":"SUM($CB$6:$CB36)","v":6},0,null,0,{"$f":"IF(FT36=0,FLOOR(IF(СЭкзаменами,H36,(H36+SUMIF(Курс1!$AL$7:$AL$75,\"=\"&ROW(),Курс1!$AA$7:$AA$75)+SUMIF(Курс2!$AL$7:$AL$75,\"=\"&ROW(),Курс2!$AA$7:$AA$75)+SUMIF(Курс3!$AL$7:$AL$75,\"=\"&ROW(),Курс3!$AA$7:$AA$75)+SUMIF(Курс4!$AL$7:$AL$75,\"=\"&ROW(),Курс4!$AA$7:$AA$75)+SUMIF(Курс5!$AL$7:$AL$75,\"=\"&ROW(),Курс5!$AA$7:$AA$75)+SUMIF(Курс6!$AL$7:$AL$75,\"=\"&ROW(),Курс6!$AA$7:$AA$75)+SUMIF(Курс7!$AL$7:$AL$75,\"=\"&ROW(),Курс7!$AA$7:$AA$75)))/IF(ЧасовВКредите>0,ЧасовВКредите,36),0.5),FT36)","v":0},null,null,null,{"$f":"SUMIF(Курс1!$AL$7:$AL$75,\"=\"&ROW(),Курс1!$AC$7:$AC$75)+SUMIF(Курс2!$AL$7:$AL$75,\"=\"&ROW(),Курс2!$AC$7:$AC$75)+SUMIF(Курс3!$AL$7:$AL$75,\"=\"&ROW(),Курс3!$AC$7:$AC$75)+SUMIF(Курс4!$AL$7:$AL$75,\"=\"&ROW(),Курс4!$AC$7:$AC$75)+SUMIF(Курс5!$AL$7:$AL$75,\"=\"&ROW(),Курс5!$AC$7:$AC$75)+SUMIF(Курс6!$AL$7:$AL$75,\"=\"&ROW(),Курс6!$AC$7:$AC$75)+SUMIF(Курс7!$AL$7:$AL$75,\"=\"&ROW(),Курс7!$AC$7:$AC$75)","v":0}]
["",null,null,null,null,null,{"$f":"IF($FI37>0,$FW37,SUM(I37:K37)+CJ37+IF(СЭкзаменами,SUMIF(Курс1!$AL$7:$AL$75,\"=\"&ROW(),Курс1!$AA$7:$AA$75)+SUMIF(Курс2!$AL$7:$AL$75,\"=\"&ROW(),Курс2!$AA$7:$AA$75)+SUMIF(Курс3!$AL$7:$AL$75,\"=\"&ROW(),Курс3!$AA$7:$AA$75)+SUMIF(Курс4!$AL$7:$AL$75,\"=\"&ROW(),Курс4!$AA$7:$AA$75)+SUMIF(Курс5!$AL$7:$AL$75,\"=\"&ROW(),Курс5!$AA$7:$AA$75)+SUMIF(Курс6!$AL$7:$AL$75,\"=\"&ROW(),Курс6!$AA$7:$AA$75)+SUMIF(Курс7!$AL$7:$AL$75,\"=\"&ROW(),Курс7!$AA$7:$AA$75),0))","v":0},null,0,0,null,null,null,null,null,null,null,null,null,null,null,null,null,null,null,null,null,null,null,null,null,null,null,null,null,null,null,null,null,null,null,null,null,null,null,null,null,null,null,null,null,null,null,null,null,null,null,null,null,null,null,null,null,null,null,null,null,null,0,0,0,0,0,0,0,null,0,0,0,0,0,null,0,null,null,null,null,null,0,0,0,0,0,0,0,0,0,0,0,0,0,0,0,0,0,0,0,0,0,0,0,0,0,0,0,0,0,0,0,0,0,0,0,0,0,0,0,0,0,0,0,0,0,0,0,0,0,0,0,0,0,0,0,0,0,0,0,0,0,null,0,0,0,0,0,0,0,0,0,0,0,0,0,0,0,0,0,1,599,605,"В",0,{"$f":"SUM($CB$6:$CB37)","v":6},0,null,0,{"$f":"IF(FT37=0,FLOOR(IF(СЭкзаменами,H37,(H37+SUMIF(Курс1!$AL$7:$AL$75,\"=\"&ROW(),Курс1!$AA$7:$AA$75)+SUMIF(Курс2!$AL$7:$AL$75,\"=\"&ROW(),Курс2!$AA$7:$AA$75)+SUMIF(Курс3!$AL$7:$AL$75,\"=\"&ROW(),Курс3!$AA$7:$AA$75)+SUMIF(Курс4!$AL$7:$AL$75,\"=\"&ROW(),Курс4!$AA$7:$AA$75)+SUMIF(Курс5!$AL$7:$AL$75,\"=\"&ROW(),Курс5!$AA$7:$AA$75)+SUMIF(Курс6!$AL$7:$AL$75,\"=\"&ROW(),Курс6!$AA$7:$AA$75)+SUMIF(Курс7!$AL$7:$AL$75,\"=\"&ROW(),Курс7!$AA$7:$AA$75)))/IF(ЧасовВКредите>0,ЧасовВКредите,36),0.5),FT37)","v":0},null,null,null,{"$f":"SUMIF(Курс1!$AL$7:$AL$75,\"=\"&ROW(),Курс1!$AC$7:$AC$75)+SUMIF(Курс2!$AL$7:$AL$75,\"=\"&ROW(),Курс2!$AC$7:$AC$75)+SUMIF(Курс3!$AL$7:$AL$75,\"=\"&ROW(),Курс3!$AC$7:$AC$75)+SUMIF(Курс4!$AL$7:$AL$75,\"=\"&ROW(),Курс4!$AC$7:$AC$75)+SUMIF(Курс5!$AL$7:$AL$75,\"=\"&ROW(),Курс5!$AC$7:$AC$75)+SUMIF(Курс6!$AL$7:$AL$75,\"=\"&ROW(),Курс6!$AC$7:$AC$75)+SUMIF(Курс7!$AL$7:$AL$75,\"=\"&ROW(),Курс7!$AC$7:$AC$75)","v":0}]
[{"$f":"IF(TRIM(B38)<>\"\",B$5&IF(isFGOS,\".Б.\",\".Ф.\")&FQ38&IF(FR38>0,\".\"&FR38,\"\"),\"\")","v":""},null,null,null,null,null,{"$f":"IF($FI38>0,$FW38,SUM(I38:K38)+CJ38+IF(СЭкзаменами,SUMIF(Курс1!$AL$7:$AL$75,\"=\"&ROW(),Курс1!$AA$7:$AA$75)+SUMIF(Курс2!$AL$7:$AL$75,\"=\"&ROW(),Курс2!$AA$7:$AA$75)+SUMIF(Курс3!$AL$7:$AL$75,\"=\"&ROW(),Курс3!$AA$7:$AA$75)+SUMIF(Курс4!$AL$7:$AL$75,\"=\"&ROW(),Курс4!$AA$7:$AA$75)+SUMIF(Курс5!$AL$7:$AL$75,\"=\"&ROW(),Курс5!$AA$7:$AA$75)+SUMIF(Курс6!$AL$7:$AL$75,\"=\"&ROW(),Курс6!$AA$7:$AA$75)+SUMIF(Курс7!$AL$7:$AL$75,\"=\"&ROW(),Курс7!$AA$7:$AA$75),0))","v":0},null,0,0,null,null,null,null,null,null,null,null,null,null,null,null,null,null,null,null,null,null,null,null,null,null,null,null,null,null,null,null,null,null,null,null,null,null,null,null,null,null,null,null,null,null,null,null,null,null,null,null,null,null,null,null,null,null,null,null,null,null,0,0,0,0,0,0,0,null,0,0,0,0,0,null,0,null,null,null,null,null,0,0,0,0,0,0,0,0,0,0,0,0,0,0,0,0,0,0,0,0,0,0,0,0,0,0,0,0,0,0,0,0,0,0,0,0,0,0,0,0,0,0,0,0,0,0,0,0,0,0,0,0,0,0,0,0,0,0,0,{"$f":"FormKontroljaInRange(CH38)","v":0},0,null,0,0,0,0,0,0,0,0,0,0,0,0,0,0,0,0,{"$f":"IF(AND(OR(LEFT(B38,19)=\"Физическая культура\",LEFT(B38,21)=\"Физическая подготовка\"),FI38<>1),1,0)","v":0},1,609,615,"В",0,{"$f":"SUM($CB$6:$CB38)","v":6},0,null,0,{"$f":"IF(FT38=0,FLOOR(IF(СЭкзаменами,H38,(H38+SUMIF(Курс1!$AL$7:$AL$75,\"=\"&ROW(),Курс1!$AA$7:$AA$75)+SUMIF(Курс2!$AL$7:$AL$75,\"=\"&ROW(),Курс2!$AA$7:$AA$75)+SUMIF(Курс3!$AL$7:$AL$75,\"=\"&ROW(),Курс3!$AA$7:$AA$75)+SUMIF(Курс4!$AL$7:$AL$75,\"=\"&ROW(),Курс4!$AA$7:$AA$75)+SUMIF(Курс5!$AL$7:$AL$75,\"=\"&ROW(),Курс5!$AA$7:$AA$75)+SUMIF(Курс6!$AL$7:$AL$75,\"=\"&ROW(),Курс6!$AA$7:$AA$75)+SUMIF(Курс7!$AL$7:$AL$75,\"=\"&ROW(),Курс7!$AA$7:$AA$75)))/IF(ЧасовВКредите>0,ЧасовВКредите,36),0.5),FT38)","v":0},null,null,null,{"$f":"SUMIF(Курс1!$AL$7:$AL$75,\"=\"&ROW(),Курс1!$AC$7:$AC$75)+SUMIF(Курс2!$AL$7:$AL$75,\"=\"&ROW(),Курс2!$AC$7:$AC$75)+SUMIF(Курс3!$AL$7:$AL$75,\"=\"&ROW(),Курс3!$AC$7:$AC$75)+SUMIF(Курс4!$AL$7:$AL$75,\"=\"&ROW(),Курс4!$AC$7:$AC$75)+SUMIF(Курс5!$AL$7:$AL$75,\"=\"&ROW(),Курс5!$AC$7:$AC$75)+SUMIF(Курс6!$AL$7:$AL$75,\"=\"&ROW(),Курс6!$AC$7:$AC$75)+SUMIF(Курс7!$AL$7:$AL$75,\"=\"&ROW(),Курс7!$AC$7:$AC$75)","v":0}]
["",null,null,null,null,null,{"$f":"IF($FI39>0,$FW39,SUM(I39:K39)+CJ39+IF(СЭкзаменами,SUMIF(Курс1!$AL$7:$AL$75,\"=\"&ROW(),Курс1!$AA$7:$AA$75)+SUMIF(Курс2!$AL$7:$AL$75,\"=\"&ROW(),Курс2!$AA$7:$AA$75)+SUMIF(Курс3!$AL$7:$AL$75,\"=\"&ROW(),Курс3!$AA$7:$AA$75)+SUMIF(Курс4!$AL$7:$AL$75,\"=\"&ROW(),Курс4!$AA$7:$AA$75)+SUMIF(Курс5!$AL$7:$AL$75,\"=\"&ROW(),Курс5!$AA$7:$AA$75)+SUMIF(Курс6!$AL$7:$AL$75,\"=\"&ROW(),Курс6!$AA$7:$AA$75)+SUMIF(Курс7!$AL$7:$AL$75,\"=\"&ROW(),Курс7!$AA$7:$AA$75),0))","v":0},null,0,0,null,null,null,null,null,null,null,null,null,null,null,null,null,null,null,null,null,null,null,null,null,null,null,null,null,null,null,null,null,null,null,null,null,null,null,null,null,null,null,null,null,null,null,null,null,null,null,null,null,null,null,null,null,null,null,null,null,null,0,0,0,0,0,0,0,null,0,0,0,0,0,null,0,null,null,null,null,null,0,0,0,0,0,0,0,0,0,0,0,0,0,0,0,0,0,0,0,0,0,0,0,0,0,0,0,0,0,0,0,0,0,0,0,0,0,0,0,0,0,0,0,0,0,0,0,0,0,0,0,0,0,0,0,0,0,0,0,0,0,null,0,0,0,0,0,0,0,0,0,0,0,0,0,0,0,0,0,1,619,625,"В",0,{"$f":"SUM($CB$6:$CB39)","v":6},0,null,0,{"$f":"IF(FT39=0,FLOOR(IF(СЭкзаменами,H39,(H39+SUMIF(Курс1!$AL$7:$AL$75,\"=\"&ROW(),Курс1!$AA$7:$AA$75)+SUMIF(Курс2!$AL$7:$AL$75,\"=\"&ROW(),Курс2!$AA$7:$AA$75)+SUMIF(Курс3!$AL$7:$AL$75,\"=\"&ROW(),Курс3!$AA$7:$AA$75)+SUMIF(Курс4!$AL$7:$AL$75,\"=\"&ROW(),Курс4!$AA$7:$AA$75)+SUMIF(Курс5!$AL$7:$AL$75,\"=\"&ROW(),Курс5!$AA$7:$AA$75)+SUMIF(Курс6!$AL$7:$AL$75,\"=\"&ROW(),Курс6!$AA$7:$AA$75)+SUMIF(Курс7!$AL$7:$AL$75,\"=\"&ROW(),Курс7!$AA$7:$AA$75)))/IF(ЧасовВКредите>0,ЧасовВКредите,36),0.5),FT39)","v":0},null,null,null,{"$f":"SUMIF(Курс1!$AL$7:$AL$75,\"=\"&ROW(),Курс1!$AC$7:$AC$75)+SUMIF(Курс2!$AL$7:$AL$75,\"=\"&ROW(),Курс2!$AC$7:$AC$75)+SUMIF(Курс3!$AL$7:$AL$75,\"=\"&ROW(),Курс3!$AC$7:$AC$75)+SUMIF(Курс4!$AL$7:$AL$75,\"=\"&ROW(),Курс4!$AC$7:$AC$75)+SUMIF(Курс5!$AL$7:$AL$75,\"=\"&ROW(),Курс5!$AC$7:$AC$75)+SUMIF(Курс6!$AL$7:$AL$75,\"=\"&ROW(),Курс6!$AC$7:$AC$75)+SUMIF(Курс7!$AL$7:$AL$75,\"=\"&ROW(),Курс7!$AC$7:$AC$75)","v":0}]
["",null,null,null,null,null,{"$f":"IF($FI40>0,$FW40,SUM(I40:K40)+CJ40+IF(СЭкзаменами,SUMIF(Курс1!$AL$7:$AL$75,\"=\"&ROW(),Курс1!$AA$7:$AA$75)+SUMIF(Курс2!$AL$7:$AL$75,\"=\"&ROW(),Курс2!$AA$7:$AA$75)+SUMIF(Курс3!$AL$7:$AL$75,\"=\"&ROW(),Курс3!$AA$7:$AA$75)+SUMIF(Курс4!$AL$7:$AL$75,\"=\"&ROW(),Курс4!$AA$7:$AA$75)+SUMIF(Курс5!$AL$7:$AL$75,\"=\"&ROW(),Курс5!$AA$7:$AA$75)+SUMIF(Курс6!$AL$7:$AL$75,\"=\"&ROW(),Курс6!$AA$7:$AA$75)+SUMIF(Курс7!$AL$7:$AL$75,\"=\"&ROW(),Курс7!$AA$7:$AA$75),0))","v":0},null,0,0,null,null,null,null,null,null,null,null,null,null,null,null,null,null,null,null,null,null,null,null,null,null,null,null,null,null,null,null,null,null,null,null,null,null,null,null,null,null,null,null,null,null,null,null,null,null,null,null,null,null,null,null,null,null,null,null,null,null,0,0,0,0,0,0,0,null,0,0,0,0,0,null,0,null,null,null,null,null,0,0,0,0,0,0,0,0,0,0,0,0,0,0,0,0,0,0,0,0,0,0,0,0,0,0,0,0,0,0,0,0,0,0,0,0,0,0,0,0,0,0,0,0,0,0,0,0,0,0,0,0,0,0,0,0,0,0,0,0,0,null,0,0,0,0,0,0,0,0,0,0,0,0,0,0,0,0,0,1,629,635,"В",0,{"$f":"SUM($CB$6:$CB40)","v":6},0,null,0,{"$f":"IF(FT40=0,FLOOR(IF(СЭкзаменами,H40,(H40+SUMIF(Курс1!$AL$7:$AL$75,\"=\"&ROW(),Курс1!$AA$7:$AA$75)+SUMIF(Курс2!$AL$7:$AL$75,\"=\"&ROW(),Курс2!$AA$7:$AA$75)+SUMIF(Курс3!$AL$7:$AL$75,\"=\"&ROW(),Курс3!$AA$7:$AA$75)+SUMIF(Курс4!$AL$7:$AL$75,\"=\"&ROW(),Курс4!$AA$7:$AA$75)+SUMIF(Курс5!$AL$7:$AL$75,\"=\"&ROW(),Курс5!$AA$7:$AA$75)+SUMIF(Курс6!$AL$7:$AL$75,\"=\"&ROW(),Курс6!$AA$7:$AA$75)+SUMIF(Курс7!$AL$7:$AL$75,\"=\"&ROW(),Курс7!$AA$7:$AA$75)))/IF(ЧасовВКредите>0,ЧасовВКредите,36),0.5),FT40)","v":0},null,null,null,{"$f":"SUMIF(Курс1!$AL$7:$AL$75,\"=\"&ROW(),Курс1!$AC$7:$AC$75)+SUMIF(Курс2!$AL$7:$AL$75,\"=\"&ROW(),Курс2!$AC$7:$AC$75)+SUMIF(Курс3!$AL$7:$AL$75,\"=\"&ROW(),Курс3!$AC$7:$AC$75)+SUMIF(Курс4!$AL$7:$AL$75,\"=\"&ROW(),Курс4!$AC$7:$AC$75)+SUMIF(Курс5!$AL$7:$AL$75,\"=\"&ROW(),Курс5!$AC$7:$AC$75)+SUMIF(Курс6!$AL$7:$AL$75,\"=\"&ROW(),Курс6!$AC$7:$AC$75)+SUMIF(Курс7!$AL$7:$AL$75,\"=\"&ROW(),Курс7!$AC$7:$AC$75)","v":0}]
["",null,null,null,null,null,{"$f":"IF($FI41>0,$FW41,SUM(I41:K41)+CJ41+IF(СЭкзаменами,SUMIF(Курс1!$AL$7:$AL$75,\"=\"&ROW(),Курс1!$AA$7:$AA$75)+SUMIF(Курс2!$AL$7:$AL$75,\"=\"&ROW(),Курс2!$AA$7:$AA$75)+SUMIF(Курс3!$AL$7:$AL$75,\"=\"&ROW(),Курс3!$AA$7:$AA$75)+SUMIF(Курс4!$AL$7:$AL$75,\"=\"&ROW(),Курс4!$AA$7:$AA$75)+SUMIF(Курс5!$AL$7:$AL$75,\"=\"&ROW(),Курс5!$AA$7:$AA$75)+SUMIF(Курс6!$AL$7:$AL$75,\"=\"&ROW(),Курс6!$AA$7:$AA$75)+SUMIF(Курс7!$AL$7:$AL$75,\"=\"&ROW(),Курс7!$AA$7:$AA$75),0))","v":0},null,0,0,null,null,null,null,null,null,null,null,null,null,null,null,null,null,null,null,null,null,null,null,null,null,null,null,null,null,null,null,null,null,null,null,null,null,null,null,null,null,null,null,null,null,null,null,null,null,null,null,null,null,null,null,null,null,null,null,null,null,0,0,0,0,0,0,0,null,0,0,0,0,0,null,0,null,null,null,null,null,0,0,0,0,0,0,0,0,0,0,0,0,0,0,0,0,0,0,0,0,0,0,0,0,0,0,0,0,0,0,0,0,0,0,0,0,0,0,0,0,0,0,0,0,0,0,0,0,0,0,0,0,0,0,0,0,0,0,0,0,0,null,0,0,0,0,0,0,0,0,0,0,0,0,0,0,0,0,0,1,639,645,"В",0,{"$f":"SUM($CB$6:$CB41)","v":6},0,null,0,{"$f":"IF(FT41=0,FLOOR(IF(СЭкзаменами,H41,(H41+SUMIF(Курс1!$AL$7:$AL$75,\"=\"&ROW(),Курс1!$AA$7:$AA$75)+SUMIF(Курс2!$AL$7:$AL$75,\"=\"&ROW(),Курс2!$AA$7:$AA$75)+SUMIF(Курс3!$AL$7:$AL$75,\"=\"&ROW(),Курс3!$AA$7:$AA$75)+SUMIF(Курс4!$AL$7:$AL$75,\"=\"&ROW(),Курс4!$AA$7:$AA$75)+SUMIF(Курс5!$AL$7:$AL$75,\"=\"&ROW(),Курс5!$AA$7:$AA$75)+SUMIF(Курс6!$AL$7:$AL$75,\"=\"&ROW(),Курс6!$AA$7:$AA$75)+SUMIF(Курс7!$AL$7:$AL$75,\"=\"&ROW(),Курс7!$AA$7:$AA$75)))/IF(ЧасовВКредите>0,ЧасовВКредите,36),0.5),FT41)","v":0},null,null,null,{"$f":"SUMIF(Курс1!$AL$7:$AL$75,\"=\"&ROW(),Курс1!$AC$7:$AC$75)+SUMIF(Курс2!$AL$7:$AL$75,\"=\"&ROW(),Курс2!$AC$7:$AC$75)+SUMIF(Курс3!$AL$7:$AL$75,\"=\"&ROW(),Курс3!$AC$7:$AC$75)+SUMIF(Курс4!$AL$7:$AL$75,\"=\"&ROW(),Курс4!$AC$7:$AC$75)+SUMIF(Курс5!$AL$7:$AL$75,\"=\"&ROW(),Курс5!$AC$7:$AC$75)+SUMIF(Курс6!$AL$7:$AL$75,\"=\"&ROW(),Курс6!$AC$7:$AC$75)+SUMIF(Курс7!$AL$7:$AL$75,\"=\"&ROW(),Курс7!$AC$7:$AC$75)","v":0}]
["",null,null,null,null,null,{"$f":"IF($FI42>0,$FW42,SUM(I42:K42)+CJ42+IF(СЭкзаменами,SUMIF(Курс1!$AL$7:$AL$75,\"=\"&ROW(),Курс1!$AA$7:$AA$75)+SUMIF(Курс2!$AL$7:$AL$75,\"=\"&ROW(),Курс2!$AA$7:$AA$75)+SUMIF(Курс3!$AL$7:$AL$75,\"=\"&ROW(),Курс3!$AA$7:$AA$75)+SUMIF(Курс4!$AL$7:$AL$75,\"=\"&ROW(),Курс4!$AA$7:$AA$75)+SUMIF(Курс5!$AL$7:$AL$75,\"=\"&ROW(),Курс5!$AA$7:$AA$75)+SUMIF(Курс6!$AL$7:$AL$75,\"=\"&ROW(),Курс6!$AA$7:$AA$75)+SUMIF(Курс7!$AL$7:$AL$75,\"=\"&ROW(),Курс7!$AA$7:$AA$75),0))","v":0},null,0,0,null,null,null,null,null,null,null,null,null,null,null,null,null,null,null,null,null,null,null,null,null,null,null,null,null,null,null,null,null,null,null,null,null,null,null,null,null,null,null,null,null,null,null,null,null,null,null,null,null,null,null,null,null,null,null,null,null,null,0,0,0,0,0,0,0,null,0,0,0,0,0,null,0,null,null,null,null,null,0,0,0,0,0,0,0,0,0,0,0,0,0,0,0,0,0,0,0,0,0,0,0,0,0,0,0,0,0,0,0,0,0,0,0,0,0,0,0,0,0,0,0,0,0,0,0,0,0,0,0,0,0,0,0,0,0,0,0,0,0,null,0,0,0,0,0,0,0,0,0,0,0,0,0,0,0,0,0,1,649,655,"В",0,{"$f":"SUM($CB$6:$CB42)","v":6},0,null,0,{"$f":"IF(FT42=0,FLOOR(IF(СЭкзаменами,H42,(H42+SUMIF(Курс1!$AL$7:$AL$75,\"=\"&ROW(),Курс1!$AA$7:$AA$75)+SUMIF(Курс2!$AL$7:$AL$75,\"=\"&ROW(),Курс2!$AA$7:$AA$75)+SUMIF(Курс3!$AL$7:$AL$75,\"=\"&ROW(),Курс3!$AA$7:$AA$75)+SUMIF(Курс4!$AL$7:$AL$75,\"=\"&ROW(),Курс4!$AA$7:$AA$75)+SUMIF(Курс5!$AL$7:$AL$75,\"=\"&ROW(),Курс5!$AA$7:$AA$75)+SUMIF(Курс6!$AL$7:$AL$75,\"=\"&ROW(),Курс6!$AA$7:$AA$75)+SUMIF(Курс7!$AL$7:$AL$75,\"=\"&ROW(),Курс7!$AA$7:$AA$75)))/IF(ЧасовВКредите>0,ЧасовВКредите,36),0.5),FT42)","v":0},null,null,null,{"$f":"SUMIF(Курс1!$AL$7:$AL$75,\"=\"&ROW(),Курс1!$AC$7:$AC$75)+SUMIF(Курс2!$AL$7:$AL$75,\"=\"&ROW(),Курс2!$AC$7:$AC$75)+SUMIF(Курс3!$AL$7:$AL$75,\"=\"&ROW(),Курс3!$AC$7:$AC$75)+SUMIF(Курс4!$AL$7:$AL$75,\"=\"&ROW(),Курс4!$AC$7:$AC$75)+SUMIF(Курс5!$AL$7:$AL$75,\"=\"&ROW(),Курс5!$AC$7:$AC$75)+SUMIF(Курс6!$AL$7:$AL$75,\"=\"&ROW(),Курс6!$AC$7:$AC$75)+SUMIF(Курс7!$AL$7:$AL$75,\"=\"&ROW(),Курс7!$AC$7:$AC$75)","v":0}]
["",null,null,null,null,null,{"$f":"IF($FI43>0,$FW43,SUM(I43:K43)+CJ43+IF(СЭкзаменами,SUMIF(Курс1!$AL$7:$AL$75,\"=\"&ROW(),Курс1!$AA$7:$AA$75)+SUMIF(Курс2!$AL$7:$AL$75,\"=\"&ROW(),Курс2!$AA$7:$AA$75)+SUMIF(Курс3!$AL$7:$AL$75,\"=\"&ROW(),Курс3!$AA$7:$AA$75)+SUMIF(Курс4!$AL$7:$AL$75,\"=\"&ROW(),Курс4!$AA$7:$AA$75)+SUMIF(Курс5!$AL$7:$AL$75,\"=\"&ROW(),Курс5!$AA$7:$AA$75)+SUMIF(Курс6!$AL$7:$AL$75,\"=\"&ROW(),Курс6!$AA$7:$AA$75)+SUMIF(Курс7!$AL$7:$AL$75,\"=\"&ROW(),Курс7!$AA$7:$AA$75),0))","v":0},null,0,0,null,null,null,null,null,null,null,null,null,null,null,null,null,null,null,null,null,null,null,null,null,null,null,null,null,null,null,null,null,null,null,null,null,null,null,null,null,null,null,null,null,null,null,null,null,null,null,null,null,null,null,null,null,null,null,null,null,null,0,0,0,0,0,0,0,null,0,0,0,0,0,null,0,null,null,null,null,null,0,0,0,0,0,0,0,0,0,0,0,0,0,0,0,0,0,0,0,0,0,0,0,0,0,0,0,0,0,0,0,0,0,0,0,0,0,0,0,0,0,0,0,0,0,0,0,0,0,0,0,0,0,0,0,0,0,0,0,0,0,null,0,0,0,0,0,0,0,0,0,0,0,0,0,0,0,0,0,1,659,665,"В",0,{"$f":"SUM($CB$6:$CB43)","v":6},0,null,0,{"$f":"IF(FT43=0,FLOOR(IF(СЭкзаменами,H43,(H43+SUMIF(Курс1!$AL$7:$AL$75,\"=\"&ROW(),Курс1!$AA$7:$AA$75)+SUMIF(Курс2!$AL$7:$AL$75,\"=\"&ROW(),Курс2!$AA$7:$AA$75)+SUMIF(Курс3!$AL$7:$AL$75,\"=\"&ROW(),Курс3!$AA$7:$AA$75)+SUMIF(Курс4!$AL$7:$AL$75,\"=\"&ROW(),Курс4!$AA$7:$AA$75)+SUMIF(Курс5!$AL$7:$AL$75,\"=\"&ROW(),Курс5!$AA$7:$AA$75)+SUMIF(Курс6!$AL$7:$AL$75,\"=\"&ROW(),Курс6!$AA$7:$AA$75)+SUMIF(Курс7!$AL$7:$AL$75,\"=\"&ROW(),Курс7!$AA$7:$AA$75)))/IF(ЧасовВКредите>0,ЧасовВКредите,36),0.5),FT43)","v":0},null,null,null,{"$f":"SUMIF(Курс1!$AL$7:$AL$75,\"=\"&ROW(),Курс1!$AC$7:$AC$75)+SUMIF(Курс2!$AL$7:$AL$75,\"=\"&ROW(),Курс2!$AC$7:$AC$75)+SUMIF(Курс3!$AL$7:$AL$75,\"=\"&ROW(),Курс3!$AC$7:$AC$75)+SUMIF(Курс4!$AL$7:$AL$75,\"=\"&ROW(),Курс4!$AC$7:$AC$75)+SUMIF(Курс5!$AL$7:$AL$75,\"=\"&ROW(),Курс5!$AC$7:$AC$75)+SUMIF(Курс6!$AL$7:$AL$75,\"=\"&ROW(),Курс6!$AC$7:$AC$75)+SUMIF(Курс7!$AL$7:$AL$75,\"=\"&ROW(),Курс7!$AC$7:$AC$75)","v":0}]
["",null,null,null,null,null,{"$f":"IF($FI44>0,$FW44,SUM(I44:K44)+CJ44+IF(СЭкзаменами,SUMIF(Курс1!$AL$7:$AL$75,\"=\"&ROW(),Курс1!$AA$7:$AA$75)+SUMIF(Курс2!$AL$7:$AL$75,\"=\"&ROW(),Курс2!$AA$7:$AA$75)+SUMIF(Курс3!$AL$7:$AL$75,\"=\"&ROW(),Курс3!$AA$7:$AA$75)+SUMIF(Курс4!$AL$7:$AL$75,\"=\"&ROW(),Курс4!$AA$7:$AA$75)+SUMIF(Курс5!$AL$7:$AL$75,\"=\"&ROW(),Курс5!$AA$7:$AA$75)+SUMIF(Курс6!$AL$7:$AL$75,\"=\"&ROW(),Курс6!$AA$7:$AA$75)+SUMIF(Курс7!$AL$7:$AL$75,\"=\"&ROW(),Курс7!$AA$7:$AA$75),0))","v":0},null,0,0,null,null,null,null,null,null,null,null,null,null,null,null,null,null,null,null,null,null,null,null,null,null,null,null,null,null,null,null,null,null,null,null,null,null,null,null,null,null,null,null,null,null,null,null,null,null,null,null,null,null,null,null,null,null,null,null,null,null,0,0,0,0,0,0,0,null,0,0,0,0,0,null,0,null,null,null,null,null,0,0,0,0,0,0,0,0,0,0,0,0,0,0,0,0,0,0,0,0,0,0,0,0,0,0,0,0,0,0,0,0,0,0,0,0,0,0,0,0,0,0,0,0,0,0,0,0,0,0,0,0,0,0,0,0,0,0,0,0,0,null,0,0,0,0,0,0,0,0,0,0,0,0,0,0,0,0,0,1,669,675,"В",0,{"$f":"SUM($CB$6:$CB44)","v":6},0,null,0,{"$f":"IF(FT44=0,FLOOR(IF(СЭкзаменами,H44,(H44+SUMIF(Курс1!$AL$7:$AL$75,\"=\"&ROW(),Курс1!$AA$7:$AA$75)+SUMIF(Курс2!$AL$7:$AL$75,\"=\"&ROW(),Курс2!$AA$7:$AA$75)+SUMIF(Курс3!$AL$7:$AL$75,\"=\"&ROW(),Курс3!$AA$7:$AA$75)+SUMIF(Курс4!$AL$7:$AL$75,\"=\"&ROW(),Курс4!$AA$7:$AA$75)+SUMIF(Курс5!$AL$7:$AL$75,\"=\"&ROW(),Курс5!$AA$7:$AA$75)+SUMIF(Курс6!$AL$7:$AL$75,\"=\"&ROW(),Курс6!$AA$7:$AA$75)+SUMIF(Курс7!$AL$7:$AL$75,\"=\"&ROW(),Курс7!$AA$7:$AA$75)))/IF(ЧасовВКредите>0,ЧасовВКредите,36),0.5),FT44)","v":0},null,null,null,{"$f":"SUMIF(Курс1!$AL$7:$AL$75,\"=\"&ROW(),Курс1!$AC$7:$AC$75)+SUMIF(Курс2!$AL$7:$AL$75,\"=\"&ROW(),Курс2!$AC$7:$AC$75)+SUMIF(Курс3!$AL$7:$AL$75,\"=\"&ROW(),Курс3!$AC$7:$AC$75)+SUMIF(Курс4!$AL$7:$AL$75,\"=\"&ROW(),Курс4!$AC$7:$AC$75)+SUMIF(Курс5!$AL$7:$AL$75,\"=\"&ROW(),Курс5!$AC$7:$AC$75)+SUMIF(Курс6!$AL$7:$AL$75,\"=\"&ROW(),Курс6!$AC$7:$AC$75)+SUMIF(Курс7!$AL$7:$AL$75,\"=\"&ROW(),Курс7!$AC$7:$AC$75)","v":0}]
["",null,null,null,null,null,{"$f":"IF($FI45>0,$FW45,SUM(I45:K45)+CJ45+IF(СЭкзаменами,SUMIF(Курс1!$AL$7:$AL$75,\"=\"&ROW(),Курс1!$AA$7:$AA$75)+SUMIF(Курс2!$AL$7:$AL$75,\"=\"&ROW(),Курс2!$AA$7:$AA$75)+SUMIF(Курс3!$AL$7:$AL$75,\"=\"&ROW(),Курс3!$AA$7:$AA$75)+SUMIF(Курс4!$AL$7:$AL$75,\"=\"&ROW(),Курс4!$AA$7:$AA$75)+SUMIF(Курс5!$AL$7:$AL$75,\"=\"&ROW(),Курс5!$AA$7:$AA$75)+SUMIF(Курс6!$AL$7:$AL$75,\"=\"&ROW(),Курс6!$AA$7:$AA$75)+SUMIF(Курс7!$AL$7:$AL$75,\"=\"&ROW(),Курс7!$AA$7:$AA$75),0))","v":0},null,0,0,null,null,null,null,null,null,null,null,null,null,null,null,null,null,null,null,null,null,null,null,null,null,null,null,null,null,null,null,null,null,null,null,null,null,null,null,null,null,null,null,null,null,null,null,null,null,null,null,null,null,null,null,null,null,null,null,null,null,0,0,0,0,0,0,0,null,0,0,0,0,0,null,0,null,null,null,null,null,0,0,0,0,0,0,0,0,0,0,0,0,0,0,0,0,0,0,0,0,0,0,0,0,0,0,0,0,0,0,0,0,0,0,0,0,0,0,0,0,0,0,0,0,0,0,0,0,0,0,0,0,0,0,0,0,0,0,0,0,0,null,0,0,0,0,0,0,0,0,0,0,0,0,0,0,0,0,0,1,679,685,"В",0,{"$f":"SUM($CB$6:$CB45)","v":6},0,null,0,{"$f":"IF(FT45=0,FLOOR(IF(СЭкзаменами,H45,(H45+SUMIF(Курс1!$AL$7:$AL$75,\"=\"&ROW(),Курс1!$AA$7:$AA$75)+SUMIF(Курс2!$AL$7:$AL$75,\"=\"&ROW(),Курс2!$AA$7:$AA$75)+SUMIF(Курс3!$AL$7:$AL$75,\"=\"&ROW(),Курс3!$AA$7:$AA$75)+SUMIF(Курс4!$AL$7:$AL$75,\"=\"&ROW(),Курс4!$AA$7:$AA$75)+SUMIF(Курс5!$AL$7:$AL$75,\"=\"&ROW(),Курс5!$AA$7:$AA$75)+SUMIF(Курс6!$AL$7:$AL$75,\"=\"&ROW(),Курс6!$AA$7:$AA$75)+SUMIF(Курс7!$AL$7:$AL$75,\"=\"&ROW(),Курс7!$AA$7:$AA$75)))/IF(ЧасовВКредите>0,ЧасовВКредите,36),0.5),FT45)","v":0},null,null,null,{"$f":"SUMIF(Курс1!$AL$7:$AL$75,\"=\"&ROW(),Курс1!$AC$7:$AC$75)+SUMIF(Курс2!$AL$7:$AL$75,\"=\"&ROW(),Курс2!$AC$7:$AC$75)+SUMIF(Курс3!$AL$7:$AL$75,\"=\"&ROW(),Курс3!$AC$7:$AC$75)+SUMIF(Курс4!$AL$7:$AL$75,\"=\"&ROW(),Курс4!$AC$7:$AC$75)+SUMIF(Курс5!$AL$7:$AL$75,\"=\"&ROW(),Курс5!$AC$7:$AC$75)+SUMIF(Курс6!$AL$7:$AL$75,\"=\"&ROW(),Курс6!$AC$7:$AC$75)+SUMIF(Курс7!$AL$7:$AL$75,\"=\"&ROW(),Курс7!$AC$7:$AC$75)","v":0}]
["",null,null,null,null,null,{"$f":"IF($FI46>0,$FW46,SUM(I46:K46)+CJ46+IF(СЭкзаменами,SUMIF(Курс1!$AL$7:$AL$75,\"=\"&ROW(),Курс1!$AA$7:$AA$75)+SUMIF(Курс2!$AL$7:$AL$75,\"=\"&ROW(),Курс2!$AA$7:$AA$75)+SUMIF(Курс3!$AL$7:$AL$75,\"=\"&ROW(),Курс3!$AA$7:$AA$75)+SUMIF(Курс4!$AL$7:$AL$75,\"=\"&ROW(),Курс4!$AA$7:$AA$75)+SUMIF(Курс5!$AL$7:$AL$75,\"=\"&ROW(),Курс5!$AA$7:$AA$75)+SUMIF(Курс6!$AL$7:$AL$75,\"=\"&ROW(),Курс6!$AA$7:$AA$75)+SUMIF(Курс7!$AL$7:$AL$75,\"=\"&ROW(),Курс7!$AA$7:$AA$75),0))","v":0},null,0,0,null,null,null,null,null,null,null,null,null,null,null,null,null,null,null,null,null,null,null,null,null,null,null,null,null,null,null,null,null,null,null,null,null,null,null,null,null,null,null,null,null,null,null,null,null,null,null,null,null,null,null,null,null,null,null,null,null,null,0,0,0,0,0,0,0,null,0,0,0,0,0,null,0,null,null,null,null,null,0,0,0,0,0,0,0,0,0,0,0,0,0,0,0,0,0,0,0,0,0,0,0,0,0,0,0,0,0,0,0,0,0,0,0,0,0,0,0,0,0,0,0,0,0,0,0,0,0,0,0,0,0,0,0,0,0,0,0,0,0,null,0,0,0,0,0,0,0,0,0,0,0,0,0,0,0,0,0,1,690,749,"Ф",0,{"$f":"SUM($CB$6:$CB46)","v":6},0,null,0,{"$f":"IF(FT46=0,FLOOR(IF(СЭкзаменами,H46,(H46+SUMIF(Курс1!$AL$7:$AL$75,\"=\"&ROW(),Курс1!$AA$7:$AA$75)+SUMIF(Курс2!$AL$7:$AL$75,\"=\"&ROW(),Курс2!$AA$7:$AA$75)+SUMIF(Курс3!$AL$7:$AL$75,\"=\"&ROW(),Курс3!$AA$7:$AA$75)+SUMIF(Курс4!$AL$7:$AL$75,\"=\"&ROW(),Курс4!$AA$7:$AA$75)+SUMIF(Курс5!$AL$7:$AL$75,\"=\"&ROW(),Курс5!$AA$7:$AA$75)+SUMIF(Курс6!$AL$7:$AL$75,\"=\"&ROW(),Курс6!$AA$7:$AA$75)+SUMIF(Курс7!$AL$7:$AL$75,\"=\"&ROW(),Курс7!$AA$7:$AA$75)))/IF(ЧасовВКредите>0,ЧасовВКредите,36),0.5),FT46)","v":0},null,null,null,{"$f":"SUMIF(Курс1!$AL$7:$AL$75,\"=\"&ROW(),Курс1!$AC$7:$AC$75)+SUMIF(Курс2!$AL$7:$AL$75,\"=\"&ROW(),Курс2!$AC$7:$AC$75)+SUMIF(Курс3!$AL$7:$AL$75,\"=\"&ROW(),Курс3!$AC$7:$AC$75)+SUMIF(Курс4!$AL$7:$AL$75,\"=\"&ROW(),Курс4!$AC$7:$AC$75)+SUMIF(Курс5!$AL$7:$AL$75,\"=\"&ROW(),Курс5!$AC$7:$AC$75)+SUMIF(Курс6!$AL$7:$AL$75,\"=\"&ROW(),Курс6!$AC$7:$AC$75)+SUMIF(Курс7!$AL$7:$AL$75,\"=\"&ROW(),Курс7!$AC$7:$AC$75)","v":0}]
["",null,null,null,null,null,{"$f":"IF($FI47>0,$FW47,SUM(I47:K47)+CJ47+IF(СЭкзаменами,SUMIF(Курс1!$AL$7:$AL$75,\"=\"&ROW(),Курс1!$AA$7:$AA$75)+SUMIF(Курс2!$AL$7:$AL$75,\"=\"&ROW(),Курс2!$AA$7:$AA$75)+SUMIF(Курс3!$AL$7:$AL$75,\"=\"&ROW(),Курс3!$AA$7:$AA$75)+SUMIF(Курс4!$AL$7:$AL$75,\"=\"&ROW(),Курс4!$AA$7:$AA$75)+SUMIF(Курс5!$AL$7:$AL$75,\"=\"&ROW(),Курс5!$AA$7:$AA$75)+SUMIF(Курс6!$AL$7:$AL$75,\"=\"&ROW(),Курс6!$AA$7:$AA$75)+SUMIF(Курс7!$AL$7:$AL$75,\"=\"&ROW(),Курс7!$AA$7:$AA$75),0))","v":0},null,0,0,null,null,null,null,null,null,null,null,null,null,null,null,null,null,null,null,null,null,null,null,null,null,null,null,null,null,null,null,null,null,null,null,null,null,null,null,null,null,null,null,null,null,null,null,null,null,null,null,null,null,null,null,null,null,null,null,null,null,0,0,0,0,0,0,0,null,0,0,0,0,0,null,0,null,null,null,null,null,0,0,0,0,0,0,0,0,0,0,0,0,0,0,0,0,0,0,0,0,0,0,0,0,0,0,0,0,0,0,0,0,0,0,0,0,0,0,0,0,0,0,0,0,0,0,0,0,0,0,0,0,0,0,0,0,0,0,0,0,0,null,0,0,0,0,0,0,0,0,0,0,0,0,0,0,0,0,0,1,750,783,"Р",0,{"$f":"SUM($CB$6:$CB47)","v":6},0,null,0,{"$f":"IF(FT47=0,FLOOR(IF(СЭкзаменами,H47,(H47+SUMIF(Курс1!$AL$7:$AL$75,\"=\"&ROW(),Курс1!$AA$7:$AA$75)+SUMIF(Курс2!$AL$7:$AL$75,\"=\"&ROW(),Курс2!$AA$7:$AA$75)+SUMIF(Курс3!$AL$7:$AL$75,\"=\"&ROW(),Курс3!$AA$7:$AA$75)+SUMIF(Курс4!$AL$7:$AL$75,\"=\"&ROW(),Курс4!$AA$7:$AA$75)+SUMIF(Курс5!$AL$7:$AL$75,\"=\"&ROW(),Курс5!$AA$7:$AA$75)+SUMIF(Курс6!$AL$7:$AL$75,\"=\"&ROW(),Курс6!$AA$7:$AA$75)+SUMIF(Курс7!$AL$7:$AL$75,\"=\"&ROW(),Курс7!$AA$7:$AA$75)))/IF(ЧасовВКредите>0,ЧасовВКредите,36),0.5),FT47)","v":0},null,null,null,{"$f":"SUMIF(Курс1!$AL$7:$AL$75,\"=\"&ROW(),Курс1!$AC$7:$AC$75)+SUMIF(Курс2!$AL$7:$AL$75,\"=\"&ROW(),Курс2!$AC$7:$AC$75)+SUMIF(Курс3!$AL$7:$AL$75,\"=\"&ROW(),Курс3!$AC$7:$AC$75)+SUMIF(Курс4!$AL$7:$AL$75,\"=\"&ROW(),Курс4!$AC$7:$AC$75)+SUMIF(Курс5!$AL$7:$AL$75,\"=\"&ROW(),Курс5!$AC$7:$AC$75)+SUMIF(Курс6!$AL$7:$AL$75,\"=\"&ROW(),Курс6!$AC$7:$AC$75)+SUMIF(Курс7!$AL$7:$AL$75,\"=\"&ROW(),Курс7!$AC$7:$AC$75)","v":0}]
["",null,null,null,null,null,{"$f":"IF($FI48>0,$FW48,SUM(I48:K48)+CJ48+IF(СЭкзаменами,SUMIF(Курс1!$AL$7:$AL$75,\"=\"&ROW(),Курс1!$AA$7:$AA$75)+SUMIF(Курс2!$AL$7:$AL$75,\"=\"&ROW(),Курс2!$AA$7:$AA$75)+SUMIF(Курс3!$AL$7:$AL$75,\"=\"&ROW(),Курс3!$AA$7:$AA$75)+SUMIF(Курс4!$AL$7:$AL$75,\"=\"&ROW(),Курс4!$AA$7:$AA$75)+SUMIF(Курс5!$AL$7:$AL$75,\"=\"&ROW(),Курс5!$AA$7:$AA$75)+SUMIF(Курс6!$AL$7:$AL$75,\"=\"&ROW(),Курс6!$AA$7:$AA$75)+SUMIF(Курс7!$AL$7:$AL$75,\"=\"&ROW(),Курс7!$AA$7:$AA$75),0))","v":0},null,0,0,null,null,null,null,null,null,null,null,null,null,null,null,null,null,null,null,null,null,null,null,null,null,null,null,null,null,null,null,null,null,null,null,null,null,null,null,null,null,null,null,null,null,null,null,null,null,null,null,null,null,null,null,null,null,null,null,null,null,0,0,0,0,0,0,0,null,0,0,0,0,0,null,0,null,null,null,null,null,0,0,0,0,0,0,0,0,0,0,0,0,0,0,0,0,0,0,0,0,0,0,0,0,0,0,0,0,0,0,0,0,0,0,0,0,0,0,0,0,0,0,0,0,0,0,0,0,0,0,0,0,0,0,0,0,0,0,0,0,0,null,0,0,0,0,0,0,0,0,0,0,0,0,0,0,0,0,0,1,787,793,"В",0,{"$f":"SUM($CB$6:$CB48)","v":6},0,null,0,{"$f":"IF(FT48=0,FLOOR(IF(СЭкзаменами,H48,(H48+SUMIF(Курс1!$AL$7:$AL$75,\"=\"&ROW(),Курс1!$AA$7:$AA$75)+SUMIF(Курс2!$AL$7:$AL$75,\"=\"&ROW(),Курс2!$AA$7:$AA$75)+SUMIF(Курс3!$AL$7:$AL$75,\"=\"&ROW(),Курс3!$AA$7:$AA$75)+SUMIF(Курс4!$AL$7:$AL$75,\"=\"&ROW(),Курс4!$AA$7:$AA$75)+SUMIF(Курс5!$AL$7:$AL$75,\"=\"&ROW(),Курс5!$AA$7:$AA$75)+SUMIF(Курс6!$AL$7:$AL$75,\"=\"&ROW(),Курс6!$AA$7:$AA$75)+SUMIF(Курс7!$AL$7:$AL$75,\"=\"&ROW(),Курс7!$AA$7:$AA$75)))/IF(ЧасовВКредите>0,ЧасовВКредите,36),0.5),FT48)","v":0},null,null,null,{"$f":"SUMIF(Курс1!$AL$7:$AL$75,\"=\"&ROW(),Курс1!$AC$7:$AC$75)+SUMIF(Курс2!$AL$7:$AL$75,\"=\"&ROW(),Курс2!$AC$7:$AC$75)+SUMIF(Курс3!$AL$7:$AL$75,\"=\"&ROW(),Курс3!$AC$7:$AC$75)+SUMIF(Курс4!$AL$7:$AL$75,\"=\"&ROW(),Курс4!$AC$7:$AC$75)+SUMIF(Курс5!$AL$7:$AL$75,\"=\"&ROW(),Курс5!$AC$7:$AC$75)+SUMIF(Курс6!$AL$7:$AL$75,\"=\"&ROW(),Курс6!$AC$7:$AC$75)+SUMIF(Курс7!$AL$7:$AL$75,\"=\"&ROW(),Курс7!$AC$7:$AC$75)","v":0}]
["",null,null,null,null,null,{"$f":"IF($FI49>0,$FW49,SUM(I49:K49)+CJ49+IF(СЭкзаменами,SUMIF(Курс1!$AL$7:$AL$75,\"=\"&ROW(),Курс1!$AA$7:$AA$75)+SUMIF(Курс2!$AL$7:$AL$75,\"=\"&ROW(),Курс2!$AA$7:$AA$75)+SUMIF(Курс3!$AL$7:$AL$75,\"=\"&ROW(),Курс3!$AA$7:$AA$75)+SUMIF(Курс4!$AL$7:$AL$75,\"=\"&ROW(),Курс4!$AA$7:$AA$75)+SUMIF(Курс5!$AL$7:$AL$75,\"=\"&ROW(),Курс5!$AA$7:$AA$75)+SUMIF(Курс6!$AL$7:$AL$75,\"=\"&ROW(),Курс6!$AA$7:$AA$75)+SUMIF(Курс7!$AL$7:$AL$75,\"=\"&ROW(),Курс7!$AA$7:$AA$75),0))","v":0},null,0,0,null,null,null,null,null,null,null,null,null,null,null,null,null,null,null,null,null,null,null,null,null,null,null,null,null,null,null,null,null,null,null,null,null,null,null,null,null,null,null,null,null,null,null,null,null,null,null,null,null,null,null,null,null,null,null,null,null,null,0,0,0,0,0,0,0,null,0,0,0,0,0,null,0,null,null,null,null,null,0,0,0,0,0,0,0,0,0,0,0,0,0,0,0,0,0,0,0,0,0,0,0,0,0,0,0,0,0,0,0,0,0,0,0,0,0,0,0,0,0,0,0,0,0,0,0,0,0,0,0,0,0,0,0,0,0,0,0,0,0,null,0,0,0,0,0,0,0,0,0,0,0,0,0,0,0,0,0,1,797,803,"В",0,{"$f":"SUM($CB$6:$CB49)","v":6},0,null,0,{"$f":"IF(FT49=0,FLOOR(IF(СЭкзаменами,H49,(H49+SUMIF(Курс1!$AL$7:$AL$75,\"=\"&ROW(),Курс1!$AA$7:$AA$75)+SUMIF(Курс2!$AL$7:$AL$75,\"=\"&ROW(),Курс2!$AA$7:$AA$75)+SUMIF(Курс3!$AL$7:$AL$75,\"=\"&ROW(),Курс3!$AA$7:$AA$75)+SUMIF(Курс4!$AL$7:$AL$75,\"=\"&ROW(),Курс4!$AA$7:$AA$75)+SUMIF(Курс5!$AL$7:$AL$75,\"=\"&ROW(),Курс5!$AA$7:$AA$75)+SUMIF(Курс6!$AL$7:$AL$75,\"=\"&ROW(),Курс6!$AA$7:$AA$75)+SUMIF(Курс7!$AL$7:$AL$75,\"=\"&ROW(),Курс7!$AA$7:$AA$75)))/IF(ЧасовВКредите>0,ЧасовВКредите,36),0.5),FT49)","v":0},null,null,null,{"$f":"SUMIF(Курс1!$AL$7:$AL$75,\"=\"&ROW(),Курс1!$AC$7:$AC$75)+SUMIF(Курс2!$AL$7:$AL$75,\"=\"&ROW(),Курс2!$AC$7:$AC$75)+SUMIF(Курс3!$AL$7:$AL$75,\"=\"&ROW(),Курс3!$AC$7:$AC$75)+SUMIF(Курс4!$AL$7:$AL$75,\"=\"&ROW(),Курс4!$AC$7:$AC$75)+SUMIF(Курс5!$AL$7:$AL$75,\"=\"&ROW(),Курс5!$AC$7:$AC$75)+SUMIF(Курс6!$AL$7:$AL$75,\"=\"&ROW(),Курс6!$AC$7:$AC$75)+SUMIF(Курс7!$AL$7:$AL$75,\"=\"&ROW(),Курс7!$AC$7:$AC$75)","v":0}]
["",null,null,null,null,null,{"$f":"IF($FI50>0,$FW50,SUM(I50:K50)+CJ50+IF(СЭкзаменами,SUMIF(Курс1!$AL$7:$AL$75,\"=\"&ROW(),Курс1!$AA$7:$AA$75)+SUMIF(Курс2!$AL$7:$AL$75,\"=\"&ROW(),Курс2!$AA$7:$AA$75)+SUMIF(Курс3!$AL$7:$AL$75,\"=\"&ROW(),Курс3!$AA$7:$AA$75)+SUMIF(Курс4!$AL$7:$AL$75,\"=\"&ROW(),Курс4!$AA$7:$AA$75)+SUMIF(Курс5!$AL$7:$AL$75,\"=\"&ROW(),Курс5!$AA$7:$AA$75)+SUMIF(Курс6!$AL$7:$AL$75,\"=\"&ROW(),Курс6!$AA$7:$AA$75)+SUMIF(Курс7!$AL$7:$AL$75,\"=\"&ROW(),Курс7!$AA$7:$AA$75),0))","v":0},null,0,0,null,null,null,null,null,null,null,null,null,null,null,null,null,null,null,null,null,null,null,null,null,null,null,null,null,null,null,null,null,null,null,null,null,null,null,null,null,null,null,null,null,null,null,null,null,null,null,null,null,null,null,null,null,null,null,null,null,null,0,0,0,0,0,0,0,null,0,0,0,0,0,null,0,null,null,null,null,null,0,0,0,0,0,0,0,0,0,0,0,0,0,0,0,0,0,0,0,0,0,0,0,0,0,0,0,0,0,0,0,0,0,0,0,0,0,0,0,0,0,0,0,0,0,0,0,0,0,0,0,0,0,0,0,0,0,0,0,0,0,null,0,0,0,0,0,0,0,0,0,0,0,0,0,0,0,0,0,1,807,813,"В",0,{"$f":"SUM($CB$6:$CB50)","v":6},0,null,0,{"$f":"IF(FT50=0,FLOOR(IF(СЭкзаменами,H50,(H50+SUMIF(Курс1!$AL$7:$AL$75,\"=\"&ROW(),Курс1!$AA$7:$AA$75)+SUMIF(Курс2!$AL$7:$AL$75,\"=\"&ROW(),Курс2!$AA$7:$AA$75)+SUMIF(Курс3!$AL$7:$AL$75,\"=\"&ROW(),Курс3!$AA$7:$AA$75)+SUMIF(Курс4!$AL$7:$AL$75,\"=\"&ROW(),Курс4!$AA$7:$AA$75)+SUMIF(Курс5!$AL$7:$AL$75,\"=\"&ROW(),Курс5!$AA$7:$AA$75)+SUMIF(Курс6!$AL$7:$AL$75,\"=\"&ROW(),Курс6!$AA$7:$AA$75)+SUMIF(Курс7!$AL$7:$AL$75,\"=\"&ROW(),Курс7!$AA$7:$AA$75)))/IF(ЧасовВКредите>0,ЧасовВКредите,36),0.5),FT50)","v":0},null,null,null,{"$f":"SUMIF(Курс1!$AL$7:$AL$75,\"=\"&ROW(),Курс1!$AC$7:$AC$75)+SUMIF(Курс2!$AL$7:$AL$75,\"=\"&ROW(),Курс2!$AC$7:$AC$75)+SUMIF(Курс3!$AL$7:$AL$75,\"=\"&ROW(),Курс3!$AC$7:$AC$75)+SUMIF(Курс4!$AL$7:$AL$75,\"=\"&ROW(),Курс4!$AC$7:$AC$75)+SUMIF(Курс5!$AL$7:$AL$75,\"=\"&ROW(),Курс5!$AC$7:$AC$75)+SUMIF(Курс6!$AL$7:$AL$75,\"=\"&ROW(),Курс6!$AC$7:$AC$75)+SUMIF(Курс7!$AL$7:$AL$75,\"=\"&ROW(),Курс7!$AC$7:$AC$75)","v":0}]
["",null,null,null,null,null,{"$f":"IF($FI51>0,$FW51,SUM(I51:K51)+CJ51+IF(СЭкзаменами,SUMIF(Курс1!$AL$7:$AL$75,\"=\"&ROW(),Курс1!$AA$7:$AA$75)+SUMIF(Курс2!$AL$7:$AL$75,\"=\"&ROW(),Курс2!$AA$7:$AA$75)+SUMIF(Курс3!$AL$7:$AL$75,\"=\"&ROW(),Курс3!$AA$7:$AA$75)+SUMIF(Курс4!$AL$7:$AL$75,\"=\"&ROW(),Курс4!$AA$7:$AA$75)+SUMIF(Курс5!$AL$7:$AL$75,\"=\"&ROW(),Курс5!$AA$7:$AA$75)+SUMIF(Курс6!$AL$7:$AL$75,\"=\"&ROW(),Курс6!$AA$7:$AA$75)+SUMIF(Курс7!$AL$7:$AL$75,\"=\"&ROW(),Курс7!$AA$7:$AA$75),0))","v":0},null,0,0,null,null,null,null,null,null,null,null,null,null,null,null,null,null,null,null,null,null,null,null,null,null,null,null,null,null,null,null,null,null,null,null,null,null,null,null,null,null,null,null,null,null,null,null,null,null,null,null,null,null,null,null,null,null,null,null,null,null,0,0,0,0,0,0,0,null,0,0,0,0,0,null,0,null,null,null,null,null,0,0,0,0,0,0,0,0,0,0,0,0,0,0,0,0,0,0,0,0,0,0,0,0,0,0,0,0,0,0,0,0,0,0,0,0,0,0,0,0,0,0,0,0,0,0,0,0,0,0,0,0,0,0,0,0,0,0,0,0,0,null,0,0,0,0,0,0,0,0,0,0,0,0,0,0,0,0,0,1,817,823,"В",0,{"$f":"SUM($CB$6:$CB51)","v":6},0,null,0,{"$f":"IF(FT51=0,FLOOR(IF(СЭкзаменами,H51,(H51+SUMIF(Курс1!$AL$7:$AL$75,\"=\"&ROW(),Курс1!$AA$7:$AA$75)+SUMIF(Курс2!$AL$7:$AL$75,\"=\"&ROW(),Курс2!$AA$7:$AA$75)+SUMIF(Курс3!$AL$7:$AL$75,\"=\"&ROW(),Курс3!$AA$7:$AA$75)+SUMIF(Курс4!$AL$7:$AL$75,\"=\"&ROW(),Курс4!$AA$7:$AA$75)+SUMIF(Курс5!$AL$7:$AL$75,\"=\"&ROW(),Курс5!$AA$7:$AA$75)+SUMIF(Курс6!$AL$7:$AL$75,\"=\"&ROW(),Курс6!$AA$7:$AA$75)+SUMIF(Курс7!$AL$7:$AL$75,\"=\"&ROW(),Курс7!$AA$7:$AA$75)))/IF(ЧасовВКредите>0,ЧасовВКредите,36),0.5),FT51)","v":0},null,null,null,{"$f":"SUMIF(Курс1!$AL$7:$AL$75,\"=\"&ROW(),Курс1!$AC$7:$AC$75)+SUMIF(Курс2!$AL$7:$AL$75,\"=\"&ROW(),Курс2!$AC$7:$AC$75)+SUMIF(Курс3!$AL$7:$AL$75,\"=\"&ROW(),Курс3!$AC$7:$AC$75)+SUMIF(Курс4!$AL$7:$AL$75,\"=\"&ROW(),Курс4!$AC$7:$AC$75)+SUMIF(Курс5!$AL$7:$AL$75,\"=\"&ROW(),Курс5!$AC$7:$AC$75)+SUMIF(Курс6!$AL$7:$AL$75,\"=\"&ROW(),Курс6!$AC$7:$AC$75)+SUMIF(Курс7!$AL$7:$AL$75,\"=\"&ROW(),Курс7!$AC$7:$AC$75)","v":0}]
["",null,null,null,null,null,{"$f":"IF($FI52>0,$FW52,SUM(I52:K52)+CJ52+IF(СЭкзаменами,SUMIF(Курс1!$AL$7:$AL$75,\"=\"&ROW(),Курс1!$AA$7:$AA$75)+SUMIF(Курс2!$AL$7:$AL$75,\"=\"&ROW(),Курс2!$AA$7:$AA$75)+SUMIF(Курс3!$AL$7:$AL$75,\"=\"&ROW(),Курс3!$AA$7:$AA$75)+SUMIF(Курс4!$AL$7:$AL$75,\"=\"&ROW(),Курс4!$AA$7:$AA$75)+SUMIF(Курс5!$AL$7:$AL$75,\"=\"&ROW(),Курс5!$AA$7:$AA$75)+SUMIF(Курс6!$AL$7:$AL$75,\"=\"&ROW(),Курс6!$AA$7:$AA$75)+SUMIF(Курс7!$AL$7:$AL$75,\"=\"&ROW(),Курс7!$AA$7:$AA$75),0))","v":0},null,0,0,null,null,null,null,null,null,null,null,null,null,null,null,null,null,null,null,null,null,null,null,null,null,null,null,null,null,null,null,null,null,null,null,null,null,null,null,null,null,null,null,null,null,null,null,null,null,null,null,null,null,null,null,null,null,null,null,null,null,0,0,0,0,0,0,0,null,0,0,0,0,0,null,0,null,null,null,null,null,0,0,0,0,0,0,0,0,0,0,0,0,0,0,0,0,0,0,0,0,0,0,0,0,0,0,0,0,0,0,0,0,0,0,0,0,0,0,0,0,0,0,0,0,0,0,0,0,0,0,0,0,0,0,0,0,0,0,0,0,0,null,0,0,0,0,0,0,0,0,0,0,0,0,0,0,0,0,0,1,827,833,"В",0,{"$f":"SUM($CB$6:$CB52)","v":6},0,null,0,{"$f":"IF(FT52=0,FLOOR(IF(СЭкзаменами,H52,(H52+SUMIF(Курс1!$AL$7:$AL$75,\"=\"&ROW(),Курс1!$AA$7:$AA$75)+SUMIF(Курс2!$AL$7:$AL$75,\"=\"&ROW(),Курс2!$AA$7:$AA$75)+SUMIF(Курс3!$AL$7:$AL$75,\"=\"&ROW(),Курс3!$AA$7:$AA$75)+SUMIF(Курс4!$AL$7:$AL$75,\"=\"&ROW(),Курс4!$AA$7:$AA$75)+SUMIF(Курс5!$AL$7:$AL$75,\"=\"&ROW(),Курс5!$AA$7:$AA$75)+SUMIF(Курс6!$AL$7:$AL$75,\"=\"&ROW(),Курс6!$AA$7:$AA$75)+SUMIF(Курс7!$AL$7:$AL$75,\"=\"&ROW(),Курс7!$AA$7:$AA$75)))/IF(ЧасовВКредите>0,ЧасовВКредите,36),0.5),FT52)","v":0},null,null,null,{"$f":"SUMIF(Курс1!$AL$7:$AL$75,\"=\"&ROW(),Курс1!$AC$7:$AC$75)+SUMIF(Курс2!$AL$7:$AL$75,\"=\"&ROW(),Курс2!$AC$7:$AC$75)+SUMIF(Курс3!$AL$7:$AL$75,\"=\"&ROW(),Курс3!$AC$7:$AC$75)+SUMIF(Курс4!$AL$7:$AL$75,\"=\"&ROW(),Курс4!$AC$7:$AC$75)+SUMIF(Курс5!$AL$7:$AL$75,\"=\"&ROW(),Курс5!$AC$7:$AC$75)+SUMIF(Курс6!$AL$7:$AL$75,\"=\"&ROW(),Курс6!$AC$7:$AC$75)+SUMIF(Курс7!$AL$7:$AL$75,\"=\"&ROW(),Курс7!$AC$7:$AC$75)","v":0}]
["",null,null,null,null,null,{"$f":"IF($FI53>0,$FW53,SUM(I53:K53)+CJ53+IF(СЭкзаменами,SUMIF(Курс1!$AL$7:$AL$75,\"=\"&ROW(),Курс1!$AA$7:$AA$75)+SUMIF(Курс2!$AL$7:$AL$75,\"=\"&ROW(),Курс2!$AA$7:$AA$75)+SUMIF(Курс3!$AL$7:$AL$75,\"=\"&ROW(),Курс3!$AA$7:$AA$75)+SUMIF(Курс4!$AL$7:$AL$75,\"=\"&ROW(),Курс4!$AA$7:$AA$75)+SUMIF(Курс5!$AL$7:$AL$75,\"=\"&ROW(),Курс5!$AA$7:$AA$75)+SUMIF(Курс6!$AL$7:$AL$75,\"=\"&ROW(),Курс6!$AA$7:$AA$75)+SUMIF(Курс7!$AL$7:$AL$75,\"=\"&ROW(),Курс7!$AA$7:$AA$75),0))","v":0},null,0,0,null,null,null,null,null,null,null,null,null,null,null,null,null,null,null,null,null,null,null,null,null,null,null,null,null,null,null,null,null,null,null,null,null,null,null,null,null,null,null,null,null,null,null,null,null,null,null,null,null,null,null,null,null,null,null,null,null,null,0,0,0,0,0,0,0,null,0,0,0,0,0,null,0,null,null,null,null,null,0,0,0,0,0,0,0,0,0,0,0,0,0,0,0,0,0,0,0,0,0,0,0,0,0,0,0,0,0,0,0,0,0,0,0,0,0,0,0,0,0,0,0,0,0,0,0,0,0,0,0,0,0,0,0,0,0,0,0,0,0,null,0,0,0,0,0,0,0,0,0,0,0,0,0,0,0,0,0,1,837,843,"В",0,{"$f":"SUM($CB$6:$CB53)","v":6},0,null,0,{"$f":"IF(FT53=0,FLOOR(IF(СЭкзаменами,H53,(H53+SUMIF(Курс1!$AL$7:$AL$75,\"=\"&ROW(),Курс1!$AA$7:$AA$75)+SUMIF(Курс2!$AL$7:$AL$75,\"=\"&ROW(),Курс2!$AA$7:$AA$75)+SUMIF(Курс3!$AL$7:$AL$75,\"=\"&ROW(),Курс3!$AA$7:$AA$75)+SUMIF(Курс4!$AL$7:$AL$75,\"=\"&ROW(),Курс4!$AA$7:$AA$75)+SUMIF(Курс5!$AL$7:$AL$75,\"=\"&ROW(),Курс5!$AA$7:$AA$75)+SUMIF(Курс6!$AL$7:$AL$75,\"=\"&ROW(),Курс6!$AA$7:$AA$75)+SUMIF(Курс7!$AL$7:$AL$75,\"=\"&ROW(),Курс7!$AA$7:$AA$75)))/IF(ЧасовВКредите>0,ЧасовВКредите,36),0.5),FT53)","v":0},null,null,null,{"$f":"SUMIF(Курс1!$AL$7:$AL$75,\"=\"&ROW(),Курс1!$AC$7:$AC$75)+SUMIF(Курс2!$AL$7:$AL$75,\"=\"&ROW(),Курс2!$AC$7:$AC$75)+SUMIF(Курс3!$AL$7:$AL$75,\"=\"&ROW(),Курс3!$AC$7:$AC$75)+SUMIF(Курс4!$AL$7:$AL$75,\"=\"&ROW(),Курс4!$AC$7:$AC$75)+SUMIF(Курс5!$AL$7:$AL$75,\"=\"&ROW(),Курс5!$AC$7:$AC$75)+SUMIF(Курс6!$AL$7:$AL$75,\"=\"&ROW(),Курс6!$AC$7:$AC$75)+SUMIF(Курс7!$AL$7:$AL$75,\"=\"&ROW(),Курс7!$AC$7:$AC$75)","v":0}]
["",null,null,null,null,null,{"$f":"IF($FI54>0,$FW54,SUM(I54:K54)+CJ54+IF(СЭкзаменами,SUMIF(Курс1!$AL$7:$AL$75,\"=\"&ROW(),Курс1!$AA$7:$AA$75)+SUMIF(Курс2!$AL$7:$AL$75,\"=\"&ROW(),Курс2!$AA$7:$AA$75)+SUMIF(Курс3!$AL$7:$AL$75,\"=\"&ROW(),Курс3!$AA$7:$AA$75)+SUMIF(Курс4!$AL$7:$AL$75,\"=\"&ROW(),Курс4!$AA$7:$AA$75)+SUMIF(Курс5!$AL$7:$AL$75,\"=\"&ROW(),Курс5!$AA$7:$AA$75)+SUMIF(Курс6!$AL$7:$AL$75,\"=\"&ROW(),Курс6!$AA$7:$AA$75)+SUMIF(Курс7!$AL$7:$AL$75,\"=\"&ROW(),Курс7!$AA$7:$AA$75),0))","v":0},null,0,0,null,null,null,null,null,null,null,null,null,null,null,null,null,null,null,null,null,null,null,null,null,null,null,null,null,null,null,null,null,null,null,null,null,null,null,null,null,null,null,null,null,null,null,null,null,null,null,null,null,null,null,null,null,null,null,null,null,null,0,0,0,0,0,0,0,null,0,0,0,0,0,null,0,null,null,null,null,null,0,0,0,0,0,0,0,0,0,0,0,0,0,0,0,0,0,0,0,0,0,0,0,0,0,0,0,0,0,0,0,0,0,0,0,0,0,0,0,0,0,0,0,0,0,0,0,0,0,0,0,0,0,0,0,0,0,0,0,0,0,null,0,0,0,0,0,0,0,0,0,0,0,0,0,0,0,0,0,1,847,853,"В",0,{"$f":"SUM($CB$6:$CB54)","v":6},0,null,0,{"$f":"IF(FT54=0,FLOOR(IF(СЭкзаменами,H54,(H54+SUMIF(Курс1!$AL$7:$AL$75,\"=\"&ROW(),Курс1!$AA$7:$AA$75)+SUMIF(Курс2!$AL$7:$AL$75,\"=\"&ROW(),Курс2!$AA$7:$AA$75)+SUMIF(Курс3!$AL$7:$AL$75,\"=\"&ROW(),Курс3!$AA$7:$AA$75)+SUMIF(Курс4!$AL$7:$AL$75,\"=\"&ROW(),Курс4!$AA$7:$AA$75)+SUMIF(Курс5!$AL$7:$AL$75,\"=\"&ROW(),Курс5!$AA$7:$AA$75)+SUMIF(Курс6!$AL$7:$AL$75,\"=\"&ROW(),Курс6!$AA$7:$AA$75)+SUMIF(Курс7!$AL$7:$AL$75,\"=\"&ROW(),Курс7!$AA$7:$AA$75)))/IF(ЧасовВКредите>0,ЧасовВКредите,36),0.5),FT54)","v":0},null,null,null,{"$f":"SUMIF(Курс1!$AL$7:$AL$75,\"=\"&ROW(),Курс1!$AC$7:$AC$75)+SUMIF(Курс2!$AL$7:$AL$75,\"=\"&ROW(),Курс2!$AC$7:$AC$75)+SUMIF(Курс3!$AL$7:$AL$75,\"=\"&ROW(),Курс3!$AC$7:$AC$75)+SUMIF(Курс4!$AL$7:$AL$75,\"=\"&ROW(),Курс4!$AC$7:$AC$75)+SUMIF(Курс5!$AL$7:$AL$75,\"=\"&ROW(),Курс5!$AC$7:$AC$75)+SUMIF(Курс6!$AL$7:$AL$75,\"=\"&ROW(),Курс6!$AC$7:$AC$75)+SUMIF(Курс7!$AL$7:$AL$75,\"=\"&ROW(),Курс7!$AC$7:$AC$75)","v":0}]
["",null,null,null,null,null,{"$f":"IF($FI55>0,$FW55,SUM(I55:K55)+CJ55+IF(СЭкзаменами,SUMIF(Курс1!$AL$7:$AL$75,\"=\"&ROW(),Курс1!$AA$7:$AA$75)+SUMIF(Курс2!$AL$7:$AL$75,\"=\"&ROW(),Курс2!$AA$7:$AA$75)+SUMIF(Курс3!$AL$7:$AL$75,\"=\"&ROW(),Курс3!$AA$7:$AA$75)+SUMIF(Курс4!$AL$7:$AL$75,\"=\"&ROW(),Курс4!$AA$7:$AA$75)+SUMIF(Курс5!$AL$7:$AL$75,\"=\"&ROW(),Курс5!$AA$7:$AA$75)+SUMIF(Курс6!$AL$7:$AL$75,\"=\"&ROW(),Курс6!$AA$7:$AA$75)+SUMIF(Курс7!$AL$7:$AL$75,\"=\"&ROW(),Курс7!$AA$7:$AA$75),0))","v":0},null,0,0,null,null,null,null,null,null,null,null,null,null,null,null,null,null,null,null,null,null,null,null,null,null,null,null,null,null,null,null,null,null,null,null,null,null,null,null,null,null,null,null,null,null,null,null,null,null,null,null,null,null,null,null,null,null,null,null,null,null,0,0,0,0,0,0,0,null,0,0,0,0,0,null,0,null,null,null,null,null,0,0,0,0,0,0,0,0,0,0,0,0,0,0,0,0,0,0,0,0,0,0,0,0,0,0,0,0,0,0,0,0,0,0,0,0,0,0,0,0,0,0,0,0,0,0,0,0,0,0,0,0,0,0,0,0,0,0,0,0,0,null,0,0,0,0,0,0,0,0,0,0,0,0,0,0,0,0,0,1,857,863,"В",0,{"$f":"SUM($CB$6:$CB55)","v":6},0,null,0,{"$f":"IF(FT55=0,FLOOR(IF(СЭкзаменами,H55,(H55+SUMIF(Курс1!$AL$7:$AL$75,\"=\"&ROW(),Курс1!$AA$7:$AA$75)+SUMIF(Курс2!$AL$7:$AL$75,\"=\"&ROW(),Курс2!$AA$7:$AA$75)+SUMIF(Курс3!$AL$7:$AL$75,\"=\"&ROW(),Курс3!$AA$7:$AA$75)+SUMIF(Курс4!$AL$7:$AL$75,\"=\"&ROW(),Курс4!$AA$7:$AA$75)+SUMIF(Курс5!$AL$7:$AL$75,\"=\"&ROW(),Курс5!$AA$7:$AA$75)+SUMIF(Курс6!$AL$7:$AL$75,\"=\"&ROW(),Курс6!$AA$7:$AA$75)+SUMIF(Курс7!$AL$7:$AL$75,\"=\"&ROW(),Курс7!$AA$7:$AA$75)))/IF(ЧасовВКредите>0,ЧасовВКредите,36),0.5),FT55)","v":0},null,null,null,{"$f":"SUMIF(Курс1!$AL$7:$AL$75,\"=\"&ROW(),Курс1!$AC$7:$AC$75)+SUMIF(Курс2!$AL$7:$AL$75,\"=\"&ROW(),Курс2!$AC$7:$AC$75)+SUMIF(Курс3!$AL$7:$AL$75,\"=\"&ROW(),Курс3!$AC$7:$AC$75)+SUMIF(Курс4!$AL$7:$AL$75,\"=\"&ROW(),Курс4!$AC$7:$AC$75)+SUMIF(Курс5!$AL$7:$AL$75,\"=\"&ROW(),Курс5!$AC$7:$AC$75)+SUMIF(Курс6!$AL$7:$AL$75,\"=\"&ROW(),Курс6!$AC$7:$AC$75)+SUMIF(Курс7!$AL$7:$AL$75,\"=\"&ROW(),Курс7!$AC$7:$AC$75)","v":0}]
["",null,null,null,null,null,{"$f":"IF($FI56>0,$FW56,SUM(I56:K56)+CJ56+IF(СЭкзаменами,SUMIF(Курс1!$AL$7:$AL$75,\"=\"&ROW(),Курс1!$AA$7:$AA$75)+SUMIF(Курс2!$AL$7:$AL$75,\"=\"&ROW(),Курс2!$AA$7:$AA$75)+SUMIF(Курс3!$AL$7:$AL$75,\"=\"&ROW(),Курс3!$AA$7:$AA$75)+SUMIF(Курс4!$AL$7:$AL$75,\"=\"&ROW(),Курс4!$AA$7:$AA$75)+SUMIF(Курс5!$AL$7:$AL$75,\"=\"&ROW(),Курс5!$AA$7:$AA$75)+SUMIF(Курс6!$AL$7:$AL$75,\"=\"&ROW(),Курс6!$AA$7:$AA$75)+SUMIF(Курс7!$AL$7:$AL$75,\"=\"&ROW(),Курс7!$AA$7:$AA$75),0))","v":0},null,0,0,null,null,null,null,null,null,null,null,null,null,null,null,null,null,null,null,null,null,null,null,null,null,null,null,null,null,null,null,null,null,null,null,null,null,null,null,null,null,null,null,null,null,null,null,null,null,null,null,null,null,null,null,null,null,null,null,null,null,0,0,0,0,0,0,0,null,0,0,0,0,{"$f":"IF(OR(CA56>0,TRIM(B56)<>\"\"),1,0)","v":0},null,0,null,null,null,null,null,0,0,0,0,0,0,0,0,0,0,0,0,0,0,0,0,0,0,0,0,0,0,0,0,0,0,0,0,0,0,0,0,0,0,0,0,0,0,0,0,0,0,0,0,0,0,0,0,0,0,0,0,0,0,0,0,0,0,0,0,0,null,0,0,0,0,0,0,0,0,0,0,0,0,0,0,0,0,0,1,867,873,"В",0,{"$f":"SUM($CB$6:$CB56)","v":6},0,null,0,{"$f":"IF(FT56=0,FLOOR(IF(СЭкзаменами,H56,(H56+SUMIF(Курс1!$AL$7:$AL$75,\"=\"&ROW(),Курс1!$AA$7:$AA$75)+SUMIF(Курс2!$AL$7:$AL$75,\"=\"&ROW(),Курс2!$AA$7:$AA$75)+SUMIF(Курс3!$AL$7:$AL$75,\"=\"&ROW(),Курс3!$AA$7:$AA$75)+SUMIF(Курс4!$AL$7:$AL$75,\"=\"&ROW(),Курс4!$AA$7:$AA$75)+SUMIF(Курс5!$AL$7:$AL$75,\"=\"&ROW(),Курс5!$AA$7:$AA$75)+SUMIF(Курс6!$AL$7:$AL$75,\"=\"&ROW(),Курс6!$AA$7:$AA$75)+SUMIF(Курс7!$AL$7:$AL$75,\"=\"&ROW(),Курс7!$AA$7:$AA$75)))/IF(ЧасовВКредите>0,ЧасовВКредите,36),0.5),FT56)","v":0},null,null,null,{"$f":"SUMIF(Курс1!$AL$7:$AL$75,\"=\"&ROW(),Курс1!$AC$7:$AC$75)+SUMIF(Курс2!$AL$7:$AL$75,\"=\"&ROW(),Курс2!$AC$7:$AC$75)+SUMIF(Курс3!$AL$7:$AL$75,\"=\"&ROW(),Курс3!$AC$7:$AC$75)+SUMIF(Курс4!$AL$7:$AL$75,\"=\"&ROW(),Курс4!$AC$7:$AC$75)+SUMIF(Курс5!$AL$7:$AL$75,\"=\"&ROW(),Курс5!$AC$7:$AC$75)+SUMIF(Курс6!$AL$7:$AL$75,\"=\"&ROW(),Курс6!$AC$7:$AC$75)+SUMIF(Курс7!$AL$7:$AL$75,\"=\"&ROW(),Курс7!$AC$7:$AC$75)","v":0}]
["",null,null,null,null,null,{"$f":"IF($FI57>0,$FW57,SUM(I57:K57)+CJ57+IF(СЭкзаменами,SUMIF(Курс1!$AL$7:$AL$75,\"=\"&ROW(),Курс1!$AA$7:$AA$75)+SUMIF(Курс2!$AL$7:$AL$75,\"=\"&ROW(),Курс2!$AA$7:$AA$75)+SUMIF(Курс3!$AL$7:$AL$75,\"=\"&ROW(),Курс3!$AA$7:$AA$75)+SUMIF(Курс4!$AL$7:$AL$75,\"=\"&ROW(),Курс4!$AA$7:$AA$75)+SUMIF(Курс5!$AL$7:$AL$75,\"=\"&ROW(),Курс5!$AA$7:$AA$75)+SUMIF(Курс6!$AL$7:$AL$75,\"=\"&ROW(),Курс6!$AA$7:$AA$75)+SUMIF(Курс7!$AL$7:$AL$75,\"=\"&ROW(),Курс7!$AA$7:$AA$75),0))","v":0},null,0,0,null,null,null,null,null,null,null,null,null,null,null,null,null,null,null,null,null,null,null,null,null,null,null,null,null,null,null,null,null,null,null,null,null,null,null,null,null,null,null,null,null,null,null,null,null,null,null,null,null,null,null,null,null,null,null,null,null,null,0,0,0,0,0,0,0,null,0,0,0,0,0,null,0,null,null,null,null,null,0,0,0,0,0,0,0,0,0,0,0,0,0,0,0,0,0,0,0,0,0,0,0,0,0,0,0,0,0,0,0,0,0,0,0,0,0,0,0,0,0,0,0,0,0,0,0,0,0,0,0,0,0,0,0,0,0,0,0,0,0,null,0,0,0,0,0,0,0,0,0,0,0,0,0,0,0,0,0,1,877,883,"В",0,{"$f":"SUM($CB$6:$CB57)","v":6},0,null,0,{"$f":"IF(FT57=0,FLOOR(IF(СЭкзаменами,H57,(H57+SUMIF(Курс1!$AL$7:$AL$75,\"=\"&ROW(),Курс1!$AA$7:$AA$75)+SUMIF(Курс2!$AL$7:$AL$75,\"=\"&ROW(),Курс2!$AA$7:$AA$75)+SUMIF(Курс3!$AL$7:$AL$75,\"=\"&ROW(),Курс3!$AA$7:$AA$75)+SUMIF(Курс4!$AL$7:$AL$75,\"=\"&ROW(),Курс4!$AA$7:$AA$75)+SUMIF(Курс5!$AL$7:$AL$75,\"=\"&ROW(),Курс5!$AA$7:$AA$75)+SUMIF(Курс6!$AL$7:$AL$75,\"=\"&ROW(),Курс6!$AA$7:$AA$75)+SUMIF(Курс7!$AL$7:$AL$75,\"=\"&ROW(),Курс7!$AA$7:$AA$75)))/IF(ЧасовВКредите>0,ЧасовВКредите,36),0.5),FT57)","v":0},null,null,null,{"$f":"SUMIF(Курс1!$AL$7:$AL$75,\"=\"&ROW(),Курс1!$AC$7:$AC$75)+SUMIF(Курс2!$AL$7:$AL$75,\"=\"&ROW(),Курс2!$AC$7:$AC$75)+SUMIF(Курс3!$AL$7:$AL$75,\"=\"&ROW(),Курс3!$AC$7:$AC$75)+SUMIF(Курс4!$AL$7:$AL$75,\"=\"&ROW(),Курс4!$AC$7:$AC$75)+SUMIF(Курс5!$AL$7:$AL$75,\"=\"&ROW(),Курс5!$AC$7:$AC$75)+SUMIF(Курс6!$AL$7:$AL$75,\"=\"&ROW(),Курс6!$AC$7:$AC$75)+SUMIF(Курс7!$AL$7:$AL$75,\"=\"&ROW(),Курс7!$AC$7:$AC$75)","v":0}]
["",null,null,null,null,null,{"$f":"IF($FI58>0,$FW58,SUM(I58:K58)+CJ58+IF(СЭкзаменами,SUMIF(Курс1!$AL$7:$AL$75,\"=\"&ROW(),Курс1!$AA$7:$AA$75)+SUMIF(Курс2!$AL$7:$AL$75,\"=\"&ROW(),Курс2!$AA$7:$AA$75)+SUMIF(Курс3!$AL$7:$AL$75,\"=\"&ROW(),Курс3!$AA$7:$AA$75)+SUMIF(Курс4!$AL$7:$AL$75,\"=\"&ROW(),Курс4!$AA$7:$AA$75)+SUMIF(Курс5!$AL$7:$AL$75,\"=\"&ROW(),Курс5!$AA$7:$AA$75)+SUMIF(Курс6!$AL$7:$AL$75,\"=\"&ROW(),Курс6!$AA$7:$AA$75)+SUMIF(Курс7!$AL$7:$AL$75,\"=\"&ROW(),Курс7!$AA$7:$AA$75),0))","v":0},null,0,0,null,null,null,null,null,null,null,null,null,null,null,null,null,null,null,null,null,null,null,null,null,null,null,null,null,null,null,null,null,null,null,null,null,null,null,null,null,null,null,null,null,null,null,null,null,null,null,null,null,null,null,null,null,null,null,null,null,null,0,0,0,0,0,0,0,null,0,0,0,0,0,null,0,null,null,null,null,null,0,0,0,0,0,0,0,0,0,0,0,0,0,0,0,0,0,0,0,0,0,0,0,0,0,0,0,0,0,0,0,0,0,0,0,0,0,0,0,0,0,0,0,0,0,0,0,0,0,0,0,0,0,0,0,0,0,0,0,0,0,null,0,0,0,0,0,0,0,0,0,0,0,0,0,0,0,0,0,1,887,893,"В",0,{"$f":"SUM($CB$6:$CB58)","v":6},0,null,0,{"$f":"IF(FT58=0,FLOOR(IF(СЭкзаменами,H58,(H58+SUMIF(Курс1!$AL$7:$AL$75,\"=\"&ROW(),Курс1!$AA$7:$AA$75)+SUMIF(Курс2!$AL$7:$AL$75,\"=\"&ROW(),Курс2!$AA$7:$AA$75)+SUMIF(Курс3!$AL$7:$AL$75,\"=\"&ROW(),Курс3!$AA$7:$AA$75)+SUMIF(Курс4!$AL$7:$AL$75,\"=\"&ROW(),Курс4!$AA$7:$AA$75)+SUMIF(Курс5!$AL$7:$AL$75,\"=\"&ROW(),Курс5!$AA$7:$AA$75)+SUMIF(Курс6!$AL$7:$AL$75,\"=\"&ROW(),Курс6!$AA$7:$AA$75)+SUMIF(Курс7!$AL$7:$AL$75,\"=\"&ROW(),Курс7!$AA$7:$AA$75)))/IF(ЧасовВКредите>0,ЧасовВКредите,36),0.5),FT58)","v":0},null,null,null,{"$f":"SUMIF(Курс1!$AL$7:$AL$75,\"=\"&ROW(),Курс1!$AC$7:$AC$75)+SUMIF(Курс2!$AL$7:$AL$75,\"=\"&ROW(),Курс2!$AC$7:$AC$75)+SUMIF(Курс3!$AL$7:$AL$75,\"=\"&ROW(),Курс3!$AC$7:$AC$75)+SUMIF(Курс4!$AL$7:$AL$75,\"=\"&ROW(),Курс4!$AC$7:$AC$75)+SUMIF(Курс5!$AL$7:$AL$75,\"=\"&ROW(),Курс5!$AC$7:$AC$75)+SUMIF(Курс6!$AL$7:$AL$75,\"=\"&ROW(),Курс6!$AC$7:$AC$75)+SUMIF(Курс7!$AL$7:$AL$75,\"=\"&ROW(),Курс7!$AC$7:$AC$75)","v":0}]
["",null,null,null,null,null,{"$f":"IF($FI59>0,$FW59,SUM(I59:K59)+CJ59+IF(СЭкзаменами,SUMIF(Курс1!$AL$7:$AL$75,\"=\"&ROW(),Курс1!$AA$7:$AA$75)+SUMIF(Курс2!$AL$7:$AL$75,\"=\"&ROW(),Курс2!$AA$7:$AA$75)+SUMIF(Курс3!$AL$7:$AL$75,\"=\"&ROW(),Курс3!$AA$7:$AA$75)+SUMIF(Курс4!$AL$7:$AL$75,\"=\"&ROW(),Курс4!$AA$7:$AA$75)+SUMIF(Курс5!$AL$7:$AL$75,\"=\"&ROW(),Курс5!$AA$7:$AA$75)+SUMIF(Курс6!$AL$7:$AL$75,\"=\"&ROW(),Курс6!$AA$7:$AA$75)+SUMIF(Курс7!$AL$7:$AL$75,\"=\"&ROW(),Курс7!$AA$7:$AA$75),0))","v":0},null,0,0,null,null,null,null,null,null,null,null,null,null,null,null,null,null,null,null,null,null,null,null,null,null,null,null,null,null,null,null,null,null,null,null,null,null,null,null,null,null,null,null,null,null,null,null,null,null,null,null,null,null,null,null,null,null,null,null,null,null,0,0,0,0,0,0,0,null,0,0,0,0,0,null,0,null,null,null,null,null,0,0,0,0,0,0,0,0,0,0,0,0,0,0,0,0,0,0,0,0,0,0,0,0,0,0,0,0,0,0,0,0,0,0,0,0,0,0,0,0,0,0,0,0,0,0,0,0,0,0,0,0,0,0,0,0,0,0,0,0,0,null,0,0,0,0,0,0,0,0,0,0,0,0,0,0,0,0,0,1,897,903,"В",0,{"$f":"SUM($CB$6:$CB59)","v":6},0,null,0,{"$f":"IF(FT59=0,FLOOR(IF(СЭкзаменами,H59,(H59+SUMIF(Курс1!$AL$7:$AL$75,\"=\"&ROW(),Курс1!$AA$7:$AA$75)+SUMIF(Курс2!$AL$7:$AL$75,\"=\"&ROW(),Курс2!$AA$7:$AA$75)+SUMIF(Курс3!$AL$7:$AL$75,\"=\"&ROW(),Курс3!$AA$7:$AA$75)+SUMIF(Курс4!$AL$7:$AL$75,\"=\"&ROW(),Курс4!$AA$7:$AA$75)+SUMIF(Курс5!$AL$7:$AL$75,\"=\"&ROW(),Курс5!$AA$7:$AA$75)+SUMIF(Курс6!$AL$7:$AL$75,\"=\"&ROW(),Курс6!$AA$7:$AA$75)+SUMIF(Курс7!$AL$7:$AL$75,\"=\"&ROW(),Курс7!$AA$7:$AA$75)))/IF(ЧасовВКредите>0,ЧасовВКредите,36),0.5),FT59)","v":0},null,null,null,{"$f":"SUMIF(Курс1!$AL$7:$AL$75,\"=\"&ROW(),Курс1!$AC$7:$AC$75)+SUMIF(Курс2!$AL$7:$AL$75,\"=\"&ROW(),Курс2!$AC$7:$AC$75)+SUMIF(Курс3!$AL$7:$AL$75,\"=\"&ROW(),Курс3!$AC$7:$AC$75)+SUMIF(Курс4!$AL$7:$AL$75,\"=\"&ROW(),Курс4!$AC$7:$AC$75)+SUMIF(Курс5!$AL$7:$AL$75,\"=\"&ROW(),Курс5!$AC$7:$AC$75)+SUMIF(Курс6!$AL$7:$AL$75,\"=\"&ROW(),Курс6!$AC$7:$AC$75)+SUMIF(Курс7!$AL$7:$AL$75,\"=\"&ROW(),Курс7!$AC$7:$AC$75)","v":0}]
["",null,null,null,null,null,{"$f":"IF($FI60>0,$FW60,SUM(I60:K60)+CJ60+IF(СЭкзаменами,SUMIF(Курс1!$AL$7:$AL$75,\"=\"&ROW(),Курс1!$AA$7:$AA$75)+SUMIF(Курс2!$AL$7:$AL$75,\"=\"&ROW(),Курс2!$AA$7:$AA$75)+SUMIF(Курс3!$AL$7:$AL$75,\"=\"&ROW(),Курс3!$AA$7:$AA$75)+SUMIF(Курс4!$AL$7:$AL$75,\"=\"&ROW(),Курс4!$AA$7:$AA$75)+SUMIF(Курс5!$AL$7:$AL$75,\"=\"&ROW(),Курс5!$AA$7:$AA$75)+SUMIF(Курс6!$AL$7:$AL$75,\"=\"&ROW(),Курс6!$AA$7:$AA$75)+SUMIF(Курс7!$AL$7:$AL$75,\"=\"&ROW(),Курс7!$AA$7:$AA$75),0))","v":0},null,0,0,null,null,null,null,null,null,null,null,null,null,null,null,null,null,null,null,null,null,null,null,null,null,null,null,null,null,null,null,null,null,null,null,null,null,null,null,null,null,null,null,null,null,null,null,null,null,null,null,null,null,null,null,null,null,null,null,null,null,0,0,0,0,0,0,0,null,0,0,0,0,0,null,0,null,null,null,null,null,0,0,0,0,0,0,0,0,0,0,0,0,0,0,0,0,0,0,0,0,0,0,0,0,0,0,0,0,0,0,0,0,0,0,0,0,0,0,0,0,0,0,0,0,0,0,0,0,0,0,0,0,0,0,0,0,0,0,0,0,0,null,0,0,0,0,0,0,0,0,0,0,0,0,0,0,0,0,0,1,907,913,"В",0,{"$f":"SUM($CB$6:$CB60)","v":6},0,null,0,{"$f":"IF(FT60=0,FLOOR(IF(СЭкзаменами,H60,(H60+SUMIF(Курс1!$AL$7:$AL$75,\"=\"&ROW(),Курс1!$AA$7:$AA$75)+SUMIF(Курс2!$AL$7:$AL$75,\"=\"&ROW(),Курс2!$AA$7:$AA$75)+SUMIF(Курс3!$AL$7:$AL$75,\"=\"&ROW(),Курс3!$AA$7:$AA$75)+SUMIF(Курс4!$AL$7:$AL$75,\"=\"&ROW(),Курс4!$AA$7:$AA$75)+SUMIF(Курс5!$AL$7:$AL$75,\"=\"&ROW(),Курс5!$AA$7:$AA$75)+SUMIF(Курс6!$AL$7:$AL$75,\"=\"&ROW(),Курс6!$AA$7:$AA$75)+SUMIF(Курс7!$AL$7:$AL$75,\"=\"&ROW(),Курс7!$AA$7:$AA$75)))/IF(ЧасовВКредите>0,ЧасовВКредите,36),0.5),FT60)","v":0},null,null,null,{"$f":"SUMIF(Курс1!$AL$7:$AL$75,\"=\"&ROW(),Курс1!$AC$7:$AC$75)+SUMIF(Курс2!$AL$7:$AL$75,\"=\"&ROW(),Курс2!$AC$7:$AC$75)+SUMIF(Курс3!$AL$7:$AL$75,\"=\"&ROW(),Курс3!$AC$7:$AC$75)+SUMIF(Курс4!$AL$7:$AL$75,\"=\"&ROW(),Курс4!$AC$7:$AC$75)+SUMIF(Курс5!$AL$7:$AL$75,\"=\"&ROW(),Курс5!$AC$7:$AC$75)+SUMIF(Курс6!$AL$7:$AL$75,\"=\"&ROW(),Курс6!$AC$7:$AC$75)+SUMIF(Курс7!$AL$7:$AL$75,\"=\"&ROW(),Курс7!$AC$7:$AC$75)","v":0}]
["",null,null,null,null,null,{"$f":"IF($FI61>0,$FW61,SUM(I61:K61)+CJ61+IF(СЭкзаменами,SUMIF(Курс1!$AL$7:$AL$75,\"=\"&ROW(),Курс1!$AA$7:$AA$75)+SUMIF(Курс2!$AL$7:$AL$75,\"=\"&ROW(),Курс2!$AA$7:$AA$75)+SUMIF(Курс3!$AL$7:$AL$75,\"=\"&ROW(),Курс3!$AA$7:$AA$75)+SUMIF(Курс4!$AL$7:$AL$75,\"=\"&ROW(),Курс4!$AA$7:$AA$75)+SUMIF(Курс5!$AL$7:$AL$75,\"=\"&ROW(),Курс5!$AA$7:$AA$75)+SUMIF(Курс6!$AL$7:$AL$75,\"=\"&ROW(),Курс6!$AA$7:$AA$75)+SUMIF(Курс7!$AL$7:$AL$75,\"=\"&ROW(),Курс7!$AA$7:$AA$75),0))","v":0},null,0,0,null,null,null,null,null,null,null,null,null,null,null,null,null,null,null,null,null,null,null,null,null,null,null,null,null,null,null,null,null,null,null,null,null,null,null,null,null,null,null,null,null,null,null,null,null,null,null,null,null,null,null,null,null,null,null,null,null,null,0,0,0,0,0,0,0,null,0,0,0,0,0,null,0,null,null,null,null,null,0,0,0,0,0,0,0,0,0,0,0,0,0,0,0,0,0,0,0,0,0,0,0,0,0,0,0,0,0,0,0,0,0,0,0,0,0,0,0,0,0,0,0,0,0,0,0,0,0,0,0,0,0,0,0,0,0,0,0,0,0,null,0,0,0,0,0,0,0,0,0,0,0,0,0,0,0,0,0,1,918,977,"Ф",0,{"$f":"SUM($CB$6:$CB61)","v":6},0,null,0,{"$f":"IF(FT61=0,FLOOR(IF(СЭкзаменами,H61,(H61+SUMIF(Курс1!$AL$7:$AL$75,\"=\"&ROW(),Курс1!$AA$7:$AA$75)+SUMIF(Курс2!$AL$7:$AL$75,\"=\"&ROW(),Курс2!$AA$7:$AA$75)+SUMIF(Курс3!$AL$7:$AL$75,\"=\"&ROW(),Курс3!$AA$7:$AA$75)+SUMIF(Курс4!$AL$7:$AL$75,\"=\"&ROW(),Курс4!$AA$7:$AA$75)+SUMIF(Курс5!$AL$7:$AL$75,\"=\"&ROW(),Курс5!$AA$7:$AA$75)+SUMIF(Курс6!$AL$7:$AL$75,\"=\"&ROW(),Курс6!$AA$7:$AA$75)+SUMIF(Курс7!$AL$7:$AL$75,\"=\"&ROW(),Курс7!$AA$7:$AA$75)))/IF(ЧасовВКредите>0,ЧасовВКредите,36),0.5),FT61)","v":0},null,null,null,{"$f":"SUMIF(Курс1!$AL$7:$AL$75,\"=\"&ROW(),Курс1!$AC$7:$AC$75)+SUMIF(Курс2!$AL$7:$AL$75,\"=\"&ROW(),Курс2!$AC$7:$AC$75)+SUMIF(Курс3!$AL$7:$AL$75,\"=\"&ROW(),Курс3!$AC$7:$AC$75)+SUMIF(Курс4!$AL$7:$AL$75,\"=\"&ROW(),Курс4!$AC$7:$AC$75)+SUMIF(Курс5!$AL$7:$AL$75,\"=\"&ROW(),Курс5!$AC$7:$AC$75)+SUMIF(Курс6!$AL$7:$AL$75,\"=\"&ROW(),Курс6!$AC$7:$AC$75)+SUMIF(Курс7!$AL$7:$AL$75,\"=\"&ROW(),Курс7!$AC$7:$AC$75)","v":0}]
["",null,null,null,null,null,{"$f":"IF($FI62>0,$FW62,SUM(I62:K62)+CJ62+IF(СЭкзаменами,SUMIF(Курс1!$AL$7:$AL$75,\"=\"&ROW(),Курс1!$AA$7:$AA$75)+SUMIF(Курс2!$AL$7:$AL$75,\"=\"&ROW(),Курс2!$AA$7:$AA$75)+SUMIF(Курс3!$AL$7:$AL$75,\"=\"&ROW(),Курс3!$AA$7:$AA$75)+SUMIF(Курс4!$AL$7:$AL$75,\"=\"&ROW(),Курс4!$AA$7:$AA$75)+SUMIF(Курс5!$AL$7:$AL$75,\"=\"&ROW(),Курс5!$AA$7:$AA$75)+SUMIF(Курс6!$AL$7:$AL$75,\"=\"&ROW(),Курс6!$AA$7:$AA$75)+SUMIF(Курс7!$AL$7:$AL$75,\"=\"&ROW(),Курс7!$AA$7:$AA$75),0))","v":0},null,0,0,null,null,null,null,null,null,null,null,null,null,null,null,null,null,null,null,null,null,null,null,null,null,null,null,null,null,null,null,null,null,null,null,null,null,null,null,null,null,null,null,null,null,null,null,null,null,null,null,null,null,null,null,null,null,null,null,null,null,0,0,0,0,0,0,0,null,0,0,0,0,0,null,0,null,null,null,null,null,0,0,0,0,0,0,0,0,0,0,0,0,0,0,0,0,0,0,0,0,0,0,0,0,0,0,0,0,0,0,0,0,0,0,0,0,0,0,0,0,0,0,0,0,0,0,0,0,0,0,0,0,0,0,0,0,0,0,0,0,0,null,0,0,0,0,0,0,0,0,0,0,0,0,0,0,0,0,0,1,978,1011,"Р",0,{"$f":"SUM($CB$6:$CB62)","v":6},0,null,0,{"$f":"IF(FT62=0,FLOOR(IF(СЭкзаменами,H62,(H62+SUMIF(Курс1!$AL$7:$AL$75,\"=\"&ROW(),Курс1!$AA$7:$AA$75)+SUMIF(Курс2!$AL$7:$AL$75,\"=\"&ROW(),Курс2!$AA$7:$AA$75)+SUMIF(Курс3!$AL$7:$AL$75,\"=\"&ROW(),Курс3!$AA$7:$AA$75)+SUMIF(Курс4!$AL$7:$AL$75,\"=\"&ROW(),Курс4!$AA$7:$AA$75)+SUMIF(Курс5!$AL$7:$AL$75,\"=\"&ROW(),Курс5!$AA$7:$AA$75)+SUMIF(Курс6!$AL$7:$AL$75,\"=\"&ROW(),Курс6!$AA$7:$AA$75)+SUMIF(Курс7!$AL$7:$AL$75,\"=\"&ROW(),Курс7!$AA$7:$AA$75)))/IF(ЧасовВКредите>0,ЧасовВКредите,36),0.5),FT62)","v":0},null,null,null,{"$f":"SUMIF(Курс1!$AL$7:$AL$75,\"=\"&ROW(),Курс1!$AC$7:$AC$75)+SUMIF(Курс2!$AL$7:$AL$75,\"=\"&ROW(),Курс2!$AC$7:$AC$75)+SUMIF(Курс3!$AL$7:$AL$75,\"=\"&ROW(),Курс3!$AC$7:$AC$75)+SUMIF(Курс4!$AL$7:$AL$75,\"=\"&ROW(),Курс4!$AC$7:$AC$75)+SUMIF(Курс5!$AL$7:$AL$75,\"=\"&ROW(),Курс5!$AC$7:$AC$75)+SUMIF(Курс6!$AL$7:$AL$75,\"=\"&ROW(),Курс6!$AC$7:$AC$75)+SUMIF(Курс7!$AL$7:$AL$75,\"=\"&ROW(),Курс7!$AC$7:$AC$75)","v":0}]
["",null,null,null,null,null,{"$f":"IF($FI63>0,$FW63,SUM(I63:K63)+CJ63+IF(СЭкзаменами,SUMIF(Курс1!$AL$7:$AL$75,\"=\"&ROW(),Курс1!$AA$7:$AA$75)+SUMIF(Курс2!$AL$7:$AL$75,\"=\"&ROW(),Курс2!$AA$7:$AA$75)+SUMIF(Курс3!$AL$7:$AL$75,\"=\"&ROW(),Курс3!$AA$7:$AA$75)+SUMIF(Курс4!$AL$7:$AL$75,\"=\"&ROW(),Курс4!$AA$7:$AA$75)+SUMIF(Курс5!$AL$7:$AL$75,\"=\"&ROW(),Курс5!$AA$7:$AA$75)+SUMIF(Курс6!$AL$7:$AL$75,\"=\"&ROW(),Курс6!$AA$7:$AA$75)+SUMIF(Курс7!$AL$7:$AL$75,\"=\"&ROW(),Курс7!$AA$7:$AA$75),0))","v":0},null,0,0,null,null,null,null,null,null,null,null,null,null,null,null,null,null,null,null,null,null,null,null,null,null,null,null,null,null,null,null,null,null,null,null,null,null,null,null,null,null,null,null,null,null,null,null,null,null,null,null,null,null,null,null,null,null,null,null,null,null,0,0,0,0,0,0,0,null,0,0,0,0,0,null,0,null,null,null,null,null,0,0,0,0,0,0,0,0,0,0,0,0,0,0,0,0,0,0,0,0,0,0,0,0,0,0,0,0,0,0,0,0,0,0,0,0,0,0,0,0,0,0,0,0,0,0,0,0,0,0,0,0,0,0,0,0,0,0,0,0,0,null,0,0,0,0,0,0,0,0,0,0,0,0,0,0,0,0,0,1,1015,1021,"В",0,{"$f":"SUM($CB$6:$CB63)","v":6},0,null,0,{"$f":"IF(FT63=0,FLOOR(IF(СЭкзаменами,H63,(H63+SUMIF(Курс1!$AL$7:$AL$75,\"=\"&ROW(),Курс1!$AA$7:$AA$75)+SUMIF(Курс2!$AL$7:$AL$75,\"=\"&ROW(),Курс2!$AA$7:$AA$75)+SUMIF(Курс3!$AL$7:$AL$75,\"=\"&ROW(),Курс3!$AA$7:$AA$75)+SUMIF(Курс4!$AL$7:$AL$75,\"=\"&ROW(),Курс4!$AA$7:$AA$75)+SUMIF(Курс5!$AL$7:$AL$75,\"=\"&ROW(),Курс5!$AA$7:$AA$75)+SUMIF(Курс6!$AL$7:$AL$75,\"=\"&ROW(),Курс6!$AA$7:$AA$75)+SUMIF(Курс7!$AL$7:$AL$75,\"=\"&ROW(),Курс7!$AA$7:$AA$75)))/IF(ЧасовВКредите>0,ЧасовВКредите,36),0.5),FT63)","v":0},null,null,null,{"$f":"SUMIF(Курс1!$AL$7:$AL$75,\"=\"&ROW(),Курс1!$AC$7:$AC$75)+SUMIF(Курс2!$AL$7:$AL$75,\"=\"&ROW(),Курс2!$AC$7:$AC$75)+SUMIF(Курс3!$AL$7:$AL$75,\"=\"&ROW(),Курс3!$AC$7:$AC$75)+SUMIF(Курс4!$AL$7:$AL$75,\"=\"&ROW(),Курс4!$AC$7:$AC$75)+SUMIF(Курс5!$AL$7:$AL$75,\"=\"&ROW(),Курс5!$AC$7:$AC$75)+SUMIF(Курс6!$AL$7:$AL$75,\"=\"&ROW(),Курс6!$AC$7:$AC$75)+SUMIF(Курс7!$AL$7:$AL$75,\"=\"&ROW(),Курс7!$AC$7:$AC$75)","v":0}]
["",null,null,null,null,null,{"$f":"IF($FI64>0,$FW64,SUM(I64:K64)+CJ64+IF(СЭкзаменами,SUMIF(Курс1!$AL$7:$AL$75,\"=\"&ROW(),Курс1!$AA$7:$AA$75)+SUMIF(Курс2!$AL$7:$AL$75,\"=\"&ROW(),Курс2!$AA$7:$AA$75)+SUMIF(Курс3!$AL$7:$AL$75,\"=\"&ROW(),Курс3!$AA$7:$AA$75)+SUMIF(Курс4!$AL$7:$AL$75,\"=\"&ROW(),Курс4!$AA$7:$AA$75)+SUMIF(Курс5!$AL$7:$AL$75,\"=\"&ROW(),Курс5!$AA$7:$AA$75)+SUMIF(Курс6!$AL$7:$AL$75,\"=\"&ROW(),Курс6!$AA$7:$AA$75)+SUMIF(Курс7!$AL$7:$AL$75,\"=\"&ROW(),Курс7!$AA$7:$AA$75),0))","v":0},null,0,0,null,null,null,null,null,null,null,null,null,null,null,null,null,null,null,null,null,null,null,null,null,null,null,null,null,null,null,null,null,null,null,null,null,null,null,null,null,null,null,null,null,null,null,null,null,null,null,null,null,null,null,null,null,null,null,null,null,null,0,0,0,0,0,0,0,null,0,0,0,0,0,null,0,null,null,null,null,null,0,0,0,0,0,0,0,0,0,0,0,0,0,0,0,0,0,0,0,0,0,0,0,0,0,0,0,0,0,0,0,0,0,0,0,0,0,0,0,0,0,0,0,0,0,0,0,0,0,0,0,0,0,0,0,0,0,0,0,0,0,null,0,0,0,0,0,0,0,0,0,0,0,0,0,0,0,0,0,1,1025,1031,"В",0,{"$f":"SUM($CB$6:$CB64)","v":6},0,null,0,{"$f":"IF(FT64=0,FLOOR(IF(СЭкзаменами,H64,(H64+SUMIF(Курс1!$AL$7:$AL$75,\"=\"&ROW(),Курс1!$AA$7:$AA$75)+SUMIF(Курс2!$AL$7:$AL$75,\"=\"&ROW(),Курс2!$AA$7:$AA$75)+SUMIF(Курс3!$AL$7:$AL$75,\"=\"&ROW(),Курс3!$AA$7:$AA$75)+SUMIF(Курс4!$AL$7:$AL$75,\"=\"&ROW(),Курс4!$AA$7:$AA$75)+SUMIF(Курс5!$AL$7:$AL$75,\"=\"&ROW(),Курс5!$AA$7:$AA$75)+SUMIF(Курс6!$AL$7:$AL$75,\"=\"&ROW(),Курс6!$AA$7:$AA$75)+SUMIF(Курс7!$AL$7:$AL$75,\"=\"&ROW(),Курс7!$AA$7:$AA$75)))/IF(ЧасовВКредите>0,ЧасовВКредите,36),0.5),FT64)","v":0},null,null,null,{"$f":"SUMIF(Курс1!$AL$7:$AL$75,\"=\"&ROW(),Курс1!$AC$7:$AC$75)+SUMIF(Курс2!$AL$7:$AL$75,\"=\"&ROW(),Курс2!$AC$7:$AC$75)+SUMIF(Курс3!$AL$7:$AL$75,\"=\"&ROW(),Курс3!$AC$7:$AC$75)+SUMIF(Курс4!$AL$7:$AL$75,\"=\"&ROW(),Курс4!$AC$7:$AC$75)+SUMIF(Курс5!$AL$7:$AL$75,\"=\"&ROW(),Курс5!$AC$7:$AC$75)+SUMIF(Курс6!$AL$7:$AL$75,\"=\"&ROW(),Курс6!$AC$7:$AC$75)+SUMIF(Курс7!$AL$7:$AL$75,\"=\"&ROW(),Курс7!$AC$7:$AC$75)","v":0}]
["",null,null,null,null,null,{"$f":"IF($FI65>0,$FW65,SUM(I65:K65)+CJ65+IF(СЭкзаменами,SUMIF(Курс1!$AL$7:$AL$75,\"=\"&ROW(),Курс1!$AA$7:$AA$75)+SUMIF(Курс2!$AL$7:$AL$75,\"=\"&ROW(),Курс2!$AA$7:$AA$75)+SUMIF(Курс3!$AL$7:$AL$75,\"=\"&ROW(),Курс3!$AA$7:$AA$75)+SUMIF(Курс4!$AL$7:$AL$75,\"=\"&ROW(),Курс4!$AA$7:$AA$75)+SUMIF(Курс5!$AL$7:$AL$75,\"=\"&ROW(),Курс5!$AA$7:$AA$75)+SUMIF(Курс6!$AL$7:$AL$75,\"=\"&ROW(),Курс6!$AA$7:$AA$75)+SUMIF(Курс7!$AL$7:$AL$75,\"=\"&ROW(),Курс7!$AA$7:$AA$75),0))","v":0},null,0,0,null,null,null,null,null,null,null,null,null,null,null,null,null,null,null,null,null,null,null,null,null,null,null,null,null,null,null,null,null,null,null,null,null,null,null,null,null,null,null,null,null,null,null,null,null,null,null,null,null,null,null,null,null,null,null,null,null,null,0,0,0,0,0,0,0,null,0,0,0,0,0,null,0,null,null,null,null,null,0,0,0,0,0,0,0,0,0,0,0,0,0,0,0,0,0,0,0,0,0,0,0,0,0,0,0,0,0,0,0,0,0,0,0,0,0,0,0,0,0,0,0,0,0,0,0,0,0,0,0,0,0,0,0,0,0,0,0,0,0,null,0,0,0,0,0,0,0,0,0,0,0,0,0,0,0,0,0,1,1035,1041,"В",0,{"$f":"SUM($CB$6:$CB65)","v":6},0,null,0,{"$f":"IF(FT65=0,FLOOR(IF(СЭкзаменами,H65,(H65+SUMIF(Курс1!$AL$7:$AL$75,\"=\"&ROW(),Курс1!$AA$7:$AA$75)+SUMIF(Курс2!$AL$7:$AL$75,\"=\"&ROW(),Курс2!$AA$7:$AA$75)+SUMIF(Курс3!$AL$7:$AL$75,\"=\"&ROW(),Курс3!$AA$7:$AA$75)+SUMIF(Курс4!$AL$7:$AL$75,\"=\"&ROW(),Курс4!$AA$7:$AA$75)+SUMIF(Курс5!$AL$7:$AL$75,\"=\"&ROW(),Курс5!$AA$7:$AA$75)+SUMIF(Курс6!$AL$7:$AL$75,\"=\"&ROW(),Курс6!$AA$7:$AA$75)+SUMIF(Курс7!$AL$7:$AL$75,\"=\"&ROW(),Курс7!$AA$7:$AA$75)))/IF(ЧасовВКредите>0,ЧасовВКредите,36),0.5),FT65)","v":0},null,null,null,{"$f":"SUMIF(Курс1!$AL$7:$AL$75,\"=\"&ROW(),Курс1!$AC$7:$AC$75)+SUMIF(Курс2!$AL$7:$AL$75,\"=\"&ROW(),Курс2!$AC$7:$AC$75)+SUMIF(Курс3!$AL$7:$AL$75,\"=\"&ROW(),Курс3!$AC$7:$AC$75)+SUMIF(Курс4!$AL$7:$AL$75,\"=\"&ROW(),Курс4!$AC$7:$AC$75)+SUMIF(Курс5!$AL$7:$AL$75,\"=\"&ROW(),Курс5!$AC$7:$AC$75)+SUMIF(Курс6!$AL$7:$AL$75,\"=\"&ROW(),Курс6!$AC$7:$AC$75)+SUMIF(Курс7!$AL$7:$AL$75,\"=\"&ROW(),Курс7!$AC$7:$AC$75)","v":0}]
[{"$f":"IF(TRIM(B66)<>\"\",B$5&IF(isFGOS,\".В.\",\".Р.\")&FQ66&IF(FR66>0,\".\"&FR66,\"\"),\"\")","v":"ГСЭ.Р.1"},"Политология, культурология, социология","34","2",null,null,{"$f":"IF($FI66>0,$FW66,SUM(I66:K66)+CJ66+IF(СЭкзаменами,SUMIF(Курс1!$AL$7:$AL$75,\"=\"&ROW(),Курс1!$AA$7:$AA$75)+SUMIF(Курс2!$AL$7:$AL$75,\"=\"&ROW(),Курс2!$AA$7:$AA$75)+SUMIF(Курс3!$AL$7:$AL$75,\"=\"&ROW(),Курс3!$AA$7:$AA$75)+SUMIF(Курс4!$AL$7:$AL$75,\"=\"&ROW(),Курс4!$AA$7:$AA$75)+SUMIF(Курс5!$AL$7:$AL$75,\"=\"&ROW(),Курс5!$AA$7:$AA$75)+SUMIF(Курс6!$AL$7:$AL$75,\"=\"&ROW(),Курс6!$AA$7:$AA$75)+SUMIF(Курс7!$AL$7:$AL$75,\"=\"&ROW(),Курс7!$AA$7:$AA$75),0))","v":214},214,108,0,106,null,null,null,null,18,null,18,null,18,null,18,null,18,null,18,null,null,null,null,null,null,null,null,null,null,null,null,null,null,null,null,null,null,null,null,null,null,null,null,null,null,null,null,null,null,null,null,null,null,null,null,null,null,null,null,null,1,0.33333333333333331,0.66666666666666663,0,0,0,0,0,0,409.75079365079364,0,2,1,1,null,3,null,null,null,null,0,214,0,0,0,0,0,1,0,0,1,0,0,0,1,0,0,0,0,0,0,0,0,0,0,0,0,0,0,0,0,0,0,0,0,0,0,0,0,0,0,0,0,0,0,0,0,0,0,0,0,0,0,0,0,0,0,0,0,0,0,0,null,0,1,1,1,0,0,0,0,0,0,0,0,{"$f":"IF(SUM(BH66:BK66)>0,1,0)","v":0},{"$f":"IF(SUM(BL66:BO66)>0,1,0)","v":0},0,0,{"$f":"IF(OR(LEFT(B66,19)=\"Физическая культура\",LEFT(B66,21)=\"Физическая подготовка\"),1,0)","v":0},2,1045,1051,"В",0,{"$f":"SUM($CB$66:$CB66)","v":1},0,0,0,{"$f":"IF(FT66=0,FLOOR(IF(СЭкзаменами,H66,(H66+SUMIF(Курс1!$AL$7:$AL$75,\"=\"&ROW(),Курс1!$AA$7:$AA$75)+SUMIF(Курс2!$AL$7:$AL$75,\"=\"&ROW(),Курс2!$AA$7:$AA$75)+SUMIF(Курс3!$AL$7:$AL$75,\"=\"&ROW(),Курс3!$AA$7:$AA$75)+SUMIF(Курс4!$AL$7:$AL$75,\"=\"&ROW(),Курс4!$AA$7:$AA$75)+SUMIF(Курс5!$AL$7:$AL$75,\"=\"&ROW(),Курс5!$AA$7:$AA$75)+SUMIF(Курс6!$AL$7:$AL$75,\"=\"&ROW(),Курс6!$AA$7:$AA$75)+SUMIF(Курс7!$AL$7:$AL$75,\"=\"&ROW(),Курс7!$AA$7:$AA$75)))/IF(ЧасовВКредите>0,ЧасовВКредите,36),0.5),FT66)","v":7},"",null,0,{"$f":"SUMIF(Курс1!$AL$7:$AL$75,\"=\"&ROW(),Курс1!$AC$7:$AC$75)+SUMIF(Курс2!$AL$7:$AL$75,\"=\"&ROW(),Курс2!$AC$7:$AC$75)+SUMIF(Курс3!$AL$7:$AL$75,\"=\"&ROW(),Курс3!$AC$7:$AC$75)+SUMIF(Курс4!$AL$7:$AL$75,\"=\"&ROW(),Курс4!$AC$7:$AC$75)+SUMIF(Курс5!$AL$7:$AL$75,\"=\"&ROW(),Курс5!$AC$7:$AC$75)+SUMIF(Курс6!$AL$7:$AL$75,\"=\"&ROW(),Курс6!$AC$7:$AC$75)+SUMIF(Курс7!$AL$7:$AL$75,\"=\"&ROW(),Курс7!$AC$7:$AC$75)","v":7}]
["ГСЭ.Р.2","Правоведение",null,"4",null,null,{"$f":"IF($FI67>0,$FW67,SUM(I67:K67)+CJ67+IF(СЭкзаменами,SUMIF(Курс1!$AL$7:$AL$75,\"=\"&ROW(),Курс1!$AA$7:$AA$75)+SUMIF(Курс2!$AL$7:$AL$75,\"=\"&ROW(),Курс2!$AA$7:$AA$75)+SUMIF(Курс3!$AL$7:$AL$75,\"=\"&ROW(),Курс3!$AA$7:$AA$75)+SUMIF(Курс4!$AL$7:$AL$75,\"=\"&ROW(),Курс4!$AA$7:$AA$75)+SUMIF(Курс5!$AL$7:$AL$75,\"=\"&ROW(),Курс5!$AA$7:$AA$75)+SUMIF(Курс6!$AL$7:$AL$75,\"=\"&ROW(),Курс6!$AA$7:$AA$75)+SUMIF(Курс7!$AL$7:$AL$75,\"=\"&ROW(),Курс7!$AA$7:$AA$75),0))","v":56},56,36,0,20,null,null,null,null,null,null,null,null,null,null,null,null,36,null,null,null,null,null,null,null,null,null,null,null,null,null,null,null,null,null,null,null,null,null,null,null,null,null,null,null,null,null,null,null,null,null,null,null,null,null,null,null,null,null,null,null,1,0,1,0,0,0,0,0,0,125.41666666666667,0,3,1,1,null,1,null,null,null,null,0,56,0,0,0,0,0,0,0,0,0,0,0,0,0,1,0,0,0,0,0,0,0,0,0,0,0,0,0,0,0,0,0,0,0,0,0,0,0,0,0,0,0,0,0,0,0,0,0,0,0,0,0,0,0,0,0,0,0,0,0,0,null,0,0,0,1,0,0,0,0,0,0,0,0,0,0,0,0,0,2,1055,1061,"В",0,{"$f":"SUM($CB$66:$CB67)","v":2},0,0,0,{"$f":"IF(FT67=0,FLOOR(IF(СЭкзаменами,H67,(H67+SUMIF(Курс1!$AL$7:$AL$75,\"=\"&ROW(),Курс1!$AA$7:$AA$75)+SUMIF(Курс2!$AL$7:$AL$75,\"=\"&ROW(),Курс2!$AA$7:$AA$75)+SUMIF(Курс3!$AL$7:$AL$75,\"=\"&ROW(),Курс3!$AA$7:$AA$75)+SUMIF(Курс4!$AL$7:$AL$75,\"=\"&ROW(),Курс4!$AA$7:$AA$75)+SUMIF(Курс5!$AL$7:$AL$75,\"=\"&ROW(),Курс5!$AA$7:$AA$75)+SUMIF(Курс6!$AL$7:$AL$75,\"=\"&ROW(),Курс6!$AA$7:$AA$75)+SUMIF(Курс7!$AL$7:$AL$75,\"=\"&ROW(),Курс7!$AA$7:$AA$75)))/IF(ЧасовВКредите>0,ЧасовВКредите,36),0.5),FT67)","v":1.5},"",null,0,{"$f":"SUMIF(Курс1!$AL$7:$AL$75,\"=\"&ROW(),Курс1!$AC$7:$AC$75)+SUMIF(Курс2!$AL$7:$AL$75,\"=\"&ROW(),Курс2!$AC$7:$AC$75)+SUMIF(Курс3!$AL$7:$AL$75,\"=\"&ROW(),Курс3!$AC$7:$AC$75)+SUMIF(Курс4!$AL$7:$AL$75,\"=\"&ROW(),Курс4!$AC$7:$AC$75)+SUMIF(Курс5!$AL$7:$AL$75,\"=\"&ROW(),Курс5!$AC$7:$AC$75)+SUMIF(Курс6!$AL$7:$AL$75,\"=\"&ROW(),Курс6!$AC$7:$AC$75)+SUMIF(Курс7!$AL$7:$AL$75,\"=\"&ROW(),Курс7!$AC$7:$AC$75)","v":1.5}]
["",null,null,null,null,null,{"$f":"IF($FI68>0,$FW68,SUM(I68:K68)+CJ68+IF(СЭкзаменами,SUMIF(Курс1!$AL$7:$AL$75,\"=\"&ROW(),Курс1!$AA$7:$AA$75)+SUMIF(Курс2!$AL$7:$AL$75,\"=\"&ROW(),Курс2!$AA$7:$AA$75)+SUMIF(Курс3!$AL$7:$AL$75,\"=\"&ROW(),Курс3!$AA$7:$AA$75)+SUMIF(Курс4!$AL$7:$AL$75,\"=\"&ROW(),Курс4!$AA$7:$AA$75)+SUMIF(Курс5!$AL$7:$AL$75,\"=\"&ROW(),Курс5!$AA$7:$AA$75)+SUMIF(Курс6!$AL$7:$AL$75,\"=\"&ROW(),Курс6!$AA$7:$AA$75)+SUMIF(Курс7!$AL$7:$AL$75,\"=\"&ROW(),Курс7!$AA$7:$AA$75),0))","v":0},null,0,0,null,null,null,null,null,null,null,null,null,null,null,null,null,null,null,null,null,null,null,null,null,null,null,null,null,null,null,null,null,null,null,null,null,null,null,null,null,null,null,null,null,null,null,null,null,null,null,null,null,null,null,null,null,null,null,null,null,null,0,0,0,0,0,0,0,null,0,0,0,0,0,null,0,null,null,null,null,null,0,0,0,0,0,0,0,0,0,0,0,0,0,0,0,0,0,0,0,0,0,0,0,0,0,0,0,0,0,0,0,0,0,0,0,0,0,0,0,0,0,0,0,0,0,0,0,0,0,0,0,0,0,0,0,0,0,0,0,0,0,null,0,0,0,0,0,0,0,0,0,0,0,0,0,0,0,0,0,2,1065,1071,"В",0,{"$f":"SUM($CB$66:$CB68)","v":2},0,0,0,{"$f":"IF(FT68=0,FLOOR(IF(СЭкзаменами,H68,(H68+SUMIF(Курс1!$AL$7:$AL$75,\"=\"&ROW(),Курс1!$AA$7:$AA$75)+SUMIF(Курс2!$AL$7:$AL$75,\"=\"&ROW(),Курс2!$AA$7:$AA$75)+SUMIF(Курс3!$AL$7:$AL$75,\"=\"&ROW(),Курс3!$AA$7:$AA$75)+SUMIF(Курс4!$AL$7:$AL$75,\"=\"&ROW(),Курс4!$AA$7:$AA$75)+SUMIF(Курс5!$AL$7:$AL$75,\"=\"&ROW(),Курс5!$AA$7:$AA$75)+SUMIF(Курс6!$AL$7:$AL$75,\"=\"&ROW(),Курс6!$AA$7:$AA$75)+SUMIF(Курс7!$AL$7:$AL$75,\"=\"&ROW(),Курс7!$AA$7:$AA$75)))/IF(ЧасовВКредите>0,ЧасовВКредите,36),0.5),FT68)","v":0},null,null,null,{"$f":"SUMIF(Курс1!$AL$7:$AL$75,\"=\"&ROW(),Курс1!$AC$7:$AC$75)+SUMIF(Курс2!$AL$7:$AL$75,\"=\"&ROW(),Курс2!$AC$7:$AC$75)+SUMIF(Курс3!$AL$7:$AL$75,\"=\"&ROW(),Курс3!$AC$7:$AC$75)+SUMIF(Курс4!$AL$7:$AL$75,\"=\"&ROW(),Курс4!$AC$7:$AC$75)+SUMIF(Курс5!$AL$7:$AL$75,\"=\"&ROW(),Курс5!$AC$7:$AC$75)+SUMIF(Курс6!$AL$7:$AL$75,\"=\"&ROW(),Курс6!$AC$7:$AC$75)+SUMIF(Курс7!$AL$7:$AL$75,\"=\"&ROW(),Курс7!$AC$7:$AC$75)","v":0}]
["",null,null,null,null,null,{"$f":"IF($FI69>0,$FW69,SUM(I69:K69)+CJ69+IF(СЭкзаменами,SUMIF(Курс1!$AL$7:$AL$75,\"=\"&ROW(),Курс1!$AA$7:$AA$75)+SUMIF(Курс2!$AL$7:$AL$75,\"=\"&ROW(),Курс2!$AA$7:$AA$75)+SUMIF(Курс3!$AL$7:$AL$75,\"=\"&ROW(),Курс3!$AA$7:$AA$75)+SUMIF(Курс4!$AL$7:$AL$75,\"=\"&ROW(),Курс4!$AA$7:$AA$75)+SUMIF(Курс5!$AL$7:$AL$75,\"=\"&ROW(),Курс5!$AA$7:$AA$75)+SUMIF(Курс6!$AL$7:$AL$75,\"=\"&ROW(),Курс6!$AA$7:$AA$75)+SUMIF(Курс7!$AL$7:$AL$75,\"=\"&ROW(),Курс7!$AA$7:$AA$75),0))","v":0},null,0,0,null,null,null,null,null,null,null,null,null,null,null,null,null,null,null,null,null,null,null,null,null,null,null,null,null,null,null,null,null,null,null,null,null,null,null,null,null,null,null,null,null,null,null,null,null,null,null,null,null,null,null,null,null,null,null,null,null,null,0,0,0,0,0,0,0,null,0,0,0,0,0,null,0,null,null,null,null,null,0,0,0,0,0,0,0,0,0,0,0,0,0,0,0,0,0,0,0,0,0,0,0,0,0,0,0,0,0,0,0,0,0,0,0,0,0,0,0,0,0,0,0,0,0,0,0,0,0,0,0,0,0,0,0,0,0,0,0,0,0,null,0,0,0,0,0,0,0,0,0,0,0,0,0,0,0,0,0,2,1075,1081,"В",0,{"$f":"SUM($CB$66:$CB69)","v":2},0,null,0,{"$f":"IF(FT69=0,FLOOR(IF(СЭкзаменами,H69,(H69+SUMIF(Курс1!$AL$7:$AL$75,\"=\"&ROW(),Курс1!$AA$7:$AA$75)+SUMIF(Курс2!$AL$7:$AL$75,\"=\"&ROW(),Курс2!$AA$7:$AA$75)+SUMIF(Курс3!$AL$7:$AL$75,\"=\"&ROW(),Курс3!$AA$7:$AA$75)+SUMIF(Курс4!$AL$7:$AL$75,\"=\"&ROW(),Курс4!$AA$7:$AA$75)+SUMIF(Курс5!$AL$7:$AL$75,\"=\"&ROW(),Курс5!$AA$7:$AA$75)+SUMIF(Курс6!$AL$7:$AL$75,\"=\"&ROW(),Курс6!$AA$7:$AA$75)+SUMIF(Курс7!$AL$7:$AL$75,\"=\"&ROW(),Курс7!$AA$7:$AA$75)))/IF(ЧасовВКредите>0,ЧасовВКредите,36),0.5),FT69)","v":0},null,null,null,{"$f":"SUMIF(Курс1!$AL$7:$AL$75,\"=\"&ROW(),Курс1!$AC$7:$AC$75)+SUMIF(Курс2!$AL$7:$AL$75,\"=\"&ROW(),Курс2!$AC$7:$AC$75)+SUMIF(Курс3!$AL$7:$AL$75,\"=\"&ROW(),Курс3!$AC$7:$AC$75)+SUMIF(Курс4!$AL$7:$AL$75,\"=\"&ROW(),Курс4!$AC$7:$AC$75)+SUMIF(Курс5!$AL$7:$AL$75,\"=\"&ROW(),Курс5!$AC$7:$AC$75)+SUMIF(Курс6!$AL$7:$AL$75,\"=\"&ROW(),Курс6!$AC$7:$AC$75)+SUMIF(Курс7!$AL$7:$AL$75,\"=\"&ROW(),Курс7!$AC$7:$AC$75)","v":0}]
["",null,null,null,null,null,{"$f":"IF($FI70>0,$FW70,SUM(I70:K70)+CJ70+IF(СЭкзаменами,SUMIF(Курс1!$AL$7:$AL$75,\"=\"&ROW(),Курс1!$AA$7:$AA$75)+SUMIF(Курс2!$AL$7:$AL$75,\"=\"&ROW(),Курс2!$AA$7:$AA$75)+SUMIF(Курс3!$AL$7:$AL$75,\"=\"&ROW(),Курс3!$AA$7:$AA$75)+SUMIF(Курс4!$AL$7:$AL$75,\"=\"&ROW(),Курс4!$AA$7:$AA$75)+SUMIF(Курс5!$AL$7:$AL$75,\"=\"&ROW(),Курс5!$AA$7:$AA$75)+SUMIF(Курс6!$AL$7:$AL$75,\"=\"&ROW(),Курс6!$AA$7:$AA$75)+SUMIF(Курс7!$AL$7:$AL$75,\"=\"&ROW(),Курс7!$AA$7:$AA$75),0))","v":0},null,0,0,null,null,null,null,null,null,null,null,null,null,null,null,null,null,null,null,null,null,null,null,null,null,null,null,null,null,null,null,null,null,null,null,null,null,null,null,null,null,null,null,null,null,null,null,null,null,null,null,null,null,null,null,null,null,null,null,null,null,0,0,0,0,0,0,0,null,0,0,0,0,0,null,0,null,null,null,null,null,0,0,0,0,0,0,0,0,0,0,0,0,0,0,0,0,0,0,0,0,0,0,0,0,0,0,0,0,0,0,0,0,0,0,0,0,0,0,0,0,0,0,0,0,0,0,0,0,0,0,0,0,0,0,0,0,0,0,0,{"$f":"FormKontroljaInRange(CH70)","v":0},0,null,0,0,0,0,0,0,0,0,0,0,0,0,0,0,0,0,0,2,1085,1091,"В",0,{"$f":"SUM($CB$66:$CB70)","v":2},0,null,0,{"$f":"IF(FT70=0,FLOOR(IF(СЭкзаменами,H70,(H70+SUMIF(Курс1!$AL$7:$AL$75,\"=\"&ROW(),Курс1!$AA$7:$AA$75)+SUMIF(Курс2!$AL$7:$AL$75,\"=\"&ROW(),Курс2!$AA$7:$AA$75)+SUMIF(Курс3!$AL$7:$AL$75,\"=\"&ROW(),Курс3!$AA$7:$AA$75)+SUMIF(Курс4!$AL$7:$AL$75,\"=\"&ROW(),Курс4!$AA$7:$AA$75)+SUMIF(Курс5!$AL$7:$AL$75,\"=\"&ROW(),Курс5!$AA$7:$AA$75)+SUMIF(Курс6!$AL$7:$AL$75,\"=\"&ROW(),Курс6!$AA$7:$AA$75)+SUMIF(Курс7!$AL$7:$AL$75,\"=\"&ROW(),Курс7!$AA$7:$AA$75)))/IF(ЧасовВКредите>0,ЧасовВКредите,36),0.5),FT70)","v":0},null,null,null,{"$f":"SUMIF(Курс1!$AL$7:$AL$75,\"=\"&ROW(),Курс1!$AC$7:$AC$75)+SUMIF(Курс2!$AL$7:$AL$75,\"=\"&ROW(),Курс2!$AC$7:$AC$75)+SUMIF(Курс3!$AL$7:$AL$75,\"=\"&ROW(),Курс3!$AC$7:$AC$75)+SUMIF(Курс4!$AL$7:$AL$75,\"=\"&ROW(),Курс4!$AC$7:$AC$75)+SUMIF(Курс5!$AL$7:$AL$75,\"=\"&ROW(),Курс5!$AC$7:$AC$75)+SUMIF(Курс6!$AL$7:$AL$75,\"=\"&ROW(),Курс6!$AC$7:$AC$75)+SUMIF(Курс7!$AL$7:$AL$75,\"=\"&ROW(),Курс7!$AC$7:$AC$75)","v":0}]
["",null,null,null,null,null,{"$f":"IF($FI71>0,$FW71,SUM(I71:K71)+CJ71+IF(СЭкзаменами,SUMIF(Курс1!$AL$7:$AL$75,\"=\"&ROW(),Курс1!$AA$7:$AA$75)+SUMIF(Курс2!$AL$7:$AL$75,\"=\"&ROW(),Курс2!$AA$7:$AA$75)+SUMIF(Курс3!$AL$7:$AL$75,\"=\"&ROW(),Курс3!$AA$7:$AA$75)+SUMIF(Курс4!$AL$7:$AL$75,\"=\"&ROW(),Курс4!$AA$7:$AA$75)+SUMIF(Курс5!$AL$7:$AL$75,\"=\"&ROW(),Курс5!$AA$7:$AA$75)+SUMIF(Курс6!$AL$7:$AL$75,\"=\"&ROW(),Курс6!$AA$7:$AA$75)+SUMIF(Курс7!$AL$7:$AL$75,\"=\"&ROW(),Курс7!$AA$7:$AA$75),0))","v":0},null,0,0,null,null,null,null,null,null,null,null,null,null,null,null,null,null,null,null,null,null,null,null,null,null,null,null,null,null,null,null,null,null,null,null,null,null,null,null,null,null,null,null,null,null,null,null,null,null,null,null,null,null,null,null,null,null,null,null,null,null,0,0,0,0,0,0,0,null,0,0,0,0,0,null,0,null,null,null,null,null,0,0,0,0,0,0,0,0,0,0,0,0,0,0,0,0,0,0,0,0,0,0,0,0,0,0,0,0,0,0,0,0,0,0,0,0,0,0,0,0,0,0,0,0,0,0,0,0,0,0,0,0,0,0,0,0,0,0,0,0,0,null,0,0,0,0,0,0,0,0,0,0,0,0,0,0,0,0,0,2,1095,1101,"В",0,{"$f":"SUM($CB$66:$CB71)","v":2},0,null,0,{"$f":"IF(FT71=0,FLOOR(IF(СЭкзаменами,H71,(H71+SUMIF(Курс1!$AL$7:$AL$75,\"=\"&ROW(),Курс1!$AA$7:$AA$75)+SUMIF(Курс2!$AL$7:$AL$75,\"=\"&ROW(),Курс2!$AA$7:$AA$75)+SUMIF(Курс3!$AL$7:$AL$75,\"=\"&ROW(),Курс3!$AA$7:$AA$75)+SUMIF(Курс4!$AL$7:$AL$75,\"=\"&ROW(),Курс4!$AA$7:$AA$75)+SUMIF(Курс5!$AL$7:$AL$75,\"=\"&ROW(),Курс5!$AA$7:$AA$75)+SUMIF(Курс6!$AL$7:$AL$75,\"=\"&ROW(),Курс6!$AA$7:$AA$75)+SUMIF(Курс7!$AL$7:$AL$75,\"=\"&ROW(),Курс7!$AA$7:$AA$75)))/IF(ЧасовВКредите>0,ЧасовВКредите,36),0.5),FT71)","v":0},null,null,null,{"$f":"SUMIF(Курс1!$AL$7:$AL$75,\"=\"&ROW(),Курс1!$AC$7:$AC$75)+SUMIF(Курс2!$AL$7:$AL$75,\"=\"&ROW(),Курс2!$AC$7:$AC$75)+SUMIF(Курс3!$AL$7:$AL$75,\"=\"&ROW(),Курс3!$AC$7:$AC$75)+SUMIF(Курс4!$AL$7:$AL$75,\"=\"&ROW(),Курс4!$AC$7:$AC$75)+SUMIF(Курс5!$AL$7:$AL$75,\"=\"&ROW(),Курс5!$AC$7:$AC$75)+SUMIF(Курс6!$AL$7:$AL$75,\"=\"&ROW(),Курс6!$AC$7:$AC$75)+SUMIF(Курс7!$AL$7:$AL$75,\"=\"&ROW(),Курс7!$AC$7:$AC$75)","v":0}]
["",null,null,null,null,null,{"$f":"IF($FI72>0,$FW72,SUM(I72:K72)+CJ72+IF(СЭкзаменами,SUMIF(Курс1!$AL$7:$AL$75,\"=\"&ROW(),Курс1!$AA$7:$AA$75)+SUMIF(Курс2!$AL$7:$AL$75,\"=\"&ROW(),Курс2!$AA$7:$AA$75)+SUMIF(Курс3!$AL$7:$AL$75,\"=\"&ROW(),Курс3!$AA$7:$AA$75)+SUMIF(Курс4!$AL$7:$AL$75,\"=\"&ROW(),Курс4!$AA$7:$AA$75)+SUMIF(Курс5!$AL$7:$AL$75,\"=\"&ROW(),Курс5!$AA$7:$AA$75)+SUMIF(Курс6!$AL$7:$AL$75,\"=\"&ROW(),Курс6!$AA$7:$AA$75)+SUMIF(Курс7!$AL$7:$AL$75,\"=\"&ROW(),Курс7!$AA$7:$AA$75),0))","v":0},null,0,0,null,null,null,null,null,null,null,null,null,null,null,null,null,null,null,null,null,null,null,null,null,null,null,null,null,null,null,null,null,null,null,null,null,null,null,null,null,null,null,null,null,null,null,null,null,null,null,null,null,null,null,null,null,null,null,null,null,null,0,0,0,0,0,0,0,null,0,0,0,0,0,null,0,null,null,null,null,null,0,0,0,0,0,0,0,0,0,0,0,0,0,0,0,0,0,0,0,0,0,0,0,0,0,0,0,0,0,0,0,0,0,0,0,0,0,0,0,0,0,0,0,0,0,0,0,0,0,0,0,0,0,0,0,0,0,0,0,0,0,null,0,0,0,0,0,0,0,0,0,0,0,0,0,0,0,0,0,2,1105,1111,"В",0,{"$f":"SUM($CB$66:$CB72)","v":2},0,null,0,{"$f":"IF(FT72=0,FLOOR(IF(СЭкзаменами,H72,(H72+SUMIF(Курс1!$AL$7:$AL$75,\"=\"&ROW(),Курс1!$AA$7:$AA$75)+SUMIF(Курс2!$AL$7:$AL$75,\"=\"&ROW(),Курс2!$AA$7:$AA$75)+SUMIF(Курс3!$AL$7:$AL$75,\"=\"&ROW(),Курс3!$AA$7:$AA$75)+SUMIF(Курс4!$AL$7:$AL$75,\"=\"&ROW(),Курс4!$AA$7:$AA$75)+SUMIF(Курс5!$AL$7:$AL$75,\"=\"&ROW(),Курс5!$AA$7:$AA$75)+SUMIF(Курс6!$AL$7:$AL$75,\"=\"&ROW(),Курс6!$AA$7:$AA$75)+SUMIF(Курс7!$AL$7:$AL$75,\"=\"&ROW(),Курс7!$AA$7:$AA$75)))/IF(ЧасовВКредите>0,ЧасовВКредите,36),0.5),FT72)","v":0},null,null,null,{"$f":"SUMIF(Курс1!$AL$7:$AL$75,\"=\"&ROW(),Курс1!$AC$7:$AC$75)+SUMIF(Курс2!$AL$7:$AL$75,\"=\"&ROW(),Курс2!$AC$7:$AC$75)+SUMIF(Курс3!$AL$7:$AL$75,\"=\"&ROW(),Курс3!$AC$7:$AC$75)+SUMIF(Курс4!$AL$7:$AL$75,\"=\"&ROW(),Курс4!$AC$7:$AC$75)+SUMIF(Курс5!$AL$7:$AL$75,\"=\"&ROW(),Курс5!$AC$7:$AC$75)+SUMIF(Курс6!$AL$7:$AL$75,\"=\"&ROW(),Курс6!$AC$7:$AC$75)+SUMIF(Курс7!$AL$7:$AL$75,\"=\"&ROW(),Курс7!$AC$7:$AC$75)","v":0}]
["",null,null,null,null,null,{"$f":"IF($FI73>0,$FW73,SUM(I73:K73)+CJ73+IF(СЭкзаменами,SUMIF(Курс1!$AL$7:$AL$75,\"=\"&ROW(),Курс1!$AA$7:$AA$75)+SUMIF(Курс2!$AL$7:$AL$75,\"=\"&ROW(),Курс2!$AA$7:$AA$75)+SUMIF(Курс3!$AL$7:$AL$75,\"=\"&ROW(),Курс3!$AA$7:$AA$75)+SUMIF(Курс4!$AL$7:$AL$75,\"=\"&ROW(),Курс4!$AA$7:$AA$75)+SUMIF(Курс5!$AL$7:$AL$75,\"=\"&ROW(),Курс5!$AA$7:$AA$75)+SUMIF(Курс6!$AL$7:$AL$75,\"=\"&ROW(),Курс6!$AA$7:$AA$75)+SUMIF(Курс7!$AL$7:$AL$75,\"=\"&ROW(),Курс7!$AA$7:$AA$75),0))","v":0},null,0,0,null,null,null,null,null,null,null,null,null,null,null,null,null,null,null,null,null,null,null,null,null,null,null,null,null,null,null,null,null,null,null,null,null,null,null,null,null,null,null,null,null,null,null,null,null,null,null,null,null,null,null,null,null,null,null,null,null,null,0,0,0,0,0,0,0,null,0,0,0,0,0,null,0,null,null,null,null,null,0,0,0,0,0,0,0,0,0,0,0,0,0,0,0,0,0,0,0,0,0,0,0,0,0,0,0,0,0,0,0,0,0,0,0,0,0,0,0,0,0,0,0,0,0,0,0,0,0,0,0,0,0,0,0,0,0,0,0,0,0,null,0,0,0,0,0,0,0,0,0,0,0,0,0,0,0,0,0,2,1115,1121,"В",0,{"$f":"SUM($CB$66:$CB73)","v":2},0,null,0,{"$f":"IF(FT73=0,FLOOR(IF(СЭкзаменами,H73,(H73+SUMIF(Курс1!$AL$7:$AL$75,\"=\"&ROW(),Курс1!$AA$7:$AA$75)+SUMIF(Курс2!$AL$7:$AL$75,\"=\"&ROW(),Курс2!$AA$7:$AA$75)+SUMIF(Курс3!$AL$7:$AL$75,\"=\"&ROW(),Курс3!$AA$7:$AA$75)+SUMIF(Курс4!$AL$7:$AL$75,\"=\"&ROW(),Курс4!$AA$7:$AA$75)+SUMIF(Курс5!$AL$7:$AL$75,\"=\"&ROW(),Курс5!$AA$7:$AA$75)+SUMIF(Курс6!$AL$7:$AL$75,\"=\"&ROW(),Курс6!$AA$7:$AA$75)+SUMIF(Курс7!$AL$7:$AL$75,\"=\"&ROW(),Курс7!$AA$7:$AA$75)))/IF(ЧасовВКредите>0,ЧасовВКредите,36),0.5),FT73)","v":0},null,null,null,{"$f":"SUMIF(Курс1!$AL$7:$AL$75,\"=\"&ROW(),Курс1!$AC$7:$AC$75)+SUMIF(Курс2!$AL$7:$AL$75,\"=\"&ROW(),Курс2!$AC$7:$AC$75)+SUMIF(Курс3!$AL$7:$AL$75,\"=\"&ROW(),Курс3!$AC$7:$AC$75)+SUMIF(Курс4!$AL$7:$AL$75,\"=\"&ROW(),Курс4!$AC$7:$AC$75)+SUMIF(Курс5!$AL$7:$AL$75,\"=\"&ROW(),Курс5!$AC$7:$AC$75)+SUMIF(Курс6!$AL$7:$AL$75,\"=\"&ROW(),Курс6!$AC$7:$AC$75)+SUMIF(Курс7!$AL$7:$AL$75,\"=\"&ROW(),Курс7!$AC$7:$AC$75)","v":0}]
["",null,null,null,null,null,{"$f":"IF($FI74>0,$FW74,SUM(I74:K74)+CJ74+IF(СЭкзаменами,SUMIF(Курс1!$AL$7:$AL$75,\"=\"&ROW(),Курс1!$AA$7:$AA$75)+SUMIF(Курс2!$AL$7:$AL$75,\"=\"&ROW(),Курс2!$AA$7:$AA$75)+SUMIF(Курс3!$AL$7:$AL$75,\"=\"&ROW(),Курс3!$AA$7:$AA$75)+SUMIF(Курс4!$AL$7:$AL$75,\"=\"&ROW(),Курс4!$AA$7:$AA$75)+SUMIF(Курс5!$AL$7:$AL$75,\"=\"&ROW(),Курс5!$AA$7:$AA$75)+SUMIF(Курс6!$AL$7:$AL$75,\"=\"&ROW(),Курс6!$AA$7:$AA$75)+SUMIF(Курс7!$AL$7:$AL$75,\"=\"&ROW(),Курс7!$AA$7:$AA$75),0))","v":0},null,0,0,null,null,null,null,null,null,null,null,null,null,null,null,null,null,null,null,null,null,null,null,null,null,null,null,null,null,null,null,null,null,null,null,null,null,null,null,null,null,null,null,null,null,null,null,null,null,null,null,null,null,null,null,null,null,null,null,null,null,0,0,0,0,0,0,0,null,0,0,0,0,0,null,0,null,null,null,null,null,0,0,0,0,0,0,0,0,0,0,0,0,0,0,0,0,0,0,0,0,0,0,0,0,0,0,0,0,0,0,0,0,0,0,0,0,0,0,0,0,0,0,0,0,0,0,0,0,0,0,0,0,0,0,0,0,0,0,0,0,0,null,0,0,0,0,0,0,0,0,0,0,0,0,0,0,0,0,0,2,1125,1131,"В",0,{"$f":"SUM($CB$66:$CB74)","v":2},0,null,0,{"$f":"IF(FT74=0,FLOOR(IF(СЭкзаменами,H74,(H74+SUMIF(Курс1!$AL$7:$AL$75,\"=\"&ROW(),Курс1!$AA$7:$AA$75)+SUMIF(Курс2!$AL$7:$AL$75,\"=\"&ROW(),Курс2!$AA$7:$AA$75)+SUMIF(Курс3!$AL$7:$AL$75,\"=\"&ROW(),Курс3!$AA$7:$AA$75)+SUMIF(Курс4!$AL$7:$AL$75,\"=\"&ROW(),Курс4!$AA$7:$AA$75)+SUMIF(Курс5!$AL$7:$AL$75,\"=\"&ROW(),Курс5!$AA$7:$AA$75)+SUMIF(Курс6!$AL$7:$AL$75,\"=\"&ROW(),Курс6!$AA$7:$AA$75)+SUMIF(Курс7!$AL$7:$AL$75,\"=\"&ROW(),Курс7!$AA$7:$AA$75)))/IF(ЧасовВКредите>0,ЧасовВКредите,36),0.5),FT74)","v":0},null,null,null,{"$f":"SUMIF(Курс1!$AL$7:$AL$75,\"=\"&ROW(),Курс1!$AC$7:$AC$75)+SUMIF(Курс2!$AL$7:$AL$75,\"=\"&ROW(),Курс2!$AC$7:$AC$75)+SUMIF(Курс3!$AL$7:$AL$75,\"=\"&ROW(),Курс3!$AC$7:$AC$75)+SUMIF(Курс4!$AL$7:$AL$75,\"=\"&ROW(),Курс4!$AC$7:$AC$75)+SUMIF(Курс5!$AL$7:$AL$75,\"=\"&ROW(),Курс5!$AC$7:$AC$75)+SUMIF(Курс6!$AL$7:$AL$75,\"=\"&ROW(),Курс6!$AC$7:$AC$75)+SUMIF(Курс7!$AL$7:$AL$75,\"=\"&ROW(),Курс7!$AC$7:$AC$75)","v":0}]
["",null,null,null,null,null,{"$f":"IF($FI75>0,$FW75,SUM(I75:K75)+CJ75+IF(СЭкзаменами,SUMIF(Курс1!$AL$7:$AL$75,\"=\"&ROW(),Курс1!$AA$7:$AA$75)+SUMIF(Курс2!$AL$7:$AL$75,\"=\"&ROW(),Курс2!$AA$7:$AA$75)+SUMIF(Курс3!$AL$7:$AL$75,\"=\"&ROW(),Курс3!$AA$7:$AA$75)+SUMIF(Курс4!$AL$7:$AL$75,\"=\"&ROW(),Курс4!$AA$7:$AA$75)+SUMIF(Курс5!$AL$7:$AL$75,\"=\"&ROW(),Курс5!$AA$7:$AA$75)+SUMIF(Курс6!$AL$7:$AL$75,\"=\"&ROW(),Курс6!$AA$7:$AA$75)+SUMIF(Курс7!$AL$7:$AL$75,\"=\"&ROW(),Курс7!$AA$7:$AA$75),0))","v":0},null,0,0,null,null,null,null,null,null,null,null,null,null,null,null,null,null,null,null,null,null,null,null,null,null,null,null,null,null,null,null,null,null,null,null,null,null,null,null,null,null,null,null,null,null,null,null,null,null,null,null,null,null,null,null,null,null,null,null,null,null,0,0,0,0,0,0,0,null,0,0,0,0,0,null,0,null,null,null,null,null,0,0,0,0,0,0,0,0,0,0,0,0,0,0,0,0,0,0,0,0,0,0,0,0,0,0,0,0,0,0,0,0,0,0,0,0,0,0,0,0,0,0,0,0,0,0,0,0,0,0,0,0,0,0,0,0,0,0,0,0,0,null,0,0,0,0,0,0,0,0,0,0,0,0,0,0,0,0,0,2,1135,1141,"В",0,{"$f":"SUM($CB$66:$CB75)","v":2},0,null,0,{"$f":"IF(FT75=0,FLOOR(IF(СЭкзаменами,H75,(H75+SUMIF(Курс1!$AL$7:$AL$75,\"=\"&ROW(),Курс1!$AA$7:$AA$75)+SUMIF(Курс2!$AL$7:$AL$75,\"=\"&ROW(),Курс2!$AA$7:$AA$75)+SUMIF(Курс3!$AL$7:$AL$75,\"=\"&ROW(),Курс3!$AA$7:$AA$75)+SUMIF(Курс4!$AL$7:$AL$75,\"=\"&ROW(),Курс4!$AA$7:$AA$75)+SUMIF(Курс5!$AL$7:$AL$75,\"=\"&ROW(),Курс5!$AA$7:$AA$75)+SUMIF(Курс6!$AL$7:$AL$75,\"=\"&ROW(),Курс6!$AA$7:$AA$75)+SUMIF(Курс7!$AL$7:$AL$75,\"=\"&ROW(),Курс7!$AA$7:$AA$75)))/IF(ЧасовВКредите>0,ЧасовВКредите,36),0.5),FT75)","v":0},null,null,null,{"$f":"SUMIF(Курс1!$AL$7:$AL$75,\"=\"&ROW(),Курс1!$AC$7:$AC$75)+SUMIF(Курс2!$AL$7:$AL$75,\"=\"&ROW(),Курс2!$AC$7:$AC$75)+SUMIF(Курс3!$AL$7:$AL$75,\"=\"&ROW(),Курс3!$AC$7:$AC$75)+SUMIF(Курс4!$AL$7:$AL$75,\"=\"&ROW(),Курс4!$AC$7:$AC$75)+SUMIF(Курс5!$AL$7:$AL$75,\"=\"&ROW(),Курс5!$AC$7:$AC$75)+SUMIF(Курс6!$AL$7:$AL$75,\"=\"&ROW(),Курс6!$AC$7:$AC$75)+SUMIF(Курс7!$AL$7:$AL$75,\"=\"&ROW(),Курс7!$AC$7:$AC$75)","v":0}]
["",null,null,null,null,null,{"$f":"IF($FI76>0,$FW76,SUM(I76:K76)+CJ76+IF(СЭкзаменами,SUMIF(Курс1!$AL$7:$AL$75,\"=\"&ROW(),Курс1!$AA$7:$AA$75)+SUMIF(Курс2!$AL$7:$AL$75,\"=\"&ROW(),Курс2!$AA$7:$AA$75)+SUMIF(Курс3!$AL$7:$AL$75,\"=\"&ROW(),Курс3!$AA$7:$AA$75)+SUMIF(Курс4!$AL$7:$AL$75,\"=\"&ROW(),Курс4!$AA$7:$AA$75)+SUMIF(Курс5!$AL$7:$AL$75,\"=\"&ROW(),Курс5!$AA$7:$AA$75)+SUMIF(Курс6!$AL$7:$AL$75,\"=\"&ROW(),Курс6!$AA$7:$AA$75)+SUMIF(Курс7!$AL$7:$AL$75,\"=\"&ROW(),Курс7!$AA$7:$AA$75),0))","v":0},null,0,0,null,null,null,null,null,null,null,null,null,null,null,null,null,null,null,null,null,null,null,null,null,null,null,null,null,null,null,null,null,null,null,null,null,null,null,null,null,null,null,null,null,null,null,null,null,null,null,null,null,null,null,null,null,null,null,null,null,null,0,0,0,0,0,0,0,null,0,{"$f":"IF(AND(UPPER(LEFT(B76,8))=\"ИТОГОВЫЙ\",TRIM(C76)<>\"\"),1,0)","v":0},{"$f":"IF(SUM(G76:H76)=0,0,IF(SUM(L76:O76,T76:W76,AB76:AE76,AJ76:AM76,AR76:AU76,AZ76:BC76)=0,3,IF(SUM(P76:S76,X76:AA76,AF76:AI76,AN76:AQ76,AV76:AY76,BD76:BG76)=0,1,2)))","v":0},0,0,null,{"$f":"CL76+CP76+CT76+CX76+DB76+DF76+DJ76+DN76+DR76+DV76+DZ76+ED76+CM76+CQ76+CU76+CY76+DC76+DG76+DK76+DO76+DS76+DW76+EA76+EE76","v":0},null,null,null,null,null,{"$f":"SUM(I76:K76)","v":0},0,0,0,0,0,0,0,0,0,0,0,0,0,0,0,0,0,0,0,0,0,0,0,0,0,0,0,0,0,0,0,0,0,0,0,0,0,0,0,0,0,0,0,0,0,0,0,0,0,0,0,0,0,0,0,0,0,0,0,0,null,{"$f":"IF(SUM(L76:O76)>0,1,0)","v":0},{"$f":"IF(SUM(P76:S76)>0,1,0)","v":0},{"$f":"IF(SUM(T76:W76)>0,1,0)","v":0},{"$f":"IF(SUM(X76:AA76)>0,1,0)","v":0},{"$f":"IF(SUM(AB76:AE76)>0,1,0)","v":0},{"$f":"IF(SUM(AF76:AI76)>0,1,0)","v":0},{"$f":"IF(SUM(AJ76:AM76)>0,1,0)","v":0},{"$f":"IF(SUM(AN76:AQ76)>0,1,0)","v":0},{"$f":"IF(SUM(AR76:AU76)>0,1,0)","v":0},{"$f":"IF(SUM(AV76:AY76)>0,1,0)","v":0},{"$f":"IF(SUM(AZ76:BC76)>0,1,0)","v":0},{"$f":"IF(SUM(BD76:BG76)>0,1,0)","v":0},0,0,0,0,0,2,1146,1165,"Ф",0,{"$f":"SUM($CB$66:$CB76)","v":2},0,null,0,{"$f":"IF(FT76=0,FLOOR(IF(СЭкзаменами,H76,(H76+SUMIF(Курс1!$AL$7:$AL$75,\"=\"&ROW(),Курс1!$AA$7:$AA$75)+SUMIF(Курс2!$AL$7:$AL$75,\"=\"&ROW(),Курс2!$AA$7:$AA$75)+SUMIF(Курс3!$AL$7:$AL$75,\"=\"&ROW(),Курс3!$AA$7:$AA$75)+SUMIF(Курс4!$AL$7:$AL$75,\"=\"&ROW(),Курс4!$AA$7:$AA$75)+SUMIF(Курс5!$AL$7:$AL$75,\"=\"&ROW(),Курс5!$AA$7:$AA$75)+SUMIF(Курс6!$AL$7:$AL$75,\"=\"&ROW(),Курс6!$AA$7:$AA$75)+SUMIF(Курс7!$AL$7:$AL$75,\"=\"&ROW(),Курс7!$AA$7:$AA$75)))/IF(ЧасовВКредите>0,ЧасовВКредите,36),0.5),FT76)","v":0},null,null,null,{"$f":"SUMIF(Курс1!$AL$7:$AL$75,\"=\"&ROW(),Курс1!$AC$7:$AC$75)+SUMIF(Курс2!$AL$7:$AL$75,\"=\"&ROW(),Курс2!$AC$7:$AC$75)+SUMIF(Курс3!$AL$7:$AL$75,\"=\"&ROW(),Курс3!$AC$7:$AC$75)+SUMIF(Курс4!$AL$7:$AL$75,\"=\"&ROW(),Курс4!$AC$7:$AC$75)+SUMIF(Курс5!$AL$7:$AL$75,\"=\"&ROW(),Курс5!$AC$7:$AC$75)+SUMIF(Курс6!$AL$7:$AL$75,\"=\"&ROW(),Курс6!$AC$7:$AC$75)+SUMIF(Курс7!$AL$7:$AL$75,\"=\"&ROW(),Курс7!$AC$7:$AC$75)","v":0}]
["",null,null,null,null,null,{"$f":"IF($FI77>0,$FW77,SUM(I77:K77)+CJ77+IF(СЭкзаменами,SUMIF(Курс1!$AL$7:$AL$75,\"=\"&ROW(),Курс1!$AA$7:$AA$75)+SUMIF(Курс2!$AL$7:$AL$75,\"=\"&ROW(),Курс2!$AA$7:$AA$75)+SUMIF(Курс3!$AL$7:$AL$75,\"=\"&ROW(),Курс3!$AA$7:$AA$75)+SUMIF(Курс4!$AL$7:$AL$75,\"=\"&ROW(),Курс4!$AA$7:$AA$75)+SUMIF(Курс5!$AL$7:$AL$75,\"=\"&ROW(),Курс5!$AA$7:$AA$75)+SUMIF(Курс6!$AL$7:$AL$75,\"=\"&ROW(),Курс6!$AA$7:$AA$75)+SUMIF(Курс7!$AL$7:$AL$75,\"=\"&ROW(),Курс7!$AA$7:$AA$75),0))","v":0},null,{"$f":"SUM(L77:N77)+SUM(P77:R77)+SUM(T77:V77)+SUM(X77:Z77)+SUM(AB77:AD77)+SUM(AF77:AH77)+SUM(AJ77:AL77)+SUM(AN77:AP77)+SUM(AR77:AT77)+SUM(AV77:AX77)+SUM(AZ77:BB77)+SUM(BD77:BF77)+SUM(BH77:BJ77)+SUM(BL77:BN77)","v":0},{"$f":"O77+S77+W77+AA77+AE77+AI77+AM77+AQ77+AU77+AY77+BC77+BG77+BK77+BO77","v":0},null,null,null,null,null,null,null,null,null,null,null,null,null,null,null,null,null,null,null,null,null,null,null,null,null,null,null,null,null,null,null,null,null,null,null,null,null,null,null,null,null,null,null,null,null,null,null,null,null,null,null,null,null,null,null,null,null,null,0,0,0,0,0,0,0,null,{"$f":"IF(FI77=0,$H77*MAX(1,$BX77)*($BQ77*Конт1+$BR77*Конт2+$BS77*Конт3+$BT77*Конт4+$BU77*Конт5+$BV77*Конт6)/IF(СреднееКСГ>0,СреднееКСГ,21)+((CL77+CP77)*Экз+(CM77+CQ77)*Зач+(CN77+CR77)*Проект+(CO77+CS77)*Работа)*Конт1+((CT77+CX77)*Экз+(CU77+CY77)*Зач+(CV77+CZ77)*Проект+(CW77+DA77)*Работа)*Конт2+((DB77+DF77)*Экз+(DC77+DG77)*Зач+(DD77+DH77)*Проект+(DE77+DI77)*Работа)*Конт3+((DJ77+DN77)*Экз+(DK77+DO77)*Зач+(DL77+DP77)*Проект+(DM77+DQ77)*Работа)*Конт4+((DR77+DV77)*Экз+(DO77+DW77)*Зач+(DT77+DX77)*Проект+(DU77+DY77)*Работа)*Конт5+((DZ77+ED77)*Экз+(EA77+EE77)*Зач+(EB77+EF77)*Проект+(EC77+EG77)*Работа)*Конт6,0)","v":0},{"$f":"IF(AND(UPPER(LEFT(B77,8))=\"ИТОГОВЫЙ\",TRIM(C77)<>\"\"),1,0)","v":0},{"$f":"IF(SUM(G77:H77)=0,0,IF(SUM(L77:O77,T77:W77,AB77:AE77,AJ77:AM77,AR77:AU77,AZ77:BC77)=0,3,IF(SUM(P77:S77,X77:AA77,AF77:AI77,AN77:AQ77,AV77:AY77,BD77:BG77)=0,1,2)))","v":0},{"$f":"IF(OR(TRIM(B77)=\"\",FJ77=1),0,1)","v":0},{"$f":"IF(OR(CA77>0,TRIM(B77)<>\"\"),1,0)","v":0},null,{"$f":"CL77+CP77+CT77+CX77+DB77+DF77+DJ77+DN77+DR77+DV77+DZ77+ED77+CM77+CQ77+CU77+CY77+DC77+DG77+DK77+DO77+DS77+DW77+EA77+EE77","v":0},null,null,null,null,null,{"$f":"SUM(I77:K77)","v":0},0,0,{"$f":"IF(ISNUMBER(FIND(CL$2,$E77,1)),IF(OR(FI77=1,$FP77=1),0,1),0)","v":0},{"$f":"IF(ISNUMBER(FIND(CL$2,$F77,1)),IF(OR(FI77=1,$FP77=1),0,1),0)","v":0},0,0,{"$f":"IF(ISNUMBER(FIND(CP$2,$E77,1)),IF(OR(FI77=1,$FP77=1),0,1),0)","v":0},{"$f":"IF(ISNUMBER(FIND(CP$2,$F77,1)),IF(OR($FI77=1,$FP77=1),0,1),0)","v":0},0,0,{"$f":"IF(ISNUMBER(FIND(CT$2,$E77,1)),IF(OR($FI77=1,$FP77=1),0,1),0)","v":0},{"$f":"IF(ISNUMBER(FIND(CT$2,$F77,1)),IF(OR($FI77=1,$FP77=1),0,1),0)","v":0},0,0,{"$f":"IF(ISNUMBER(FIND(CX$2,$E77,1)),IF(OR($FI77=1,$FP77=1),0,1),0)","v":0},{"$f":"IF(ISNUMBER(FIND(CX$2,$F77,1)),IF(OR($FI77=1,$FP77=1),0,1),0)","v":0},0,0,{"$f":"IF(ISNUMBER(FIND(DB$2,$E77,1)),IF(OR($FI77=1,$FP77=1),0,1),0)","v":0},{"$f":"IF(ISNUMBER(FIND(DB$2,$F77,1)),IF(OR($FI77=1,$FP77=1),0,1),0)","v":0},0,0,{"$f":"IF(ISNUMBER(FIND(DF$2,$E77,1)),IF(OR($FI77=1,$FP77=1),0,1),0)","v":0},{"$f":"IF(ISNUMBER(FIND(DF$2,$F77,1)),IF(OR($FI77=1,$FP77=1),0,1),0)","v":0},0,0,{"$f":"IF(ISNUMBER(FIND(DJ$2,$E77,1)),IF(OR($FI77=1,$FP77=1),0,1),0)","v":0},{"$f":"IF(ISNUMBER(FIND(DJ$2,$F77,1)),IF(OR($FI77=1,$FP77=1),0,1),0)","v":0},0,0,{"$f":"IF(ISNUMBER(FIND(DN$2,$E77,1)),IF(OR($FI77=1,$FP77=1),0,1),0)","v":0},{"$f":"IF(ISNUMBER(FIND(DN$2,$F77,1)),IF(OR($FI77=1,$FP77=1),0,1),0)","v":0},0,0,{"$f":"IF(ISNUMBER(FIND(DR$2,$E77,1)),IF(OR($FI77=1,$FP77=1),0,1),0)","v":0},{"$f":"IF(ISNUMBER(FIND(DR$2,$F77,1)),IF(OR($FI77=1,$FP77=1),0,1),0)","v":0},0,0,{"$f":"IF(ISNUMBER(FIND(DV$2,$E77,1)),IF(OR($FI77=1,$FP77=1),0,1),0)","v":0},{"$f":"IF(ISNUMBER(FIND(DV$2,$F77,1)),IF(OR($FI77=1,$FP77=1),0,1),0)","v":0},0,0,{"$f":"IF(ISNUMBER(FIND(DZ$2,$E77,1)),IF(OR($FI77=1,$FP77=1),0,1),0)","v":0},{"$f":"IF(ISNUMBER(FIND(DZ$2,$F77,1)),IF(OR($FI77=1,$FP77=1),0,1),0)","v":0},0,0,{"$f":"IF(ISNUMBER(FIND(ED$2,$E77,1)),IF(OR($FI77=1,$FP77=1),0,1),0)","v":0},{"$f":"IF(ISNUMBER(FIND(ED$2,$F77,1)),IF(OR($FI77=1,$FP77=1),0,1),0)","v":0},0,0,{"$f":"IF(ISNUMBER(FIND(EH$2,$E77,1)),IF(OR($FI77=1,$FP77=1),0,1),0)","v":0},{"$f":"IF(ISNUMBER(FIND(EH$2,$F77,1)),IF(OR($FI77=1,$FP77=1),0,1),0)","v":0},0,0,{"$f":"IF(ISNUMBER(FIND(EL$2,$E77,1)),IF(OR($FI77=1,$FP77=1),0,1),0)","v":0},{"$f":"IF(ISNUMBER(FIND(EL$2,$F77,1)),IF(OR($FI77=1,$FP77=1),0,1),0)","v":0},{"$f":"IF(OR($FI77=1,$FP77=1),0,LEN(TRIM(CF77)))","v":0},{"$f":"IF(OR($FI77=1,$FP77=1),0,LEN(TRIM(CG77)))","v":0},0,{"$f":"IF(OR($FI77=1,$FP77=1),0,LEN(TRIM(CI77)))","v":0},null,{"$f":"IF(SUM(L77:O77)>0,1,0)","v":0},{"$f":"IF(SUM(P77:S77)>0,1,0)","v":0},{"$f":"IF(SUM(T77:W77)>0,1,0)","v":0},{"$f":"IF(SUM(X77:AA77)>0,1,0)","v":0},{"$f":"IF(SUM(AB77:AE77)>0,1,0)","v":0},{"$f":"IF(SUM(AF77:AI77)>0,1,0)","v":0},{"$f":"IF(SUM(AJ77:AM77)>0,1,0)","v":0},{"$f":"IF(SUM(AN77:AQ77)>0,1,0)","v":0},{"$f":"IF(SUM(AR77:AU77)>0,1,0)","v":0},{"$f":"IF(SUM(AV77:AY77)>0,1,0)","v":0},{"$f":"IF(SUM(AZ77:BC77)>0,1,0)","v":0},{"$f":"IF(SUM(BD77:BG77)>0,1,0)","v":0},{"$f":"IF(SUM(BH77:BK77)>0,1,0)","v":0},{"$f":"IF(SUM(BL77:BO77)>0,1,0)","v":0},0,0,0,2,1169,1228,"Ф",0,{"$f":"SUM($CB$66:$CB77)","v":2},{"$f":"IF(FI76=1,1,IF(FJ77=1,FR76+1,0))","v":0},0,0,{"$f":"IF(FT77=0,FLOOR(IF(СЭкзаменами,H77,(H77+SUMIF(Курс1!$AL$7:$AL$75,\"=\"&ROW(),Курс1!$AA$7:$AA$75)+SUMIF(Курс2!$AL$7:$AL$75,\"=\"&ROW(),Курс2!$AA$7:$AA$75)+SUMIF(Курс3!$AL$7:$AL$75,\"=\"&ROW(),Курс3!$AA$7:$AA$75)+SUMIF(Курс4!$AL$7:$AL$75,\"=\"&ROW(),Курс4!$AA$7:$AA$75)+SUMIF(Курс5!$AL$7:$AL$75,\"=\"&ROW(),Курс5!$AA$7:$AA$75)+SUMIF(Курс6!$AL$7:$AL$75,\"=\"&ROW(),Курс6!$AA$7:$AA$75)+SUMIF(Курс7!$AL$7:$AL$75,\"=\"&ROW(),Курс7!$AA$7:$AA$75)))/IF(ЧасовВКредите>0,ЧасовВКредите,36),0.5),FT77)","v":0},null,null,null,{"$f":"SUMIF(Курс1!$AL$7:$AL$75,\"=\"&ROW(),Курс1!$AC$7:$AC$75)+SUMIF(Курс2!$AL$7:$AL$75,\"=\"&ROW(),Курс2!$AC$7:$AC$75)+SUMIF(Курс3!$AL$7:$AL$75,\"=\"&ROW(),Курс3!$AC$7:$AC$75)+SUMIF(Курс4!$AL$7:$AL$75,\"=\"&ROW(),Курс4!$AC$7:$AC$75)+SUMIF(Курс5!$AL$7:$AL$75,\"=\"&ROW(),Курс5!$AC$7:$AC$75)+SUMIF(Курс6!$AL$7:$AL$75,\"=\"&ROW(),Курс6!$AC$7:$AC$75)+SUMIF(Курс7!$AL$7:$AL$75,\"=\"&ROW(),Курс7!$AC$7:$AC$75)","v":0}]
["",null,null,null,null,null,{"$f":"IF($FI78>0,$FW78,SUM(I78:K78)+CJ78+IF(СЭкзаменами,SUMIF(Курс1!$AL$7:$AL$75,\"=\"&ROW(),Курс1!$AA$7:$AA$75)+SUMIF(Курс2!$AL$7:$AL$75,\"=\"&ROW(),Курс2!$AA$7:$AA$75)+SUMIF(Курс3!$AL$7:$AL$75,\"=\"&ROW(),Курс3!$AA$7:$AA$75)+SUMIF(Курс4!$AL$7:$AL$75,\"=\"&ROW(),Курс4!$AA$7:$AA$75)+SUMIF(Курс5!$AL$7:$AL$75,\"=\"&ROW(),Курс5!$AA$7:$AA$75)+SUMIF(Курс6!$AL$7:$AL$75,\"=\"&ROW(),Курс6!$AA$7:$AA$75)+SUMIF(Курс7!$AL$7:$AL$75,\"=\"&ROW(),Курс7!$AA$7:$AA$75),0))","v":0},null,0,0,null,null,null,null,null,null,null,null,null,null,null,null,null,null,null,null,null,null,null,null,null,null,null,null,null,null,null,null,null,null,null,null,null,null,null,null,null,null,null,null,null,null,null,null,null,null,null,null,null,null,null,null,null,null,null,null,null,null,0,0,0,0,0,0,0,null,0,0,0,0,0,null,0,null,null,null,null,null,0,0,0,0,0,0,0,0,0,0,0,0,0,0,0,0,0,0,0,0,0,0,0,0,0,0,0,0,0,0,0,0,0,0,0,0,0,0,0,0,0,0,0,0,0,0,0,0,0,0,0,0,0,0,0,0,0,0,0,0,0,null,0,0,0,0,0,0,0,0,0,0,0,0,0,0,0,0,0,2,1229,1262,"Р",0,{"$f":"SUM($CB$66:$CB78)","v":2},0,0,0,{"$f":"IF(FT78=0,FLOOR(IF(СЭкзаменами,H78,(H78+SUMIF(Курс1!$AL$7:$AL$75,\"=\"&ROW(),Курс1!$AA$7:$AA$75)+SUMIF(Курс2!$AL$7:$AL$75,\"=\"&ROW(),Курс2!$AA$7:$AA$75)+SUMIF(Курс3!$AL$7:$AL$75,\"=\"&ROW(),Курс3!$AA$7:$AA$75)+SUMIF(Курс4!$AL$7:$AL$75,\"=\"&ROW(),Курс4!$AA$7:$AA$75)+SUMIF(Курс5!$AL$7:$AL$75,\"=\"&ROW(),Курс5!$AA$7:$AA$75)+SUMIF(Курс6!$AL$7:$AL$75,\"=\"&ROW(),Курс6!$AA$7:$AA$75)+SUMIF(Курс7!$AL$7:$AL$75,\"=\"&ROW(),Курс7!$AA$7:$AA$75)))/IF(ЧасовВКредите>0,ЧасовВКредите,36),0.5),FT78)","v":0},null,null,null,{"$f":"SUMIF(Курс1!$AL$7:$AL$75,\"=\"&ROW(),Курс1!$AC$7:$AC$75)+SUMIF(Курс2!$AL$7:$AL$75,\"=\"&ROW(),Курс2!$AC$7:$AC$75)+SUMIF(Курс3!$AL$7:$AL$75,\"=\"&ROW(),Курс3!$AC$7:$AC$75)+SUMIF(Курс4!$AL$7:$AL$75,\"=\"&ROW(),Курс4!$AC$7:$AC$75)+SUMIF(Курс5!$AL$7:$AL$75,\"=\"&ROW(),Курс5!$AC$7:$AC$75)+SUMIF(Курс6!$AL$7:$AL$75,\"=\"&ROW(),Курс6!$AC$7:$AC$75)+SUMIF(Курс7!$AL$7:$AL$75,\"=\"&ROW(),Курс7!$AC$7:$AC$75)","v":0}]
["",null,null,null,null,null,{"$f":"IF($FI79>0,$FW79,SUM(I79:K79)+CJ79+IF(СЭкзаменами,SUMIF(Курс1!$AL$7:$AL$75,\"=\"&ROW(),Курс1!$AA$7:$AA$75)+SUMIF(Курс2!$AL$7:$AL$75,\"=\"&ROW(),Курс2!$AA$7:$AA$75)+SUMIF(Курс3!$AL$7:$AL$75,\"=\"&ROW(),Курс3!$AA$7:$AA$75)+SUMIF(Курс4!$AL$7:$AL$75,\"=\"&ROW(),Курс4!$AA$7:$AA$75)+SUMIF(Курс5!$AL$7:$AL$75,\"=\"&ROW(),Курс5!$AA$7:$AA$75)+SUMIF(Курс6!$AL$7:$AL$75,\"=\"&ROW(),Курс6!$AA$7:$AA$75)+SUMIF(Курс7!$AL$7:$AL$75,\"=\"&ROW(),Курс7!$AA$7:$AA$75),0))","v":0},null,0,0,null,null,null,null,null,null,null,null,null,null,null,null,null,null,null,null,null,null,null,null,null,null,null,null,null,null,null,null,null,null,null,null,null,null,null,null,null,null,null,null,null,null,null,null,null,null,null,null,null,null,null,null,null,null,null,null,null,null,0,0,0,0,0,0,0,null,0,0,0,0,0,null,0,null,null,null,null,null,0,0,0,0,0,0,0,0,0,0,0,0,0,0,0,0,0,0,0,0,0,0,0,0,0,0,0,0,0,0,0,0,0,0,0,0,0,0,0,0,0,0,0,0,0,0,0,0,0,0,0,0,0,0,0,0,0,0,0,0,0,null,0,0,0,0,0,0,0,0,0,0,0,0,0,0,0,0,0,2,1266,1272,"В",0,{"$f":"SUM($CB$66:$CB79)","v":2},0,null,0,{"$f":"IF(FT79=0,FLOOR(IF(СЭкзаменами,H79,(H79+SUMIF(Курс1!$AL$7:$AL$75,\"=\"&ROW(),Курс1!$AA$7:$AA$75)+SUMIF(Курс2!$AL$7:$AL$75,\"=\"&ROW(),Курс2!$AA$7:$AA$75)+SUMIF(Курс3!$AL$7:$AL$75,\"=\"&ROW(),Курс3!$AA$7:$AA$75)+SUMIF(Курс4!$AL$7:$AL$75,\"=\"&ROW(),Курс4!$AA$7:$AA$75)+SUMIF(Курс5!$AL$7:$AL$75,\"=\"&ROW(),Курс5!$AA$7:$AA$75)+SUMIF(Курс6!$AL$7:$AL$75,\"=\"&ROW(),Курс6!$AA$7:$AA$75)+SUMIF(Курс7!$AL$7:$AL$75,\"=\"&ROW(),Курс7!$AA$7:$AA$75)))/IF(ЧасовВКредите>0,ЧасовВКредите,36),0.5),FT79)","v":0},null,null,null,{"$f":"SUMIF(Курс1!$AL$7:$AL$75,\"=\"&ROW(),Курс1!$AC$7:$AC$75)+SUMIF(Курс2!$AL$7:$AL$75,\"=\"&ROW(),Курс2!$AC$7:$AC$75)+SUMIF(Курс3!$AL$7:$AL$75,\"=\"&ROW(),Курс3!$AC$7:$AC$75)+SUMIF(Курс4!$AL$7:$AL$75,\"=\"&ROW(),Курс4!$AC$7:$AC$75)+SUMIF(Курс5!$AL$7:$AL$75,\"=\"&ROW(),Курс5!$AC$7:$AC$75)+SUMIF(Курс6!$AL$7:$AL$75,\"=\"&ROW(),Курс6!$AC$7:$AC$75)+SUMIF(Курс7!$AL$7:$AL$75,\"=\"&ROW(),Курс7!$AC$7:$AC$75)","v":0}]
["",null,null,null,null,null,{"$f":"IF($FI80>0,$FW80,SUM(I80:K80)+CJ80+IF(СЭкзаменами,SUMIF(Курс1!$AL$7:$AL$75,\"=\"&ROW(),Курс1!$AA$7:$AA$75)+SUMIF(Курс2!$AL$7:$AL$75,\"=\"&ROW(),Курс2!$AA$7:$AA$75)+SUMIF(Курс3!$AL$7:$AL$75,\"=\"&ROW(),Курс3!$AA$7:$AA$75)+SUMIF(Курс4!$AL$7:$AL$75,\"=\"&ROW(),Курс4!$AA$7:$AA$75)+SUMIF(Курс5!$AL$7:$AL$75,\"=\"&ROW(),Курс5!$AA$7:$AA$75)+SUMIF(Курс6!$AL$7:$AL$75,\"=\"&ROW(),Курс6!$AA$7:$AA$75)+SUMIF(Курс7!$AL$7:$AL$75,\"=\"&ROW(),Курс7!$AA$7:$AA$75),0))","v":0},null,0,0,null,null,null,null,null,null,null,null,null,null,null,null,null,null,null,null,null,null,null,null,null,null,null,null,null,null,null,null,null,null,null,null,null,null,null,null,null,null,null,null,null,null,null,null,null,null,null,null,null,null,null,null,null,null,null,null,null,null,0,0,0,0,0,0,0,null,0,0,0,0,0,null,0,null,null,null,null,null,0,0,0,0,0,0,0,0,0,0,0,0,0,0,0,0,0,0,0,0,0,0,0,0,0,0,0,0,0,0,0,0,0,0,0,0,0,0,0,0,0,0,0,0,0,0,0,0,0,0,0,0,0,0,0,0,0,0,0,0,0,null,0,0,0,0,0,0,0,0,0,0,0,0,0,0,0,0,0,2,1276,1282,"В",0,{"$f":"SUM($CB$66:$CB80)","v":2},0,null,0,{"$f":"IF(FT80=0,FLOOR(IF(СЭкзаменами,H80,(H80+SUMIF(Курс1!$AL$7:$AL$75,\"=\"&ROW(),Курс1!$AA$7:$AA$75)+SUMIF(Курс2!$AL$7:$AL$75,\"=\"&ROW(),Курс2!$AA$7:$AA$75)+SUMIF(Курс3!$AL$7:$AL$75,\"=\"&ROW(),Курс3!$AA$7:$AA$75)+SUMIF(Курс4!$AL$7:$AL$75,\"=\"&ROW(),Курс4!$AA$7:$AA$75)+SUMIF(Курс5!$AL$7:$AL$75,\"=\"&ROW(),Курс5!$AA$7:$AA$75)+SUMIF(Курс6!$AL$7:$AL$75,\"=\"&ROW(),Курс6!$AA$7:$AA$75)+SUMIF(Курс7!$AL$7:$AL$75,\"=\"&ROW(),Курс7!$AA$7:$AA$75)))/IF(ЧасовВКредите>0,ЧасовВКредите,36),0.5),FT80)","v":0},null,null,null,{"$f":"SUMIF(Курс1!$AL$7:$AL$75,\"=\"&ROW(),Курс1!$AC$7:$AC$75)+SUMIF(Курс2!$AL$7:$AL$75,\"=\"&ROW(),Курс2!$AC$7:$AC$75)+SUMIF(Курс3!$AL$7:$AL$75,\"=\"&ROW(),Курс3!$AC$7:$AC$75)+SUMIF(Курс4!$AL$7:$AL$75,\"=\"&ROW(),Курс4!$AC$7:$AC$75)+SUMIF(Курс5!$AL$7:$AL$75,\"=\"&ROW(),Курс5!$AC$7:$AC$75)+SUMIF(Курс6!$AL$7:$AL$75,\"=\"&ROW(),Курс6!$AC$7:$AC$75)+SUMIF(Курс7!$AL$7:$AL$75,\"=\"&ROW(),Курс7!$AC$7:$AC$75)","v":0}]
["",null,null,null,null,null,{"$f":"IF($FI81>0,$FW81,SUM(I81:K81)+CJ81+IF(СЭкзаменами,SUMIF(Курс1!$AL$7:$AL$75,\"=\"&ROW(),Курс1!$AA$7:$AA$75)+SUMIF(Курс2!$AL$7:$AL$75,\"=\"&ROW(),Курс2!$AA$7:$AA$75)+SUMIF(Курс3!$AL$7:$AL$75,\"=\"&ROW(),Курс3!$AA$7:$AA$75)+SUMIF(Курс4!$AL$7:$AL$75,\"=\"&ROW(),Курс4!$AA$7:$AA$75)+SUMIF(Курс5!$AL$7:$AL$75,\"=\"&ROW(),Курс5!$AA$7:$AA$75)+SUMIF(Курс6!$AL$7:$AL$75,\"=\"&ROW(),Курс6!$AA$7:$AA$75)+SUMIF(Курс7!$AL$7:$AL$75,\"=\"&ROW(),Курс7!$AA$7:$AA$75),0))","v":0},null,0,0,null,null,null,null,null,null,null,null,null,null,null,null,null,null,null,null,null,null,null,null,null,null,null,null,null,null,null,null,null,null,null,null,null,null,null,null,null,null,null,null,null,null,null,null,null,null,null,null,null,null,null,null,null,null,null,null,null,null,0,0,0,0,0,0,0,null,0,0,0,0,0,null,0,null,null,null,null,null,0,0,0,0,0,0,0,0,0,0,0,0,0,0,0,0,0,0,0,0,0,0,0,0,0,0,0,0,0,0,0,0,0,0,0,0,0,0,0,0,0,0,0,0,0,0,0,0,0,0,0,0,0,0,0,0,0,0,0,0,0,null,0,0,0,0,0,0,0,0,0,0,0,0,0,0,0,0,0,2,1286,1292,"В",0,{"$f":"SUM($CB$66:$CB81)","v":2},0,null,0,{"$f":"IF(FT81=0,FLOOR(IF(СЭкзаменами,H81,(H81+SUMIF(Курс1!$AL$7:$AL$75,\"=\"&ROW(),Курс1!$AA$7:$AA$75)+SUMIF(Курс2!$AL$7:$AL$75,\"=\"&ROW(),Курс2!$AA$7:$AA$75)+SUMIF(Курс3!$AL$7:$AL$75,\"=\"&ROW(),Курс3!$AA$7:$AA$75)+SUMIF(Курс4!$AL$7:$AL$75,\"=\"&ROW(),Курс4!$AA$7:$AA$75)+SUMIF(Курс5!$AL$7:$AL$75,\"=\"&ROW(),Курс5!$AA$7:$AA$75)+SUMIF(Курс6!$AL$7:$AL$75,\"=\"&ROW(),Курс6!$AA$7:$AA$75)+SUMIF(Курс7!$AL$7:$AL$75,\"=\"&ROW(),Курс7!$AA$7:$AA$75)))/IF(ЧасовВКредите>0,ЧасовВКредите,36),0.5),FT81)","v":0},null,null,null,{"$f":"SUMIF(Курс1!$AL$7:$AL$75,\"=\"&ROW(),Курс1!$AC$7:$AC$75)+SUMIF(Курс2!$AL$7:$AL$75,\"=\"&ROW(),Курс2!$AC$7:$AC$75)+SUMIF(Курс3!$AL$7:$AL$75,\"=\"&ROW(),Курс3!$AC$7:$AC$75)+SUMIF(Курс4!$AL$7:$AL$75,\"=\"&ROW(),Курс4!$AC$7:$AC$75)+SUMIF(Курс5!$AL$7:$AL$75,\"=\"&ROW(),Курс5!$AC$7:$AC$75)+SUMIF(Курс6!$AL$7:$AL$75,\"=\"&ROW(),Курс6!$AC$7:$AC$75)+SUMIF(Курс7!$AL$7:$AL$75,\"=\"&ROW(),Курс7!$AC$7:$AC$75)","v":0}]
["",null,null,null,null,null,{"$f":"IF($FI82>0,$FW82,SUM(I82:K82)+CJ82+IF(СЭкзаменами,SUMIF(Курс1!$AL$7:$AL$75,\"=\"&ROW(),Курс1!$AA$7:$AA$75)+SUMIF(Курс2!$AL$7:$AL$75,\"=\"&ROW(),Курс2!$AA$7:$AA$75)+SUMIF(Курс3!$AL$7:$AL$75,\"=\"&ROW(),Курс3!$AA$7:$AA$75)+SUMIF(Курс4!$AL$7:$AL$75,\"=\"&ROW(),Курс4!$AA$7:$AA$75)+SUMIF(Курс5!$AL$7:$AL$75,\"=\"&ROW(),Курс5!$AA$7:$AA$75)+SUMIF(Курс6!$AL$7:$AL$75,\"=\"&ROW(),Курс6!$AA$7:$AA$75)+SUMIF(Курс7!$AL$7:$AL$75,\"=\"&ROW(),Курс7!$AA$7:$AA$75),0))","v":0},null,0,0,null,null,null,null,null,null,null,null,null,null,null,null,null,null,null,null,null,null,null,null,null,null,null,null,null,null,null,null,null,null,null,null,null,null,null,null,null,null,null,null,null,null,null,null,null,null,null,null,null,null,null,null,null,null,null,null,null,null,0,0,0,0,0,0,0,null,0,0,0,0,0,null,0,null,null,null,null,null,0,0,0,0,0,0,0,0,0,0,0,0,0,0,0,0,0,0,0,0,0,0,0,0,0,0,0,0,0,0,0,0,0,0,0,0,0,0,0,0,0,0,0,0,0,0,0,0,0,0,0,0,0,0,0,0,0,0,0,0,0,null,0,0,0,0,0,0,0,0,0,0,0,0,0,0,0,0,0,2,1296,1302,"В",0,{"$f":"SUM($CB$66:$CB82)","v":2},0,null,0,{"$f":"IF(FT82=0,FLOOR(IF(СЭкзаменами,H82,(H82+SUMIF(Курс1!$AL$7:$AL$75,\"=\"&ROW(),Курс1!$AA$7:$AA$75)+SUMIF(Курс2!$AL$7:$AL$75,\"=\"&ROW(),Курс2!$AA$7:$AA$75)+SUMIF(Курс3!$AL$7:$AL$75,\"=\"&ROW(),Курс3!$AA$7:$AA$75)+SUMIF(Курс4!$AL$7:$AL$75,\"=\"&ROW(),Курс4!$AA$7:$AA$75)+SUMIF(Курс5!$AL$7:$AL$75,\"=\"&ROW(),Курс5!$AA$7:$AA$75)+SUMIF(Курс6!$AL$7:$AL$75,\"=\"&ROW(),Курс6!$AA$7:$AA$75)+SUMIF(Курс7!$AL$7:$AL$75,\"=\"&ROW(),Курс7!$AA$7:$AA$75)))/IF(ЧасовВКредите>0,ЧасовВКредите,36),0.5),FT82)","v":0},null,null,null,{"$f":"SUMIF(Курс1!$AL$7:$AL$75,\"=\"&ROW(),Курс1!$AC$7:$AC$75)+SUMIF(Курс2!$AL$7:$AL$75,\"=\"&ROW(),Курс2!$AC$7:$AC$75)+SUMIF(Курс3!$AL$7:$AL$75,\"=\"&ROW(),Курс3!$AC$7:$AC$75)+SUMIF(Курс4!$AL$7:$AL$75,\"=\"&ROW(),Курс4!$AC$7:$AC$75)+SUMIF(Курс5!$AL$7:$AL$75,\"=\"&ROW(),Курс5!$AC$7:$AC$75)+SUMIF(Курс6!$AL$7:$AL$75,\"=\"&ROW(),Курс6!$AC$7:$AC$75)+SUMIF(Курс7!$AL$7:$AL$75,\"=\"&ROW(),Курс7!$AC$7:$AC$75)","v":0}]
["",null,null,null,null,null,{"$f":"IF($FI83>0,$FW83,SUM(I83:K83)+CJ83+IF(СЭкзаменами,SUMIF(Курс1!$AL$7:$AL$75,\"=\"&ROW(),Курс1!$AA$7:$AA$75)+SUMIF(Курс2!$AL$7:$AL$75,\"=\"&ROW(),Курс2!$AA$7:$AA$75)+SUMIF(Курс3!$AL$7:$AL$75,\"=\"&ROW(),Курс3!$AA$7:$AA$75)+SUMIF(Курс4!$AL$7:$AL$75,\"=\"&ROW(),Курс4!$AA$7:$AA$75)+SUMIF(Курс5!$AL$7:$AL$75,\"=\"&ROW(),Курс5!$AA$7:$AA$75)+SUMIF(Курс6!$AL$7:$AL$75,\"=\"&ROW(),Курс6!$AA$7:$AA$75)+SUMIF(Курс7!$AL$7:$AL$75,\"=\"&ROW(),Курс7!$AA$7:$AA$75),0))","v":0},null,0,0,null,null,null,null,null,null,null,null,null,null,null,null,null,null,null,null,null,null,null,null,null,null,null,null,null,null,null,null,null,null,null,null,null,null,null,null,null,null,null,null,null,null,null,null,null,null,null,null,null,null,null,null,null,null,null,null,null,null,0,0,0,0,0,0,0,null,0,0,0,0,0,null,0,null,null,null,null,null,0,0,0,0,0,0,0,0,0,0,0,0,0,0,0,0,0,0,0,0,0,0,0,0,0,0,0,0,0,0,0,0,0,0,0,0,0,0,0,0,0,0,0,0,0,0,0,0,0,0,0,0,0,0,0,0,0,0,0,0,0,null,0,0,0,0,0,0,0,0,0,0,0,0,0,0,0,0,0,2,1306,1312,"В",0,{"$f":"SUM($CB$66:$CB83)","v":2},0,null,0,{"$f":"IF(FT83=0,FLOOR(IF(СЭкзаменами,H83,(H83+SUMIF(Курс1!$AL$7:$AL$75,\"=\"&ROW(),Курс1!$AA$7:$AA$75)+SUMIF(Курс2!$AL$7:$AL$75,\"=\"&ROW(),Курс2!$AA$7:$AA$75)+SUMIF(Курс3!$AL$7:$AL$75,\"=\"&ROW(),Курс3!$AA$7:$AA$75)+SUMIF(Курс4!$AL$7:$AL$75,\"=\"&ROW(),Курс4!$AA$7:$AA$75)+SUMIF(Курс5!$AL$7:$AL$75,\"=\"&ROW(),Курс5!$AA$7:$AA$75)+SUMIF(Курс6!$AL$7:$AL$75,\"=\"&ROW(),Курс6!$AA$7:$AA$75)+SUMIF(Курс7!$AL$7:$AL$75,\"=\"&ROW(),Курс7!$AA$7:$AA$75)))/IF(ЧасовВКредите>0,ЧасовВКредите,36),0.5),FT83)","v":0},null,null,null,{"$f":"SUMIF(Курс1!$AL$7:$AL$75,\"=\"&ROW(),Курс1!$AC$7:$AC$75)+SUMIF(Курс2!$AL$7:$AL$75,\"=\"&ROW(),Курс2!$AC$7:$AC$75)+SUMIF(Курс3!$AL$7:$AL$75,\"=\"&ROW(),Курс3!$AC$7:$AC$75)+SUMIF(Курс4!$AL$7:$AL$75,\"=\"&ROW(),Курс4!$AC$7:$AC$75)+SUMIF(Курс5!$AL$7:$AL$75,\"=\"&ROW(),Курс5!$AC$7:$AC$75)+SUMIF(Курс6!$AL$7:$AL$75,\"=\"&ROW(),Курс6!$AC$7:$AC$75)+SUMIF(Курс7!$AL$7:$AL$75,\"=\"&ROW(),Курс7!$AC$7:$AC$75)","v":0}]
["",null,null,null,null,null,{"$f":"IF($FI84>0,$FW84,SUM(I84:K84)+CJ84+IF(СЭкзаменами,SUMIF(Курс1!$AL$7:$AL$75,\"=\"&ROW(),Курс1!$AA$7:$AA$75)+SUMIF(Курс2!$AL$7:$AL$75,\"=\"&ROW(),Курс2!$AA$7:$AA$75)+SUMIF(Курс3!$AL$7:$AL$75,\"=\"&ROW(),Курс3!$AA$7:$AA$75)+SUMIF(Курс4!$AL$7:$AL$75,\"=\"&ROW(),Курс4!$AA$7:$AA$75)+SUMIF(Курс5!$AL$7:$AL$75,\"=\"&ROW(),Курс5!$AA$7:$AA$75)+SUMIF(Курс6!$AL$7:$AL$75,\"=\"&ROW(),Курс6!$AA$7:$AA$75)+SUMIF(Курс7!$AL$7:$AL$75,\"=\"&ROW(),Курс7!$AA$7:$AA$75),0))","v":0},null,0,0,null,null,null,null,null,null,null,null,null,null,null,null,null,null,null,null,null,null,null,null,null,null,null,null,null,null,null,null,null,null,null,null,null,null,null,null,null,null,null,null,null,null,null,null,null,null,null,null,null,null,null,null,null,null,null,null,null,null,0,0,0,0,0,0,0,null,0,0,0,0,0,null,0,null,null,null,null,null,0,0,0,0,0,0,0,0,0,0,0,0,0,0,0,0,0,0,0,0,0,0,0,0,0,0,0,0,0,0,0,0,0,0,0,0,0,0,0,0,0,0,0,0,0,0,0,0,0,0,0,0,0,0,0,0,0,0,0,0,0,null,0,0,0,0,0,0,0,0,0,0,0,0,0,0,0,0,0,2,1316,1322,"В",0,{"$f":"SUM($CB$66:$CB84)","v":2},0,null,0,{"$f":"IF(FT84=0,FLOOR(IF(СЭкзаменами,H84,(H84+SUMIF(Курс1!$AL$7:$AL$75,\"=\"&ROW(),Курс1!$AA$7:$AA$75)+SUMIF(Курс2!$AL$7:$AL$75,\"=\"&ROW(),Курс2!$AA$7:$AA$75)+SUMIF(Курс3!$AL$7:$AL$75,\"=\"&ROW(),Курс3!$AA$7:$AA$75)+SUMIF(Курс4!$AL$7:$AL$75,\"=\"&ROW(),Курс4!$AA$7:$AA$75)+SUMIF(Курс5!$AL$7:$AL$75,\"=\"&ROW(),Курс5!$AA$7:$AA$75)+SUMIF(Курс6!$AL$7:$AL$75,\"=\"&ROW(),Курс6!$AA$7:$AA$75)+SUMIF(Курс7!$AL$7:$AL$75,\"=\"&ROW(),Курс7!$AA$7:$AA$75)))/IF(ЧасовВКредите>0,ЧасовВКредите,36),0.5),FT84)","v":0},null,null,null,{"$f":"SUMIF(Курс1!$AL$7:$AL$75,\"=\"&ROW(),Курс1!$AC$7:$AC$75)+SUMIF(Курс2!$AL$7:$AL$75,\"=\"&ROW(),Курс2!$AC$7:$AC$75)+SUMIF(Курс3!$AL$7:$AL$75,\"=\"&ROW(),Курс3!$AC$7:$AC$75)+SUMIF(Курс4!$AL$7:$AL$75,\"=\"&ROW(),Курс4!$AC$7:$AC$75)+SUMIF(Курс5!$AL$7:$AL$75,\"=\"&ROW(),Курс5!$AC$7:$AC$75)+SUMIF(Курс6!$AL$7:$AL$75,\"=\"&ROW(),Курс6!$AC$7:$AC$75)+SUMIF(Курс7!$AL$7:$AL$75,\"=\"&ROW(),Курс7!$AC$7:$AC$75)","v":0}]
["",null,null,null,null,null,{"$f":"IF($FI85>0,$FW85,SUM(I85:K85)+CJ85+IF(СЭкзаменами,SUMIF(Курс1!$AL$7:$AL$75,\"=\"&ROW(),Курс1!$AA$7:$AA$75)+SUMIF(Курс2!$AL$7:$AL$75,\"=\"&ROW(),Курс2!$AA$7:$AA$75)+SUMIF(Курс3!$AL$7:$AL$75,\"=\"&ROW(),Курс3!$AA$7:$AA$75)+SUMIF(Курс4!$AL$7:$AL$75,\"=\"&ROW(),Курс4!$AA$7:$AA$75)+SUMIF(Курс5!$AL$7:$AL$75,\"=\"&ROW(),Курс5!$AA$7:$AA$75)+SUMIF(Курс6!$AL$7:$AL$75,\"=\"&ROW(),Курс6!$AA$7:$AA$75)+SUMIF(Курс7!$AL$7:$AL$75,\"=\"&ROW(),Курс7!$AA$7:$AA$75),0))","v":0},null,0,0,null,null,null,null,null,null,null,null,null,null,null,null,null,null,null,null,null,null,null,null,null,null,null,null,null,null,null,null,null,null,null,null,null,null,null,null,null,null,null,null,null,null,null,null,null,null,null,null,null,null,null,null,null,null,null,null,null,null,0,0,0,0,0,0,0,null,0,0,0,0,0,null,0,null,null,null,null,null,0,0,0,0,0,0,0,0,0,0,0,0,0,0,0,0,0,0,0,0,0,0,0,0,0,0,0,0,0,0,0,0,0,0,0,0,0,0,0,0,0,0,0,0,0,0,0,0,0,0,0,0,0,0,0,0,0,0,0,0,0,null,0,0,0,0,0,0,0,0,0,0,0,0,0,0,0,0,0,2,1326,1332,"В",0,{"$f":"SUM($CB$66:$CB85)","v":2},0,null,0,{"$f":"IF(FT85=0,FLOOR(IF(СЭкзаменами,H85,(H85+SUMIF(Курс1!$AL$7:$AL$75,\"=\"&ROW(),Курс1!$AA$7:$AA$75)+SUMIF(Курс2!$AL$7:$AL$75,\"=\"&ROW(),Курс2!$AA$7:$AA$75)+SUMIF(Курс3!$AL$7:$AL$75,\"=\"&ROW(),Курс3!$AA$7:$AA$75)+SUMIF(Курс4!$AL$7:$AL$75,\"=\"&ROW(),Курс4!$AA$7:$AA$75)+SUMIF(Курс5!$AL$7:$AL$75,\"=\"&ROW(),Курс5!$AA$7:$AA$75)+SUMIF(Курс6!$AL$7:$AL$75,\"=\"&ROW(),Курс6!$AA$7:$AA$75)+SUMIF(Курс7!$AL$7:$AL$75,\"=\"&ROW(),Курс7!$AA$7:$AA$75)))/IF(ЧасовВКредите>0,ЧасовВКредите,36),0.5),FT85)","v":0},null,null,null,{"$f":"SUMIF(Курс1!$AL$7:$AL$75,\"=\"&ROW(),Курс1!$AC$7:$AC$75)+SUMIF(Курс2!$AL$7:$AL$75,\"=\"&ROW(),Курс2!$AC$7:$AC$75)+SUMIF(Курс3!$AL$7:$AL$75,\"=\"&ROW(),Курс3!$AC$7:$AC$75)+SUMIF(Курс4!$AL$7:$AL$75,\"=\"&ROW(),Курс4!$AC$7:$AC$75)+SUMIF(Курс5!$AL$7:$AL$75,\"=\"&ROW(),Курс5!$AC$7:$AC$75)+SUMIF(Курс6!$AL$7:$AL$75,\"=\"&ROW(),Курс6!$AC$7:$AC$75)+SUMIF(Курс7!$AL$7:$AL$75,\"=\"&ROW(),Курс7!$AC$7:$AC$75)","v":0}]
["",null,null,null,null,null,{"$f":"IF($FI86>0,$FW86,SUM(I86:K86)+CJ86+IF(СЭкзаменами,SUMIF(Курс1!$AL$7:$AL$75,\"=\"&ROW(),Курс1!$AA$7:$AA$75)+SUMIF(Курс2!$AL$7:$AL$75,\"=\"&ROW(),Курс2!$AA$7:$AA$75)+SUMIF(Курс3!$AL$7:$AL$75,\"=\"&ROW(),Курс3!$AA$7:$AA$75)+SUMIF(Курс4!$AL$7:$AL$75,\"=\"&ROW(),Курс4!$AA$7:$AA$75)+SUMIF(Курс5!$AL$7:$AL$75,\"=\"&ROW(),Курс5!$AA$7:$AA$75)+SUMIF(Курс6!$AL$7:$AL$75,\"=\"&ROW(),Курс6!$AA$7:$AA$75)+SUMIF(Курс7!$AL$7:$AL$75,\"=\"&ROW(),Курс7!$AA$7:$AA$75),0))","v":0},null,0,0,null,null,null,null,null,null,null,null,null,null,null,null,null,null,null,null,null,null,null,null,null,null,null,null,null,null,null,null,null,null,null,null,null,null,null,null,null,null,null,null,null,null,null,null,null,null,null,null,null,null,null,null,null,null,null,null,null,null,0,0,0,0,0,0,0,null,0,{"$f":"IF(AND(UPPER(LEFT(B86,8))=\"ИТОГОВЫЙ\",TRIM(C86)<>\"\"),1,0)","v":0},{"$f":"IF(SUM(G86:H86)=0,0,IF(SUM(L86:O86,T86:W86,AB86:AE86,AJ86:AM86,AR86:AU86,AZ86:BC86)=0,3,IF(SUM(P86:S86,X86:AA86,AF86:AI86,AN86:AQ86,AV86:AY86,BD86:BG86)=0,1,2)))","v":0},0,0,null,{"$f":"CL86+CP86+CT86+CX86+DB86+DF86+DJ86+DN86+DR86+DV86+DZ86+ED86+CM86+CQ86+CU86+CY86+DC86+DG86+DK86+DO86+DS86+DW86+EA86+EE86","v":0},null,null,null,null,null,{"$f":"SUM(I86:K86)","v":0},0,0,0,0,0,0,0,0,0,0,0,0,0,0,0,0,0,0,0,0,0,0,0,0,0,0,0,0,0,0,0,0,0,0,0,0,0,0,0,0,0,0,0,0,0,0,0,0,0,0,0,0,0,0,0,0,0,0,0,0,null,{"$f":"IF(SUM(L86:O86)>0,1,0)","v":0},{"$f":"IF(SUM(P86:S86)>0,1,0)","v":0},{"$f":"IF(SUM(T86:W86)>0,1,0)","v":0},{"$f":"IF(SUM(X86:AA86)>0,1,0)","v":0},{"$f":"IF(SUM(AB86:AE86)>0,1,0)","v":0},{"$f":"IF(SUM(AF86:AI86)>0,1,0)","v":0},{"$f":"IF(SUM(AJ86:AM86)>0,1,0)","v":0},{"$f":"IF(SUM(AN86:AQ86)>0,1,0)","v":0},{"$f":"IF(SUM(AR86:AU86)>0,1,0)","v":0},{"$f":"IF(SUM(AV86:AY86)>0,1,0)","v":0},{"$f":"IF(SUM(AZ86:BC86)>0,1,0)","v":0},{"$f":"IF(SUM(BD86:BG86)>0,1,0)","v":0},0,0,0,0,0,2,1336,1342,"В",0,{"$f":"SUM($CB$66:$CB86)","v":2},0,null,0,{"$f":"IF(FT86=0,FLOOR(IF(СЭкзаменами,H86,(H86+SUMIF(Курс1!$AL$7:$AL$75,\"=\"&ROW(),Курс1!$AA$7:$AA$75)+SUMIF(Курс2!$AL$7:$AL$75,\"=\"&ROW(),Курс2!$AA$7:$AA$75)+SUMIF(Курс3!$AL$7:$AL$75,\"=\"&ROW(),Курс3!$AA$7:$AA$75)+SUMIF(Курс4!$AL$7:$AL$75,\"=\"&ROW(),Курс4!$AA$7:$AA$75)+SUMIF(Курс5!$AL$7:$AL$75,\"=\"&ROW(),Курс5!$AA$7:$AA$75)+SUMIF(Курс6!$AL$7:$AL$75,\"=\"&ROW(),Курс6!$AA$7:$AA$75)+SUMIF(Курс7!$AL$7:$AL$75,\"=\"&ROW(),Курс7!$AA$7:$AA$75)))/IF(ЧасовВКредите>0,ЧасовВКредите,36),0.5),FT86)","v":0},null,null,null,{"$f":"SUMIF(Курс1!$AL$7:$AL$75,\"=\"&ROW(),Курс1!$AC$7:$AC$75)+SUMIF(Курс2!$AL$7:$AL$75,\"=\"&ROW(),Курс2!$AC$7:$AC$75)+SUMIF(Курс3!$AL$7:$AL$75,\"=\"&ROW(),Курс3!$AC$7:$AC$75)+SUMIF(Курс4!$AL$7:$AL$75,\"=\"&ROW(),Курс4!$AC$7:$AC$75)+SUMIF(Курс5!$AL$7:$AL$75,\"=\"&ROW(),Курс5!$AC$7:$AC$75)+SUMIF(Курс6!$AL$7:$AL$75,\"=\"&ROW(),Курс6!$AC$7:$AC$75)+SUMIF(Курс7!$AL$7:$AL$75,\"=\"&ROW(),Курс7!$AC$7:$AC$75)","v":0}]
["",null,null,null,null,null,{"$f":"IF($FI87>0,$FW87,SUM(I87:K87)+CJ87+IF(СЭкзаменами,SUMIF(Курс1!$AL$7:$AL$75,\"=\"&ROW(),Курс1!$AA$7:$AA$75)+SUMIF(Курс2!$AL$7:$AL$75,\"=\"&ROW(),Курс2!$AA$7:$AA$75)+SUMIF(Курс3!$AL$7:$AL$75,\"=\"&ROW(),Курс3!$AA$7:$AA$75)+SUMIF(Курс4!$AL$7:$AL$75,\"=\"&ROW(),Курс4!$AA$7:$AA$75)+SUMIF(Курс5!$AL$7:$AL$75,\"=\"&ROW(),Курс5!$AA$7:$AA$75)+SUMIF(Курс6!$AL$7:$AL$75,\"=\"&ROW(),Курс6!$AA$7:$AA$75)+SUMIF(Курс7!$AL$7:$AL$75,\"=\"&ROW(),Курс7!$AA$7:$AA$75),0))","v":0},null,{"$f":"SUM(L87:N87)+SUM(P87:R87)+SUM(T87:V87)+SUM(X87:Z87)+SUM(AB87:AD87)+SUM(AF87:AH87)+SUM(AJ87:AL87)+SUM(AN87:AP87)+SUM(AR87:AT87)+SUM(AV87:AX87)+SUM(AZ87:BB87)+SUM(BD87:BF87)+SUM(BH87:BJ87)+SUM(BL87:BN87)","v":0},{"$f":"O87+S87+W87+AA87+AE87+AI87+AM87+AQ87+AU87+AY87+BC87+BG87+BK87+BO87","v":0},null,null,null,null,null,null,null,null,null,null,null,null,null,null,null,null,null,null,null,null,null,null,null,null,null,null,null,null,null,null,null,null,null,null,null,null,null,null,null,null,null,null,null,null,null,null,null,null,null,null,null,null,null,null,null,null,null,null,0,0,0,0,0,0,0,null,{"$f":"IF(FI87=0,$H87*MAX(1,$BX87)*($BQ87*Конт1+$BR87*Конт2+$BS87*Конт3+$BT87*Конт4+$BU87*Конт5+$BV87*Конт6)/IF(СреднееКСГ>0,СреднееКСГ,21)+((CL87+CP87)*Экз+(CM87+CQ87)*Зач+(CN87+CR87)*Проект+(CO87+CS87)*Работа)*Конт1+((CT87+CX87)*Экз+(CU87+CY87)*Зач+(CV87+CZ87)*Проект+(CW87+DA87)*Работа)*Конт2+((DB87+DF87)*Экз+(DC87+DG87)*Зач+(DD87+DH87)*Проект+(DE87+DI87)*Работа)*Конт3+((DJ87+DN87)*Экз+(DK87+DO87)*Зач+(DL87+DP87)*Проект+(DM87+DQ87)*Работа)*Конт4+((DR87+DV87)*Экз+(DO87+DW87)*Зач+(DT87+DX87)*Проект+(DU87+DY87)*Работа)*Конт5+((DZ87+ED87)*Экз+(EA87+EE87)*Зач+(EB87+EF87)*Проект+(EC87+EG87)*Работа)*Конт6,0)","v":0},{"$f":"IF(AND(UPPER(LEFT(B87,8))=\"ИТОГОВЫЙ\",TRIM(C87)<>\"\"),1,0)","v":0},{"$f":"IF(SUM(G87:H87)=0,0,IF(SUM(L87:O87,T87:W87,AB87:AE87,AJ87:AM87,AR87:AU87,AZ87:BC87)=0,3,IF(SUM(P87:S87,X87:AA87,AF87:AI87,AN87:AQ87,AV87:AY87,BD87:BG87)=0,1,2)))","v":0},{"$f":"IF(OR(TRIM(B87)=\"\",FJ87=1),0,1)","v":0},{"$f":"IF(OR(CA87>0,TRIM(B87)<>\"\"),1,0)","v":0},null,{"$f":"CL87+CP87+CT87+CX87+DB87+DF87+DJ87+DN87+DR87+DV87+DZ87+ED87+CM87+CQ87+CU87+CY87+DC87+DG87+DK87+DO87+DS87+DW87+EA87+EE87","v":0},null,null,null,null,null,{"$f":"SUM(I87:K87)","v":0},0,0,{"$f":"IF(ISNUMBER(FIND(CL$2,$E87,1)),IF(OR(FI87=1,$FP87=1),0,1),0)","v":0},{"$f":"IF(ISNUMBER(FIND(CL$2,$F87,1)),IF(OR(FI87=1,$FP87=1),0,1),0)","v":0},0,0,{"$f":"IF(ISNUMBER(FIND(CP$2,$E87,1)),IF(OR(FI87=1,$FP87=1),0,1),0)","v":0},{"$f":"IF(ISNUMBER(FIND(CP$2,$F87,1)),IF(OR($FI87=1,$FP87=1),0,1),0)","v":0},0,0,{"$f":"IF(ISNUMBER(FIND(CT$2,$E87,1)),IF(OR($FI87=1,$FP87=1),0,1),0)","v":0},{"$f":"IF(ISNUMBER(FIND(CT$2,$F87,1)),IF(OR($FI87=1,$FP87=1),0,1),0)","v":0},0,0,{"$f":"IF(ISNUMBER(FIND(CX$2,$E87,1)),IF(OR($FI87=1,$FP87=1),0,1),0)","v":0},{"$f":"IF(ISNUMBER(FIND(CX$2,$F87,1)),IF(OR($FI87=1,$FP87=1),0,1),0)","v":0},0,0,{"$f":"IF(ISNUMBER(FIND(DB$2,$E87,1)),IF(OR($FI87=1,$FP87=1),0,1),0)","v":0},{"$f":"IF(ISNUMBER(FIND(DB$2,$F87,1)),IF(OR($FI87=1,$FP87=1),0,1),0)","v":0},0,0,{"$f":"IF(ISNUMBER(FIND(DF$2,$E87,1)),IF(OR($FI87=1,$FP87=1),0,1),0)","v":0},{"$f":"IF(ISNUMBER(FIND(DF$2,$F87,1)),IF(OR($FI87=1,$FP87=1),0,1),0)","v":0},0,0,{"$f":"IF(ISNUMBER(FIND(DJ$2,$E87,1)),IF(OR($FI87=1,$FP87=1),0,1),0)","v":0},{"$f":"IF(ISNUMBER(FIND(DJ$2,$F87,1)),IF(OR($FI87=1,$FP87=1),0,1),0)","v":0},0,0,{"$f":"IF(ISNUMBER(FIND(DN$2,$E87,1)),IF(OR($FI87=1,$FP87=1),0,1),0)","v":0},{"$f":"IF(ISNUMBER(FIND(DN$2,$F87,1)),IF(OR($FI87=1,$FP87=1),0,1),0)","v":0},0,0,{"$f":"IF(ISNUMBER(FIND(DR$2,$E87,1)),IF(OR($FI87=1,$FP87=1),0,1),0)","v":0},{"$f":"IF(ISNUMBER(FIND(DR$2,$F87,1)),IF(OR($FI87=1,$FP87=1),0,1),0)","v":0},0,0,{"$f":"IF(ISNUMBER(FIND(DV$2,$E87,1)),IF(OR($FI87=1,$FP87=1),0,1),0)","v":0},{"$f":"IF(ISNUMBER(FIND(DV$2,$F87,1)),IF(OR($FI87=1,$FP87=1),0,1),0)","v":0},0,0,{"$f":"IF(ISNUMBER(FIND(DZ$2,$E87,1)),IF(OR($FI87=1,$FP87=1),0,1),0)","v":0},{"$f":"IF(ISNUMBER(FIND(DZ$2,$F87,1)),IF(OR($FI87=1,$FP87=1),0,1),0)","v":0},0,0,{"$f":"IF(ISNUMBER(FIND(ED$2,$E87,1)),IF(OR($FI87=1,$FP87=1),0,1),0)","v":0},{"$f":"IF(ISNUMBER(FIND(ED$2,$F87,1)),IF(OR($FI87=1,$FP87=1),0,1),0)","v":0},0,0,{"$f":"IF(ISNUMBER(FIND(EH$2,$E87,1)),IF(OR($FI87=1,$FP87=1),0,1),0)","v":0},{"$f":"IF(ISNUMBER(FIND(EH$2,$F87,1)),IF(OR($FI87=1,$FP87=1),0,1),0)","v":0},0,0,{"$f":"IF(ISNUMBER(FIND(EL$2,$E87,1)),IF(OR($FI87=1,$FP87=1),0,1),0)","v":0},{"$f":"IF(ISNUMBER(FIND(EL$2,$F87,1)),IF(OR($FI87=1,$FP87=1),0,1),0)","v":0},{"$f":"IF(OR($FI87=1,$FP87=1),0,LEN(TRIM(CF87)))","v":0},{"$f":"IF(OR($FI87=1,$FP87=1),0,LEN(TRIM(CG87)))","v":0},0,{"$f":"IF(OR($FI87=1,$FP87=1),0,LEN(TRIM(CI87)))","v":0},null,{"$f":"IF(SUM(L87:O87)>0,1,0)","v":0},{"$f":"IF(SUM(P87:S87)>0,1,0)","v":0},{"$f":"IF(SUM(T87:W87)>0,1,0)","v":0},{"$f":"IF(SUM(X87:AA87)>0,1,0)","v":0},{"$f":"IF(SUM(AB87:AE87)>0,1,0)","v":0},{"$f":"IF(SUM(AF87:AI87)>0,1,0)","v":0},{"$f":"IF(SUM(AJ87:AM87)>0,1,0)","v":0},{"$f":"IF(SUM(AN87:AQ87)>0,1,0)","v":0},{"$f":"IF(SUM(AR87:AU87)>0,1,0)","v":0},{"$f":"IF(SUM(AV87:AY87)>0,1,0)","v":0},{"$f":"IF(SUM(AZ87:BC87)>0,1,0)","v":0},{"$f":"IF(SUM(BD87:BG87)>0,1,0)","v":0},{"$f":"IF(SUM(BH87:BK87)>0,1,0)","v":0},{"$f":"IF(SUM(BL87:BO87)>0,1,0)","v":0},0,0,0,2,1346,1352,"В",0,{"$f":"SUM($CB$66:$CB87)","v":2},{"$f":"IF(FI86=1,1,IF(FJ87=1,FR86+1,0))","v":0},0,0,{"$f":"IF(FT87=0,FLOOR(IF(СЭкзаменами,H87,(H87+SUMIF(Курс1!$AL$7:$AL$75,\"=\"&ROW(),Курс1!$AA$7:$AA$75)+SUMIF(Курс2!$AL$7:$AL$75,\"=\"&ROW(),Курс2!$AA$7:$AA$75)+SUMIF(Курс3!$AL$7:$AL$75,\"=\"&ROW(),Курс3!$AA$7:$AA$75)+SUMIF(Курс4!$AL$7:$AL$75,\"=\"&ROW(),Курс4!$AA$7:$AA$75)+SUMIF(Курс5!$AL$7:$AL$75,\"=\"&ROW(),Курс5!$AA$7:$AA$75)+SUMIF(Курс6!$AL$7:$AL$75,\"=\"&ROW(),Курс6!$AA$7:$AA$75)+SUMIF(Курс7!$AL$7:$AL$75,\"=\"&ROW(),Курс7!$AA$7:$AA$75)))/IF(ЧасовВКредите>0,ЧасовВКредите,36),0.5),FT87)","v":0},null,null,null,{"$f":"SUMIF(Курс1!$AL$7:$AL$75,\"=\"&ROW(),Курс1!$AC$7:$AC$75)+SUMIF(Курс2!$AL$7:$AL$75,\"=\"&ROW(),Курс2!$AC$7:$AC$75)+SUMIF(Курс3!$AL$7:$AL$75,\"=\"&ROW(),Курс3!$AC$7:$AC$75)+SUMIF(Курс4!$AL$7:$AL$75,\"=\"&ROW(),Курс4!$AC$7:$AC$75)+SUMIF(Курс5!$AL$7:$AL$75,\"=\"&ROW(),Курс5!$AC$7:$AC$75)+SUMIF(Курс6!$AL$7:$AL$75,\"=\"&ROW(),Курс6!$AC$7:$AC$75)+SUMIF(Курс7!$AL$7:$AL$75,\"=\"&ROW(),Курс7!$AC$7:$AC$75)","v":0}]
["",null,null,null,null,null,{"$f":"IF($FI88>0,$FW88,SUM(I88:K88)+CJ88+IF(СЭкзаменами,SUMIF(Курс1!$AL$7:$AL$75,\"=\"&ROW(),Курс1!$AA$7:$AA$75)+SUMIF(Курс2!$AL$7:$AL$75,\"=\"&ROW(),Курс2!$AA$7:$AA$75)+SUMIF(Курс3!$AL$7:$AL$75,\"=\"&ROW(),Курс3!$AA$7:$AA$75)+SUMIF(Курс4!$AL$7:$AL$75,\"=\"&ROW(),Курс4!$AA$7:$AA$75)+SUMIF(Курс5!$AL$7:$AL$75,\"=\"&ROW(),Курс5!$AA$7:$AA$75)+SUMIF(Курс6!$AL$7:$AL$75,\"=\"&ROW(),Курс6!$AA$7:$AA$75)+SUMIF(Курс7!$AL$7:$AL$75,\"=\"&ROW(),Курс7!$AA$7:$AA$75),0))","v":0},null,0,0,null,null,null,null,null,null,null,null,null,null,null,null,null,null,null,null,null,null,null,null,null,null,null,null,null,null,null,null,null,null,null,null,null,null,null,null,null,null,null,null,null,null,null,null,null,null,null,null,null,null,null,null,null,null,null,null,null,null,0,0,0,0,0,0,0,null,0,0,0,0,0,null,0,null,null,null,null,null,0,0,0,0,0,0,0,0,0,0,0,0,0,0,0,0,0,0,0,0,0,0,0,0,0,0,0,0,0,0,0,0,0,0,0,0,0,0,0,0,0,0,0,0,0,0,0,0,0,0,0,0,0,0,0,0,0,0,0,0,0,null,0,0,0,0,0,0,0,0,0,0,0,0,0,0,0,0,0,2,1356,1362,"В",0,{"$f":"SUM($CB$66:$CB88)","v":2},0,0,0,{"$f":"IF(FT88=0,FLOOR(IF(СЭкзаменами,H88,(H88+SUMIF(Курс1!$AL$7:$AL$75,\"=\"&ROW(),Курс1!$AA$7:$AA$75)+SUMIF(Курс2!$AL$7:$AL$75,\"=\"&ROW(),Курс2!$AA$7:$AA$75)+SUMIF(Курс3!$AL$7:$AL$75,\"=\"&ROW(),Курс3!$AA$7:$AA$75)+SUMIF(Курс4!$AL$7:$AL$75,\"=\"&ROW(),Курс4!$AA$7:$AA$75)+SUMIF(Курс5!$AL$7:$AL$75,\"=\"&ROW(),Курс5!$AA$7:$AA$75)+SUMIF(Курс6!$AL$7:$AL$75,\"=\"&ROW(),Курс6!$AA$7:$AA$75)+SUMIF(Курс7!$AL$7:$AL$75,\"=\"&ROW(),Курс7!$AA$7:$AA$75)))/IF(ЧасовВКредите>0,ЧасовВКредите,36),0.5),FT88)","v":0},null,null,null,{"$f":"SUMIF(Курс1!$AL$7:$AL$75,\"=\"&ROW(),Курс1!$AC$7:$AC$75)+SUMIF(Курс2!$AL$7:$AL$75,\"=\"&ROW(),Курс2!$AC$7:$AC$75)+SUMIF(Курс3!$AL$7:$AL$75,\"=\"&ROW(),Курс3!$AC$7:$AC$75)+SUMIF(Курс4!$AL$7:$AL$75,\"=\"&ROW(),Курс4!$AC$7:$AC$75)+SUMIF(Курс5!$AL$7:$AL$75,\"=\"&ROW(),Курс5!$AC$7:$AC$75)+SUMIF(Курс6!$AL$7:$AL$75,\"=\"&ROW(),Курс6!$AC$7:$AC$75)+SUMIF(Курс7!$AL$7:$AL$75,\"=\"&ROW(),Курс7!$AC$7:$AC$75)","v":0}]
["",null,null,null,null,null,{"$f":"IF($FI89>0,$FW89,SUM(I89:K89)+CJ89+IF(СЭкзаменами,SUMIF(Курс1!$AL$7:$AL$75,\"=\"&ROW(),Курс1!$AA$7:$AA$75)+SUMIF(Курс2!$AL$7:$AL$75,\"=\"&ROW(),Курс2!$AA$7:$AA$75)+SUMIF(Курс3!$AL$7:$AL$75,\"=\"&ROW(),Курс3!$AA$7:$AA$75)+SUMIF(Курс4!$AL$7:$AL$75,\"=\"&ROW(),Курс4!$AA$7:$AA$75)+SUMIF(Курс5!$AL$7:$AL$75,\"=\"&ROW(),Курс5!$AA$7:$AA$75)+SUMIF(Курс6!$AL$7:$AL$75,\"=\"&ROW(),Курс6!$AA$7:$AA$75)+SUMIF(Курс7!$AL$7:$AL$75,\"=\"&ROW(),Курс7!$AA$7:$AA$75),0))","v":0},null,0,0,null,null,null,null,null,null,null,null,null,null,null,null,null,null,null,null,null,null,null,null,null,null,null,null,null,null,null,null,null,null,null,null,null,null,null,null,null,null,null,null,null,null,null,null,null,null,null,null,null,null,null,null,null,null,null,null,null,null,0,0,0,0,0,0,0,null,0,0,0,0,0,null,0,null,null,null,null,null,0,0,0,0,0,0,0,0,0,0,0,0,0,0,0,0,0,0,0,0,0,0,0,0,0,0,0,0,0,0,0,0,0,0,0,0,0,0,0,0,0,0,0,0,0,0,0,0,0,0,0,0,0,0,0,0,0,0,0,0,0,null,0,0,0,0,0,0,0,0,0,0,0,0,0,0,0,0,0,2,1366,1372,"В",0,{"$f":"SUM($CB$66:$CB89)","v":2},0,null,0,{"$f":"IF(FT89=0,FLOOR(IF(СЭкзаменами,H89,(H89+SUMIF(Курс1!$AL$7:$AL$75,\"=\"&ROW(),Курс1!$AA$7:$AA$75)+SUMIF(Курс2!$AL$7:$AL$75,\"=\"&ROW(),Курс2!$AA$7:$AA$75)+SUMIF(Курс3!$AL$7:$AL$75,\"=\"&ROW(),Курс3!$AA$7:$AA$75)+SUMIF(Курс4!$AL$7:$AL$75,\"=\"&ROW(),Курс4!$AA$7:$AA$75)+SUMIF(Курс5!$AL$7:$AL$75,\"=\"&ROW(),Курс5!$AA$7:$AA$75)+SUMIF(Курс6!$AL$7:$AL$75,\"=\"&ROW(),Курс6!$AA$7:$AA$75)+SUMIF(Курс7!$AL$7:$AL$75,\"=\"&ROW(),Курс7!$AA$7:$AA$75)))/IF(ЧасовВКредите>0,ЧасовВКредите,36),0.5),FT89)","v":0},null,null,null,{"$f":"SUMIF(Курс1!$AL$7:$AL$75,\"=\"&ROW(),Курс1!$AC$7:$AC$75)+SUMIF(Курс2!$AL$7:$AL$75,\"=\"&ROW(),Курс2!$AC$7:$AC$75)+SUMIF(Курс3!$AL$7:$AL$75,\"=\"&ROW(),Курс3!$AC$7:$AC$75)+SUMIF(Курс4!$AL$7:$AL$75,\"=\"&ROW(),Курс4!$AC$7:$AC$75)+SUMIF(Курс5!$AL$7:$AL$75,\"=\"&ROW(),Курс5!$AC$7:$AC$75)+SUMIF(Курс6!$AL$7:$AL$75,\"=\"&ROW(),Курс6!$AC$7:$AC$75)+SUMIF(Курс7!$AL$7:$AL$75,\"=\"&ROW(),Курс7!$AC$7:$AC$75)","v":0}]
["",null,null,null,null,null,{"$f":"IF($FI90>0,$FW90,SUM(I90:K90)+CJ90+IF(СЭкзаменами,SUMIF(Курс1!$AL$7:$AL$75,\"=\"&ROW(),Курс1!$AA$7:$AA$75)+SUMIF(Курс2!$AL$7:$AL$75,\"=\"&ROW(),Курс2!$AA$7:$AA$75)+SUMIF(Курс3!$AL$7:$AL$75,\"=\"&ROW(),Курс3!$AA$7:$AA$75)+SUMIF(Курс4!$AL$7:$AL$75,\"=\"&ROW(),Курс4!$AA$7:$AA$75)+SUMIF(Курс5!$AL$7:$AL$75,\"=\"&ROW(),Курс5!$AA$7:$AA$75)+SUMIF(Курс6!$AL$7:$AL$75,\"=\"&ROW(),Курс6!$AA$7:$AA$75)+SUMIF(Курс7!$AL$7:$AL$75,\"=\"&ROW(),Курс7!$AA$7:$AA$75),0))","v":0},null,0,0,null,null,null,null,null,null,null,null,null,null,null,null,null,null,null,null,null,null,null,null,null,null,null,null,null,null,null,null,null,null,null,null,null,null,null,null,null,null,null,null,null,null,null,null,null,null,null,null,null,null,null,null,null,null,null,null,null,null,0,0,0,0,0,0,0,null,0,0,0,0,0,null,0,null,null,null,null,null,0,0,0,0,0,0,0,0,0,0,0,0,0,0,0,0,0,0,0,0,0,0,0,0,0,0,0,0,0,0,0,0,0,0,0,0,0,0,0,0,0,0,0,0,0,0,0,0,0,0,0,0,0,0,0,0,0,0,0,0,0,null,0,0,0,0,0,0,0,0,0,0,0,0,0,0,0,0,0,2,1376,1382,"В",0,{"$f":"SUM($CB$66:$CB90)","v":2},0,null,0,{"$f":"IF(FT90=0,FLOOR(IF(СЭкзаменами,H90,(H90+SUMIF(Курс1!$AL$7:$AL$75,\"=\"&ROW(),Курс1!$AA$7:$AA$75)+SUMIF(Курс2!$AL$7:$AL$75,\"=\"&ROW(),Курс2!$AA$7:$AA$75)+SUMIF(Курс3!$AL$7:$AL$75,\"=\"&ROW(),Курс3!$AA$7:$AA$75)+SUMIF(Курс4!$AL$7:$AL$75,\"=\"&ROW(),Курс4!$AA$7:$AA$75)+SUMIF(Курс5!$AL$7:$AL$75,\"=\"&ROW(),Курс5!$AA$7:$AA$75)+SUMIF(Курс6!$AL$7:$AL$75,\"=\"&ROW(),Курс6!$AA$7:$AA$75)+SUMIF(Курс7!$AL$7:$AL$75,\"=\"&ROW(),Курс7!$AA$7:$AA$75)))/IF(ЧасовВКредите>0,ЧасовВКредите,36),0.5),FT90)","v":0},null,null,null,{"$f":"SUMIF(Курс1!$AL$7:$AL$75,\"=\"&ROW(),Курс1!$AC$7:$AC$75)+SUMIF(Курс2!$AL$7:$AL$75,\"=\"&ROW(),Курс2!$AC$7:$AC$75)+SUMIF(Курс3!$AL$7:$AL$75,\"=\"&ROW(),Курс3!$AC$7:$AC$75)+SUMIF(Курс4!$AL$7:$AL$75,\"=\"&ROW(),Курс4!$AC$7:$AC$75)+SUMIF(Курс5!$AL$7:$AL$75,\"=\"&ROW(),Курс5!$AC$7:$AC$75)+SUMIF(Курс6!$AL$7:$AL$75,\"=\"&ROW(),Курс6!$AC$7:$AC$75)+SUMIF(Курс7!$AL$7:$AL$75,\"=\"&ROW(),Курс7!$AC$7:$AC$75)","v":0}]
["",null,null,null,null,null,{"$f":"IF($FI91>0,$FW91,SUM(I91:K91)+CJ91+IF(СЭкзаменами,SUMIF(Курс1!$AL$7:$AL$75,\"=\"&ROW(),Курс1!$AA$7:$AA$75)+SUMIF(Курс2!$AL$7:$AL$75,\"=\"&ROW(),Курс2!$AA$7:$AA$75)+SUMIF(Курс3!$AL$7:$AL$75,\"=\"&ROW(),Курс3!$AA$7:$AA$75)+SUMIF(Курс4!$AL$7:$AL$75,\"=\"&ROW(),Курс4!$AA$7:$AA$75)+SUMIF(Курс5!$AL$7:$AL$75,\"=\"&ROW(),Курс5!$AA$7:$AA$75)+SUMIF(Курс6!$AL$7:$AL$75,\"=\"&ROW(),Курс6!$AA$7:$AA$75)+SUMIF(Курс7!$AL$7:$AL$75,\"=\"&ROW(),Курс7!$AA$7:$AA$75),0))","v":0},null,0,0,null,null,null,null,null,null,null,null,null,null,null,null,null,null,null,null,null,null,null,null,null,null,null,null,null,null,null,null,null,null,null,null,null,null,null,null,null,null,null,null,null,null,null,null,null,null,null,null,null,null,null,null,null,null,null,null,null,null,0,0,0,0,0,0,0,null,0,0,0,0,0,null,0,null,null,null,null,null,0,0,0,0,0,0,0,0,0,0,0,0,0,0,0,0,0,0,0,0,0,0,0,0,0,0,0,0,0,0,0,0,0,0,0,0,0,0,0,0,0,0,0,0,0,0,0,0,0,0,0,0,0,0,0,0,0,0,0,0,0,null,0,0,0,0,0,0,0,0,0,0,0,0,0,0,0,0,0,2,1386,1392,"В",0,{"$f":"SUM($CB$66:$CB91)","v":2},0,null,0,{"$f":"IF(FT91=0,FLOOR(IF(СЭкзаменами,H91,(H91+SUMIF(Курс1!$AL$7:$AL$75,\"=\"&ROW(),Курс1!$AA$7:$AA$75)+SUMIF(Курс2!$AL$7:$AL$75,\"=\"&ROW(),Курс2!$AA$7:$AA$75)+SUMIF(Курс3!$AL$7:$AL$75,\"=\"&ROW(),Курс3!$AA$7:$AA$75)+SUMIF(Курс4!$AL$7:$AL$75,\"=\"&ROW(),Курс4!$AA$7:$AA$75)+SUMIF(Курс5!$AL$7:$AL$75,\"=\"&ROW(),Курс5!$AA$7:$AA$75)+SUMIF(Курс6!$AL$7:$AL$75,\"=\"&ROW(),Курс6!$AA$7:$AA$75)+SUMIF(Курс7!$AL$7:$AL$75,\"=\"&ROW(),Курс7!$AA$7:$AA$75)))/IF(ЧасовВКредите>0,ЧасовВКредите,36),0.5),FT91)","v":0},null,null,null,{"$f":"SUMIF(Курс1!$AL$7:$AL$75,\"=\"&ROW(),Курс1!$AC$7:$AC$75)+SUMIF(Курс2!$AL$7:$AL$75,\"=\"&ROW(),Курс2!$AC$7:$AC$75)+SUMIF(Курс3!$AL$7:$AL$75,\"=\"&ROW(),Курс3!$AC$7:$AC$75)+SUMIF(Курс4!$AL$7:$AL$75,\"=\"&ROW(),Курс4!$AC$7:$AC$75)+SUMIF(Курс5!$AL$7:$AL$75,\"=\"&ROW(),Курс5!$AC$7:$AC$75)+SUMIF(Курс6!$AL$7:$AL$75,\"=\"&ROW(),Курс6!$AC$7:$AC$75)+SUMIF(Курс7!$AL$7:$AL$75,\"=\"&ROW(),Курс7!$AC$7:$AC$75)","v":0}]
["",null,null,null,null,null,{"$f":"IF($FI92>0,$FW92,SUM(I92:K92)+CJ92+IF(СЭкзаменами,SUMIF(Курс1!$AL$7:$AL$75,\"=\"&ROW(),Курс1!$AA$7:$AA$75)+SUMIF(Курс2!$AL$7:$AL$75,\"=\"&ROW(),Курс2!$AA$7:$AA$75)+SUMIF(Курс3!$AL$7:$AL$75,\"=\"&ROW(),Курс3!$AA$7:$AA$75)+SUMIF(Курс4!$AL$7:$AL$75,\"=\"&ROW(),Курс4!$AA$7:$AA$75)+SUMIF(Курс5!$AL$7:$AL$75,\"=\"&ROW(),Курс5!$AA$7:$AA$75)+SUMIF(Курс6!$AL$7:$AL$75,\"=\"&ROW(),Курс6!$AA$7:$AA$75)+SUMIF(Курс7!$AL$7:$AL$75,\"=\"&ROW(),Курс7!$AA$7:$AA$75),0))","v":0},null,0,0,null,null,null,null,null,null,null,null,null,null,null,null,null,null,null,null,null,null,null,null,null,null,null,null,null,null,null,null,null,null,null,null,null,null,null,null,null,null,null,null,null,null,null,null,null,null,null,null,null,null,null,null,null,null,null,null,null,null,0,0,0,0,0,0,0,null,0,0,0,0,0,null,0,null,null,null,null,null,0,0,0,0,0,0,0,0,0,0,0,0,0,0,0,0,0,0,0,0,0,0,0,0,0,0,0,0,0,0,0,0,0,0,0,0,0,0,0,0,0,0,0,0,0,0,0,0,0,0,0,0,0,0,0,0,0,0,0,0,0,null,0,0,0,0,0,0,0,0,0,0,0,0,0,0,0,0,0,2,null,null,null,0,{"$f":"SUM($CB$66:$CB92)","v":2},0,null,0,{"$f":"IF(FT92=0,FLOOR(IF(СЭкзаменами,H92,(H92+SUMIF(Курс1!$AL$7:$AL$75,\"=\"&ROW(),Курс1!$AA$7:$AA$75)+SUMIF(Курс2!$AL$7:$AL$75,\"=\"&ROW(),Курс2!$AA$7:$AA$75)+SUMIF(Курс3!$AL$7:$AL$75,\"=\"&ROW(),Курс3!$AA$7:$AA$75)+SUMIF(Курс4!$AL$7:$AL$75,\"=\"&ROW(),Курс4!$AA$7:$AA$75)+SUMIF(Курс5!$AL$7:$AL$75,\"=\"&ROW(),Курс5!$AA$7:$AA$75)+SUMIF(Курс6!$AL$7:$AL$75,\"=\"&ROW(),Курс6!$AA$7:$AA$75)+SUMIF(Курс7!$AL$7:$AL$75,\"=\"&ROW(),Курс7!$AA$7:$AA$75)))/IF(ЧасовВКредите>0,ЧасовВКредите,36),0.5),FT92)","v":0},null,null,null,{"$f":"SUMIF(Курс1!$AL$7:$AL$75,\"=\"&ROW(),Курс1!$AC$7:$AC$75)+SUMIF(Курс2!$AL$7:$AL$75,\"=\"&ROW(),Курс2!$AC$7:$AC$75)+SUMIF(Курс3!$AL$7:$AL$75,\"=\"&ROW(),Курс3!$AC$7:$AC$75)+SUMIF(Курс4!$AL$7:$AL$75,\"=\"&ROW(),Курс4!$AC$7:$AC$75)+SUMIF(Курс5!$AL$7:$AL$75,\"=\"&ROW(),Курс5!$AC$7:$AC$75)+SUMIF(Курс6!$AL$7:$AL$75,\"=\"&ROW(),Курс6!$AC$7:$AC$75)+SUMIF(Курс7!$AL$7:$AL$75,\"=\"&ROW(),Курс7!$AC$7:$AC$75)","v":0}]
["",null,null,null,null,null,{"$f":"IF($FI93>0,$FW93,SUM(I93:K93)+CJ93+IF(СЭкзаменами,SUMIF(Курс1!$AL$7:$AL$75,\"=\"&ROW(),Курс1!$AA$7:$AA$75)+SUMIF(Курс2!$AL$7:$AL$75,\"=\"&ROW(),Курс2!$AA$7:$AA$75)+SUMIF(Курс3!$AL$7:$AL$75,\"=\"&ROW(),Курс3!$AA$7:$AA$75)+SUMIF(Курс4!$AL$7:$AL$75,\"=\"&ROW(),Курс4!$AA$7:$AA$75)+SUMIF(Курс5!$AL$7:$AL$75,\"=\"&ROW(),Курс5!$AA$7:$AA$75)+SUMIF(Курс6!$AL$7:$AL$75,\"=\"&ROW(),Курс6!$AA$7:$AA$75)+SUMIF(Курс7!$AL$7:$AL$75,\"=\"&ROW(),Курс7!$AA$7:$AA$75),0))","v":0},null,0,0,null,null,null,null,null,null,null,null,null,null,null,null,null,null,null,null,null,null,null,null,null,null,null,null,null,null,null,null,null,null,null,null,null,null,null,null,null,null,null,null,null,null,null,null,null,null,null,null,null,null,null,null,null,null,null,null,null,null,0,0,0,0,0,0,0,null,0,0,0,0,0,null,0,null,null,null,null,null,0,0,0,0,0,0,0,0,0,0,0,0,0,0,0,0,0,0,0,0,0,0,0,0,0,0,0,0,0,0,0,0,0,0,0,0,0,0,0,0,0,0,0,0,0,0,0,0,0,0,0,0,0,0,0,0,0,0,0,0,0,null,0,0,0,0,0,0,0,0,0,0,0,0,0,0,0,0,0,2,null,null,null,0,{"$f":"SUM($CB$66:$CB93)","v":2},0,null,0,{"$f":"IF(FT93=0,FLOOR(IF(СЭкзаменами,H93,(H93+SUMIF(Курс1!$AL$7:$AL$75,\"=\"&ROW(),Курс1!$AA$7:$AA$75)+SUMIF(Курс2!$AL$7:$AL$75,\"=\"&ROW(),Курс2!$AA$7:$AA$75)+SUMIF(Курс3!$AL$7:$AL$75,\"=\"&ROW(),Курс3!$AA$7:$AA$75)+SUMIF(Курс4!$AL$7:$AL$75,\"=\"&ROW(),Курс4!$AA$7:$AA$75)+SUMIF(Курс5!$AL$7:$AL$75,\"=\"&ROW(),Курс5!$AA$7:$AA$75)+SUMIF(Курс6!$AL$7:$AL$75,\"=\"&ROW(),Курс6!$AA$7:$AA$75)+SUMIF(Курс7!$AL$7:$AL$75,\"=\"&ROW(),Курс7!$AA$7:$AA$75)))/IF(ЧасовВКредите>0,ЧасовВКредите,36),0.5),FT93)","v":0},null,null,null,{"$f":"SUMIF(Курс1!$AL$7:$AL$75,\"=\"&ROW(),Курс1!$AC$7:$AC$75)+SUMIF(Курс2!$AL$7:$AL$75,\"=\"&ROW(),Курс2!$AC$7:$AC$75)+SUMIF(Курс3!$AL$7:$AL$75,\"=\"&ROW(),Курс3!$AC$7:$AC$75)+SUMIF(Курс4!$AL$7:$AL$75,\"=\"&ROW(),Курс4!$AC$7:$AC$75)+SUMIF(Курс5!$AL$7:$AL$75,\"=\"&ROW(),Курс5!$AC$7:$AC$75)+SUMIF(Курс6!$AL$7:$AL$75,\"=\"&ROW(),Курс6!$AC$7:$AC$75)+SUMIF(Курс7!$AL$7:$AL$75,\"=\"&ROW(),Курс7!$AC$7:$AC$75)","v":0}]
["",null,null,null,null,null,{"$f":"IF($FI94>0,$FW94,SUM(I94:K94)+CJ94+IF(СЭкзаменами,SUMIF(Курс1!$AL$7:$AL$75,\"=\"&ROW(),Курс1!$AA$7:$AA$75)+SUMIF(Курс2!$AL$7:$AL$75,\"=\"&ROW(),Курс2!$AA$7:$AA$75)+SUMIF(Курс3!$AL$7:$AL$75,\"=\"&ROW(),Курс3!$AA$7:$AA$75)+SUMIF(Курс4!$AL$7:$AL$75,\"=\"&ROW(),Курс4!$AA$7:$AA$75)+SUMIF(Курс5!$AL$7:$AL$75,\"=\"&ROW(),Курс5!$AA$7:$AA$75)+SUMIF(Курс6!$AL$7:$AL$75,\"=\"&ROW(),Курс6!$AA$7:$AA$75)+SUMIF(Курс7!$AL$7:$AL$75,\"=\"&ROW(),Курс7!$AA$7:$AA$75),0))","v":0},null,0,0,null,null,null,null,null,null,null,null,null,null,null,null,null,null,null,null,null,null,null,null,null,null,null,null,null,null,null,null,null,null,null,null,null,null,null,null,null,null,null,null,null,null,null,null,null,null,null,null,null,null,null,null,null,null,null,null,null,null,0,0,0,0,0,0,0,null,0,0,0,0,0,null,0,null,null,null,null,null,0,0,0,0,0,0,0,0,0,0,0,0,0,0,0,0,0,0,0,0,0,0,0,0,0,0,0,0,0,0,0,0,0,0,0,0,0,0,0,0,0,0,0,0,0,0,0,0,0,0,0,0,0,0,0,0,0,0,0,0,0,null,0,0,0,0,0,0,0,0,0,0,0,0,0,0,0,0,0,2,null,null,null,0,{"$f":"SUM($CB$66:$CB94)","v":2},0,null,0,{"$f":"IF(FT94=0,FLOOR(IF(СЭкзаменами,H94,(H94+SUMIF(Курс1!$AL$7:$AL$75,\"=\"&ROW(),Курс1!$AA$7:$AA$75)+SUMIF(Курс2!$AL$7:$AL$75,\"=\"&ROW(),Курс2!$AA$7:$AA$75)+SUMIF(Курс3!$AL$7:$AL$75,\"=\"&ROW(),Курс3!$AA$7:$AA$75)+SUMIF(Курс4!$AL$7:$AL$75,\"=\"&ROW(),Курс4!$AA$7:$AA$75)+SUMIF(Курс5!$AL$7:$AL$75,\"=\"&ROW(),Курс5!$AA$7:$AA$75)+SUMIF(Курс6!$AL$7:$AL$75,\"=\"&ROW(),Курс6!$AA$7:$AA$75)+SUMIF(Курс7!$AL$7:$AL$75,\"=\"&ROW(),Курс7!$AA$7:$AA$75)))/IF(ЧасовВКредите>0,ЧасовВКредите,36),0.5),FT94)","v":0},null,null,null,{"$f":"SUMIF(Курс1!$AL$7:$AL$75,\"=\"&ROW(),Курс1!$AC$7:$AC$75)+SUMIF(Курс2!$AL$7:$AL$75,\"=\"&ROW(),Курс2!$AC$7:$AC$75)+SUMIF(Курс3!$AL$7:$AL$75,\"=\"&ROW(),Курс3!$AC$7:$AC$75)+SUMIF(Курс4!$AL$7:$AL$75,\"=\"&ROW(),Курс4!$AC$7:$AC$75)+SUMIF(Курс5!$AL$7:$AL$75,\"=\"&ROW(),Курс5!$AC$7:$AC$75)+SUMIF(Курс6!$AL$7:$AL$75,\"=\"&ROW(),Курс6!$AC$7:$AC$75)+SUMIF(Курс7!$AL$7:$AL$75,\"=\"&ROW(),Курс7!$AC$7:$AC$75)","v":0}]
["",null,null,null,null,null,{"$f":"IF($FI95>0,$FW95,SUM(I95:K95)+CJ95+IF(СЭкзаменами,SUMIF(Курс1!$AL$7:$AL$75,\"=\"&ROW(),Курс1!$AA$7:$AA$75)+SUMIF(Курс2!$AL$7:$AL$75,\"=\"&ROW(),Курс2!$AA$7:$AA$75)+SUMIF(Курс3!$AL$7:$AL$75,\"=\"&ROW(),Курс3!$AA$7:$AA$75)+SUMIF(Курс4!$AL$7:$AL$75,\"=\"&ROW(),Курс4!$AA$7:$AA$75)+SUMIF(Курс5!$AL$7:$AL$75,\"=\"&ROW(),Курс5!$AA$7:$AA$75)+SUMIF(Курс6!$AL$7:$AL$75,\"=\"&ROW(),Курс6!$AA$7:$AA$75)+SUMIF(Курс7!$AL$7:$AL$75,\"=\"&ROW(),Курс7!$AA$7:$AA$75),0))","v":0},null,0,0,null,null,null,null,null,null,null,null,null,null,null,null,null,null,null,null,null,null,null,null,null,null,null,null,null,null,null,null,null,null,null,null,null,null,null,null,null,null,null,null,null,null,null,null,null,null,null,null,null,null,null,null,null,null,null,null,null,null,0,0,0,0,0,0,0,null,0,0,0,0,0,null,0,null,null,null,null,null,0,0,0,0,0,0,0,0,0,0,0,0,0,0,0,0,0,0,0,0,0,0,0,0,0,0,0,0,0,0,0,0,0,0,0,0,0,0,0,0,0,0,0,0,0,0,0,0,0,0,0,0,0,0,0,0,0,0,0,0,0,null,0,0,0,0,0,0,0,0,0,0,0,0,0,0,0,0,0,2,null,null,null,0,{"$f":"SUM($CB$66:$CB95)","v":2},0,null,0,{"$f":"IF(FT95=0,FLOOR(IF(СЭкзаменами,H95,(H95+SUMIF(Курс1!$AL$7:$AL$75,\"=\"&ROW(),Курс1!$AA$7:$AA$75)+SUMIF(Курс2!$AL$7:$AL$75,\"=\"&ROW(),Курс2!$AA$7:$AA$75)+SUMIF(Курс3!$AL$7:$AL$75,\"=\"&ROW(),Курс3!$AA$7:$AA$75)+SUMIF(Курс4!$AL$7:$AL$75,\"=\"&ROW(),Курс4!$AA$7:$AA$75)+SUMIF(Курс5!$AL$7:$AL$75,\"=\"&ROW(),Курс5!$AA$7:$AA$75)+SUMIF(Курс6!$AL$7:$AL$75,\"=\"&ROW(),Курс6!$AA$7:$AA$75)+SUMIF(Курс7!$AL$7:$AL$75,\"=\"&ROW(),Курс7!$AA$7:$AA$75)))/IF(ЧасовВКредите>0,ЧасовВКредите,36),0.5),FT95)","v":0},null,null,null,{"$f":"SUMIF(Курс1!$AL$7:$AL$75,\"=\"&ROW(),Курс1!$AC$7:$AC$75)+SUMIF(Курс2!$AL$7:$AL$75,\"=\"&ROW(),Курс2!$AC$7:$AC$75)+SUMIF(Курс3!$AL$7:$AL$75,\"=\"&ROW(),Курс3!$AC$7:$AC$75)+SUMIF(Курс4!$AL$7:$AL$75,\"=\"&ROW(),Курс4!$AC$7:$AC$75)+SUMIF(Курс5!$AL$7:$AL$75,\"=\"&ROW(),Курс5!$AC$7:$AC$75)+SUMIF(Курс6!$AL$7:$AL$75,\"=\"&ROW(),Курс6!$AC$7:$AC$75)+SUMIF(Курс7!$AL$7:$AL$75,\"=\"&ROW(),Курс7!$AC$7:$AC$75)","v":0}]
["",null,null,null,null,null,{"$f":"IF($FI96>0,$FW96,SUM(I96:K96)+CJ96+IF(СЭкзаменами,SUMIF(Курс1!$AL$7:$AL$75,\"=\"&ROW(),Курс1!$AA$7:$AA$75)+SUMIF(Курс2!$AL$7:$AL$75,\"=\"&ROW(),Курс2!$AA$7:$AA$75)+SUMIF(Курс3!$AL$7:$AL$75,\"=\"&ROW(),Курс3!$AA$7:$AA$75)+SUMIF(Курс4!$AL$7:$AL$75,\"=\"&ROW(),Курс4!$AA$7:$AA$75)+SUMIF(Курс5!$AL$7:$AL$75,\"=\"&ROW(),Курс5!$AA$7:$AA$75)+SUMIF(Курс6!$AL$7:$AL$75,\"=\"&ROW(),Курс6!$AA$7:$AA$75)+SUMIF(Курс7!$AL$7:$AL$75,\"=\"&ROW(),Курс7!$AA$7:$AA$75),0))","v":0},null,0,0,null,null,null,null,null,null,null,null,null,null,null,null,null,null,null,null,null,null,null,null,null,null,null,null,null,null,null,null,null,null,null,null,null,null,null,null,null,null,null,null,null,null,null,null,null,null,null,null,null,null,null,null,null,null,null,null,null,null,0,0,0,0,0,0,0,null,0,{"$f":"IF(AND(UPPER(LEFT(B96,8))=\"ИТОГОВЫЙ\",TRIM(C96)<>\"\"),1,0)","v":0},{"$f":"IF(SUM(G96:H96)=0,0,IF(SUM(L96:O96,T96:W96,AB96:AE96,AJ96:AM96,AR96:AU96,AZ96:BC96)=0,3,IF(SUM(P96:S96,X96:AA96,AF96:AI96,AN96:AQ96,AV96:AY96,BD96:BG96)=0,1,2)))","v":0},0,0,null,{"$f":"CL96+CP96+CT96+CX96+DB96+DF96+DJ96+DN96+DR96+DV96+DZ96+ED96+CM96+CQ96+CU96+CY96+DC96+DG96+DK96+DO96+DS96+DW96+EA96+EE96","v":0},null,null,null,null,null,{"$f":"SUM(I96:K96)","v":0},0,0,0,0,0,0,0,0,0,0,0,0,0,0,0,0,0,0,0,0,0,0,0,0,0,0,0,0,0,0,0,0,0,0,0,0,0,0,0,0,0,0,0,0,0,0,0,0,0,0,0,0,0,0,0,0,0,0,0,0,null,{"$f":"IF(SUM(L96:O96)>0,1,0)","v":0},{"$f":"IF(SUM(P96:S96)>0,1,0)","v":0},{"$f":"IF(SUM(T96:W96)>0,1,0)","v":0},{"$f":"IF(SUM(X96:AA96)>0,1,0)","v":0},{"$f":"IF(SUM(AB96:AE96)>0,1,0)","v":0},{"$f":"IF(SUM(AF96:AI96)>0,1,0)","v":0},{"$f":"IF(SUM(AJ96:AM96)>0,1,0)","v":0},{"$f":"IF(SUM(AN96:AQ96)>0,1,0)","v":0},{"$f":"IF(SUM(AR96:AU96)>0,1,0)","v":0},{"$f":"IF(SUM(AV96:AY96)>0,1,0)","v":0},{"$f":"IF(SUM(AZ96:BC96)>0,1,0)","v":0},{"$f":"IF(SUM(BD96:BG96)>0,1,0)","v":0},0,0,0,0,0,2,null,null,null,0,{"$f":"SUM($CB$66:$CB96)","v":2},0,null,0,{"$f":"IF(FT96=0,FLOOR(IF(СЭкзаменами,H96,(H96+SUMIF(Курс1!$AL$7:$AL$75,\"=\"&ROW(),Курс1!$AA$7:$AA$75)+SUMIF(Курс2!$AL$7:$AL$75,\"=\"&ROW(),Курс2!$AA$7:$AA$75)+SUMIF(Курс3!$AL$7:$AL$75,\"=\"&ROW(),Курс3!$AA$7:$AA$75)+SUMIF(Курс4!$AL$7:$AL$75,\"=\"&ROW(),Курс4!$AA$7:$AA$75)+SUMIF(Курс5!$AL$7:$AL$75,\"=\"&ROW(),Курс5!$AA$7:$AA$75)+SUMIF(Курс6!$AL$7:$AL$75,\"=\"&ROW(),Курс6!$AA$7:$AA$75)+SUMIF(Курс7!$AL$7:$AL$75,\"=\"&ROW(),Курс7!$AA$7:$AA$75)))/IF(ЧасовВКредите>0,ЧасовВКредите,36),0.5),FT96)","v":0},null,null,null,{"$f":"SUMIF(Курс1!$AL$7:$AL$75,\"=\"&ROW(),Курс1!$AC$7:$AC$75)+SUMIF(Курс2!$AL$7:$AL$75,\"=\"&ROW(),Курс2!$AC$7:$AC$75)+SUMIF(Курс3!$AL$7:$AL$75,\"=\"&ROW(),Курс3!$AC$7:$AC$75)+SUMIF(Курс4!$AL$7:$AL$75,\"=\"&ROW(),Курс4!$AC$7:$AC$75)+SUMIF(Курс5!$AL$7:$AL$75,\"=\"&ROW(),Курс5!$AC$7:$AC$75)+SUMIF(Курс6!$AL$7:$AL$75,\"=\"&ROW(),Курс6!$AC$7:$AC$75)+SUMIF(Курс7!$AL$7:$AL$75,\"=\"&ROW(),Курс7!$AC$7:$AC$75)","v":0}]
["",null,null,null,null,null,{"$f":"IF($FI97>0,$FW97,SUM(I97:K97)+CJ97+IF(СЭкзаменами,SUMIF(Курс1!$AL$7:$AL$75,\"=\"&ROW(),Курс1!$AA$7:$AA$75)+SUMIF(Курс2!$AL$7:$AL$75,\"=\"&ROW(),Курс2!$AA$7:$AA$75)+SUMIF(Курс3!$AL$7:$AL$75,\"=\"&ROW(),Курс3!$AA$7:$AA$75)+SUMIF(Курс4!$AL$7:$AL$75,\"=\"&ROW(),Курс4!$AA$7:$AA$75)+SUMIF(Курс5!$AL$7:$AL$75,\"=\"&ROW(),Курс5!$AA$7:$AA$75)+SUMIF(Курс6!$AL$7:$AL$75,\"=\"&ROW(),Курс6!$AA$7:$AA$75)+SUMIF(Курс7!$AL$7:$AL$75,\"=\"&ROW(),Курс7!$AA$7:$AA$75),0))","v":0},null,0,0,null,null,null,null,null,null,null,null,null,null,null,null,null,null,null,null,null,null,null,null,null,null,null,null,null,null,null,null,null,null,null,null,null,null,null,null,null,null,null,null,null,null,null,null,null,null,null,null,null,null,null,null,null,null,null,null,null,null,0,0,0,0,0,0,0,null,0,{"$f":"IF(AND(UPPER(LEFT(B97,8))=\"ИТОГОВЫЙ\",TRIM(C97)<>\"\"),1,0)","v":0},{"$f":"IF(SUM(G97:H97)=0,0,IF(SUM(L97:O97,T97:W97,AB97:AE97,AJ97:AM97,AR97:AU97,AZ97:BC97)=0,3,IF(SUM(P97:S97,X97:AA97,AF97:AI97,AN97:AQ97,AV97:AY97,BD97:BG97)=0,1,2)))","v":0},0,0,null,{"$f":"CL97+CP97+CT97+CX97+DB97+DF97+DJ97+DN97+DR97+DV97+DZ97+ED97+CM97+CQ97+CU97+CY97+DC97+DG97+DK97+DO97+DS97+DW97+EA97+EE97","v":0},null,null,null,null,null,{"$f":"SUM(I97:K97)","v":0},0,0,0,0,0,0,0,0,0,0,0,0,0,0,0,0,0,0,0,0,0,0,0,0,0,0,0,0,0,0,0,0,0,0,0,0,0,0,0,0,0,0,0,0,0,0,0,0,0,0,0,0,0,0,0,0,0,0,0,0,null,{"$f":"IF(SUM(L97:O97)>0,1,0)","v":0},{"$f":"IF(SUM(P97:S97)>0,1,0)","v":0},{"$f":"IF(SUM(T97:W97)>0,1,0)","v":0},{"$f":"IF(SUM(X97:AA97)>0,1,0)","v":0},{"$f":"IF(SUM(AB97:AE97)>0,1,0)","v":0},{"$f":"IF(SUM(AF97:AI97)>0,1,0)","v":0},{"$f":"IF(SUM(AJ97:AM97)>0,1,0)","v":0},{"$f":"IF(SUM(AN97:AQ97)>0,1,0)","v":0},{"$f":"IF(SUM(AR97:AU97)>0,1,0)","v":0},{"$f":"IF(SUM(AV97:AY97)>0,1,0)","v":0},{"$f":"IF(SUM(AZ97:BC97)>0,1,0)","v":0},{"$f":"IF(SUM(BD97:BG97)>0,1,0)","v":0},{"$f":"IF(SUM(BH97:BK97)>0,1,0)","v":0},{"$f":"IF(SUM(BL97:BO97)>0,1,0)","v":0},0,0,0,2,null,null,null,0,{"$f":"SUM($CB$66:$CB97)","v":2},0,null,0,{"$f":"IF(FT97=0,FLOOR(IF(СЭкзаменами,H97,(H97+SUMIF(Курс1!$AL$7:$AL$75,\"=\"&ROW(),Курс1!$AA$7:$AA$75)+SUMIF(Курс2!$AL$7:$AL$75,\"=\"&ROW(),Курс2!$AA$7:$AA$75)+SUMIF(Курс3!$AL$7:$AL$75,\"=\"&ROW(),Курс3!$AA$7:$AA$75)+SUMIF(Курс4!$AL$7:$AL$75,\"=\"&ROW(),Курс4!$AA$7:$AA$75)+SUMIF(Курс5!$AL$7:$AL$75,\"=\"&ROW(),Курс5!$AA$7:$AA$75)+SUMIF(Курс6!$AL$7:$AL$75,\"=\"&ROW(),Курс6!$AA$7:$AA$75)+SUMIF(Курс7!$AL$7:$AL$75,\"=\"&ROW(),Курс7!$AA$7:$AA$75)))/IF(ЧасовВКредите>0,ЧасовВКредите,36),0.5),FT97)","v":0},null,null,null,{"$f":"SUMIF(Курс1!$AL$7:$AL$75,\"=\"&ROW(),Курс1!$AC$7:$AC$75)+SUMIF(Курс2!$AL$7:$AL$75,\"=\"&ROW(),Курс2!$AC$7:$AC$75)+SUMIF(Курс3!$AL$7:$AL$75,\"=\"&ROW(),Курс3!$AC$7:$AC$75)+SUMIF(Курс4!$AL$7:$AL$75,\"=\"&ROW(),Курс4!$AC$7:$AC$75)+SUMIF(Курс5!$AL$7:$AL$75,\"=\"&ROW(),Курс5!$AC$7:$AC$75)+SUMIF(Курс6!$AL$7:$AL$75,\"=\"&ROW(),Курс6!$AC$7:$AC$75)+SUMIF(Курс7!$AL$7:$AL$75,\"=\"&ROW(),Курс7!$AC$7:$AC$75)","v":0}]
["",null,null,null,null,null,{"$f":"IF($FI98>0,$FW98,SUM(I98:K98)+CJ98+IF(СЭкзаменами,SUMIF(Курс1!$AL$7:$AL$75,\"=\"&ROW(),Курс1!$AA$7:$AA$75)+SUMIF(Курс2!$AL$7:$AL$75,\"=\"&ROW(),Курс2!$AA$7:$AA$75)+SUMIF(Курс3!$AL$7:$AL$75,\"=\"&ROW(),Курс3!$AA$7:$AA$75)+SUMIF(Курс4!$AL$7:$AL$75,\"=\"&ROW(),Курс4!$AA$7:$AA$75)+SUMIF(Курс5!$AL$7:$AL$75,\"=\"&ROW(),Курс5!$AA$7:$AA$75)+SUMIF(Курс6!$AL$7:$AL$75,\"=\"&ROW(),Курс6!$AA$7:$AA$75)+SUMIF(Курс7!$AL$7:$AL$75,\"=\"&ROW(),Курс7!$AA$7:$AA$75),0))","v":0},null,0,0,null,null,null,null,null,null,null,null,null,null,null,null,null,null,null,null,null,null,null,null,null,null,null,null,null,null,null,null,null,null,null,null,null,null,null,null,null,null,null,null,null,null,null,null,null,null,null,null,null,null,null,null,null,null,null,null,null,null,0,0,0,0,0,0,0,null,0,{"$f":"IF(AND(UPPER(LEFT(B98,8))=\"ИТОГОВЫЙ\",TRIM(C98)<>\"\"),1,0)","v":0},{"$f":"IF(SUM(G98:H98)=0,0,IF(SUM(L98:O98,T98:W98,AB98:AE98,AJ98:AM98,AR98:AU98,AZ98:BC98)=0,3,IF(SUM(P98:S98,X98:AA98,AF98:AI98,AN98:AQ98,AV98:AY98,BD98:BG98)=0,1,2)))","v":0},0,0,null,{"$f":"CL98+CP98+CT98+CX98+DB98+DF98+DJ98+DN98+DR98+DV98+DZ98+ED98+CM98+CQ98+CU98+CY98+DC98+DG98+DK98+DO98+DS98+DW98+EA98+EE98","v":0},null,null,null,null,null,{"$f":"SUM(I98:K98)","v":0},0,0,0,0,0,0,0,0,0,0,0,0,0,0,0,0,0,0,0,0,0,0,0,0,0,0,0,0,0,0,0,0,0,0,0,0,0,0,0,0,0,0,0,0,0,0,0,0,0,0,0,0,0,0,0,0,0,0,0,0,null,{"$f":"IF(SUM(L98:O98)>0,1,0)","v":0},{"$f":"IF(SUM(P98:S98)>0,1,0)","v":0},{"$f":"IF(SUM(T98:W98)>0,1,0)","v":0},{"$f":"IF(SUM(X98:AA98)>0,1,0)","v":0},{"$f":"IF(SUM(AB98:AE98)>0,1,0)","v":0},{"$f":"IF(SUM(AF98:AI98)>0,1,0)","v":0},{"$f":"IF(SUM(AJ98:AM98)>0,1,0)","v":0},{"$f":"IF(SUM(AN98:AQ98)>0,1,0)","v":0},{"$f":"IF(SUM(AR98:AU98)>0,1,0)","v":0},{"$f":"IF(SUM(AV98:AY98)>0,1,0)","v":0},{"$f":"IF(SUM(AZ98:BC98)>0,1,0)","v":0},{"$f":"IF(SUM(BD98:BG98)>0,1,0)","v":0},{"$f":"IF(SUM(BH98:BK98)>0,1,0)","v":0},{"$f":"IF(SUM(BL98:BO98)>0,1,0)","v":0},0,0,0,2,null,null,null,0,{"$f":"SUM($CB$66:$CB98)","v":2},0,null,0,{"$f":"IF(FT98=0,FLOOR(IF(СЭкзаменами,H98,(H98+SUMIF(Курс1!$AL$7:$AL$75,\"=\"&ROW(),Курс1!$AA$7:$AA$75)+SUMIF(Курс2!$AL$7:$AL$75,\"=\"&ROW(),Курс2!$AA$7:$AA$75)+SUMIF(Курс3!$AL$7:$AL$75,\"=\"&ROW(),Курс3!$AA$7:$AA$75)+SUMIF(Курс4!$AL$7:$AL$75,\"=\"&ROW(),Курс4!$AA$7:$AA$75)+SUMIF(Курс5!$AL$7:$AL$75,\"=\"&ROW(),Курс5!$AA$7:$AA$75)+SUMIF(Курс6!$AL$7:$AL$75,\"=\"&ROW(),Курс6!$AA$7:$AA$75)+SUMIF(Курс7!$AL$7:$AL$75,\"=\"&ROW(),Курс7!$AA$7:$AA$75)))/IF(ЧасовВКредите>0,ЧасовВКредите,36),0.5),FT98)","v":0},null,null,null,{"$f":"SUMIF(Курс1!$AL$7:$AL$75,\"=\"&ROW(),Курс1!$AC$7:$AC$75)+SUMIF(Курс2!$AL$7:$AL$75,\"=\"&ROW(),Курс2!$AC$7:$AC$75)+SUMIF(Курс3!$AL$7:$AL$75,\"=\"&ROW(),Курс3!$AC$7:$AC$75)+SUMIF(Курс4!$AL$7:$AL$75,\"=\"&ROW(),Курс4!$AC$7:$AC$75)+SUMIF(Курс5!$AL$7:$AL$75,\"=\"&ROW(),Курс5!$AC$7:$AC$75)+SUMIF(Курс6!$AL$7:$AL$75,\"=\"&ROW(),Курс6!$AC$7:$AC$75)+SUMIF(Курс7!$AL$7:$AL$75,\"=\"&ROW(),Курс7!$AC$7:$AC$75)","v":0}]
["",null,null,null,null,null,{"$f":"IF($FI99>0,$FW99,SUM(I99:K99)+CJ99+IF(СЭкзаменами,SUMIF(Курс1!$AL$7:$AL$75,\"=\"&ROW(),Курс1!$AA$7:$AA$75)+SUMIF(Курс2!$AL$7:$AL$75,\"=\"&ROW(),Курс2!$AA$7:$AA$75)+SUMIF(Курс3!$AL$7:$AL$75,\"=\"&ROW(),Курс3!$AA$7:$AA$75)+SUMIF(Курс4!$AL$7:$AL$75,\"=\"&ROW(),Курс4!$AA$7:$AA$75)+SUMIF(Курс5!$AL$7:$AL$75,\"=\"&ROW(),Курс5!$AA$7:$AA$75)+SUMIF(Курс6!$AL$7:$AL$75,\"=\"&ROW(),Курс6!$AA$7:$AA$75)+SUMIF(Курс7!$AL$7:$AL$75,\"=\"&ROW(),Курс7!$AA$7:$AA$75),0))","v":0},null,0,0,null,null,null,null,null,null,null,null,null,null,null,null,null,null,null,null,null,null,null,null,null,null,null,null,null,null,null,null,null,null,null,null,null,null,null,null,null,null,null,null,null,null,null,null,null,null,null,null,null,null,null,null,null,null,null,null,null,null,0,0,0,0,0,0,0,null,0,{"$f":"IF(AND(UPPER(LEFT(B99,8))=\"ИТОГОВЫЙ\",TRIM(C99)<>\"\"),1,0)","v":0},{"$f":"IF(SUM(G99:H99)=0,0,IF(SUM(L99:O99,T99:W99,AB99:AE99,AJ99:AM99,AR99:AU99,AZ99:BC99)=0,3,IF(SUM(P99:S99,X99:AA99,AF99:AI99,AN99:AQ99,AV99:AY99,BD99:BG99)=0,1,2)))","v":0},0,{"$f":"IF(OR(CA99>0,TRIM(B99)<>\"\"),1,0)","v":0},null,{"$f":"CL99+CP99+CT99+CX99+DB99+DF99+DJ99+DN99+DR99+DV99+DZ99+ED99+CM99+CQ99+CU99+CY99+DC99+DG99+DK99+DO99+DS99+DW99+EA99+EE99","v":0},null,null,null,null,null,{"$f":"SUM(I99:K99)","v":0},0,0,0,0,0,0,0,0,0,0,0,0,0,0,0,0,0,0,0,0,0,0,0,0,0,0,0,0,0,0,0,0,0,0,0,0,0,0,0,0,0,0,0,0,0,0,0,0,0,0,0,0,0,0,0,0,0,0,0,0,null,{"$f":"IF(SUM(L99:O99)>0,1,0)","v":0},{"$f":"IF(SUM(P99:S99)>0,1,0)","v":0},{"$f":"IF(SUM(T99:W99)>0,1,0)","v":0},{"$f":"IF(SUM(X99:AA99)>0,1,0)","v":0},{"$f":"IF(SUM(AB99:AE99)>0,1,0)","v":0},{"$f":"IF(SUM(AF99:AI99)>0,1,0)","v":0},{"$f":"IF(SUM(AJ99:AM99)>0,1,0)","v":0},{"$f":"IF(SUM(AN99:AQ99)>0,1,0)","v":0},{"$f":"IF(SUM(AR99:AU99)>0,1,0)","v":0},{"$f":"IF(SUM(AV99:AY99)>0,1,0)","v":0},{"$f":"IF(SUM(AZ99:BC99)>0,1,0)","v":0},{"$f":"IF(SUM(BD99:BG99)>0,1,0)","v":0},{"$f":"IF(SUM(BH99:BK99)>0,1,0)","v":0},{"$f":"IF(SUM(BL99:BO99)>0,1,0)","v":0},0,0,0,2,null,null,null,0,{"$f":"SUM($CB$66:$CB99)","v":2},0,null,0,{"$f":"IF(FT99=0,FLOOR(IF(СЭкзаменами,H99,(H99+SUMIF(Курс1!$AL$7:$AL$75,\"=\"&ROW(),Курс1!$AA$7:$AA$75)+SUMIF(Курс2!$AL$7:$AL$75,\"=\"&ROW(),Курс2!$AA$7:$AA$75)+SUMIF(Курс3!$AL$7:$AL$75,\"=\"&ROW(),Курс3!$AA$7:$AA$75)+SUMIF(Курс4!$AL$7:$AL$75,\"=\"&ROW(),Курс4!$AA$7:$AA$75)+SUMIF(Курс5!$AL$7:$AL$75,\"=\"&ROW(),Курс5!$AA$7:$AA$75)+SUMIF(Курс6!$AL$7:$AL$75,\"=\"&ROW(),Курс6!$AA$7:$AA$75)+SUMIF(Курс7!$AL$7:$AL$75,\"=\"&ROW(),Курс7!$AA$7:$AA$75)))/IF(ЧасовВКредите>0,ЧасовВКредите,36),0.5),FT99)","v":0},null,null,null,{"$f":"SUMIF(Курс1!$AL$7:$AL$75,\"=\"&ROW(),Курс1!$AC$7:$AC$75)+SUMIF(Курс2!$AL$7:$AL$75,\"=\"&ROW(),Курс2!$AC$7:$AC$75)+SUMIF(Курс3!$AL$7:$AL$75,\"=\"&ROW(),Курс3!$AC$7:$AC$75)+SUMIF(Курс4!$AL$7:$AL$75,\"=\"&ROW(),Курс4!$AC$7:$AC$75)+SUMIF(Курс5!$AL$7:$AL$75,\"=\"&ROW(),Курс5!$AC$7:$AC$75)+SUMIF(Курс6!$AL$7:$AL$75,\"=\"&ROW(),Курс6!$AC$7:$AC$75)+SUMIF(Курс7!$AL$7:$AL$75,\"=\"&ROW(),Курс7!$AC$7:$AC$75)","v":0}]
[{"$f":"IF(isFGOS,\"Б: [\"&Свод!E19&\";\"&Свод!F19&\"]\",IF(H232>0,IF(OR(A5<>H232,SUM(H66:H99)/H232+(H232-H100)/H232>Рабочий!A95),\"!!!\",\"\"),\"\"))","v":""},{"$f":"IF(isFGOS,\"В: [\"&Свод!E20&\";\"&Свод!F20&\"]\",IF(AND(SUM($C100:$K100)<>0,G232>0),\"Всего:  Ф=\"&TEXT(BQ100,\"0%\")&\"   Р=\"&TEXT(BR100,\"0%\")&\"  В=\"&TEXT(BS100,\"0%\"),\"\"))","v":"Всего:  Ф=70%   Р=15%  В=15%"},{"$f":"FormKontroljaInRange(C6:C99)","v":7},{"$f":"FormKontroljaInRange(D6:D99)","v":13},{"$f":"FormKontroljaInRange(E6:E99)","v":0},{"$f":"FormKontroljaInRange(F6:F99)","v":0},{"$f":"SUMIF($FI6:$FI99,\"=0\",G6:G99)","v":1530},1530,972,0,558,8,0,82,0,96,0,156,0,62,0,136,0,96,0,156,0,4,0,50,0,4,0,38,0,0,0,54,{"$f":"SUMIF($FI6:$FI99,\"=0\",AM6:AM99)","v":0},0,0,30,0,0,0,0,0,0,0,0,0,0,0,0,0,0,0,0,0,{"$f":"SUMIF($FI6:$FI99,\"=0\",BH6:BH99)","v":0},0,0,0,0,0,0,0,null,{"$f":"IF(G232>0,SUMIF($FI6:$FI65,\"=0\",G6:G65)/G232,0)","v":0.7},{"$f":"IF(G232>0,SUMIF($FI66:$FI99,\"=0\",G66:G99)/G232,0)","v":0.15},{"$f":"1-ROUND(BQ100,2)-ROUND(BR100,2)","v":0.15000000000000005},null,null,null,null,null,null,null,{"$f":"IF(AND(Рабочий!$C$13=1,TRIM(B100)<>\"\"),2,0)","v":2},{"$f":"IF(G100>0,1,0)","v":1},1,null,null,{"$f":"SUMIF($FI6:$FI99,\"=0\",EP6:EP99)","v":0},{"$f":"SUMIF($FI6:$FI99,\"=0\",EQ6:EQ99)","v":0},{"$f":"SUMIF($FI6:$FI99,\"=0\",ER6:ER99)","v":0},{"$f":"SUMIF($FI6:$FI99,\"=0\",ES6:ES99)","v":0},{"$f":"SUMIF($FI6:$FI99,\"=0\",CJ6:CJ99)","v":0},{"$f":"SUMIF($FI6:$FI99,\"=0\",CK6:CK99)","v":1530},null,null,null,null,null,null,null,null,null,null,null,null,null,null,null,null,null,null,null,null,null,null,null,null,null,null,null,null,null,null,null,null,null,null,null,null,null,null,null,null,null,null,null,null,null,null,null,null,null,null,null,null,null,null,null,null,null,null,null,null,null,null,null,null,null,null,null,null,null,null,null,null,null,null,null,0,0,null,null,null,null,null,0,null,null,null,{"$f":"SUMIF($FI6:$FI99,\"=0\",FT6:FT99)","v":0},{"$f":"SUMIF($FI6:$FI99,\"=0\",FU6:FU99)-SUMIF(План!$FK6:$FK99,\"=1\",План!FU6:FU99)","v":35},null,null,{"$f":"SUMIF($FI6:$FI99,\"=0\",FX6:FX99)","v":0},{"$f":"SUMIF($FI6:$FI99,\"=0\",FY6:FY99)-SUMIF(План!$FK6:$FK99,\"=1\",План!FY6:FY99)","v":35}]
[{"$f":"IF(isFGOS,\"Б=\"&FU5,\"\")","v":""},{"$f":"IF(isFGOS,\"В=\"&FU232-FU5,\"ГОС: \"&TEXT(SUMIF($FI6:$FI65,\"=0\",H6:H65),\"0\")&\"+\"&TEXT(SUMIF($FI66:$FI99,\"=0\",H66:H99),\"0\")&\"+\"&TEXT(H232-H100,\"0\")&\"=\"&TEXT(H232,\"0\")&IF(A5<>H232,\"<>\"&TEXT(A5,\"0\"),\"\"))","v":"ГОС: 1260+270+270=1800"},null,null,null,null,{"$f":"SUM(I101:K101)","v":1},{"$f":"IF(H100=0,\"\",IF(ABS(G100-H100)/H100<=0.05,\"OK\",\">5%\"))","v":"OK"},{"$f":"IF($G100>0,I100/$G100,0)","v":0.63529411764705879},{"$f":"IF($G100>0,J100/$G100,0)","v":0},{"$f":"IF($G100>0,K100/$G100,0)","v":0.36470588235294116},null,null,null,null,null,null,null,null,null,null,null,null,null,null,null,null,null,null,null,null,null,null,null,null,null,null,null,null,null,null,null,null,null,null,null,null,null,null,null,null,null,null,null,null,null,null,null,null,null,null,null,null,null,null,null,null,null,null,null,null,null,null,null,null,null,null,null,0,{"$f":"IF(G101>0,1,0)","v":1},{"$f":"IF(OR(CA101>0,TRIM(B101)<>\"\"),1,0)","v":1},null,null,null,null,null,null,null,null,null,null,null,null,null,null,null,null,null,null,null,null,null,null,null,null,null,null,null,null,null,null,null,null,null,null,null,null,null,null,null,null,null,null,null,null,null,null,null,null,null,null,null,null,null,null,null,null,null,null,null,null,null,null,null,null,null,null,null,null,null,null,null,null,null,null,null,null,null,null,null,null,null,null,null,0,0,null,null,null,null,null,0,null,null,null,null,{"$f":"IF(FU232-FU5>0,FU102/(FU232-FU5),0)","v":0.45161290322580644}]
[null,{"$f":"IF(B110<>\"\",B5&IF(isFGOS,\".ДВ1 Дисциплины по выбору\",\".В1 Дисциплины по выбору\"),\"\")","v":"ГСЭ.В1 Дисциплины по выбору"},null,null,null,null,null,null,null,null,null,null,null,null,null,null,null,null,null,null,null,null,null,null,null,null,null,null,null,null,null,null,null,null,null,null,null,null,null,null,null,null,null,null,null,null,null,null,null,null,null,null,null,null,null,null,null,null,null,null,null,null,null,null,null,null,null,null,null,null,null,null,null,null,null,null,null,null,{"$f":"CA103","v":1},{"$f":"IF(G102>0,1,0)","v":0},1,null,null,null,null,null,null,null,null,null,null,null,null,null,null,null,null,null,null,null,null,null,null,null,null,null,null,null,null,null,null,null,null,null,null,null,null,null,null,null,null,null,null,null,null,null,null,null,null,null,null,null,null,null,null,null,null,null,null,null,null,null,null,null,null,null,null,null,null,null,{"$f":"EU103","v":1},{"$f":"EV103","v":0},0,0,0,0,0,0,0,0,0,0,0,0,0,0,null,null,null,null,null,0,null,null,null,null,{"$f":"FU232-FU5-SUMIF($FI66:$FI99,\"=0\",FU66:FU99)","v":7}]
[{"$f":"IF(B103<>\"\",\"1\",\"\")","v":"1"},"Русский язык и культура речи",null,"1",null,null,{"$f":"IF($FI103>0,$FW103,SUM(I103:K103)+CJ103+IF(СЭкзаменами,SUMIF(Курс1!$AL$7:$AL$75,\"=\"&ROW(),Курс1!$AA$7:$AA$75)+SUMIF(Курс2!$AL$7:$AL$75,\"=\"&ROW(),Курс2!$AA$7:$AA$75)+SUMIF(Курс3!$AL$7:$AL$75,\"=\"&ROW(),Курс3!$AA$7:$AA$75)+SUMIF(Курс4!$AL$7:$AL$75,\"=\"&ROW(),Курс4!$AA$7:$AA$75)+SUMIF(Курс5!$AL$7:$AL$75,\"=\"&ROW(),Курс5!$AA$7:$AA$75)+SUMIF(Курс6!$AL$7:$AL$75,\"=\"&ROW(),Курс6!$AA$7:$AA$75)+SUMIF(Курс7!$AL$7:$AL$75,\"=\"&ROW(),Курс7!$AA$7:$AA$75),0))","v":68},68,{"$f":"SUM(L103:N103)+SUM(P103:R103)+SUM(T103:V103)+SUM(X103:Z103)+SUM(AB103:AD103)+SUM(AF103:AH103)+SUM(AJ103:AL103)+SUM(AN103:AP103)+SUM(AR103:AT103)+SUM(AV103:AX103)+SUM(AZ103:BB103)+SUM(BD103:BF103)+SUM(BH103:BJ103)+SUM(BL103:BN103)","v":36},{"$f":"O103+S103+W103+AA103+AE103+AI103+AM103+AQ103+AU103+AY103+BC103+BG103+BK103+BO103","v":0},32,18,null,18,null,null,null,null,null,null,null,null,null,null,null,null,null,null,null,null,null,null,null,null,null,null,null,null,null,null,null,null,null,null,null,null,null,null,null,null,null,null,null,null,null,null,null,null,null,null,null,null,null,null,null,null,null,4,{"$f":"IF(SUM($L103:$S103)>0,SUM($L103:$S103)/SUM($L103:$BO103),0)","v":1},{"$f":"IF(SUM($T103:$AA103)>0,SUM($T103:$AA103)/SUM($L103:$BO103),0)","v":0},{"$f":"IF(SUM($AB103:$AI103)>0,SUM($AB103:$AI103)/SUM($L103:$BO103),0)","v":0},{"$f":"IF(SUM($AJ103:$AQ103)>0,SUM($AJ103:$AQ103)/SUM($L103:$BO103),0)","v":0},{"$f":"IF(SUM($AR103:$AY103)>0,SUM($AR103:$AY103)/SUM($L103:$BO103),0)","v":0},{"$f":"IF(SUM($AZ103:$BG103)>0,SUM($AZ103:$BG103)/SUM($L103:$BO103),0)","v":0},{"$f":"IF(SUM($BH103:$BO103)>0,SUM($BH103:$BO103)/SUM($L103:$BO103),0)","v":0},0,{"$f":"IF(7-COUNTBLANK(A103:$A109)<>0,($H103*MAX(1,$BX103)*($BQ103*Конт1+$BR103*Конт2+$BS103*Конт3+$BT103*Конт4+$BU103*Конт5+$BV103*Конт6)/IF(СреднееКСГ>0,СреднееКСГ,21)+((CL103+CP103)*Экз+(CM103+CQ103)*Зач+(CN103+CR103)*Проект+(CO103+CS103)*Работа)*Конт1+((CT103+CX103)*Экз+(CU103+CY103)*Зач+(CV103+CZ103)*Проект+(CW103+DA103)*Работа)*Конт2+((DB103+DF103)*Экз+(DC103+DG103)*Зач+(DD103+DH103)*Проект+(DE103+DI103)*Работа)*Конт3+((DJ103+DN103)*Экз+(DK103+DO103)*Зач+(DL103+DP103)*Проект+(DM103+DQ103)*Работа)*Конт4+((DR103+DV103)*Экз+(DO103+DW103)*Зач+(DT103+DX103)*Проект+(DU103+DY103)*Работа)*Конт5+((DZ103+ED103)*Экз+(EA103+EE103)*Зач+(EB103+EF103)*Проект+(EC103+EG103)*Работа)*Конт6)/(7-COUNTBLANK(A103:$A109)),0)","v":41.857142857142854},null,{"$f":"IF(SUM(G103:H103)=0,0,IF(SUM(L103:O103,T103:W103,AB103:AE103,AJ103:AM103,AR103:AU103,AZ103:BC103)=0,3,IF(SUM(P103:S103,X103:AA103,AF103:AI103,AN103:AQ103,AV103:AY103,BD103:BG103)=0,1,2)))","v":1},1,1,null,{"$f":"CL103+CP103+CT103+CX103+DB103+DF103+DJ103+DN103+DR103+DV103+DZ103+ED103+CM103+CQ103+CU103+CY103+DC103+DG103+DK103+DO103+DS103+DW103+EA103+EE103","v":1},null,null,null,null,0,{"$f":"SUM(I103:K103)","v":68},{"$f":"IF(OR($FI103=1,$FP103=1),0,IF(ISNUMBER(FIND(CL$2,$C103,1)),MAX(1-$BZ103,0),0))","v":0},{"$f":"IF(OR($FI103=1,$FP103=1),0,IF(ISNUMBER(FIND(CL$2,$D103,1)),1,0))","v":1},{"$f":"IF(ISNUMBER(FIND(CL$2,$E103,1)),IF(OR(FI103=1,$FP103=1),0,1),0)","v":0},{"$f":"IF(ISNUMBER(FIND(CL$2,$F103,1)),IF(OR(FI103=1,$FP103=1),0,1),0)","v":0},{"$f":"IF(OR($FI103=1,$FP103=1),0,IF(ISNUMBER(FIND(CP$2,$C103,1)),MAX(1-$BZ103,0),0))","v":0},{"$f":"IF(OR($FI103=1,$FP103=1),0,IF(ISNUMBER(FIND(CP$2,$D103,1)),1,0))","v":0},{"$f":"IF(ISNUMBER(FIND(CP$2,$E103,1)),IF(OR(FI103=1,$FP103=1),0,1),0)","v":0},{"$f":"IF(ISNUMBER(FIND(CP$2,$F103,1)),IF(OR($FI103=1,$FP103=1),0,1),0)","v":0},{"$f":"IF(OR($FI103=1,$FP103=1),0,IF(ISNUMBER(FIND(CT$2,$C103,1)),MAX(1-$BZ103,0),0))","v":0},{"$f":"IF(OR($FI103=1,$FP103=1),0,IF(ISNUMBER(FIND(CT$2,$D103,1)),1,0))","v":0},{"$f":"IF(ISNUMBER(FIND(CT$2,$E103,1)),IF(OR($FI103=1,$FP103=1),0,1),0)","v":0},{"$f":"IF(ISNUMBER(FIND(CT$2,$F103,1)),IF(OR($FI103=1,$FP103=1),0,1),0)","v":0},{"$f":"IF(OR($FI103=1,$FP103=1),0,IF(ISNUMBER(FIND(CX$2,$C103,1)),MAX(1-$BZ103,0),0))","v":0},{"$f":"IF(OR($FI103=1,$FP103=1),0,IF(ISNUMBER(FIND(CX$2,$D103,1)),1,0))","v":0},{"$f":"IF(ISNUMBER(FIND(CX$2,$E103,1)),IF(OR($FI103=1,$FP103=1),0,1),0)","v":0},{"$f":"IF(ISNUMBER(FIND(CX$2,$F103,1)),IF(OR($FI103=1,$FP103=1),0,1),0)","v":0},{"$f":"IF(OR($FI103=1,$FP103=1),0,IF(ISNUMBER(FIND(DB$2,$C103,1)),MAX(1-$BZ103,0),0))","v":0},{"$f":"IF(OR($FI103=1,$FP103=1),0,IF(ISNUMBER(FIND(DB$2,$D103,1)),1,0))","v":0},{"$f":"IF(ISNUMBER(FIND(DB$2,$E103,1)),IF(OR($FI103=1,$FP103=1),0,1),0)","v":0},{"$f":"IF(ISNUMBER(FIND(DB$2,$F103,1)),IF(OR($FI103=1,$FP103=1),0,1),0)","v":0},{"$f":"IF(OR($FI103=1,$FP103=1),0,IF(ISNUMBER(FIND(DF$2,$C103,1)),MAX(1-$BZ103,0),0))","v":0},{"$f":"IF(OR($FI103=1,$FP103=1),0,IF(ISNUMBER(FIND(DF$2,$D103,1)),1,0))","v":0},{"$f":"IF(ISNUMBER(FIND(DF$2,$E103,1)),IF(OR($FI103=1,$FP103=1),0,1),0)","v":0},{"$f":"IF(ISNUMBER(FIND(DF$2,$F103,1)),IF(OR($FI103=1,$FP103=1),0,1),0)","v":0},{"$f":"IF(OR($FI103=1,$FP103=1),0,IF(ISNUMBER(FIND(DJ$2,$C103,1)),MAX(1-$BZ103,0),0))","v":0},{"$f":"IF(OR($FI103=1,$FP103=1),0,IF(ISNUMBER(FIND(DJ$2,$D103,1)),1,0))","v":0},{"$f":"IF(ISNUMBER(FIND(DJ$2,$E103,1)),IF(OR($FI103=1,$FP103=1),0,1),0)","v":0},{"$f":"IF(ISNUMBER(FIND(DJ$2,$F103,1)),IF(OR($FI103=1,$FP103=1),0,1),0)","v":0},{"$f":"IF(OR($FI103=1,$FP103=1),0,IF(ISNUMBER(FIND(DN$2,$C103,1)),MAX(1-$BZ103,0),0))","v":0},{"$f":"IF(OR($FI103=1,$FP103=1),0,IF(ISNUMBER(FIND(DN$2,$D103,1)),1,0))","v":0},{"$f":"IF(ISNUMBER(FIND(DN$2,$E103,1)),IF(OR($FI103=1,$FP103=1),0,1),0)","v":0},{"$f":"IF(ISNUMBER(FIND(DN$2,$F103,1)),IF(OR($FI103=1,$FP103=1),0,1),0)","v":0},{"$f":"IF(OR($FI103=1,$FP103=1),0,IF(ISNUMBER(FIND(DR$2,$C103,1)),MAX(1-$BZ103,0),0))","v":0},{"$f":"IF(OR($FI103=1,$FP103=1),0,IF(ISNUMBER(FIND(DR$2,$D103,1)),1,0))","v":0},{"$f":"IF(ISNUMBER(FIND(DR$2,$E103,1)),IF(OR($FI103=1,$FP103=1),0,1),0)","v":0},{"$f":"IF(ISNUMBER(FIND(DR$2,$F103,1)),IF(OR($FI103=1,$FP103=1),0,1),0)","v":0},{"$f":"IF(OR($FI103=1,$FP103=1),0,IF(ISNUMBER(FIND(DV$2,$C103,1)),MAX(1-$BZ103,0),0))","v":0},{"$f":"IF(OR($FI103=1,$FP103=1),0,IF(ISNUMBER(FIND(DV$2,$D103,1)),1,0))","v":0},{"$f":"IF(ISNUMBER(FIND(DV$2,$E103,1)),IF(OR($FI103=1,$FP103=1),0,1),0)","v":0},{"$f":"IF(ISNUMBER(FIND(DV$2,$F103,1)),IF(OR($FI103=1,$FP103=1),0,1),0)","v":0},{"$f":"IF(OR($FI103=1,$FP103=1),0,IF(ISNUMBER(FIND(DZ$2,$C103,1)),MAX(1-$BZ103,0),0))","v":0},{"$f":"IF(OR($FI103=1,$FP103=1),0,IF(ISNUMBER(FIND(DZ$2,$D103,1)),1,0))","v":0},{"$f":"IF(ISNUMBER(FIND(DZ$2,$E103,1)),IF(OR($FI103=1,$FP103=1),0,1),0)","v":0},{"$f":"IF(ISNUMBER(FIND(DZ$2,$F103,1)),IF(OR($FI103=1,$FP103=1),0,1),0)","v":0},{"$f":"IF(OR($FI103=1,$FP103=1),0,IF(ISNUMBER(FIND(ED$2,$C103,1)),MAX(1-$BZ103,0),0))","v":0},{"$f":"IF(OR($FI103=1,$FP103=1),0,IF(ISNUMBER(FIND(ED$2,$D103,1)),1,0))","v":0},{"$f":"IF(ISNUMBER(FIND(ED$2,$E103,1)),IF(OR($FI103=1,$FP103=1),0,1),0)","v":0},{"$f":"IF(ISNUMBER(FIND(ED$2,$F103,1)),IF(OR($FI103=1,$FP103=1),0,1),0)","v":0},{"$f":"IF(OR($FI103=1,$FP103=1),0,IF(ISNUMBER(FIND(EH$2,$C103,1)),MAX(1-$BZ103,0),0))","v":0},{"$f":"IF(OR($FI103=1,$FP103=1),0,IF(ISNUMBER(FIND(EH$2,$D103,1)),1,0))","v":0},{"$f":"IF(ISNUMBER(FIND(EH$2,$E103,1)),IF(OR($FI103=1,$FP103=1),0,1),0)","v":0},{"$f":"IF(ISNUMBER(FIND(EH$2,$F103,1)),IF(OR($FI103=1,$FP103=1),0,1),0)","v":0},{"$f":"IF(OR($FI103=1,$FP103=1),0,IF(ISNUMBER(FIND(EL$2,$C103,1)),MAX(1-$BZ103,0),0))","v":0},{"$f":"IF(OR($FI103=1,$FP103=1),0,IF(ISNUMBER(FIND(EL$2,$D103,1)),1,0))","v":0},{"$f":"IF(ISNUMBER(FIND(EL$2,$E103,1)),IF(OR($FI103=1,$FP103=1),0,1),0)","v":0},{"$f":"IF(ISNUMBER(FIND(EL$2,$F103,1)),IF(OR($FI103=1,$FP103=1),0,1),0)","v":0},{"$f":"IF(OR($FI103=1,$FP103=1),0,LEN(TRIM(CF103)))","v":0},{"$f":"IF(OR($FI103=1,$FP103=1),0,LEN(TRIM(CG103)))","v":0},{"$f":"FormKontroljaInRange(CH103)","v":0},{"$f":"IF(OR($FI103=1,$FP103=1),0,LEN(TRIM(CI103)))","v":0},null,{"$f":"IF(SUM(L103:O103)>0,1,0)","v":1},{"$f":"IF(SUM(P103:S103)>0,1,0)","v":0},{"$f":"IF(SUM(T103:W103)>0,1,0)","v":0},{"$f":"IF(SUM(X103:AA103)>0,1,0)","v":0},{"$f":"IF(SUM(AB103:AE103)>0,1,0)","v":0},{"$f":"IF(SUM(AF103:AI103)>0,1,0)","v":0},{"$f":"IF(SUM(AJ103:AM103)>0,1,0)","v":0},{"$f":"IF(SUM(AN103:AQ103)>0,1,0)","v":0},{"$f":"IF(SUM(AR103:AU103)>0,1,0)","v":0},{"$f":"IF(SUM(AV103:AY103)>0,1,0)","v":0},{"$f":"IF(SUM(AZ103:BC103)>0,1,0)","v":0},{"$f":"IF(SUM(BD103:BG103)>0,1,0)","v":0},{"$f":"IF(SUM(BH103:BK103)>0,1,0)","v":0},{"$f":"IF(SUM(BL103:BO103)>0,1,0)","v":0},0,0,null,3,null,null,null,0,null,null,0,0,{"$f":"IF(FT103=0,FLOOR(IF(СЭкзаменами,H103,(H103+SUMIF(Курс1!$AL$7:$AL$75,\"=\"&ROW(),Курс1!$AA$7:$AA$75)+SUMIF(Курс2!$AL$7:$AL$75,\"=\"&ROW(),Курс2!$AA$7:$AA$75)+SUMIF(Курс3!$AL$7:$AL$75,\"=\"&ROW(),Курс3!$AA$7:$AA$75)+SUMIF(Курс4!$AL$7:$AL$75,\"=\"&ROW(),Курс4!$AA$7:$AA$75)+SUMIF(Курс5!$AL$7:$AL$75,\"=\"&ROW(),Курс5!$AA$7:$AA$75)+SUMIF(Курс6!$AL$7:$AL$75,\"=\"&ROW(),Курс6!$AA$7:$AA$75)+SUMIF(Курс7!$AL$7:$AL$75,\"=\"&ROW(),Курс7!$AA$7:$AA$75)))/IF(ЧасовВКредите>0,ЧасовВКредите,36),0.5),FT103)","v":1.5},"",null,0,{"$f":"SUMIF(Курс1!$AL$7:$AL$75,\"=\"&ROW(),Курс1!$AC$7:$AC$75)+SUMIF(Курс2!$AL$7:$AL$75,\"=\"&ROW(),Курс2!$AC$7:$AC$75)+SUMIF(Курс3!$AL$7:$AL$75,\"=\"&ROW(),Курс3!$AC$7:$AC$75)+SUMIF(Курс4!$AL$7:$AL$75,\"=\"&ROW(),Курс4!$AC$7:$AC$75)+SUMIF(Курс5!$AL$7:$AL$75,\"=\"&ROW(),Курс5!$AC$7:$AC$75)+SUMIF(Курс6!$AL$7:$AL$75,\"=\"&ROW(),Курс6!$AC$7:$AC$75)+SUMIF(Курс7!$AL$7:$AL$75,\"=\"&ROW(),Курс7!$AC$7:$AC$75)","v":1.5}]
[{"$f":"IF(B104<>\"\",\"2\",\"\")","v":"2"},"История Поволжья и Самарской области",{"$f":"IF($B104<>\"\",C103,\"\")","v":0},{"$f":"IF($B104<>\"\",D103,\"\")","v":"1"},{"$f":"IF($B104<>\"\",E103,\"\")","v":0},{"$f":"IF($B104<>\"\",F103,\"\")","v":0},{"$f":"IF($B104<>\"\",G103,0)","v":68},68,36,0,32,18,0,18,0,0,0,0,0,0,0,0,0,0,0,0,0,0,0,0,0,0,0,0,0,0,0,0,{"$f":"IF($B104<>\"\",AM103,0)","v":0},0,0,0,0,0,0,0,0,0,0,0,0,0,0,0,0,0,0,0,0,{"$f":"IF($B104<>\"\",BH103,0)","v":0},0,0,0,0,0,0,0,1,1,0,0,0,0,0,0,0,{"$f":"IF($B104<>\"\",BY103,0)","v":41.857142857142854},null,{"$f":"IF(SUM(G104:H104)=0,0,CA103)","v":1},1,1,null,{"$f":"IF(G104+H104>0,CE103,0)","v":1},{"$f":"IF($B104<>\"\",CF103,\"\")","v":0},{"$f":"IF($B104<>\"\",CG103,\"\")","v":0},{"$f":"IF($B104<>\"\",CH103,\"\")","v":0},{"$f":"IF($B104<>\"\",CI103,\"\")","v":0},{"$f":"IF($B104<>\"\",CJ103,0)","v":0},{"$f":"IF($B104<>\"\",CK103,0)","v":68},null,null,null,null,null,null,null,null,null,null,null,null,null,null,null,null,null,null,null,null,null,null,null,null,null,null,null,null,null,null,null,null,null,null,null,null,null,null,null,null,null,null,null,null,null,null,null,null,null,null,null,null,null,null,null,null,null,null,null,null,null,1,0,0,0,0,0,0,0,0,0,0,0,0,0,0,0,null,3,null,null,null,0,null,null,{"$f":"IF($B104<>\"\",$FS103,0)","v":0},{"$f":"IF($B104<>\"\",$FT103,0)","v":0},{"$f":"IF($B104<>\"\",$FU103,0)","v":1.5},"",null,{"$f":"IF($B104<>\"\",FX103,0)","v":0}]
[{"$f":"IF(B105<>\"\",\"3\",\"\")","v":""},null,{"$f":"IF($B105<>\"\",C103,\"\")","v":""},{"$f":"IF($B105<>\"\",D103,\"\")","v":""},{"$f":"IF($B105<>\"\",E103,\"\")","v":""},{"$f":"IF($B105<>\"\",F103,\"\")","v":""},{"$f":"IF($B105<>\"\",G103,0)","v":0},0,0,0,0,0,0,0,0,0,0,0,0,0,0,0,0,0,0,0,0,0,0,0,0,0,0,0,0,0,0,0,{"$f":"IF($B105<>\"\",AM103,0)","v":0},0,0,0,0,0,0,0,0,0,0,0,0,0,0,0,0,0,0,0,0,{"$f":"IF($B105<>\"\",BH103,0)","v":0},0,0,0,0,0,0,0,null,0,0,0,0,0,0,{"$f":"IF($B105<>\"\",BW103,0)","v":0},null,{"$f":"IF($B105<>\"\",BY103,0)","v":0},null,{"$f":"IF(SUM(G105:H105)=0,0,CA103)","v":0},0,0,null,{"$f":"IF(G105+H105>0,CE103,0)","v":0},{"$f":"IF($B105<>\"\",CF103,\"\")","v":""},{"$f":"IF($B105<>\"\",CG103,\"\")","v":""},{"$f":"IF($B105<>\"\",CH103,\"\")","v":""},{"$f":"IF($B105<>\"\",CI103,\"\")","v":""},{"$f":"IF($B105<>\"\",CJ103,0)","v":0},{"$f":"IF($B105<>\"\",CK103,0)","v":0},null,null,null,null,null,null,null,null,null,null,null,null,null,null,null,null,null,null,null,null,null,null,null,null,null,null,null,null,null,null,null,null,null,null,null,null,null,null,null,null,null,null,null,null,null,null,null,null,null,null,null,null,null,null,null,null,null,null,null,null,null,0,0,0,0,0,0,0,0,0,0,0,0,0,0,0,0,null,3,null,null,null,0,null,null,0,0,0,null,null,{"$f":"IF($B105<>\"\",FX103,0)","v":0}]
[{"$f":"IF(B106<>\"\",\"4\",\"\")","v":""},null,{"$f":"IF($B106<>\"\",C103,\"\")","v":""},{"$f":"IF($B106<>\"\",D103,\"\")","v":""},{"$f":"IF($B106<>\"\",E103,\"\")","v":""},{"$f":"IF($B106<>\"\",F103,\"\")","v":""},{"$f":"IF($B106<>\"\",G103,0)","v":0},0,0,0,0,0,0,0,0,0,0,0,0,0,0,0,0,0,0,0,0,0,0,0,0,0,0,0,0,0,0,0,{"$f":"IF($B106<>\"\",AM103,0)","v":0},0,0,0,0,0,0,0,0,0,0,0,0,0,0,0,0,0,0,0,0,{"$f":"IF($B106<>\"\",BH103,0)","v":0},0,0,0,0,0,0,0,null,0,0,0,0,0,0,{"$f":"IF($B106<>\"\",BW103,0)","v":0},null,{"$f":"IF($B106<>\"\",BY103,0)","v":0},null,{"$f":"IF(SUM(G106:H106)=0,0,CA103)","v":0},0,0,null,{"$f":"IF(G106+H106>0,CE103,0)","v":0},{"$f":"IF($B106<>\"\",CF103,\"\")","v":""},{"$f":"IF($B106<>\"\",CG103,\"\")","v":""},{"$f":"IF($B106<>\"\",CH103,\"\")","v":""},{"$f":"IF($B106<>\"\",CI103,\"\")","v":""},{"$f":"IF($B106<>\"\",CJ103,0)","v":0},{"$f":"IF($B106<>\"\",CK103,0)","v":0},null,null,null,null,null,null,null,null,null,null,null,null,null,null,null,null,null,null,null,null,null,null,null,null,null,null,null,null,null,null,null,null,null,null,null,null,null,null,null,null,null,null,null,null,null,null,null,null,null,null,null,null,null,null,null,null,null,null,null,null,null,0,0,0,0,0,0,0,0,0,0,0,0,0,0,0,0,null,3,null,null,null,0,null,null,0,0,0,null,null,{"$f":"IF($B106<>\"\",FX103,0)","v":0}]
[{"$f":"IF(B107<>\"\",\"5\",\"\")","v":""},null,{"$f":"IF($B107<>\"\",C103,\"\")","v":""},{"$f":"IF($B107<>\"\",D103,\"\")","v":""},{"$f":"IF($B107<>\"\",E103,\"\")","v":""},{"$f":"IF($B107<>\"\",F103,\"\")","v":""},{"$f":"IF($B107<>\"\",G103,0)","v":0},0,0,0,0,0,0,0,0,0,0,0,0,0,0,0,0,0,0,0,0,0,0,0,0,0,0,0,0,0,0,0,{"$f":"IF($B107<>\"\",AM103,0)","v":0},0,0,0,0,0,0,0,0,0,0,0,0,0,0,0,0,0,0,0,0,{"$f":"IF($B107<>\"\",BH103,0)","v":0},0,0,0,0,0,0,0,null,0,0,0,0,0,0,{"$f":"IF($B107<>\"\",BW103,0)","v":0},null,{"$f":"IF($B107<>\"\",BY103,0)","v":0},null,{"$f":"IF(SUM(G107:H107)=0,0,CA103)","v":0},0,0,null,{"$f":"IF(G107+H107>0,CE103,0)","v":0},{"$f":"IF($B107<>\"\",CF103,\"\")","v":""},{"$f":"IF($B107<>\"\",CG103,\"\")","v":""},{"$f":"IF($B107<>\"\",CH103,\"\")","v":""},{"$f":"IF($B107<>\"\",CI103,\"\")","v":""},{"$f":"IF($B107<>\"\",CJ103,0)","v":0},{"$f":"IF($B107<>\"\",CK103,0)","v":0},null,null,null,null,null,null,null,null,null,null,null,null,null,null,null,null,null,null,null,null,null,null,null,null,null,null,null,null,null,null,null,null,null,null,null,null,null,null,null,null,null,null,null,null,null,null,null,null,null,null,null,null,null,null,null,null,null,null,null,null,null,0,0,0,0,0,0,0,0,0,0,0,0,0,0,0,0,null,3,null,null,null,0,null,null,0,0,0,null,null,{"$f":"IF($B107<>\"\",FX103,0)","v":0}]
[{"$f":"IF(B108<>\"\",\"6\",\"\")","v":""},null,{"$f":"IF($B108<>\"\",C103,\"\")","v":""},{"$f":"IF($B108<>\"\",D103,\"\")","v":""},{"$f":"IF($B108<>\"\",E103,\"\")","v":""},{"$f":"IF($B108<>\"\",F103,\"\")","v":""},{"$f":"IF($B108<>\"\",G103,0)","v":0},0,0,0,0,0,0,0,0,0,0,0,0,0,0,0,0,0,0,0,0,0,0,0,0,0,0,0,0,0,0,0,{"$f":"IF($B108<>\"\",AM103,0)","v":0},0,0,0,0,0,0,0,0,0,0,0,0,0,0,0,0,0,0,0,0,{"$f":"IF($B108<>\"\",BH103,0)","v":0},0,0,0,0,0,0,0,null,0,0,0,0,0,0,{"$f":"IF($B108<>\"\",BW103,0)","v":0},null,{"$f":"IF($B108<>\"\",BY103,0)","v":0},null,{"$f":"IF(SUM(G108:H108)=0,0,CA103)","v":0},0,0,null,{"$f":"IF(G108+H108>0,CE103,0)","v":0},{"$f":"IF($B108<>\"\",CF103,\"\")","v":""},{"$f":"IF($B108<>\"\",CG103,\"\")","v":""},{"$f":"IF($B108<>\"\",CH103,\"\")","v":""},{"$f":"IF($B108<>\"\",CI103,\"\")","v":""},{"$f":"IF($B108<>\"\",CJ103,0)","v":0},{"$f":"IF($B108<>\"\",CK103,0)","v":0},null,null,null,null,null,null,null,null,null,null,null,null,null,null,null,null,null,null,null,null,null,null,null,null,null,null,null,null,null,null,null,null,null,null,null,null,null,null,null,null,null,null,null,null,null,null,null,null,null,null,null,null,null,null,null,null,null,null,null,null,null,0,0,0,0,0,0,0,0,0,0,0,0,0,0,0,0,null,3,null,null,null,0,null,null,0,0,0,null,null,{"$f":"IF($B108<>\"\",FX103,0)","v":0}]
[{"$f":"IF(B109<>\"\",\"7\",\"\")","v":""},null,{"$f":"IF($B109<>\"\",C103,\"\")","v":""},{"$f":"IF($B109<>\"\",D103,\"\")","v":""},{"$f":"IF($B109<>\"\",E103,\"\")","v":""},{"$f":"IF($B109<>\"\",F103,\"\")","v":""},{"$f":"IF($B109<>\"\",G103,0)","v":0},0,0,0,0,0,0,0,0,0,0,0,0,0,0,0,0,0,0,0,0,0,0,0,0,0,0,0,0,0,0,0,{"$f":"IF($B109<>\"\",AM103,0)","v":0},0,0,0,0,0,0,0,0,0,0,0,0,0,0,0,0,0,0,0,0,{"$f":"IF($B109<>\"\",BH103,0)","v":0},0,0,0,0,0,0,0,null,0,0,0,0,0,0,{"$f":"IF($B109<>\"\",BW103,0)","v":0},null,{"$f":"IF($B109<>\"\",BY103,0)","v":0},null,{"$f":"IF(SUM(G109:H109)=0,0,CA103)","v":0},0,0,null,{"$f":"IF(G109+H109>0,CE103,0)","v":0},{"$f":"IF($B109<>\"\",CF103,\"\")","v":""},{"$f":"IF($B109<>\"\",CG103,\"\")","v":""},{"$f":"IF($B109<>\"\",CH103,\"\")","v":""},{"$f":"IF($B109<>\"\",CI103,\"\")","v":""},{"$f":"IF($B109<>\"\",CJ103,0)","v":0},{"$f":"IF($B109<>\"\",CK103,0)","v":0},null,null,null,null,null,null,null,null,null,null,null,null,null,null,null,null,null,null,null,null,null,null,null,null,null,null,null,null,null,null,null,null,null,null,null,null,null,null,null,null,null,null,null,null,null,null,null,null,null,null,null,null,null,null,null,null,null,null,null,null,null,0,0,0,0,0,0,0,0,0,0,0,0,0,0,0,0,null,3,null,null,null,0,null,null,0,0,0,null,null,{"$f":"IF($B109<>\"\",FX103,0)","v":0}]
[{"$f":"FL108","v":3},{"$f":"IF(SUM(C110:K110)<>0,\"Всего\",\"\")","v":"Всего"},{"$f":"CL103+CP103+CT103+CX103+DB103+DF103+DJ103+DN103+DR103+DV103+DZ103+ED103","v":0},{"$f":"CM103+CQ103+CU103+CY103+DC103+DG103+DK103+DO103+DS103+DW103+EA103+EE103","v":1},{"$f":"CN103+CR103+CV103+CZ103+DD103+DH103+DL103+DP103+DT103+DX103+EB103+EF103","v":0},{"$f":"CO103+CS103+CW103+DA103+DE103+DI103+DM103+DQ103+DU103+DY103+EC103+EG103","v":0},{"$f":"G103","v":68},68,36,0,32,18,0,18,0,0,0,0,0,0,0,0,0,0,0,0,0,0,0,0,0,0,0,0,0,0,0,0,0,0,0,0,0,0,0,0,0,0,0,0,0,0,0,0,0,0,0,0,0,{"$f":"BH103","v":0},0,0,0,0,0,0,0,null,null,null,null,null,null,null,null,null,null,null,0,1,1,null,null,{"$f":"EP103","v":0},{"$f":"EQ103","v":0},{"$f":"ER103","v":0},{"$f":"ES103","v":0},{"$f":"CJ103","v":0},{"$f":"CK103","v":68},null,null,null,null,null,null,null,null,null,null,null,null,null,null,null,null,null,null,null,null,null,null,null,null,null,null,null,null,null,null,null,null,null,null,null,null,null,null,null,null,null,null,null,null,null,null,null,null,null,null,null,null,null,null,null,null,null,null,null,null,null,null,null,null,null,null,null,null,null,null,null,null,null,null,null,0,0,null,null,null,null,null,0,null,null,null,{"$f":"FT103","v":0},{"$f":"FU103","v":1.5},null,null,{"$f":"FX103","v":0}]
[null,null,null,null,null,null,{"$f":"SUM(I111:K111)","v":1},{"$f":"IF(H110=0,\"\",IF(ABS(G110-H110)/H110<=0.05,\"OK\",\">5%\"))","v":"OK"},{"$f":"IF($G110>0,I110/$G110,0)","v":0.52941176470588236},{"$f":"IF($G110>0,J110/$G110,0)","v":0},{"$f":"IF($G110>0,K110/$G110,0)","v":0.47058823529411764},null,null,null,null,null,null,null,null,null,null,null,null,null,null,null,null,null,null,null,null,null,null,null,null,null,null,null,null,null,null,null,null,null,null,null,null,null,null,null,null,null,null,null,null,null,null,null,null,null,null,null,null,null,null,null,null,null,null,null,null,null,null,null,null,null,null,null,0,1,0,null,null,null,null,null,null,null,null,null,null,null,null,null,null,null,null,null,null,null,null,null,null,null,null,null,null,null,null,null,null,null,null,null,null,null,null,null,null,null,null,null,null,null,null,null,null,null,null,null,null,null,null,null,null,null,null,null,null,null,null,null,null,null,null,null,null,null,null,null,null,null,null,null,null,null,null,null,null,null,null,null,null,null,0,0,null,null,null,null,null,0]
[null,{"$f":"IF(B120<>\"\",B5&IF(isFGOS,\".ДВ2 Дисциплины по выбору\",\".В2 Дисциплины по выбору\"),\"\")","v":"ГСЭ.В2 Дисциплины по выбору"},null,null,null,null,null,null,null,null,null,null,null,null,null,null,null,null,null,null,null,null,null,null,null,null,null,null,null,null,null,null,null,null,null,null,null,null,null,null,null,null,null,null,null,null,null,null,null,null,null,null,null,null,null,null,null,null,null,null,null,null,null,null,null,null,null,null,null,null,null,null,null,null,null,null,null,null,{"$f":"CA113","v":3},0,1,null,null,null,null,null,null,null,null,null,null,null,null,null,null,null,null,null,null,null,null,null,null,null,null,null,null,null,null,null,null,null,null,null,null,null,null,null,null,null,null,null,null,null,null,null,null,null,null,null,null,null,null,null,null,null,null,null,null,null,null,null,null,null,null,null,null,null,null,null,{"$f":"EU113","v":0},1,0,0,0,0,0,0,0,0,0,0,0,0,0,0,null,null,null,null,null,0]
[{"$f":"IF(B113<>\"\",\"1\",\"\")","v":"1"},"Технические средства массовой информации",null,"2",null,null,{"$f":"IF($FI113>0,$FW113,SUM(I113:K113)+CJ113+IF(СЭкзаменами,SUMIF(Курс1!$AL$7:$AL$75,\"=\"&ROW(),Курс1!$AA$7:$AA$75)+SUMIF(Курс2!$AL$7:$AL$75,\"=\"&ROW(),Курс2!$AA$7:$AA$75)+SUMIF(Курс3!$AL$7:$AL$75,\"=\"&ROW(),Курс3!$AA$7:$AA$75)+SUMIF(Курс4!$AL$7:$AL$75,\"=\"&ROW(),Курс4!$AA$7:$AA$75)+SUMIF(Курс5!$AL$7:$AL$75,\"=\"&ROW(),Курс5!$AA$7:$AA$75)+SUMIF(Курс6!$AL$7:$AL$75,\"=\"&ROW(),Курс6!$AA$7:$AA$75)+SUMIF(Курс7!$AL$7:$AL$75,\"=\"&ROW(),Курс7!$AA$7:$AA$75),0))","v":72},72,{"$f":"SUM(L113:N113)+SUM(P113:R113)+SUM(T113:V113)+SUM(X113:Z113)+SUM(AB113:AD113)+SUM(AF113:AH113)+SUM(AJ113:AL113)+SUM(AN113:AP113)+SUM(AR113:AT113)+SUM(AV113:AX113)+SUM(AZ113:BB113)+SUM(BD113:BF113)+SUM(BH113:BJ113)+SUM(BL113:BN113)","v":36},{"$f":"O113+S113+W113+AA113+AE113+AI113+AM113+AQ113+AU113+AY113+BC113+BG113+BK113+BO113","v":0},36,null,null,null,null,18,null,18,null,null,null,null,null,null,null,null,null,null,null,null,null,null,null,null,null,null,null,null,null,null,null,null,null,null,null,null,null,null,null,null,null,null,null,null,null,null,null,null,null,null,null,null,null,null,null,null,null,4,{"$f":"IF(SUM($L113:$S113)>0,SUM($L113:$S113)/SUM($L113:$BO113),0)","v":1},{"$f":"IF(SUM($T113:$AA113)>0,SUM($T113:$AA113)/SUM($L113:$BO113),0)","v":0},{"$f":"IF(SUM($AB113:$AI113)>0,SUM($AB113:$AI113)/SUM($L113:$BO113),0)","v":0},{"$f":"IF(SUM($AJ113:$AQ113)>0,SUM($AJ113:$AQ113)/SUM($L113:$BO113),0)","v":0},{"$f":"IF(SUM($AR113:$AY113)>0,SUM($AR113:$AY113)/SUM($L113:$BO113),0)","v":0},{"$f":"IF(SUM($AZ113:$BG113)>0,SUM($AZ113:$BG113)/SUM($L113:$BO113),0)","v":0},{"$f":"IF(SUM($BH113:$BO113)>0,SUM($BH113:$BO113)/SUM($L113:$BO113),0)","v":0},0,{"$f":"IF(7-COUNTBLANK(A113:$A119)<>0,($H113*MAX(1,$BX113)*($BQ113*Конт1+$BR113*Конт2+$BS113*Конт3+$BT113*Конт4+$BU113*Конт5+$BV113*Конт6)/IF(СреднееКСГ>0,СреднееКСГ,21)+((CL113+CP113)*Экз+(CM113+CQ113)*Зач+(CN113+CR113)*Проект+(CO113+CS113)*Работа)*Конт1+((CT113+CX113)*Экз+(CU113+CY113)*Зач+(CV113+CZ113)*Проект+(CW113+DA113)*Работа)*Конт2+((DB113+DF113)*Экз+(DC113+DG113)*Зач+(DD113+DH113)*Проект+(DE113+DI113)*Работа)*Конт3+((DJ113+DN113)*Экз+(DK113+DO113)*Зач+(DL113+DP113)*Проект+(DM113+DQ113)*Работа)*Конт4+((DR113+DV113)*Экз+(DO113+DW113)*Зач+(DT113+DX113)*Проект+(DU113+DY113)*Работа)*Конт5+((DZ113+ED113)*Экз+(EA113+EE113)*Зач+(EB113+EF113)*Проект+(EC113+EG113)*Работа)*Конт6)/(7-COUNTBLANK(A113:$A119)),0)","v":44.142857142857146},null,{"$f":"IF(SUM(G113:H113)=0,0,IF(SUM(L113:O113,T113:W113,AB113:AE113,AJ113:AM113,AR113:AU113,AZ113:BC113)=0,3,IF(SUM(P113:S113,X113:AA113,AF113:AI113,AN113:AQ113,AV113:AY113,BD113:BG113)=0,1,2)))","v":3},1,1,null,{"$f":"CL113+CP113+CT113+CX113+DB113+DF113+DJ113+DN113+DR113+DV113+DZ113+ED113+CM113+CQ113+CU113+CY113+DC113+DG113+DK113+DO113+DS113+DW113+EA113+EE113","v":1},null,null,null,null,0,{"$f":"SUM(I113:K113)","v":72},{"$f":"IF(OR($FI113=1,$FP113=1),0,IF(ISNUMBER(FIND(CL$2,$C113,1)),MAX(1-$BZ113,0),0))","v":0},{"$f":"IF(OR($FI113=1,$FP113=1),0,IF(ISNUMBER(FIND(CL$2,$D113,1)),1,0))","v":0},{"$f":"IF(ISNUMBER(FIND(CL$2,$E113,1)),IF(OR(FI113=1,$FP113=1),0,1),0)","v":0},{"$f":"IF(ISNUMBER(FIND(CL$2,$F113,1)),IF(OR(FI113=1,$FP113=1),0,1),0)","v":0},{"$f":"IF(OR($FI113=1,$FP113=1),0,IF(ISNUMBER(FIND(CP$2,$C113,1)),MAX(1-$BZ113,0),0))","v":0},{"$f":"IF(OR($FI113=1,$FP113=1),0,IF(ISNUMBER(FIND(CP$2,$D113,1)),1,0))","v":1},{"$f":"IF(ISNUMBER(FIND(CP$2,$E113,1)),IF(OR(FI113=1,$FP113=1),0,1),0)","v":0},{"$f":"IF(ISNUMBER(FIND(CP$2,$F113,1)),IF(OR($FI113=1,$FP113=1),0,1),0)","v":0},{"$f":"IF(OR($FI113=1,$FP113=1),0,IF(ISNUMBER(FIND(CT$2,$C113,1)),MAX(1-$BZ113,0),0))","v":0},{"$f":"IF(OR($FI113=1,$FP113=1),0,IF(ISNUMBER(FIND(CT$2,$D113,1)),1,0))","v":0},{"$f":"IF(ISNUMBER(FIND(CT$2,$E113,1)),IF(OR($FI113=1,$FP113=1),0,1),0)","v":0},{"$f":"IF(ISNUMBER(FIND(CT$2,$F113,1)),IF(OR($FI113=1,$FP113=1),0,1),0)","v":0},{"$f":"IF(OR($FI113=1,$FP113=1),0,IF(ISNUMBER(FIND(CX$2,$C113,1)),MAX(1-$BZ113,0),0))","v":0},{"$f":"IF(OR($FI113=1,$FP113=1),0,IF(ISNUMBER(FIND(CX$2,$D113,1)),1,0))","v":0},{"$f":"IF(ISNUMBER(FIND(CX$2,$E113,1)),IF(OR($FI113=1,$FP113=1),0,1),0)","v":0},{"$f":"IF(ISNUMBER(FIND(CX$2,$F113,1)),IF(OR($FI113=1,$FP113=1),0,1),0)","v":0},{"$f":"IF(OR($FI113=1,$FP113=1),0,IF(ISNUMBER(FIND(DB$2,$C113,1)),MAX(1-$BZ113,0),0))","v":0},{"$f":"IF(OR($FI113=1,$FP113=1),0,IF(ISNUMBER(FIND(DB$2,$D113,1)),1,0))","v":0},{"$f":"IF(ISNUMBER(FIND(DB$2,$E113,1)),IF(OR($FI113=1,$FP113=1),0,1),0)","v":0},{"$f":"IF(ISNUMBER(FIND(DB$2,$F113,1)),IF(OR($FI113=1,$FP113=1),0,1),0)","v":0},{"$f":"IF(OR($FI113=1,$FP113=1),0,IF(ISNUMBER(FIND(DF$2,$C113,1)),MAX(1-$BZ113,0),0))","v":0},{"$f":"IF(OR($FI113=1,$FP113=1),0,IF(ISNUMBER(FIND(DF$2,$D113,1)),1,0))","v":0},{"$f":"IF(ISNUMBER(FIND(DF$2,$E113,1)),IF(OR($FI113=1,$FP113=1),0,1),0)","v":0},{"$f":"IF(ISNUMBER(FIND(DF$2,$F113,1)),IF(OR($FI113=1,$FP113=1),0,1),0)","v":0},{"$f":"IF(OR($FI113=1,$FP113=1),0,IF(ISNUMBER(FIND(DJ$2,$C113,1)),MAX(1-$BZ113,0),0))","v":0},{"$f":"IF(OR($FI113=1,$FP113=1),0,IF(ISNUMBER(FIND(DJ$2,$D113,1)),1,0))","v":0},{"$f":"IF(ISNUMBER(FIND(DJ$2,$E113,1)),IF(OR($FI113=1,$FP113=1),0,1),0)","v":0},{"$f":"IF(ISNUMBER(FIND(DJ$2,$F113,1)),IF(OR($FI113=1,$FP113=1),0,1),0)","v":0},{"$f":"IF(OR($FI113=1,$FP113=1),0,IF(ISNUMBER(FIND(DN$2,$C113,1)),MAX(1-$BZ113,0),0))","v":0},{"$f":"IF(OR($FI113=1,$FP113=1),0,IF(ISNUMBER(FIND(DN$2,$D113,1)),1,0))","v":0},{"$f":"IF(ISNUMBER(FIND(DN$2,$E113,1)),IF(OR($FI113=1,$FP113=1),0,1),0)","v":0},{"$f":"IF(ISNUMBER(FIND(DN$2,$F113,1)),IF(OR($FI113=1,$FP113=1),0,1),0)","v":0},{"$f":"IF(OR($FI113=1,$FP113=1),0,IF(ISNUMBER(FIND(DR$2,$C113,1)),MAX(1-$BZ113,0),0))","v":0},{"$f":"IF(OR($FI113=1,$FP113=1),0,IF(ISNUMBER(FIND(DR$2,$D113,1)),1,0))","v":0},{"$f":"IF(ISNUMBER(FIND(DR$2,$E113,1)),IF(OR($FI113=1,$FP113=1),0,1),0)","v":0},{"$f":"IF(ISNUMBER(FIND(DR$2,$F113,1)),IF(OR($FI113=1,$FP113=1),0,1),0)","v":0},{"$f":"IF(OR($FI113=1,$FP113=1),0,IF(ISNUMBER(FIND(DV$2,$C113,1)),MAX(1-$BZ113,0),0))","v":0},{"$f":"IF(OR($FI113=1,$FP113=1),0,IF(ISNUMBER(FIND(DV$2,$D113,1)),1,0))","v":0},{"$f":"IF(ISNUMBER(FIND(DV$2,$E113,1)),IF(OR($FI113=1,$FP113=1),0,1),0)","v":0},{"$f":"IF(ISNUMBER(FIND(DV$2,$F113,1)),IF(OR($FI113=1,$FP113=1),0,1),0)","v":0},{"$f":"IF(OR($FI113=1,$FP113=1),0,IF(ISNUMBER(FIND(DZ$2,$C113,1)),MAX(1-$BZ113,0),0))","v":0},{"$f":"IF(OR($FI113=1,$FP113=1),0,IF(ISNUMBER(FIND(DZ$2,$D113,1)),1,0))","v":0},{"$f":"IF(ISNUMBER(FIND(DZ$2,$E113,1)),IF(OR($FI113=1,$FP113=1),0,1),0)","v":0},{"$f":"IF(ISNUMBER(FIND(DZ$2,$F113,1)),IF(OR($FI113=1,$FP113=1),0,1),0)","v":0},{"$f":"IF(OR($FI113=1,$FP113=1),0,IF(ISNUMBER(FIND(ED$2,$C113,1)),MAX(1-$BZ113,0),0))","v":0},{"$f":"IF(OR($FI113=1,$FP113=1),0,IF(ISNUMBER(FIND(ED$2,$D113,1)),1,0))","v":0},{"$f":"IF(ISNUMBER(FIND(ED$2,$E113,1)),IF(OR($FI113=1,$FP113=1),0,1),0)","v":0},{"$f":"IF(ISNUMBER(FIND(ED$2,$F113,1)),IF(OR($FI113=1,$FP113=1),0,1),0)","v":0},{"$f":"IF(OR($FI113=1,$FP113=1),0,IF(ISNUMBER(FIND(EH$2,$C113,1)),MAX(1-$BZ113,0),0))","v":0},{"$f":"IF(OR($FI113=1,$FP113=1),0,IF(ISNUMBER(FIND(EH$2,$D113,1)),1,0))","v":0},{"$f":"IF(ISNUMBER(FIND(EH$2,$E113,1)),IF(OR($FI113=1,$FP113=1),0,1),0)","v":0},{"$f":"IF(ISNUMBER(FIND(EH$2,$F113,1)),IF(OR($FI113=1,$FP113=1),0,1),0)","v":0},{"$f":"IF(OR($FI113=1,$FP113=1),0,IF(ISNUMBER(FIND(EL$2,$C113,1)),MAX(1-$BZ113,0),0))","v":0},{"$f":"IF(OR($FI113=1,$FP113=1),0,IF(ISNUMBER(FIND(EL$2,$D113,1)),1,0))","v":0},{"$f":"IF(ISNUMBER(FIND(EL$2,$E113,1)),IF(OR($FI113=1,$FP113=1),0,1),0)","v":0},{"$f":"IF(ISNUMBER(FIND(EL$2,$F113,1)),IF(OR($FI113=1,$FP113=1),0,1),0)","v":0},{"$f":"IF(OR($FI113=1,$FP113=1),0,LEN(TRIM(CF113)))","v":0},{"$f":"IF(OR($FI113=1,$FP113=1),0,LEN(TRIM(CG113)))","v":0},{"$f":"FormKontroljaInRange(CH113)","v":0},{"$f":"IF(OR($FI113=1,$FP113=1),0,LEN(TRIM(CI113)))","v":0},null,{"$f":"IF(SUM(L113:O113)>0,1,0)","v":0},{"$f":"IF(SUM(P113:S113)>0,1,0)","v":1},{"$f":"IF(SUM(T113:W113)>0,1,0)","v":0},{"$f":"IF(SUM(X113:AA113)>0,1,0)","v":0},{"$f":"IF(SUM(AB113:AE113)>0,1,0)","v":0},{"$f":"IF(SUM(AF113:AI113)>0,1,0)","v":0},{"$f":"IF(SUM(AJ113:AM113)>0,1,0)","v":0},{"$f":"IF(SUM(AN113:AQ113)>0,1,0)","v":0},{"$f":"IF(SUM(AR113:AU113)>0,1,0)","v":0},{"$f":"IF(SUM(AV113:AY113)>0,1,0)","v":0},{"$f":"IF(SUM(AZ113:BC113)>0,1,0)","v":0},{"$f":"IF(SUM(BD113:BG113)>0,1,0)","v":0},{"$f":"IF(SUM(BH113:BK113)>0,1,0)","v":0},{"$f":"IF(SUM(BL113:BO113)>0,1,0)","v":0},0,0,null,4,null,null,null,0,null,null,0,0,{"$f":"IF(FT113=0,FLOOR(IF(СЭкзаменами,H113,(H113+SUMIF(Курс1!$AL$7:$AL$75,\"=\"&ROW(),Курс1!$AA$7:$AA$75)+SUMIF(Курс2!$AL$7:$AL$75,\"=\"&ROW(),Курс2!$AA$7:$AA$75)+SUMIF(Курс3!$AL$7:$AL$75,\"=\"&ROW(),Курс3!$AA$7:$AA$75)+SUMIF(Курс4!$AL$7:$AL$75,\"=\"&ROW(),Курс4!$AA$7:$AA$75)+SUMIF(Курс5!$AL$7:$AL$75,\"=\"&ROW(),Курс5!$AA$7:$AA$75)+SUMIF(Курс6!$AL$7:$AL$75,\"=\"&ROW(),Курс6!$AA$7:$AA$75)+SUMIF(Курс7!$AL$7:$AL$75,\"=\"&ROW(),Курс7!$AA$7:$AA$75)))/IF(ЧасовВКредите>0,ЧасовВКредите,36),0.5),FT113)","v":2},"",null,0,{"$f":"SUMIF(Курс1!$AL$7:$AL$75,\"=\"&ROW(),Курс1!$AC$7:$AC$75)+SUMIF(Курс2!$AL$7:$AL$75,\"=\"&ROW(),Курс2!$AC$7:$AC$75)+SUMIF(Курс3!$AL$7:$AL$75,\"=\"&ROW(),Курс3!$AC$7:$AC$75)+SUMIF(Курс4!$AL$7:$AL$75,\"=\"&ROW(),Курс4!$AC$7:$AC$75)+SUMIF(Курс5!$AL$7:$AL$75,\"=\"&ROW(),Курс5!$AC$7:$AC$75)+SUMIF(Курс6!$AL$7:$AL$75,\"=\"&ROW(),Курс6!$AC$7:$AC$75)+SUMIF(Курс7!$AL$7:$AL$75,\"=\"&ROW(),Курс7!$AC$7:$AC$75)","v":2}]
[{"$f":"IF(B114<>\"\",\"2\",\"\")","v":"2"},"Памятники изобразительного искусства",{"$f":"IF($B114<>\"\",C113,\"\")","v":0},{"$f":"IF($B114<>\"\",D113,\"\")","v":"2"},{"$f":"IF($B114<>\"\",E113,\"\")","v":0},{"$f":"IF($B114<>\"\",F113,\"\")","v":0},{"$f":"IF($B114<>\"\",G113,0)","v":72},72,36,0,36,0,0,0,0,18,0,18,0,0,0,0,0,0,0,0,0,0,0,0,0,0,0,0,0,0,0,0,{"$f":"IF($B114<>\"\",AM113,0)","v":0},0,0,0,0,0,0,0,0,0,0,0,0,0,0,0,0,0,0,0,0,{"$f":"IF($B114<>\"\",BH113,0)","v":0},0,0,0,0,0,0,0,4,1,0,0,0,0,0,0,0,{"$f":"IF($B114<>\"\",BY113,0)","v":44.142857142857146},null,{"$f":"IF(SUM(G114:H114)=0,0,CA113)","v":3},1,1,null,{"$f":"IF(G114+H114>0,CE113,0)","v":1},{"$f":"IF($B114<>\"\",CF113,\"\")","v":0},{"$f":"IF($B114<>\"\",CG113,\"\")","v":0},{"$f":"IF($B114<>\"\",CH113,\"\")","v":0},{"$f":"IF($B114<>\"\",CI113,\"\")","v":0},{"$f":"IF($B114<>\"\",CJ113,0)","v":0},{"$f":"IF($B114<>\"\",CK113,0)","v":72},null,null,null,null,null,null,null,null,null,null,null,null,null,null,null,null,null,null,null,null,null,null,null,null,null,null,null,null,null,null,null,null,null,null,null,null,null,null,null,null,null,null,null,null,null,null,null,null,null,null,null,null,null,null,null,null,null,null,null,null,null,0,1,0,0,0,0,0,0,0,0,0,0,0,0,0,0,null,4,null,null,null,0,null,null,{"$f":"IF($B114<>\"\",$FS113,0)","v":0},{"$f":"IF($B114<>\"\",$FT113,0)","v":0},{"$f":"IF($B114<>\"\",$FU113,0)","v":2},"",null,{"$f":"IF($B114<>\"\",FX113,0)","v":0}]
[{"$f":"IF(B115<>\"\",\"3\",\"\")","v":""},null,{"$f":"IF($B115<>\"\",C113,\"\")","v":""},{"$f":"IF($B115<>\"\",D113,\"\")","v":""},{"$f":"IF($B115<>\"\",E113,\"\")","v":""},{"$f":"IF($B115<>\"\",F113,\"\")","v":""},{"$f":"IF($B115<>\"\",G113,0)","v":0},0,0,0,0,0,0,0,0,0,0,0,0,0,0,0,0,0,0,0,0,0,0,0,0,0,0,0,0,0,0,0,{"$f":"IF($B115<>\"\",AM113,0)","v":0},0,0,0,0,0,0,0,0,0,0,0,0,0,0,0,0,0,0,0,0,{"$f":"IF($B115<>\"\",BH113,0)","v":0},0,0,0,0,0,0,0,null,0,0,0,0,0,0,{"$f":"IF($B115<>\"\",BW113,0)","v":0},null,{"$f":"IF($B115<>\"\",BY113,0)","v":0},null,{"$f":"IF(SUM(G115:H115)=0,0,CA113)","v":0},0,0,null,{"$f":"IF(G115+H115>0,CE113,0)","v":0},{"$f":"IF($B115<>\"\",CF113,\"\")","v":""},{"$f":"IF($B115<>\"\",CG113,\"\")","v":""},{"$f":"IF($B115<>\"\",CH113,\"\")","v":""},{"$f":"IF($B115<>\"\",CI113,\"\")","v":""},{"$f":"IF($B115<>\"\",CJ113,0)","v":0},{"$f":"IF($B115<>\"\",CK113,0)","v":0},null,null,null,null,null,null,null,null,null,null,null,null,null,null,null,null,null,null,null,null,null,null,null,null,null,null,null,null,null,null,null,null,null,null,null,null,null,null,null,null,null,null,null,null,null,null,null,null,null,null,null,null,null,null,null,null,null,null,null,null,null,0,0,0,0,0,0,0,0,0,0,0,0,0,0,0,0,null,4,null,null,null,0,null,null,0,0,0,null,null,{"$f":"IF($B115<>\"\",FX113,0)","v":0}]
[{"$f":"IF(B116<>\"\",\"4\",\"\")","v":""},null,{"$f":"IF($B116<>\"\",C113,\"\")","v":""},{"$f":"IF($B116<>\"\",D113,\"\")","v":""},{"$f":"IF($B116<>\"\",E113,\"\")","v":""},{"$f":"IF($B116<>\"\",F113,\"\")","v":""},{"$f":"IF($B116<>\"\",G113,0)","v":0},0,0,0,0,0,0,0,0,0,0,0,0,0,0,0,0,0,0,0,0,0,0,0,0,0,0,0,0,0,0,0,{"$f":"IF($B116<>\"\",AM113,0)","v":0},0,0,0,0,0,0,0,0,0,0,0,0,0,0,0,0,0,0,0,0,{"$f":"IF($B116<>\"\",BH113,0)","v":0},0,0,0,0,0,0,0,null,0,0,0,0,0,0,{"$f":"IF($B116<>\"\",BW113,0)","v":0},null,{"$f":"IF($B116<>\"\",BY113,0)","v":0},null,{"$f":"IF(SUM(G116:H116)=0,0,CA113)","v":0},0,0,null,{"$f":"IF(G116+H116>0,CE113,0)","v":0},{"$f":"IF($B116<>\"\",CF113,\"\")","v":""},{"$f":"IF($B116<>\"\",CG113,\"\")","v":""},{"$f":"IF($B116<>\"\",CH113,\"\")","v":""},{"$f":"IF($B116<>\"\",CI113,\"\")","v":""},{"$f":"IF($B116<>\"\",CJ113,0)","v":0},{"$f":"IF($B116<>\"\",CK113,0)","v":0},null,null,null,null,null,null,null,null,null,null,null,null,null,null,null,null,null,null,null,null,null,null,null,null,null,null,null,null,null,null,null,null,null,null,null,null,null,null,null,null,null,null,null,null,null,null,null,null,null,null,null,null,null,null,null,null,null,null,null,null,null,0,0,0,0,0,0,0,0,0,0,0,0,0,0,0,0,null,4,null,null,null,0,null,null,0,0,0,null,null,{"$f":"IF($B116<>\"\",FX113,0)","v":0}]
[{"$f":"IF(B117<>\"\",\"5\",\"\")","v":""},null,{"$f":"IF($B117<>\"\",C113,\"\")","v":""},{"$f":"IF($B117<>\"\",D113,\"\")","v":""},{"$f":"IF($B117<>\"\",E113,\"\")","v":""},{"$f":"IF($B117<>\"\",F113,\"\")","v":""},{"$f":"IF($B117<>\"\",G113,0)","v":0},0,0,0,0,0,0,0,0,0,0,0,0,0,0,0,0,0,0,0,0,0,0,0,0,0,0,0,0,0,0,0,{"$f":"IF($B117<>\"\",AM113,0)","v":0},0,0,0,0,0,0,0,0,0,0,0,0,0,0,0,0,0,0,0,0,{"$f":"IF($B117<>\"\",BH113,0)","v":0},0,0,0,0,0,0,0,null,0,0,0,0,0,0,{"$f":"IF($B117<>\"\",BW113,0)","v":0},null,{"$f":"IF($B117<>\"\",BY113,0)","v":0},null,{"$f":"IF(SUM(G117:H117)=0,0,CA113)","v":0},0,0,null,{"$f":"IF(G117+H117>0,CE113,0)","v":0},{"$f":"IF($B117<>\"\",CF113,\"\")","v":""},{"$f":"IF($B117<>\"\",CG113,\"\")","v":""},{"$f":"IF($B117<>\"\",CH113,\"\")","v":""},{"$f":"IF($B117<>\"\",CI113,\"\")","v":""},{"$f":"IF($B117<>\"\",CJ113,0)","v":0},{"$f":"IF($B117<>\"\",CK113,0)","v":0},null,null,null,null,null,null,null,null,null,null,null,null,null,null,null,null,null,null,null,null,null,null,null,null,null,null,null,null,null,null,null,null,null,null,null,null,null,null,null,null,null,null,null,null,null,null,null,null,null,null,null,null,null,null,null,null,null,null,null,null,null,0,0,0,0,0,0,0,0,0,0,0,0,0,0,0,0,null,4,null,null,null,0,null,null,0,0,0,null,null,{"$f":"IF($B117<>\"\",FX113,0)","v":0}]
[{"$f":"IF(B118<>\"\",\"6\",\"\")","v":""},null,{"$f":"IF($B118<>\"\",C113,\"\")","v":""},{"$f":"IF($B118<>\"\",D113,\"\")","v":""},{"$f":"IF($B118<>\"\",E113,\"\")","v":""},{"$f":"IF($B118<>\"\",F113,\"\")","v":""},{"$f":"IF($B118<>\"\",G113,0)","v":0},0,0,0,0,0,0,0,0,0,0,0,0,0,0,0,0,0,0,0,0,0,0,0,0,0,0,0,0,0,0,0,{"$f":"IF($B118<>\"\",AM113,0)","v":0},0,0,0,0,0,0,0,0,0,0,0,0,0,0,0,0,0,0,0,0,{"$f":"IF($B118<>\"\",BH113,0)","v":0},0,0,0,0,0,0,0,null,0,0,0,0,0,0,{"$f":"IF($B118<>\"\",BW113,0)","v":0},null,{"$f":"IF($B118<>\"\",BY113,0)","v":0},null,{"$f":"IF(SUM(G118:H118)=0,0,CA113)","v":0},0,0,null,{"$f":"IF(G118+H118>0,CE113,0)","v":0},{"$f":"IF($B118<>\"\",CF113,\"\")","v":""},{"$f":"IF($B118<>\"\",CG113,\"\")","v":""},{"$f":"IF($B118<>\"\",CH113,\"\")","v":""},{"$f":"IF($B118<>\"\",CI113,\"\")","v":""},{"$f":"IF($B118<>\"\",CJ113,0)","v":0},{"$f":"IF($B118<>\"\",CK113,0)","v":0},null,null,null,null,null,null,null,null,null,null,null,null,null,null,null,null,null,null,null,null,null,null,null,null,null,null,null,null,null,null,null,null,null,null,null,null,null,null,null,null,null,null,null,null,null,null,null,null,null,null,null,null,null,null,null,null,null,null,null,null,null,0,0,0,0,0,0,0,0,0,0,0,0,0,0,0,0,null,4,null,null,null,0,null,null,0,0,0,null,null,{"$f":"IF($B118<>\"\",FX113,0)","v":0}]
[{"$f":"IF(B119<>\"\",\"7\",\"\")","v":""},null,{"$f":"IF($B119<>\"\",C113,\"\")","v":""},{"$f":"IF($B119<>\"\",D113,\"\")","v":""},{"$f":"IF($B119<>\"\",E113,\"\")","v":""},{"$f":"IF($B119<>\"\",F113,\"\")","v":""},{"$f":"IF($B119<>\"\",G113,0)","v":0},0,0,0,0,0,0,0,0,0,0,0,0,0,0,0,0,0,0,0,0,0,0,0,0,0,0,0,0,0,0,0,{"$f":"IF($B119<>\"\",AM113,0)","v":0},0,0,0,0,0,0,0,0,0,0,0,0,0,0,0,0,0,0,0,0,{"$f":"IF($B119<>\"\",BH113,0)","v":0},0,0,0,0,0,0,0,null,0,0,0,0,0,0,{"$f":"IF($B119<>\"\",BW113,0)","v":0},null,{"$f":"IF($B119<>\"\",BY113,0)","v":0},null,{"$f":"IF(SUM(G119:H119)=0,0,CA113)","v":0},0,0,null,{"$f":"IF(G119+H119>0,CE113,0)","v":0},{"$f":"IF($B119<>\"\",CF113,\"\")","v":""},{"$f":"IF($B119<>\"\",CG113,\"\")","v":""},{"$f":"IF($B119<>\"\",CH113,\"\")","v":""},{"$f":"IF($B119<>\"\",CI113,\"\")","v":""},{"$f":"IF($B119<>\"\",CJ113,0)","v":0},{"$f":"IF($B119<>\"\",CK113,0)","v":0},null,null,null,null,null,null,null,null,null,null,null,null,null,null,null,null,null,null,null,null,null,null,null,null,null,null,null,null,null,null,null,null,null,null,null,null,null,null,null,null,null,null,null,null,null,null,null,null,null,null,null,null,null,null,null,null,null,null,null,null,null,0,0,0,0,0,0,0,0,0,0,0,0,0,0,0,0,null,4,null,null,null,0,null,null,0,0,0,null,null,{"$f":"IF($B119<>\"\",FX113,0)","v":0}]
[{"$f":"FL118","v":4},{"$f":"IF(SUM(C120:K120)<>0,\"Всего\",\"\")","v":"Всего"},{"$f":"CL113+CP113+CT113+CX113+DB113+DF113+DJ113+DN113+DR113+DV113+DZ113+ED113","v":0},{"$f":"CM113+CQ113+CU113+CY113+DC113+DG113+DK113+DO113+DS113+DW113+EA113+EE113","v":1},{"$f":"CN113+CR113+CV113+CZ113+DD113+DH113+DL113+DP113+DT113+DX113+EB113+EF113","v":0},{"$f":"CO113+CS113+CW113+DA113+DE113+DI113+DM113+DQ113+DU113+DY113+EC113+EG113","v":0},{"$f":"G113","v":72},72,36,0,36,0,0,0,0,18,0,18,0,0,0,0,0,0,0,0,0,0,0,0,0,0,0,0,0,0,0,0,0,0,0,0,0,0,0,0,0,0,0,0,0,0,0,0,0,0,0,0,0,{"$f":"BH113","v":0},0,0,0,0,0,0,0,null,null,null,null,null,null,null,null,null,null,null,0,1,1,null,null,{"$f":"EP113","v":0},{"$f":"EQ113","v":0},{"$f":"ER113","v":0},{"$f":"ES113","v":0},{"$f":"CJ113","v":0},{"$f":"CK113","v":72},null,null,null,null,null,null,null,null,null,null,null,null,null,null,null,null,null,null,null,null,null,null,null,null,null,null,null,null,null,null,null,null,null,null,null,null,null,null,null,null,null,null,null,null,null,null,null,null,null,null,null,null,null,null,null,null,null,null,null,null,null,null,null,null,null,null,null,null,null,null,null,null,null,null,null,0,0,null,null,null,null,null,0,null,null,null,{"$f":"FT113","v":0},{"$f":"FU113","v":2},null,null,{"$f":"FX113","v":0}]
[null,null,null,null,null,null,{"$f":"SUM(I121:K121)","v":1},{"$f":"IF(H120=0,\"\",IF(ABS(G120-H120)/H120<=0.05,\"OK\",\">5%\"))","v":"OK"},{"$f":"IF($G120>0,I120/$G120,0)","v":0.5},{"$f":"IF($G120>0,J120/$G120,0)","v":0},{"$f":"IF($G120>0,K120/$G120,0)","v":0.5},null,null,null,null,null,null,null,null,null,null,null,null,null,null,null,null,null,null,null,null,null,null,null,null,null,null,null,null,null,null,null,null,null,null,null,null,null,null,null,null,null,null,null,null,null,null,null,null,null,null,null,null,null,null,null,null,null,null,null,null,null,null,null,null,null,null,null,0,1,0,null,null,null,null,null,null,null,null,null,null,null,null,null,null,null,null,null,null,null,null,null,null,null,null,null,null,null,null,null,null,null,null,null,null,null,null,null,null,null,null,null,null,null,null,null,null,null,null,null,null,null,null,null,null,null,null,null,null,null,null,null,null,null,null,null,null,null,null,null,null,null,null,null,null,null,null,null,null,null,null,null,null,null,0,0,null,null,null,null,null,0]
[null,{"$f":"IF(B130<>\"\",B5&IF(isFGOS,\".ДВ3 Дисциплины по выбору\",\".В3 Дисциплины по выбору\"),\"\")","v":"ГСЭ.В3 Дисциплины по выбору"},null,null,null,null,null,null,null,null,null,null,null,null,null,null,null,null,null,null,null,null,null,null,null,null,null,null,null,null,null,null,null,null,null,null,null,null,null,null,null,null,null,null,null,null,null,null,null,null,null,null,null,null,null,null,null,null,null,null,null,null,null,null,null,null,null,null,null,null,null,null,null,null,null,null,null,null,{"$f":"CA123","v":3},0,1,null,null,null,null,null,null,null,null,null,null,null,null,null,null,null,null,null,null,null,null,null,null,null,null,null,null,null,null,null,null,null,null,null,null,null,null,null,null,null,null,null,null,null,null,null,null,null,null,null,null,null,null,null,null,null,null,null,null,null,null,null,null,null,null,null,null,null,null,null,{"$f":"EU123","v":0},0,0,0,0,1,0,0,0,0,0,0,0,0,0,0,null,null,null,null,null,0]
[{"$f":"IF(B123<>\"\",\"1\",\"\")","v":"1"},"Экономика природопользования",null,"6",null,null,{"$f":"IF($FI123>0,$FW123,SUM(I123:K123)+CJ123+IF(СЭкзаменами,SUMIF(Курс1!$AL$7:$AL$75,\"=\"&ROW(),Курс1!$AA$7:$AA$75)+SUMIF(Курс2!$AL$7:$AL$75,\"=\"&ROW(),Курс2!$AA$7:$AA$75)+SUMIF(Курс3!$AL$7:$AL$75,\"=\"&ROW(),Курс3!$AA$7:$AA$75)+SUMIF(Курс4!$AL$7:$AL$75,\"=\"&ROW(),Курс4!$AA$7:$AA$75)+SUMIF(Курс5!$AL$7:$AL$75,\"=\"&ROW(),Курс5!$AA$7:$AA$75)+SUMIF(Курс6!$AL$7:$AL$75,\"=\"&ROW(),Курс6!$AA$7:$AA$75)+SUMIF(Курс7!$AL$7:$AL$75,\"=\"&ROW(),Курс7!$AA$7:$AA$75),0))","v":56},56,{"$f":"SUM(L123:N123)+SUM(P123:R123)+SUM(T123:V123)+SUM(X123:Z123)+SUM(AB123:AD123)+SUM(AF123:AH123)+SUM(AJ123:AL123)+SUM(AN123:AP123)+SUM(AR123:AT123)+SUM(AV123:AX123)+SUM(AZ123:BB123)+SUM(BD123:BF123)+SUM(BH123:BJ123)+SUM(BL123:BN123)","v":28},{"$f":"O123+S123+W123+AA123+AE123+AI123+AM123+AQ123+AU123+AY123+BC123+BG123+BK123+BO123","v":0},28,null,null,null,null,null,null,null,null,null,null,null,null,null,null,null,null,null,null,null,null,28,null,null,null,null,null,null,null,null,null,null,null,null,null,null,null,null,null,null,null,null,null,null,null,null,null,null,null,null,null,null,null,null,null,null,null,5,{"$f":"IF(SUM($L123:$S123)>0,SUM($L123:$S123)/SUM($L123:$BO123),0)","v":0},{"$f":"IF(SUM($T123:$AA123)>0,SUM($T123:$AA123)/SUM($L123:$BO123),0)","v":0},{"$f":"IF(SUM($AB123:$AI123)>0,SUM($AB123:$AI123)/SUM($L123:$BO123),0)","v":1},{"$f":"IF(SUM($AJ123:$AQ123)>0,SUM($AJ123:$AQ123)/SUM($L123:$BO123),0)","v":0},{"$f":"IF(SUM($AR123:$AY123)>0,SUM($AR123:$AY123)/SUM($L123:$BO123),0)","v":0},{"$f":"IF(SUM($AZ123:$BG123)>0,SUM($AZ123:$BG123)/SUM($L123:$BO123),0)","v":0},{"$f":"IF(SUM($BH123:$BO123)>0,SUM($BH123:$BO123)/SUM($L123:$BO123),0)","v":0},0,{"$f":"IF(7-COUNTBLANK(A123:$A129)<>0,($H123*MAX(1,$BX123)*($BQ123*Конт1+$BR123*Конт2+$BS123*Конт3+$BT123*Конт4+$BU123*Конт5+$BV123*Конт6)/IF(СреднееКСГ>0,СреднееКСГ,21)+((CL123+CP123)*Экз+(CM123+CQ123)*Зач+(CN123+CR123)*Проект+(CO123+CS123)*Работа)*Конт1+((CT123+CX123)*Экз+(CU123+CY123)*Зач+(CV123+CZ123)*Проект+(CW123+DA123)*Работа)*Конт2+((DB123+DF123)*Экз+(DC123+DG123)*Зач+(DD123+DH123)*Проект+(DE123+DI123)*Работа)*Конт3+((DJ123+DN123)*Экз+(DK123+DO123)*Зач+(DL123+DP123)*Проект+(DM123+DQ123)*Работа)*Конт4+((DR123+DV123)*Экз+(DO123+DW123)*Зач+(DT123+DX123)*Проект+(DU123+DY123)*Работа)*Конт5+((DZ123+ED123)*Экз+(EA123+EE123)*Зач+(EB123+EF123)*Проект+(EC123+EG123)*Работа)*Конт6)/(7-COUNTBLANK(A123:$A129)),0)","v":112.29166666666667},null,{"$f":"IF(SUM(G123:H123)=0,0,IF(SUM(L123:O123,T123:W123,AB123:AE123,AJ123:AM123,AR123:AU123,AZ123:BC123)=0,3,IF(SUM(P123:S123,X123:AA123,AF123:AI123,AN123:AQ123,AV123:AY123,BD123:BG123)=0,1,2)))","v":3},1,1,null,{"$f":"CL123+CP123+CT123+CX123+DB123+DF123+DJ123+DN123+DR123+DV123+DZ123+ED123+CM123+CQ123+CU123+CY123+DC123+DG123+DK123+DO123+DS123+DW123+EA123+EE123","v":1},null,null,null,null,0,{"$f":"SUM(I123:K123)","v":56},{"$f":"IF(OR($FI123=1,$FP123=1),0,IF(ISNUMBER(FIND(CL$2,$C123,1)),MAX(1-$BZ123,0),0))","v":0},{"$f":"IF(OR($FI123=1,$FP123=1),0,IF(ISNUMBER(FIND(CL$2,$D123,1)),1,0))","v":0},{"$f":"IF(ISNUMBER(FIND(CL$2,$E123,1)),IF(OR(FI123=1,$FP123=1),0,1),0)","v":0},{"$f":"IF(ISNUMBER(FIND(CL$2,$F123,1)),IF(OR(FI123=1,$FP123=1),0,1),0)","v":0},{"$f":"IF(OR($FI123=1,$FP123=1),0,IF(ISNUMBER(FIND(CP$2,$C123,1)),MAX(1-$BZ123,0),0))","v":0},{"$f":"IF(OR($FI123=1,$FP123=1),0,IF(ISNUMBER(FIND(CP$2,$D123,1)),1,0))","v":0},{"$f":"IF(ISNUMBER(FIND(CP$2,$E123,1)),IF(OR(FI123=1,$FP123=1),0,1),0)","v":0},{"$f":"IF(ISNUMBER(FIND(CP$2,$F123,1)),IF(OR($FI123=1,$FP123=1),0,1),0)","v":0},{"$f":"IF(OR($FI123=1,$FP123=1),0,IF(ISNUMBER(FIND(CT$2,$C123,1)),MAX(1-$BZ123,0),0))","v":0},{"$f":"IF(OR($FI123=1,$FP123=1),0,IF(ISNUMBER(FIND(CT$2,$D123,1)),1,0))","v":0},{"$f":"IF(ISNUMBER(FIND(CT$2,$E123,1)),IF(OR($FI123=1,$FP123=1),0,1),0)","v":0},{"$f":"IF(ISNUMBER(FIND(CT$2,$F123,1)),IF(OR($FI123=1,$FP123=1),0,1),0)","v":0},{"$f":"IF(OR($FI123=1,$FP123=1),0,IF(ISNUMBER(FIND(CX$2,$C123,1)),MAX(1-$BZ123,0),0))","v":0},{"$f":"IF(OR($FI123=1,$FP123=1),0,IF(ISNUMBER(FIND(CX$2,$D123,1)),1,0))","v":0},{"$f":"IF(ISNUMBER(FIND(CX$2,$E123,1)),IF(OR($FI123=1,$FP123=1),0,1),0)","v":0},{"$f":"IF(ISNUMBER(FIND(CX$2,$F123,1)),IF(OR($FI123=1,$FP123=1),0,1),0)","v":0},{"$f":"IF(OR($FI123=1,$FP123=1),0,IF(ISNUMBER(FIND(DB$2,$C123,1)),MAX(1-$BZ123,0),0))","v":0},{"$f":"IF(OR($FI123=1,$FP123=1),0,IF(ISNUMBER(FIND(DB$2,$D123,1)),1,0))","v":0},{"$f":"IF(ISNUMBER(FIND(DB$2,$E123,1)),IF(OR($FI123=1,$FP123=1),0,1),0)","v":0},{"$f":"IF(ISNUMBER(FIND(DB$2,$F123,1)),IF(OR($FI123=1,$FP123=1),0,1),0)","v":0},{"$f":"IF(OR($FI123=1,$FP123=1),0,IF(ISNUMBER(FIND(DF$2,$C123,1)),MAX(1-$BZ123,0),0))","v":0},{"$f":"IF(OR($FI123=1,$FP123=1),0,IF(ISNUMBER(FIND(DF$2,$D123,1)),1,0))","v":1},{"$f":"IF(ISNUMBER(FIND(DF$2,$E123,1)),IF(OR($FI123=1,$FP123=1),0,1),0)","v":0},{"$f":"IF(ISNUMBER(FIND(DF$2,$F123,1)),IF(OR($FI123=1,$FP123=1),0,1),0)","v":0},{"$f":"IF(OR($FI123=1,$FP123=1),0,IF(ISNUMBER(FIND(DJ$2,$C123,1)),MAX(1-$BZ123,0),0))","v":0},{"$f":"IF(OR($FI123=1,$FP123=1),0,IF(ISNUMBER(FIND(DJ$2,$D123,1)),1,0))","v":0},{"$f":"IF(ISNUMBER(FIND(DJ$2,$E123,1)),IF(OR($FI123=1,$FP123=1),0,1),0)","v":0},{"$f":"IF(ISNUMBER(FIND(DJ$2,$F123,1)),IF(OR($FI123=1,$FP123=1),0,1),0)","v":0},{"$f":"IF(OR($FI123=1,$FP123=1),0,IF(ISNUMBER(FIND(DN$2,$C123,1)),MAX(1-$BZ123,0),0))","v":0},{"$f":"IF(OR($FI123=1,$FP123=1),0,IF(ISNUMBER(FIND(DN$2,$D123,1)),1,0))","v":0},{"$f":"IF(ISNUMBER(FIND(DN$2,$E123,1)),IF(OR($FI123=1,$FP123=1),0,1),0)","v":0},{"$f":"IF(ISNUMBER(FIND(DN$2,$F123,1)),IF(OR($FI123=1,$FP123=1),0,1),0)","v":0},{"$f":"IF(OR($FI123=1,$FP123=1),0,IF(ISNUMBER(FIND(DR$2,$C123,1)),MAX(1-$BZ123,0),0))","v":0},{"$f":"IF(OR($FI123=1,$FP123=1),0,IF(ISNUMBER(FIND(DR$2,$D123,1)),1,0))","v":0},{"$f":"IF(ISNUMBER(FIND(DR$2,$E123,1)),IF(OR($FI123=1,$FP123=1),0,1),0)","v":0},{"$f":"IF(ISNUMBER(FIND(DR$2,$F123,1)),IF(OR($FI123=1,$FP123=1),0,1),0)","v":0},{"$f":"IF(OR($FI123=1,$FP123=1),0,IF(ISNUMBER(FIND(DV$2,$C123,1)),MAX(1-$BZ123,0),0))","v":0},{"$f":"IF(OR($FI123=1,$FP123=1),0,IF(ISNUMBER(FIND(DV$2,$D123,1)),1,0))","v":0},{"$f":"IF(ISNUMBER(FIND(DV$2,$E123,1)),IF(OR($FI123=1,$FP123=1),0,1),0)","v":0},{"$f":"IF(ISNUMBER(FIND(DV$2,$F123,1)),IF(OR($FI123=1,$FP123=1),0,1),0)","v":0},{"$f":"IF(OR($FI123=1,$FP123=1),0,IF(ISNUMBER(FIND(DZ$2,$C123,1)),MAX(1-$BZ123,0),0))","v":0},{"$f":"IF(OR($FI123=1,$FP123=1),0,IF(ISNUMBER(FIND(DZ$2,$D123,1)),1,0))","v":0},{"$f":"IF(ISNUMBER(FIND(DZ$2,$E123,1)),IF(OR($FI123=1,$FP123=1),0,1),0)","v":0},{"$f":"IF(ISNUMBER(FIND(DZ$2,$F123,1)),IF(OR($FI123=1,$FP123=1),0,1),0)","v":0},{"$f":"IF(OR($FI123=1,$FP123=1),0,IF(ISNUMBER(FIND(ED$2,$C123,1)),MAX(1-$BZ123,0),0))","v":0},{"$f":"IF(OR($FI123=1,$FP123=1),0,IF(ISNUMBER(FIND(ED$2,$D123,1)),1,0))","v":0},{"$f":"IF(ISNUMBER(FIND(ED$2,$E123,1)),IF(OR($FI123=1,$FP123=1),0,1),0)","v":0},{"$f":"IF(ISNUMBER(FIND(ED$2,$F123,1)),IF(OR($FI123=1,$FP123=1),0,1),0)","v":0},{"$f":"IF(OR($FI123=1,$FP123=1),0,IF(ISNUMBER(FIND(EH$2,$C123,1)),MAX(1-$BZ123,0),0))","v":0},{"$f":"IF(OR($FI123=1,$FP123=1),0,IF(ISNUMBER(FIND(EH$2,$D123,1)),1,0))","v":0},{"$f":"IF(ISNUMBER(FIND(EH$2,$E123,1)),IF(OR($FI123=1,$FP123=1),0,1),0)","v":0},{"$f":"IF(ISNUMBER(FIND(EH$2,$F123,1)),IF(OR($FI123=1,$FP123=1),0,1),0)","v":0},{"$f":"IF(OR($FI123=1,$FP123=1),0,IF(ISNUMBER(FIND(EL$2,$C123,1)),MAX(1-$BZ123,0),0))","v":0},{"$f":"IF(OR($FI123=1,$FP123=1),0,IF(ISNUMBER(FIND(EL$2,$D123,1)),1,0))","v":0},{"$f":"IF(ISNUMBER(FIND(EL$2,$E123,1)),IF(OR($FI123=1,$FP123=1),0,1),0)","v":0},{"$f":"IF(ISNUMBER(FIND(EL$2,$F123,1)),IF(OR($FI123=1,$FP123=1),0,1),0)","v":0},{"$f":"IF(OR($FI123=1,$FP123=1),0,LEN(TRIM(CF123)))","v":0},{"$f":"IF(OR($FI123=1,$FP123=1),0,LEN(TRIM(CG123)))","v":0},{"$f":"FormKontroljaInRange(CH123)","v":0},{"$f":"IF(OR($FI123=1,$FP123=1),0,LEN(TRIM(CI123)))","v":0},null,{"$f":"IF(SUM(L123:O123)>0,1,0)","v":0},{"$f":"IF(SUM(P123:S123)>0,1,0)","v":0},{"$f":"IF(SUM(T123:W123)>0,1,0)","v":0},{"$f":"IF(SUM(X123:AA123)>0,1,0)","v":0},{"$f":"IF(SUM(AB123:AE123)>0,1,0)","v":0},{"$f":"IF(SUM(AF123:AI123)>0,1,0)","v":1},{"$f":"IF(SUM(AJ123:AM123)>0,1,0)","v":0},{"$f":"IF(SUM(AN123:AQ123)>0,1,0)","v":0},{"$f":"IF(SUM(AR123:AU123)>0,1,0)","v":0},{"$f":"IF(SUM(AV123:AY123)>0,1,0)","v":0},{"$f":"IF(SUM(AZ123:BC123)>0,1,0)","v":0},{"$f":"IF(SUM(BD123:BG123)>0,1,0)","v":0},{"$f":"IF(SUM(BH123:BK123)>0,1,0)","v":0},{"$f":"IF(SUM(BL123:BO123)>0,1,0)","v":0},0,0,null,5,null,null,null,0,null,null,0,0,{"$f":"IF(FT123=0,FLOOR(IF(СЭкзаменами,H123,(H123+SUMIF(Курс1!$AL$7:$AL$75,\"=\"&ROW(),Курс1!$AA$7:$AA$75)+SUMIF(Курс2!$AL$7:$AL$75,\"=\"&ROW(),Курс2!$AA$7:$AA$75)+SUMIF(Курс3!$AL$7:$AL$75,\"=\"&ROW(),Курс3!$AA$7:$AA$75)+SUMIF(Курс4!$AL$7:$AL$75,\"=\"&ROW(),Курс4!$AA$7:$AA$75)+SUMIF(Курс5!$AL$7:$AL$75,\"=\"&ROW(),Курс5!$AA$7:$AA$75)+SUMIF(Курс6!$AL$7:$AL$75,\"=\"&ROW(),Курс6!$AA$7:$AA$75)+SUMIF(Курс7!$AL$7:$AL$75,\"=\"&ROW(),Курс7!$AA$7:$AA$75)))/IF(ЧасовВКредите>0,ЧасовВКредите,36),0.5),FT123)","v":1.5},"",null,0,{"$f":"SUMIF(Курс1!$AL$7:$AL$75,\"=\"&ROW(),Курс1!$AC$7:$AC$75)+SUMIF(Курс2!$AL$7:$AL$75,\"=\"&ROW(),Курс2!$AC$7:$AC$75)+SUMIF(Курс3!$AL$7:$AL$75,\"=\"&ROW(),Курс3!$AC$7:$AC$75)+SUMIF(Курс4!$AL$7:$AL$75,\"=\"&ROW(),Курс4!$AC$7:$AC$75)+SUMIF(Курс5!$AL$7:$AL$75,\"=\"&ROW(),Курс5!$AC$7:$AC$75)+SUMIF(Курс6!$AL$7:$AL$75,\"=\"&ROW(),Курс6!$AC$7:$AC$75)+SUMIF(Курс7!$AL$7:$AL$75,\"=\"&ROW(),Курс7!$AC$7:$AC$75)","v":1.5}]
[{"$f":"IF(B124<>\"\",\"2\",\"\")","v":"2"},"Денежные реформы",{"$f":"IF($B124<>\"\",C123,\"\")","v":0},{"$f":"IF($B124<>\"\",D123,\"\")","v":"6"},{"$f":"IF($B124<>\"\",E123,\"\")","v":0},{"$f":"IF($B124<>\"\",F123,\"\")","v":0},{"$f":"IF($B124<>\"\",G123,0)","v":56},56,28,0,28,0,0,0,0,0,0,0,0,0,0,0,0,0,0,0,0,0,0,0,0,28,0,0,0,0,0,0,{"$f":"IF($B124<>\"\",AM123,0)","v":0},0,0,0,0,0,0,0,0,0,0,0,0,0,0,0,0,0,0,0,0,{"$f":"IF($B124<>\"\",BH123,0)","v":0},0,0,0,0,0,0,0,5,0,0,1,0,0,0,0,0,{"$f":"IF($B124<>\"\",BY123,0)","v":112.29166666666667},null,{"$f":"IF(SUM(G124:H124)=0,0,CA123)","v":3},1,1,null,{"$f":"IF(G124+H124>0,CE123,0)","v":1},{"$f":"IF($B124<>\"\",CF123,\"\")","v":0},{"$f":"IF($B124<>\"\",CG123,\"\")","v":0},{"$f":"IF($B124<>\"\",CH123,\"\")","v":0},{"$f":"IF($B124<>\"\",CI123,\"\")","v":0},{"$f":"IF($B124<>\"\",CJ123,0)","v":0},{"$f":"IF($B124<>\"\",CK123,0)","v":56},null,null,null,null,null,null,null,null,null,null,null,null,null,null,null,null,null,null,null,null,null,null,null,null,null,null,null,null,null,null,null,null,null,null,null,null,null,null,null,null,null,null,null,null,null,null,null,null,null,null,null,null,null,null,null,null,null,null,null,null,null,0,0,0,0,0,1,0,0,0,0,0,0,0,0,0,0,null,5,null,null,null,0,null,null,{"$f":"IF($B124<>\"\",$FS123,0)","v":0},{"$f":"IF($B124<>\"\",$FT123,0)","v":0},{"$f":"IF($B124<>\"\",$FU123,0)","v":1.5},"",null,{"$f":"IF($B124<>\"\",FX123,0)","v":0}]
[{"$f":"IF(B125<>\"\",\"3\",\"\")","v":""},null,{"$f":"IF($B125<>\"\",C123,\"\")","v":""},{"$f":"IF($B125<>\"\",D123,\"\")","v":""},{"$f":"IF($B125<>\"\",E123,\"\")","v":""},{"$f":"IF($B125<>\"\",F123,\"\")","v":""},{"$f":"IF($B125<>\"\",G123,0)","v":0},0,0,0,0,0,0,0,0,0,0,0,0,0,0,0,0,0,0,0,0,0,0,0,0,0,0,0,0,0,0,0,{"$f":"IF($B125<>\"\",AM123,0)","v":0},0,0,0,0,0,0,0,0,0,0,0,0,0,0,0,0,0,0,0,0,{"$f":"IF($B125<>\"\",BH123,0)","v":0},0,0,0,0,0,0,0,null,0,0,0,0,0,0,{"$f":"IF($B125<>\"\",BW123,0)","v":0},null,{"$f":"IF($B125<>\"\",BY123,0)","v":0},null,{"$f":"IF(SUM(G125:H125)=0,0,CA123)","v":0},0,0,null,{"$f":"IF(G125+H125>0,CE123,0)","v":0},{"$f":"IF($B125<>\"\",CF123,\"\")","v":""},{"$f":"IF($B125<>\"\",CG123,\"\")","v":""},{"$f":"IF($B125<>\"\",CH123,\"\")","v":""},{"$f":"IF($B125<>\"\",CI123,\"\")","v":""},{"$f":"IF($B125<>\"\",CJ123,0)","v":0},{"$f":"IF($B125<>\"\",CK123,0)","v":0},null,null,null,null,null,null,null,null,null,null,null,null,null,null,null,null,null,null,null,null,null,null,null,null,null,null,null,null,null,null,null,null,null,null,null,null,null,null,null,null,null,null,null,null,null,null,null,null,null,null,null,null,null,null,null,null,null,null,null,null,null,0,0,0,0,0,0,0,0,0,0,0,0,0,0,0,0,null,5,null,null,null,0,null,null,0,0,0,null,null,{"$f":"IF($B125<>\"\",FX123,0)","v":0}]
[null,null,null,null,null,null,{"$f":"SUM(I131:K131)","v":1},{"$f":"IF(H130=0,\"\",IF(ABS(G130-H130)/H130<=0.05,\"OK\",\">5%\"))","v":"OK"},{"$f":"IF($G130>0,I130/$G130,0)","v":0.5},{"$f":"IF($G130>0,J130/$G130,0)","v":0},{"$f":"IF($G130>0,K130/$G130,0)","v":0.5},null,null,null,null,null,null,null,null,null,null,null,null,null,null,null,null,null,null,null,null,null,null,null,null,null,null,null,null,null,null,null,null,null,null,null,null,null,null,null,null,null,null,null,null,null,null,null,null,null,null,null,null,null,null,null,null,null,null,null,null,null,null,null,null,null,null,null,0,1,0,null,null,null,null,null,null,null,null,null,null,null,null,null,null,null,null,null,null,null,null,null,null,null,null,null,null,null,null,null,null,null,null,null,null,null,null,null,null,null,null,null,null,null,null,null,null,null,null,null,null,null,null,null,null,null,null,null,null,null,null,null,null,null,null,null,null,null,null,null,null,null,null,null,null,null,null,null,null,null,null,null,null,null,0,0,null,null,null,null,null,0]
[null,{"$f":"IF(B150<>\"\",B5&IF(isFGOS,\".ДВ5 Дисциплины по выбору\",\".В5 Дисциплины по выбору\"),\"\")","v":""},null,null,null,null,null,null,null,null,null,null,null,null,null,null,null,null,null,null,null,null,null,null,null,null,null,null,null,null,null,null,null,null,null,null,null,null,null,null,null,null,null,null,null,null,null,null,null,null,null,null,null,null,null,null,null,null,null,null,null,null,null,null,null,null,null,null,null,null,null,null,null,null,null,null,null,null,{"$f":"CA143","v":0},0,0,null,null,null,null,null,null,null,null,null,null,null,null,null,null,null,null,null,null,null,null,null,null,null,null,null,null,null,null,null,null,null,null,null,null,null,null,null,null,null,null,null,null,null,null,null,null,null,null,null,null,null,null,null,null,null,null,null,null,null,null,null,null,null,null,null,null,null,null,null,{"$f":"EU143","v":0},0,0,0,0,0,0,0,0,0,0,0,0,0,0,0,null,null,null,null,null,0]
[{"$f":"IF(B147<>\"\",\"5\",\"\")","v":""},null,{"$f":"IF($B147<>\"\",C143,\"\")","v":""},{"$f":"IF($B147<>\"\",D143,\"\")","v":""},{"$f":"IF($B147<>\"\",E143,\"\")","v":""},{"$f":"IF($B147<>\"\",F143,\"\")","v":""},{"$f":"IF($B147<>\"\",G143,0)","v":0},0,0,0,0,0,0,0,0,0,0,0,0,0,0,0,0,0,0,0,0,0,0,0,0,0,0,0,0,0,0,0,{"$f":"IF($B147<>\"\",AM143,0)","v":0},0,0,0,0,0,0,0,0,0,0,0,0,0,0,0,0,0,0,0,0,{"$f":"IF($B147<>\"\",BH143,0)","v":0},0,0,0,0,0,0,0,null,0,0,0,0,0,0,{"$f":"IF($B147<>\"\",BW143,0)","v":0},null,{"$f":"IF($B147<>\"\",BY143,0)","v":0},null,{"$f":"IF(SUM(G147:H147)=0,0,CA143)","v":0},0,0,null,{"$f":"IF(G147+H147>0,CE143,0)","v":0},{"$f":"IF($B147<>\"\",CF143,\"\")","v":""},{"$f":"IF($B147<>\"\",CG143,\"\")","v":""},{"$f":"IF($B147<>\"\",CH143,\"\")","v":""},{"$f":"IF($B147<>\"\",CI143,\"\")","v":""},{"$f":"IF($B147<>\"\",CJ143,0)","v":0},{"$f":"IF($B147<>\"\",CK143,0)","v":0},null,null,null,null,null,null,null,null,null,null,null,null,null,null,null,null,null,null,null,null,null,null,null,null,null,null,null,null,null,null,null,null,null,null,null,null,null,null,null,null,null,null,null,null,null,null,null,null,null,null,null,null,null,null,null,null,null,null,null,null,null,0,0,0,0,0,0,0,0,0,0,0,0,0,0,0,0,null,7,null,null,null,0,null,null,0,0,0,null,null,{"$f":"IF($B147<>\"\",FX143,0)","v":0}]
[{"$f":"IF(B158<>\"\",\"6\",\"\")","v":""},null,{"$f":"IF($B158<>\"\",C153,\"\")","v":""},{"$f":"IF($B158<>\"\",D153,\"\")","v":""},{"$f":"IF($B158<>\"\",E153,\"\")","v":""},{"$f":"IF($B158<>\"\",F153,\"\")","v":""},{"$f":"IF($B158<>\"\",G153,0)","v":0},0,0,0,0,0,0,0,0,0,0,0,0,0,0,0,0,0,0,0,0,0,0,0,0,0,0,0,0,0,0,0,{"$f":"IF($B158<>\"\",AM153,0)","v":0},0,0,0,0,0,0,0,0,0,0,0,0,0,0,0,0,0,0,0,0,{"$f":"IF($B158<>\"\",BH153,0)","v":0},0,0,0,0,0,0,0,null,0,0,0,0,0,0,{"$f":"IF($B158<>\"\",BW153,0)","v":0},null,{"$f":"IF($B158<>\"\",BY153,0)","v":0},null,{"$f":"IF(SUM(G158:H158)=0,0,CA153)","v":0},0,0,null,{"$f":"IF(G158+H158>0,CE153,0)","v":0},{"$f":"IF($B158<>\"\",CF153,\"\")","v":""},{"$f":"IF($B158<>\"\",CG153,\"\")","v":""},{"$f":"IF($B158<>\"\",CH153,\"\")","v":""},{"$f":"IF($B158<>\"\",CI153,\"\")","v":""},{"$f":"IF($B158<>\"\",CJ153,0)","v":0},{"$f":"IF($B158<>\"\",CK153,0)","v":0},null,null,null,null,null,null,null,null,null,null,null,null,null,null,null,null,null,null,null,null,null,null,null,null,null,null,null,null,null,null,null,null,null,null,null,null,null,null,null,null,null,null,null,null,null,null,null,null,null,null,null,null,null,null,null,null,null,null,null,null,null,0,0,0,0,0,0,0,0,0,0,0,0,0,0,0,0,null,8,null,null,null,0,null,null,0,0,0,null,null,{"$f":"IF($B158<>\"\",FX153,0)","v":0}]
[{"$f":"IF(B173<>\"\",\"1\",\"\")","v":""},null,null,null,null,null,{"$f":"IF($FI173>0,$FW173,SUM(I173:K173)+CJ173+IF(СЭкзаменами,SUMIF(Курс1!$AL$7:$AL$75,\"=\"&ROW(),Курс1!$AA$7:$AA$75)+SUMIF(Курс2!$AL$7:$AL$75,\"=\"&ROW(),Курс2!$AA$7:$AA$75)+SUMIF(Курс3!$AL$7:$AL$75,\"=\"&ROW(),Курс3!$AA$7:$AA$75)+SUMIF(Курс4!$AL$7:$AL$75,\"=\"&ROW(),Курс4!$AA$7:$AA$75)+SUMIF(Курс5!$AL$7:$AL$75,\"=\"&ROW(),Курс5!$AA$7:$AA$75)+SUMIF(Курс6!$AL$7:$AL$75,\"=\"&ROW(),Курс6!$AA$7:$AA$75)+SUMIF(Курс7!$AL$7:$AL$75,\"=\"&ROW(),Курс7!$AA$7:$AA$75),0))","v":0},null,{"$f":"SUM(L173:N173)+SUM(P173:R173)+SUM(T173:V173)+SUM(X173:Z173)+SUM(AB173:AD173)+SUM(AF173:AH173)+SUM(AJ173:AL173)+SUM(AN173:AP173)+SUM(AR173:AT173)+SUM(AV173:AX173)+SUM(AZ173:BB173)+SUM(BD173:BF173)+SUM(BH173:BJ173)+SUM(BL173:BN173)","v":0},{"$f":"O173+S173+W173+AA173+AE173+AI173+AM173+AQ173+AU173+AY173+BC173+BG173+BK173+BO173","v":0},null,null,null,null,null,null,null,null,null,null,null,null,null,null,null,null,null,null,null,null,null,null,null,null,null,null,null,null,null,null,null,null,null,null,null,null,null,null,null,null,null,null,null,null,null,null,null,null,null,null,null,null,null,null,null,null,null,null,{"$f":"IF(SUM($L173:$S173)>0,SUM($L173:$S173)/SUM($L173:$BO173),0)","v":0},{"$f":"IF(SUM($T173:$AA173)>0,SUM($T173:$AA173)/SUM($L173:$BO173),0)","v":0},{"$f":"IF(SUM($AB173:$AI173)>0,SUM($AB173:$AI173)/SUM($L173:$BO173),0)","v":0},{"$f":"IF(SUM($AJ173:$AQ173)>0,SUM($AJ173:$AQ173)/SUM($L173:$BO173),0)","v":0},{"$f":"IF(SUM($AR173:$AY173)>0,SUM($AR173:$AY173)/SUM($L173:$BO173),0)","v":0},{"$f":"IF(SUM($AZ173:$BG173)>0,SUM($AZ173:$BG173)/SUM($L173:$BO173),0)","v":0},{"$f":"IF(SUM($BH173:$BO173)>0,SUM($BH173:$BO173)/SUM($L173:$BO173),0)","v":0},null,{"$f":"IF(7-COUNTBLANK(A173:$A179)<>0,($H173*MAX(1,$BX173)*($BQ173*Конт1+$BR173*Конт2+$BS173*Конт3+$BT173*Конт4+$BU173*Конт5+$BV173*Конт6)/IF(СреднееКСГ>0,СреднееКСГ,21)+((CL173+CP173)*Экз+(CM173+CQ173)*Зач+(CN173+CR173)*Проект+(CO173+CS173)*Работа)*Конт1+((CT173+CX173)*Экз+(CU173+CY173)*Зач+(CV173+CZ173)*Проект+(CW173+DA173)*Работа)*Конт2+((DB173+DF173)*Экз+(DC173+DG173)*Зач+(DD173+DH173)*Проект+(DE173+DI173)*Работа)*Конт3+((DJ173+DN173)*Экз+(DK173+DO173)*Зач+(DL173+DP173)*Проект+(DM173+DQ173)*Работа)*Конт4+((DR173+DV173)*Экз+(DO173+DW173)*Зач+(DT173+DX173)*Проект+(DU173+DY173)*Работа)*Конт5+((DZ173+ED173)*Экз+(EA173+EE173)*Зач+(EB173+EF173)*Проект+(EC173+EG173)*Работа)*Конт6)/(7-COUNTBLANK(A173:$A179)),0)","v":0},null,{"$f":"IF(SUM(G173:H173)=0,0,IF(SUM(L173:O173,T173:W173,AB173:AE173,AJ173:AM173,AR173:AU173,AZ173:BC173)=0,3,IF(SUM(P173:S173,X173:AA173,AF173:AI173,AN173:AQ173,AV173:AY173,BD173:BG173)=0,1,2)))","v":0},0,0,null,{"$f":"CL173+CP173+CT173+CX173+DB173+DF173+DJ173+DN173+DR173+DV173+DZ173+ED173+CM173+CQ173+CU173+CY173+DC173+DG173+DK173+DO173+DS173+DW173+EA173+EE173","v":0},null,null,null,null,null,{"$f":"SUM(I173:K173)","v":0},{"$f":"IF(OR($FI173=1,$FP173=1),0,IF(ISNUMBER(FIND(CL$2,$C173,1)),MAX(1-$BZ173,0),0))","v":0},{"$f":"IF(OR($FI173=1,$FP173=1),0,IF(ISNUMBER(FIND(CL$2,$D173,1)),1,0))","v":0},{"$f":"IF(ISNUMBER(FIND(CL$2,$E173,1)),IF(OR(FI173=1,$FP173=1),0,1),0)","v":0},{"$f":"IF(ISNUMBER(FIND(CL$2,$F173,1)),IF(OR(FI173=1,$FP173=1),0,1),0)","v":0},{"$f":"IF(OR($FI173=1,$FP173=1),0,IF(ISNUMBER(FIND(CP$2,$C173,1)),MAX(1-$BZ173,0),0))","v":0},{"$f":"IF(OR($FI173=1,$FP173=1),0,IF(ISNUMBER(FIND(CP$2,$D173,1)),1,0))","v":0},{"$f":"IF(ISNUMBER(FIND(CP$2,$E173,1)),IF(OR(FI173=1,$FP173=1),0,1),0)","v":0},{"$f":"IF(ISNUMBER(FIND(CP$2,$F173,1)),IF(OR($FI173=1,$FP173=1),0,1),0)","v":0},{"$f":"IF(OR($FI173=1,$FP173=1),0,IF(ISNUMBER(FIND(CT$2,$C173,1)),MAX(1-$BZ173,0),0))","v":0},{"$f":"IF(OR($FI173=1,$FP173=1),0,IF(ISNUMBER(FIND(CT$2,$D173,1)),1,0))","v":0},{"$f":"IF(ISNUMBER(FIND(CT$2,$E173,1)),IF(OR($FI173=1,$FP173=1),0,1),0)","v":0},{"$f":"IF(ISNUMBER(FIND(CT$2,$F173,1)),IF(OR($FI173=1,$FP173=1),0,1),0)","v":0},{"$f":"IF(OR($FI173=1,$FP173=1),0,IF(ISNUMBER(FIND(CX$2,$C173,1)),MAX(1-$BZ173,0),0))","v":0},{"$f":"IF(OR($FI173=1,$FP173=1),0,IF(ISNUMBER(FIND(CX$2,$D173,1)),1,0))","v":0},{"$f":"IF(ISNUMBER(FIND(CX$2,$E173,1)),IF(OR($FI173=1,$FP173=1),0,1),0)","v":0},{"$f":"IF(ISNUMBER(FIND(CX$2,$F173,1)),IF(OR($FI173=1,$FP173=1),0,1),0)","v":0},{"$f":"IF(OR($FI173=1,$FP173=1),0,IF(ISNUMBER(FIND(DB$2,$C173,1)),MAX(1-$BZ173,0),0))","v":0},{"$f":"IF(OR($FI173=1,$FP173=1),0,IF(ISNUMBER(FIND(DB$2,$D173,1)),1,0))","v":0},{"$f":"IF(ISNUMBER(FIND(DB$2,$E173,1)),IF(OR($FI173=1,$FP173=1),0,1),0)","v":0},{"$f":"IF(ISNUMBER(FIND(DB$2,$F173,1)),IF(OR($FI173=1,$FP173=1),0,1),0)","v":0},{"$f":"IF(OR($FI173=1,$FP173=1),0,IF(ISNUMBER(FIND(DF$2,$C173,1)),MAX(1-$BZ173,0),0))","v":0},{"$f":"IF(OR($FI173=1,$FP173=1),0,IF(ISNUMBER(FIND(DF$2,$D173,1)),1,0))","v":0},{"$f":"IF(ISNUMBER(FIND(DF$2,$E173,1)),IF(OR($FI173=1,$FP173=1),0,1),0)","v":0},{"$f":"IF(ISNUMBER(FIND(DF$2,$F173,1)),IF(OR($FI173=1,$FP173=1),0,1),0)","v":0},{"$f":"IF(OR($FI173=1,$FP173=1),0,IF(ISNUMBER(FIND(DJ$2,$C173,1)),MAX(1-$BZ173,0),0))","v":0},{"$f":"IF(OR($FI173=1,$FP173=1),0,IF(ISNUMBER(FIND(DJ$2,$D173,1)),1,0))","v":0},{"$f":"IF(ISNUMBER(FIND(DJ$2,$E173,1)),IF(OR($FI173=1,$FP173=1),0,1),0)","v":0},{"$f":"IF(ISNUMBER(FIND(DJ$2,$F173,1)),IF(OR($FI173=1,$FP173=1),0,1),0)","v":0},{"$f":"IF(OR($FI173=1,$FP173=1),0,IF(ISNUMBER(FIND(DN$2,$C173,1)),MAX(1-$BZ173,0),0))","v":0},{"$f":"IF(OR($FI173=1,$FP173=1),0,IF(ISNUMBER(FIND(DN$2,$D173,1)),1,0))","v":0},{"$f":"IF(ISNUMBER(FIND(DN$2,$E173,1)),IF(OR($FI173=1,$FP173=1),0,1),0)","v":0},{"$f":"IF(ISNUMBER(FIND(DN$2,$F173,1)),IF(OR($FI173=1,$FP173=1),0,1),0)","v":0},{"$f":"IF(OR($FI173=1,$FP173=1),0,IF(ISNUMBER(FIND(DR$2,$C173,1)),MAX(1-$BZ173,0),0))","v":0},{"$f":"IF(OR($FI173=1,$FP173=1),0,IF(ISNUMBER(FIND(DR$2,$D173,1)),1,0))","v":0},{"$f":"IF(ISNUMBER(FIND(DR$2,$E173,1)),IF(OR($FI173=1,$FP173=1),0,1),0)","v":0},{"$f":"IF(ISNUMBER(FIND(DR$2,$F173,1)),IF(OR($FI173=1,$FP173=1),0,1),0)","v":0},{"$f":"IF(OR($FI173=1,$FP173=1),0,IF(ISNUMBER(FIND(DV$2,$C173,1)),MAX(1-$BZ173,0),0))","v":0},{"$f":"IF(OR($FI173=1,$FP173=1),0,IF(ISNUMBER(FIND(DV$2,$D173,1)),1,0))","v":0},{"$f":"IF(ISNUMBER(FIND(DV$2,$E173,1)),IF(OR($FI173=1,$FP173=1),0,1),0)","v":0},{"$f":"IF(ISNUMBER(FIND(DV$2,$F173,1)),IF(OR($FI173=1,$FP173=1),0,1),0)","v":0},{"$f":"IF(OR($FI173=1,$FP173=1),0,IF(ISNUMBER(FIND(DZ$2,$C173,1)),MAX(1-$BZ173,0),0))","v":0},{"$f":"IF(OR($FI173=1,$FP173=1),0,IF(ISNUMBER(FIND(DZ$2,$D173,1)),1,0))","v":0},{"$f":"IF(ISNUMBER(FIND(DZ$2,$E173,1)),IF(OR($FI173=1,$FP173=1),0,1),0)","v":0},{"$f":"IF(ISNUMBER(FIND(DZ$2,$F173,1)),IF(OR($FI173=1,$FP173=1),0,1),0)","v":0},{"$f":"IF(OR($FI173=1,$FP173=1),0,IF(ISNUMBER(FIND(ED$2,$C173,1)),MAX(1-$BZ173,0),0))","v":0},{"$f":"IF(OR($FI173=1,$FP173=1),0,IF(ISNUMBER(FIND(ED$2,$D173,1)),1,0))","v":0},{"$f":"IF(ISNUMBER(FIND(ED$2,$E173,1)),IF(OR($FI173=1,$FP173=1),0,1),0)","v":0},{"$f":"IF(ISNUMBER(FIND(ED$2,$F173,1)),IF(OR($FI173=1,$FP173=1),0,1),0)","v":0},{"$f":"IF(OR($FI173=1,$FP173=1),0,IF(ISNUMBER(FIND(EH$2,$C173,1)),MAX(1-$BZ173,0),0))","v":0},{"$f":"IF(OR($FI173=1,$FP173=1),0,IF(ISNUMBER(FIND(EH$2,$D173,1)),1,0))","v":0},{"$f":"IF(ISNUMBER(FIND(EH$2,$E173,1)),IF(OR($FI173=1,$FP173=1),0,1),0)","v":0},{"$f":"IF(ISNUMBER(FIND(EH$2,$F173,1)),IF(OR($FI173=1,$FP173=1),0,1),0)","v":0},{"$f":"IF(OR($FI173=1,$FP173=1),0,IF(ISNUMBER(FIND(EL$2,$C173,1)),MAX(1-$BZ173,0),0))","v":0},{"$f":"IF(OR($FI173=1,$FP173=1),0,IF(ISNUMBER(FIND(EL$2,$D173,1)),1,0))","v":0},{"$f":"IF(ISNUMBER(FIND(EL$2,$E173,1)),IF(OR($FI173=1,$FP173=1),0,1),0)","v":0},{"$f":"IF(ISNUMBER(FIND(EL$2,$F173,1)),IF(OR($FI173=1,$FP173=1),0,1),0)","v":0},{"$f":"IF(OR($FI173=1,$FP173=1),0,LEN(TRIM(CF173)))","v":0},{"$f":"IF(OR($FI173=1,$FP173=1),0,LEN(TRIM(CG173)))","v":0},{"$f":"FormKontroljaInRange(CH173)","v":0},{"$f":"IF(OR($FI173=1,$FP173=1),0,LEN(TRIM(CI173)))","v":0},null,{"$f":"IF(SUM(L173:O173)>0,1,0)","v":0},{"$f":"IF(SUM(P173:S173)>0,1,0)","v":0},{"$f":"IF(SUM(T173:W173)>0,1,0)","v":0},{"$f":"IF(SUM(X173:AA173)>0,1,0)","v":0},{"$f":"IF(SUM(AB173:AE173)>0,1,0)","v":0},{"$f":"IF(SUM(AF173:AI173)>0,1,0)","v":0},{"$f":"IF(SUM(AJ173:AM173)>0,1,0)","v":0},{"$f":"IF(SUM(AN173:AQ173)>0,1,0)","v":0},{"$f":"IF(SUM(AR173:AU173)>0,1,0)","v":0},{"$f":"IF(SUM(AV173:AY173)>0,1,0)","v":0},{"$f":"IF(SUM(AZ173:BC173)>0,1,0)","v":0},{"$f":"IF(SUM(BD173:BG173)>0,1,0)","v":0},{"$f":"IF(SUM(BH173:BK173)>0,1,0)","v":0},{"$f":"IF(SUM(BL173:BO173)>0,1,0)","v":0},0,0,null,10,null,null,null,0,null,null,null,0,{"$f":"IF(FT173=0,FLOOR(IF(СЭкзаменами,H173,(H173+SUMIF(Курс1!$AL$7:$AL$75,\"=\"&ROW(),Курс1!$AA$7:$AA$75)+SUMIF(Курс2!$AL$7:$AL$75,\"=\"&ROW(),Курс2!$AA$7:$AA$75)+SUMIF(Курс3!$AL$7:$AL$75,\"=\"&ROW(),Курс3!$AA$7:$AA$75)+SUMIF(Курс4!$AL$7:$AL$75,\"=\"&ROW(),Курс4!$AA$7:$AA$75)+SUMIF(Курс5!$AL$7:$AL$75,\"=\"&ROW(),Курс5!$AA$7:$AA$75)+SUMIF(Курс6!$AL$7:$AL$75,\"=\"&ROW(),Курс6!$AA$7:$AA$75)+SUMIF(Курс7!$AL$7:$AL$75,\"=\"&ROW(),Курс7!$AA$7:$AA$75)))/IF(ЧасовВКредите>0,ЧасовВКредите,36),0.5),FT173)","v":0},null,null,null,{"$f":"SUMIF(Курс1!$AL$7:$AL$75,\"=\"&ROW(),Курс1!$AC$7:$AC$75)+SUMIF(Курс2!$AL$7:$AL$75,\"=\"&ROW(),Курс2!$AC$7:$AC$75)+SUMIF(Курс3!$AL$7:$AL$75,\"=\"&ROW(),Курс3!$AC$7:$AC$75)+SUMIF(Курс4!$AL$7:$AL$75,\"=\"&ROW(),Курс4!$AC$7:$AC$75)+SUMIF(Курс5!$AL$7:$AL$75,\"=\"&ROW(),Курс5!$AC$7:$AC$75)+SUMIF(Курс6!$AL$7:$AL$75,\"=\"&ROW(),Курс6!$AC$7:$AC$75)+SUMIF(Курс7!$AL$7:$AL$75,\"=\"&ROW(),Курс7!$AC$7:$AC$75)","v":0}]
[{"$f":"IF(B178<>\"\",\"6\",\"\")","v":""},null,{"$f":"IF($B178<>\"\",C173,\"\")","v":""},{"$f":"IF($B178<>\"\",D173,\"\")","v":""},{"$f":"IF($B178<>\"\",E173,\"\")","v":""},{"$f":"IF($B178<>\"\",F173,\"\")","v":""},{"$f":"IF($B178<>\"\",G173,0)","v":0},0,0,0,0,0,0,0,0,0,0,0,0,0,0,0,0,0,0,0,0,0,0,0,0,0,0,0,0,0,0,0,{"$f":"IF($B178<>\"\",AM173,0)","v":0},0,0,0,0,0,0,0,0,0,0,0,0,0,0,0,0,0,0,0,0,{"$f":"IF($B178<>\"\",BH173,0)","v":0},0,0,0,0,0,0,0,null,0,0,0,0,0,0,{"$f":"IF($B178<>\"\",BW173,0)","v":0},null,{"$f":"IF($B178<>\"\",BY173,0)","v":0},null,{"$f":"IF(SUM(G178:H178)=0,0,CA173)","v":0},0,0,null,{"$f":"IF(G178+H178>0,CE173,0)","v":0},{"$f":"IF($B178<>\"\",CF173,\"\")","v":""},{"$f":"IF($B178<>\"\",CG173,\"\")","v":""},{"$f":"IF($B178<>\"\",CH173,\"\")","v":""},{"$f":"IF($B178<>\"\",CI173,\"\")","v":""},{"$f":"IF($B178<>\"\",CJ173,0)","v":0},{"$f":"IF($B178<>\"\",CK173,0)","v":0},null,null,null,null,null,null,null,null,null,null,null,null,null,null,null,null,null,null,null,null,null,null,null,null,null,null,null,null,null,null,null,null,null,null,null,null,null,null,null,null,null,null,null,null,null,null,null,null,null,null,null,null,null,null,null,null,null,null,null,null,null,0,0,0,0,0,0,0,0,0,0,0,0,0,0,0,0,null,10,null,null,null,0,null,null,0,0,0,null,null,{"$f":"IF($B178<>\"\",FX173,0)","v":0}]
[{"$f":"IF(B189<>\"\",\"7\",\"\")","v":""},null,{"$f":"IF($B189<>\"\",C183,\"\")","v":""},{"$f":"IF($B189<>\"\",D183,\"\")","v":""},{"$f":"IF($B189<>\"\",E183,\"\")","v":""},{"$f":"IF($B189<>\"\",F183,\"\")","v":""},{"$f":"IF($B189<>\"\",G183,0)","v":0},0,0,0,0,0,0,0,0,0,0,0,0,0,0,0,0,0,0,0,0,0,0,0,0,0,0,0,0,0,0,0,{"$f":"IF($B189<>\"\",AM183,0)","v":0},0,0,0,0,0,0,0,0,0,0,0,0,0,0,0,0,0,0,0,0,{"$f":"IF($B189<>\"\",BH183,0)","v":0},0,0,0,0,0,0,0,null,0,0,0,0,0,0,{"$f":"IF($B189<>\"\",BW183,0)","v":0},null,{"$f":"IF($B189<>\"\",BY183,0)","v":0},null,{"$f":"IF(SUM(G189:H189)=0,0,CA183)","v":0},0,0,null,{"$f":"IF(G189+H189>0,CE183,0)","v":0},{"$f":"IF($B189<>\"\",CF183,\"\")","v":""},{"$f":"IF($B189<>\"\",CG183,\"\")","v":""},{"$f":"IF($B189<>\"\",CH183,\"\")","v":""},{"$f":"IF($B189<>\"\",CI183,\"\")","v":""},{"$f":"IF($B189<>\"\",CJ183,0)","v":0},{"$f":"IF($B189<>\"\",CK183,0)","v":0},null,null,null,null,null,null,null,null,null,null,null,null,null,null,null,null,null,null,null,null,null,null,null,null,null,null,null,null,null,null,null,null,null,null,null,null,null,null,null,null,null,null,null,null,null,null,null,null,null,null,null,null,null,null,null,null,null,null,null,null,null,0,0,0,0,0,0,0,0,0,0,0,0,0,0,0,0,null,11,null,null,null,0,null,null,0,0,0,null,null,{"$f":"IF($B189<>\"\",FX183,0)","v":0}]
[{"$f":"IF(B204<>\"\",\"2\",\"\")","v":""},null,{"$f":"IF($B204<>\"\",C203,\"\")","v":""},{"$f":"IF($B204<>\"\",D203,\"\")","v":""},{"$f":"IF($B204<>\"\",E203,\"\")","v":""},{"$f":"IF($B204<>\"\",F203,\"\")","v":""},{"$f":"IF($B204<>\"\",G203,0)","v":0},0,0,0,0,0,0,0,0,0,0,0,0,0,0,0,0,0,0,0,0,0,0,0,0,0,0,0,0,0,0,0,{"$f":"IF($B204<>\"\",AM203,0)","v":0},0,0,0,0,0,0,0,0,0,0,0,0,0,0,0,0,0,0,0,0,{"$f":"IF($B204<>\"\",BH203,0)","v":0},0,0,0,0,0,0,0,null,0,0,0,0,0,0,0,null,{"$f":"IF($B204<>\"\",BY203,0)","v":0},null,{"$f":"IF(SUM(G204:H204)=0,0,CA203)","v":0},0,0,null,{"$f":"IF(G204+H204>0,CE203,0)","v":0},{"$f":"IF($B204<>\"\",CF203,\"\")","v":""},{"$f":"IF($B204<>\"\",CG203,\"\")","v":""},{"$f":"IF($B204<>\"\",CH203,\"\")","v":""},{"$f":"IF($B204<>\"\",CI203,\"\")","v":""},{"$f":"IF($B204<>\"\",CJ203,0)","v":0},{"$f":"IF($B204<>\"\",CK203,0)","v":0},null,null,null,null,null,null,null,null,null,null,null,null,null,null,null,null,null,null,null,null,null,null,null,null,null,null,null,null,null,null,null,null,null,null,null,null,null,null,null,null,null,null,null,null,null,null,null,null,null,null,null,null,null,null,null,null,null,null,null,null,null,0,0,0,0,0,0,0,0,0,0,0,0,0,0,0,0,null,13,null,null,null,0,null,null,{"$f":"IF($B204<>\"\",$FS203,0)","v":0},{"$f":"IF($B204<>\"\",$FT203,0)","v":0},{"$f":"IF($B204<>\"\",$FU203,0)","v":0},null,null,{"$f":"IF($B204<>\"\",FX203,0)","v":0}]
[{"$f":"IF(B215<>\"\",\"3\",\"\")","v":""},null,{"$f":"IF($B215<>\"\",C213,\"\")","v":""},{"$f":"IF($B215<>\"\",D213,\"\")","v":""},{"$f":"IF($B215<>\"\",E213,\"\")","v":""},{"$f":"IF($B215<>\"\",F213,\"\")","v":""},{"$f":"IF($B215<>\"\",G213,0)","v":0},0,0,0,0,0,0,0,0,0,0,0,0,0,0,0,0,0,0,0,0,0,0,0,0,0,0,0,0,0,0,0,{"$f":"IF($B215<>\"\",AM213,0)","v":0},0,0,0,0,0,0,0,0,0,0,0,0,0,0,0,0,0,0,0,0,{"$f":"IF($B215<>\"\",BH213,0)","v":0},0,0,0,0,0,0,0,null,0,0,0,0,0,0,{"$f":"IF($B215<>\"\",BW213,0)","v":0},null,{"$f":"IF($B215<>\"\",BY213,0)","v":0},null,{"$f":"IF(SUM(G215:H215)=0,0,CA213)","v":0},0,0,null,{"$f":"IF(G215+H215>0,CE213,0)","v":0},{"$f":"IF($B215<>\"\",CF213,\"\")","v":""},{"$f":"IF($B215<>\"\",CG213,\"\")","v":""},{"$f":"IF($B215<>\"\",CH213,\"\")","v":""},{"$f":"IF($B215<>\"\",CI213,\"\")","v":""},{"$f":"IF($B215<>\"\",CJ213,0)","v":0},{"$f":"IF($B215<>\"\",CK213,0)","v":0},null,null,null,null,null,null,null,null,null,null,null,null,null,null,null,null,null,null,null,null,null,null,null,null,null,null,null,null,null,null,null,null,null,null,null,null,null,null,null,null,null,null,null,null,null,null,null,null,null,null,null,null,null,null,null,null,null,null,null,null,null,0,0,0,0,0,0,0,0,0,0,0,0,0,0,0,0,null,14,null,null,null,0,null,null,0,0,0,null,null,{"$f":"IF($B215<>\"\",FX213,0)","v":0}]
[{"$f":"FL218","v":14},{"$f":"IF(SUM(C220:K220)<>0,\"Всего\",\"\")","v":""},{"$f":"CL213+CP213+CT213+CX213+DB213+DF213+DJ213+DN213+DR213+DV213+DZ213+ED213","v":0},{"$f":"CM213+CQ213+CU213+CY213+DC213+DG213+DK213+DO213+DS213+DW213+EA213+EE213","v":0},{"$f":"CN213+CR213+CV213+CZ213+DD213+DH213+DL213+DP213+DT213+DX213+EB213+EF213","v":0},{"$f":"CO213+CS213+CW213+DA213+DE213+DI213+DM213+DQ213+DU213+DY213+EC213+EG213","v":0},{"$f":"G213","v":0},0,0,0,0,0,0,0,0,0,0,0,0,0,0,0,0,0,0,0,0,0,0,0,0,0,0,0,0,0,0,0,0,0,0,0,0,0,0,0,0,0,0,0,0,0,0,0,0,0,0,0,0,{"$f":"BH213","v":0},0,0,0,0,0,0,0,null,null,null,null,null,null,null,null,null,null,null,0,0,0,null,null,{"$f":"EP213","v":0},{"$f":"EQ213","v":0},{"$f":"ER213","v":0},{"$f":"ES213","v":0},{"$f":"CJ213","v":0},{"$f":"CK213","v":0},null,null,null,null,null,null,null,null,null,null,null,null,null,null,null,null,null,null,null,null,null,null,null,null,null,null,null,null,null,null,null,null,null,null,null,null,null,null,null,null,null,null,null,null,null,null,null,null,null,null,null,null,null,null,null,null,null,null,null,null,null,null,null,null,null,null,null,null,null,null,null,null,null,null,null,0,0,null,null,null,null,null,0,null,null,null,{"$f":"FT213","v":0},{"$f":"FU213","v":0},null,null,{"$f":"FX213","v":0}]
["ЕН.Ф.2","Информатика",null,"1",null,null,{"$f":"IF($FI235>0,$FW235,SUM(I235:K235)+CJ235+IF(СЭкзаменами,SUMIF(Курс1!$AL$7:$AL$75,\"=\"&ROW(),Курс1!$AA$7:$AA$75)+SUMIF(Курс2!$AL$7:$AL$75,\"=\"&ROW(),Курс2!$AA$7:$AA$75)+SUMIF(Курс3!$AL$7:$AL$75,\"=\"&ROW(),Курс3!$AA$7:$AA$75)+SUMIF(Курс4!$AL$7:$AL$75,\"=\"&ROW(),Курс4!$AA$7:$AA$75)+SUMIF(Курс5!$AL$7:$AL$75,\"=\"&ROW(),Курс5!$AA$7:$AA$75)+SUMIF(Курс6!$AL$7:$AL$75,\"=\"&ROW(),Курс6!$AA$7:$AA$75)+SUMIF(Курс7!$AL$7:$AL$75,\"=\"&ROW(),Курс7!$AA$7:$AA$75),0))","v":117},117,54,0,63,18,36,null,null,null,null,null,null,null,null,null,null,null,null,null,null,null,null,null,null,null,null,null,null,null,null,null,null,null,null,null,null,null,null,null,null,null,null,null,null,null,null,null,null,null,null,null,null,null,null,null,null,null,null,null,null,8,1,0,0,0,0,0,0,0,139.71428571428572,{"$f":"IF(AND(UPPER(LEFT(B235,8))=\"ИТОГОВЫЙ\",TRIM(C235)<>\"\"),1,0)","v":0},{"$f":"IF(SUM(G235:H235)=0,0,IF(SUM(L235:O235,T235:W235,AB235:AE235,AJ235:AM235,AR235:AU235,AZ235:BC235)=0,3,IF(SUM(P235:S235,X235:AA235,AF235:AI235,AN235:AQ235,AV235:AY235,BD235:BG235)=0,1,2)))","v":1},1,1,null,{"$f":"CL235+CP235+CT235+CX235+DB235+DF235+DJ235+DN235+DR235+DV235+DZ235+ED235+CM235+CQ235+CU235+CY235+DC235+DG235+DK235+DO235+DS235+DW235+EA235+EE235","v":1},null,null,null,null,0,{"$f":"SUM(I235:K235)","v":117},0,1,0,0,0,0,0,0,0,0,0,0,0,0,0,0,0,0,0,0,0,0,0,0,0,0,0,0,0,0,0,0,0,0,0,0,0,0,0,0,0,0,0,0,0,0,0,0,0,0,0,0,0,0,0,0,0,0,0,0,null,{"$f":"IF(SUM(L235:O235)>0,1,0)","v":1},{"$f":"IF(SUM(P235:S235)>0,1,0)","v":0},{"$f":"IF(SUM(T235:W235)>0,1,0)","v":0},{"$f":"IF(SUM(X235:AA235)>0,1,0)","v":0},{"$f":"IF(SUM(AB235:AE235)>0,1,0)","v":0},{"$f":"IF(SUM(AF235:AI235)>0,1,0)","v":0},{"$f":"IF(SUM(AJ235:AM235)>0,1,0)","v":0},{"$f":"IF(SUM(AN235:AQ235)>0,1,0)","v":0},{"$f":"IF(SUM(AR235:AU235)>0,1,0)","v":0},{"$f":"IF(SUM(AV235:AY235)>0,1,0)","v":0},{"$f":"IF(SUM(AZ235:BC235)>0,1,0)","v":0},{"$f":"IF(SUM(BD235:BG235)>0,1,0)","v":0},0,0,0,0,null,16,null,null,null,0,{"$f":"SUM($CB$234:$CB235)","v":2},0,0,0,{"$f":"IF(FT235=0,FLOOR(IF(СЭкзаменами,H235,(H235+SUMIF(Курс1!$AL$7:$AL$75,\"=\"&ROW(),Курс1!$AA$7:$AA$75)+SUMIF(Курс2!$AL$7:$AL$75,\"=\"&ROW(),Курс2!$AA$7:$AA$75)+SUMIF(Курс3!$AL$7:$AL$75,\"=\"&ROW(),Курс3!$AA$7:$AA$75)+SUMIF(Курс4!$AL$7:$AL$75,\"=\"&ROW(),Курс4!$AA$7:$AA$75)+SUMIF(Курс5!$AL$7:$AL$75,\"=\"&ROW(),Курс5!$AA$7:$AA$75)+SUMIF(Курс6!$AL$7:$AL$75,\"=\"&ROW(),Курс6!$AA$7:$AA$75)+SUMIF(Курс7!$AL$7:$AL$75,\"=\"&ROW(),Курс7!$AA$7:$AA$75)))/IF(ЧасовВКредите>0,ЧасовВКредите,36),0.5),FT235)","v":3},"",null,0,{"$f":"SUMIF(Курс1!$AL$7:$AL$75,\"=\"&ROW(),Курс1!$AC$7:$AC$75)+SUMIF(Курс2!$AL$7:$AL$75,\"=\"&ROW(),Курс2!$AC$7:$AC$75)+SUMIF(Курс3!$AL$7:$AL$75,\"=\"&ROW(),Курс3!$AC$7:$AC$75)+SUMIF(Курс4!$AL$7:$AL$75,\"=\"&ROW(),Курс4!$AC$7:$AC$75)+SUMIF(Курс5!$AL$7:$AL$75,\"=\"&ROW(),Курс5!$AC$7:$AC$75)+SUMIF(Курс6!$AL$7:$AL$75,\"=\"&ROW(),Курс6!$AC$7:$AC$75)+SUMIF(Курс7!$AL$7:$AL$75,\"=\"&ROW(),Курс7!$AC$7:$AC$75)","v":3}]
["ЕН.Ф.3","Концепции современного естествознания","1",null,null,null,{"$f":"IF($FI236>0,$FW236,SUM(I236:K236)+CJ236+IF(СЭкзаменами,SUMIF(Курс1!$AL$7:$AL$75,\"=\"&ROW(),Курс1!$AA$7:$AA$75)+SUMIF(Курс2!$AL$7:$AL$75,\"=\"&ROW(),Курс2!$AA$7:$AA$75)+SUMIF(Курс3!$AL$7:$AL$75,\"=\"&ROW(),Курс3!$AA$7:$AA$75)+SUMIF(Курс4!$AL$7:$AL$75,\"=\"&ROW(),Курс4!$AA$7:$AA$75)+SUMIF(Курс5!$AL$7:$AL$75,\"=\"&ROW(),Курс5!$AA$7:$AA$75)+SUMIF(Курс6!$AL$7:$AL$75,\"=\"&ROW(),Курс6!$AA$7:$AA$75)+SUMIF(Курс7!$AL$7:$AL$75,\"=\"&ROW(),Курс7!$AA$7:$AA$75),0))","v":100},100,54,0,46,36,null,18,null,null,null,null,null,null,null,null,null,null,null,null,null,null,null,null,null,null,null,null,null,null,null,null,null,null,null,null,null,null,null,null,null,null,null,null,null,null,null,null,null,null,null,null,null,null,null,null,null,null,null,null,null,41,1,0,0,0,0,0,0,0,122.68571428571428,0,1,1,1,null,1,null,null,null,null,0,100,1,0,0,0,0,0,0,0,0,0,0,0,0,0,0,0,0,0,0,0,0,0,0,0,0,0,0,0,0,0,0,0,0,0,0,0,0,0,0,0,0,0,0,0,0,0,0,0,0,0,0,0,0,0,0,0,0,0,0,0,null,1,0,0,0,0,0,0,0,0,0,0,0,0,0,0,0,null,16,null,null,null,0,{"$f":"SUM($CB$234:$CB236)","v":3},0,0,0,{"$f":"IF(FT236=0,FLOOR(IF(СЭкзаменами,H236,(H236+SUMIF(Курс1!$AL$7:$AL$75,\"=\"&ROW(),Курс1!$AA$7:$AA$75)+SUMIF(Курс2!$AL$7:$AL$75,\"=\"&ROW(),Курс2!$AA$7:$AA$75)+SUMIF(Курс3!$AL$7:$AL$75,\"=\"&ROW(),Курс3!$AA$7:$AA$75)+SUMIF(Курс4!$AL$7:$AL$75,\"=\"&ROW(),Курс4!$AA$7:$AA$75)+SUMIF(Курс5!$AL$7:$AL$75,\"=\"&ROW(),Курс5!$AA$7:$AA$75)+SUMIF(Курс6!$AL$7:$AL$75,\"=\"&ROW(),Курс6!$AA$7:$AA$75)+SUMIF(Курс7!$AL$7:$AL$75,\"=\"&ROW(),Курс7!$AA$7:$AA$75)))/IF(ЧасовВКредите>0,ЧасовВКредите,36),0.5),FT236)","v":3.5},"",null,0,{"$f":"SUMIF(Курс1!$AL$7:$AL$75,\"=\"&ROW(),Курс1!$AC$7:$AC$75)+SUMIF(Курс2!$AL$7:$AL$75,\"=\"&ROW(),Курс2!$AC$7:$AC$75)+SUMIF(Курс3!$AL$7:$AL$75,\"=\"&ROW(),Курс3!$AC$7:$AC$75)+SUMIF(Курс4!$AL$7:$AL$75,\"=\"&ROW(),Курс4!$AC$7:$AC$75)+SUMIF(Курс5!$AL$7:$AL$75,\"=\"&ROW(),Курс5!$AC$7:$AC$75)+SUMIF(Курс6!$AL$7:$AL$75,\"=\"&ROW(),Курс6!$AC$7:$AC$75)+SUMIF(Курс7!$AL$7:$AL$75,\"=\"&ROW(),Курс7!$AC$7:$AC$75)","v":3.5}]
["",null,null,null,null,null,{"$f":"IF($FI251>0,$FW251,SUM(I251:K251)+CJ251+IF(СЭкзаменами,SUMIF(Курс1!$AL$7:$AL$75,\"=\"&ROW(),Курс1!$AA$7:$AA$75)+SUMIF(Курс2!$AL$7:$AL$75,\"=\"&ROW(),Курс2!$AA$7:$AA$75)+SUMIF(Курс3!$AL$7:$AL$75,\"=\"&ROW(),Курс3!$AA$7:$AA$75)+SUMIF(Курс4!$AL$7:$AL$75,\"=\"&ROW(),Курс4!$AA$7:$AA$75)+SUMIF(Курс5!$AL$7:$AL$75,\"=\"&ROW(),Курс5!$AA$7:$AA$75)+SUMIF(Курс6!$AL$7:$AL$75,\"=\"&ROW(),Курс6!$AA$7:$AA$75)+SUMIF(Курс7!$AL$7:$AL$75,\"=\"&ROW(),Курс7!$AA$7:$AA$75),0))","v":0},null,0,0,null,null,null,null,null,null,null,null,null,null,null,null,null,null,null,null,null,null,null,null,null,null,null,null,null,null,null,null,null,null,null,null,null,null,null,null,null,null,null,null,null,null,null,null,null,null,null,null,null,null,null,null,null,null,null,null,null,null,0,0,0,0,0,0,0,null,0,0,0,0,0,null,0,null,null,null,null,null,0,0,0,0,0,0,0,0,0,0,0,0,0,0,0,0,0,0,0,0,0,0,0,0,0,0,0,0,0,0,0,0,0,0,0,0,0,0,0,0,0,0,0,0,0,0,0,0,0,0,0,0,0,0,0,0,0,0,0,0,0,null,0,0,0,0,0,0,0,0,0,0,0,0,0,0,0,0,null,16,null,null,null,0,{"$f":"SUM($CB$234:$CB251)","v":3},0,null,0,{"$f":"IF(FT251=0,FLOOR(IF(СЭкзаменами,H251,(H251+SUMIF(Курс1!$AL$7:$AL$75,\"=\"&ROW(),Курс1!$AA$7:$AA$75)+SUMIF(Курс2!$AL$7:$AL$75,\"=\"&ROW(),Курс2!$AA$7:$AA$75)+SUMIF(Курс3!$AL$7:$AL$75,\"=\"&ROW(),Курс3!$AA$7:$AA$75)+SUMIF(Курс4!$AL$7:$AL$75,\"=\"&ROW(),Курс4!$AA$7:$AA$75)+SUMIF(Курс5!$AL$7:$AL$75,\"=\"&ROW(),Курс5!$AA$7:$AA$75)+SUMIF(Курс6!$AL$7:$AL$75,\"=\"&ROW(),Курс6!$AA$7:$AA$75)+SUMIF(Курс7!$AL$7:$AL$75,\"=\"&ROW(),Курс7!$AA$7:$AA$75)))/IF(ЧасовВКредите>0,ЧасовВКредите,36),0.5),FT251)","v":0},null,null,null,{"$f":"SUMIF(Курс1!$AL$7:$AL$75,\"=\"&ROW(),Курс1!$AC$7:$AC$75)+SUMIF(Курс2!$AL$7:$AL$75,\"=\"&ROW(),Курс2!$AC$7:$AC$75)+SUMIF(Курс3!$AL$7:$AL$75,\"=\"&ROW(),Курс3!$AC$7:$AC$75)+SUMIF(Курс4!$AL$7:$AL$75,\"=\"&ROW(),Курс4!$AC$7:$AC$75)+SUMIF(Курс5!$AL$7:$AL$75,\"=\"&ROW(),Курс5!$AC$7:$AC$75)+SUMIF(Курс6!$AL$7:$AL$75,\"=\"&ROW(),Курс6!$AC$7:$AC$75)+SUMIF(Курс7!$AL$7:$AL$75,\"=\"&ROW(),Курс7!$AC$7:$AC$75)","v":0}]
["",null,null,null,null,null,{"$f":"IF($FI256>0,$FW256,SUM(I256:K256)+CJ256+IF(СЭкзаменами,SUMIF(Курс1!$AL$7:$AL$75,\"=\"&ROW(),Курс1!$AA$7:$AA$75)+SUMIF(Курс2!$AL$7:$AL$75,\"=\"&ROW(),Курс2!$AA$7:$AA$75)+SUMIF(Курс3!$AL$7:$AL$75,\"=\"&ROW(),Курс3!$AA$7:$AA$75)+SUMIF(Курс4!$AL$7:$AL$75,\"=\"&ROW(),Курс4!$AA$7:$AA$75)+SUMIF(Курс5!$AL$7:$AL$75,\"=\"&ROW(),Курс5!$AA$7:$AA$75)+SUMIF(Курс6!$AL$7:$AL$75,\"=\"&ROW(),Курс6!$AA$7:$AA$75)+SUMIF(Курс7!$AL$7:$AL$75,\"=\"&ROW(),Курс7!$AA$7:$AA$75),0))","v":0},null,{"$f":"SUM(L256:N256)+SUM(P256:R256)+SUM(T256:V256)+SUM(X256:Z256)+SUM(AB256:AD256)+SUM(AF256:AH256)+SUM(AJ256:AL256)+SUM(AN256:AP256)+SUM(AR256:AT256)+SUM(AV256:AX256)+SUM(AZ256:BB256)+SUM(BD256:BF256)+SUM(BH256:BJ256)+SUM(BL256:BN256)","v":0},{"$f":"O256+S256+W256+AA256+AE256+AI256+AM256+AQ256+AU256+AY256+BC256+BG256+BK256+BO256","v":0},null,null,null,null,null,null,null,null,null,null,null,null,null,null,null,null,null,null,null,null,null,null,null,null,null,null,null,null,null,null,null,null,null,null,null,null,null,null,null,null,null,null,null,null,null,null,null,null,null,null,null,null,null,null,null,null,null,null,0,0,0,0,0,0,0,null,{"$f":"IF(FI256=0,$H256*MAX(1,$BX256)*($BQ256*Конт1+$BR256*Конт2+$BS256*Конт3+$BT256*Конт4+$BU256*Конт5+$BV256*Конт6)/IF(СреднееКСГ>0,СреднееКСГ,21)+((CL256+CP256)*Экз+(CM256+CQ256)*Зач+(CN256+CR256)*Проект+(CO256+CS256)*Работа)*Конт1+((CT256+CX256)*Экз+(CU256+CY256)*Зач+(CV256+CZ256)*Проект+(CW256+DA256)*Работа)*Конт2+((DB256+DF256)*Экз+(DC256+DG256)*Зач+(DD256+DH256)*Проект+(DE256+DI256)*Работа)*Конт3+((DJ256+DN256)*Экз+(DK256+DO256)*Зач+(DL256+DP256)*Проект+(DM256+DQ256)*Работа)*Конт4+((DR256+DV256)*Экз+(DO256+DW256)*Зач+(DT256+DX256)*Проект+(DU256+DY256)*Работа)*Конт5+((DZ256+ED256)*Экз+(EA256+EE256)*Зач+(EB256+EF256)*Проект+(EC256+EG256)*Работа)*Конт6,0)","v":0},{"$f":"IF(AND(UPPER(LEFT(B256,8))=\"ИТОГОВЫЙ\",TRIM(C256)<>\"\"),1,0)","v":0},{"$f":"IF(SUM(G256:H256)=0,0,IF(SUM(L256:O256,T256:W256,AB256:AE256,AJ256:AM256,AR256:AU256,AZ256:BC256)=0,3,IF(SUM(P256:S256,X256:AA256,AF256:AI256,AN256:AQ256,AV256:AY256,BD256:BG256)=0,1,2)))","v":0},{"$f":"IF(OR(TRIM(B256)=\"\",FJ256=1),0,1)","v":0},{"$f":"IF(OR(CA256>0,TRIM(B256)<>\"\"),1,0)","v":0},null,{"$f":"CL256+CP256+CT256+CX256+DB256+DF256+DJ256+DN256+DR256+DV256+DZ256+ED256+CM256+CQ256+CU256+CY256+DC256+DG256+DK256+DO256+DS256+DW256+EA256+EE256","v":0},null,null,null,null,null,{"$f":"SUM(I256:K256)","v":0},0,0,{"$f":"IF(ISNUMBER(FIND(CL$2,$E256,1)),IF(OR(FI256=1,$FP256=1),0,1),0)","v":0},{"$f":"IF(ISNUMBER(FIND(CL$2,$F256,1)),IF(OR(FI256=1,$FP256=1),0,1),0)","v":0},0,0,{"$f":"IF(ISNUMBER(FIND(CP$2,$E256,1)),IF(OR(FI256=1,$FP256=1),0,1),0)","v":0},{"$f":"IF(ISNUMBER(FIND(CP$2,$F256,1)),IF(OR($FI256=1,$FP256=1),0,1),0)","v":0},0,0,{"$f":"IF(ISNUMBER(FIND(CT$2,$E256,1)),IF(OR($FI256=1,$FP256=1),0,1),0)","v":0},{"$f":"IF(ISNUMBER(FIND(CT$2,$F256,1)),IF(OR($FI256=1,$FP256=1),0,1),0)","v":0},0,0,{"$f":"IF(ISNUMBER(FIND(CX$2,$E256,1)),IF(OR($FI256=1,$FP256=1),0,1),0)","v":0},{"$f":"IF(ISNUMBER(FIND(CX$2,$F256,1)),IF(OR($FI256=1,$FP256=1),0,1),0)","v":0},0,0,{"$f":"IF(ISNUMBER(FIND(DB$2,$E256,1)),IF(OR($FI256=1,$FP256=1),0,1),0)","v":0},{"$f":"IF(ISNUMBER(FIND(DB$2,$F256,1)),IF(OR($FI256=1,$FP256=1),0,1),0)","v":0},0,0,{"$f":"IF(ISNUMBER(FIND(DF$2,$E256,1)),IF(OR($FI256=1,$FP256=1),0,1),0)","v":0},{"$f":"IF(ISNUMBER(FIND(DF$2,$F256,1)),IF(OR($FI256=1,$FP256=1),0,1),0)","v":0},0,0,{"$f":"IF(ISNUMBER(FIND(DJ$2,$E256,1)),IF(OR($FI256=1,$FP256=1),0,1),0)","v":0},{"$f":"IF(ISNUMBER(FIND(DJ$2,$F256,1)),IF(OR($FI256=1,$FP256=1),0,1),0)","v":0},0,0,{"$f":"IF(ISNUMBER(FIND(DN$2,$E256,1)),IF(OR($FI256=1,$FP256=1),0,1),0)","v":0},{"$f":"IF(ISNUMBER(FIND(DN$2,$F256,1)),IF(OR($FI256=1,$FP256=1),0,1),0)","v":0},0,0,{"$f":"IF(ISNUMBER(FIND(DR$2,$E256,1)),IF(OR($FI256=1,$FP256=1),0,1),0)","v":0},{"$f":"IF(ISNUMBER(FIND(DR$2,$F256,1)),IF(OR($FI256=1,$FP256=1),0,1),0)","v":0},0,0,{"$f":"IF(ISNUMBER(FIND(DV$2,$E256,1)),IF(OR($FI256=1,$FP256=1),0,1),0)","v":0},{"$f":"IF(ISNUMBER(FIND(DV$2,$F256,1)),IF(OR($FI256=1,$FP256=1),0,1),0)","v":0},0,0,{"$f":"IF(ISNUMBER(FIND(DZ$2,$E256,1)),IF(OR($FI256=1,$FP256=1),0,1),0)","v":0},{"$f":"IF(ISNUMBER(FIND(DZ$2,$F256,1)),IF(OR($FI256=1,$FP256=1),0,1),0)","v":0},0,0,{"$f":"IF(ISNUMBER(FIND(ED$2,$E256,1)),IF(OR($FI256=1,$FP256=1),0,1),0)","v":0},{"$f":"IF(ISNUMBER(FIND(ED$2,$F256,1)),IF(OR($FI256=1,$FP256=1),0,1),0)","v":0},0,0,{"$f":"IF(ISNUMBER(FIND(EH$2,$E256,1)),IF(OR($FI256=1,$FP256=1),0,1),0)","v":0},{"$f":"IF(ISNUMBER(FIND(EH$2,$F256,1)),IF(OR($FI256=1,$FP256=1),0,1),0)","v":0},0,0,{"$f":"IF(ISNUMBER(FIND(EL$2,$E256,1)),IF(OR($FI256=1,$FP256=1),0,1),0)","v":0},{"$f":"IF(ISNUMBER(FIND(EL$2,$F256,1)),IF(OR($FI256=1,$FP256=1),0,1),0)","v":0},{"$f":"IF(OR($FI256=1,$FP256=1),0,LEN(TRIM(CF256)))","v":0},{"$f":"IF(OR($FI256=1,$FP256=1),0,LEN(TRIM(CG256)))","v":0},0,{"$f":"IF(OR($FI256=1,$FP256=1),0,LEN(TRIM(CI256)))","v":0},null,{"$f":"IF(SUM(L256:O256)>0,1,0)","v":0},{"$f":"IF(SUM(P256:S256)>0,1,0)","v":0},{"$f":"IF(SUM(T256:W256)>0,1,0)","v":0},{"$f":"IF(SUM(X256:AA256)>0,1,0)","v":0},{"$f":"IF(SUM(AB256:AE256)>0,1,0)","v":0},{"$f":"IF(SUM(AF256:AI256)>0,1,0)","v":0},{"$f":"IF(SUM(AJ256:AM256)>0,1,0)","v":0},{"$f":"IF(SUM(AN256:AQ256)>0,1,0)","v":0},{"$f":"IF(SUM(AR256:AU256)>0,1,0)","v":0},{"$f":"IF(SUM(AV256:AY256)>0,1,0)","v":0},{"$f":"IF(SUM(AZ256:BC256)>0,1,0)","v":0},{"$f":"IF(SUM(BD256:BG256)>0,1,0)","v":0},{"$f":"IF(SUM(BH256:BK256)>0,1,0)","v":0},{"$f":"IF(SUM(BL256:BO256)>0,1,0)","v":0},0,0,null,16,null,null,null,0,{"$f":"SUM($CB$234:$CB256)","v":3},{"$f":"IF(FI255=1,1,IF(FJ256=1,FR255+1,0))","v":0},0,0,{"$f":"IF(FT256=0,FLOOR(IF(СЭкзаменами,H256,(H256+SUMIF(Курс1!$AL$7:$AL$75,\"=\"&ROW(),Курс1!$AA$7:$AA$75)+SUMIF(Курс2!$AL$7:$AL$75,\"=\"&ROW(),Курс2!$AA$7:$AA$75)+SUMIF(Курс3!$AL$7:$AL$75,\"=\"&ROW(),Курс3!$AA$7:$AA$75)+SUMIF(Курс4!$AL$7:$AL$75,\"=\"&ROW(),Курс4!$AA$7:$AA$75)+SUMIF(Курс5!$AL$7:$AL$75,\"=\"&ROW(),Курс5!$AA$7:$AA$75)+SUMIF(Курс6!$AL$7:$AL$75,\"=\"&ROW(),Курс6!$AA$7:$AA$75)+SUMIF(Курс7!$AL$7:$AL$75,\"=\"&ROW(),Курс7!$AA$7:$AA$75)))/IF(ЧасовВКредите>0,ЧасовВКредите,36),0.5),FT256)","v":0},null,null,null,{"$f":"SUMIF(Курс1!$AL$7:$AL$75,\"=\"&ROW(),Курс1!$AC$7:$AC$75)+SUMIF(Курс2!$AL$7:$AL$75,\"=\"&ROW(),Курс2!$AC$7:$AC$75)+SUMIF(Курс3!$AL$7:$AL$75,\"=\"&ROW(),Курс3!$AC$7:$AC$75)+SUMIF(Курс4!$AL$7:$AL$75,\"=\"&ROW(),Курс4!$AC$7:$AC$75)+SUMIF(Курс5!$AL$7:$AL$75,\"=\"&ROW(),Курс5!$AC$7:$AC$75)+SUMIF(Курс6!$AL$7:$AL$75,\"=\"&ROW(),Курс6!$AC$7:$AC$75)+SUMIF(Курс7!$AL$7:$AL$75,\"=\"&ROW(),Курс7!$AC$7:$AC$75)","v":0}]
["",null,null,null,null,null,{"$f":"IF($FI267>0,$FW267,SUM(I267:K267)+CJ267+IF(СЭкзаменами,SUMIF(Курс1!$AL$7:$AL$75,\"=\"&ROW(),Курс1!$AA$7:$AA$75)+SUMIF(Курс2!$AL$7:$AL$75,\"=\"&ROW(),Курс2!$AA$7:$AA$75)+SUMIF(Курс3!$AL$7:$AL$75,\"=\"&ROW(),Курс3!$AA$7:$AA$75)+SUMIF(Курс4!$AL$7:$AL$75,\"=\"&ROW(),Курс4!$AA$7:$AA$75)+SUMIF(Курс5!$AL$7:$AL$75,\"=\"&ROW(),Курс5!$AA$7:$AA$75)+SUMIF(Курс6!$AL$7:$AL$75,\"=\"&ROW(),Курс6!$AA$7:$AA$75)+SUMIF(Курс7!$AL$7:$AL$75,\"=\"&ROW(),Курс7!$AA$7:$AA$75),0))","v":0},null,0,0,null,null,null,null,null,null,null,null,null,null,null,null,null,null,null,null,null,null,null,null,null,null,null,null,null,null,null,null,null,null,null,null,null,null,null,null,null,null,null,null,null,null,null,null,null,null,null,null,null,null,null,null,null,null,null,null,null,null,0,0,0,0,0,0,0,null,0,0,0,0,0,null,0,null,null,null,null,null,0,0,0,0,0,0,0,0,0,0,0,0,0,0,0,0,0,0,0,0,0,0,0,0,0,0,0,0,0,0,0,0,0,0,0,0,0,0,0,0,0,0,0,0,0,0,0,0,0,0,0,0,0,0,0,0,0,0,0,0,0,null,0,0,0,0,0,0,0,0,0,0,0,0,0,0,0,0,null,16,null,null,null,0,{"$f":"SUM($CB$234:$CB267)","v":3},0,null,0,{"$f":"IF(FT267=0,FLOOR(IF(СЭкзаменами,H267,(H267+SUMIF(Курс1!$AL$7:$AL$75,\"=\"&ROW(),Курс1!$AA$7:$AA$75)+SUMIF(Курс2!$AL$7:$AL$75,\"=\"&ROW(),Курс2!$AA$7:$AA$75)+SUMIF(Курс3!$AL$7:$AL$75,\"=\"&ROW(),Курс3!$AA$7:$AA$75)+SUMIF(Курс4!$AL$7:$AL$75,\"=\"&ROW(),Курс4!$AA$7:$AA$75)+SUMIF(Курс5!$AL$7:$AL$75,\"=\"&ROW(),Курс5!$AA$7:$AA$75)+SUMIF(Курс6!$AL$7:$AL$75,\"=\"&ROW(),Курс6!$AA$7:$AA$75)+SUMIF(Курс7!$AL$7:$AL$75,\"=\"&ROW(),Курс7!$AA$7:$AA$75)))/IF(ЧасовВКредите>0,ЧасовВКредите,36),0.5),FT267)","v":0},null,null,null,{"$f":"SUMIF(Курс1!$AL$7:$AL$75,\"=\"&ROW(),Курс1!$AC$7:$AC$75)+SUMIF(Курс2!$AL$7:$AL$75,\"=\"&ROW(),Курс2!$AC$7:$AC$75)+SUMIF(Курс3!$AL$7:$AL$75,\"=\"&ROW(),Курс3!$AC$7:$AC$75)+SUMIF(Курс4!$AL$7:$AL$75,\"=\"&ROW(),Курс4!$AC$7:$AC$75)+SUMIF(Курс5!$AL$7:$AL$75,\"=\"&ROW(),Курс5!$AC$7:$AC$75)+SUMIF(Курс6!$AL$7:$AL$75,\"=\"&ROW(),Курс6!$AC$7:$AC$75)+SUMIF(Курс7!$AL$7:$AL$75,\"=\"&ROW(),Курс7!$AC$7:$AC$75)","v":0}]
["",null,null,null,null,null,{"$f":"IF($FI282>0,$FW282,SUM(I282:K282)+CJ282+IF(СЭкзаменами,SUMIF(Курс1!$AL$7:$AL$75,\"=\"&ROW(),Курс1!$AA$7:$AA$75)+SUMIF(Курс2!$AL$7:$AL$75,\"=\"&ROW(),Курс2!$AA$7:$AA$75)+SUMIF(Курс3!$AL$7:$AL$75,\"=\"&ROW(),Курс3!$AA$7:$AA$75)+SUMIF(Курс4!$AL$7:$AL$75,\"=\"&ROW(),Курс4!$AA$7:$AA$75)+SUMIF(Курс5!$AL$7:$AL$75,\"=\"&ROW(),Курс5!$AA$7:$AA$75)+SUMIF(Курс6!$AL$7:$AL$75,\"=\"&ROW(),Курс6!$AA$7:$AA$75)+SUMIF(Курс7!$AL$7:$AL$75,\"=\"&ROW(),Курс7!$AA$7:$AA$75),0))","v":0},null,0,0,null,null,null,null,null,null,null,null,null,null,null,null,null,null,null,null,null,null,null,null,null,null,null,null,null,null,null,null,null,null,null,null,null,null,null,null,null,null,null,null,null,null,null,null,null,null,null,null,null,null,null,null,null,null,null,null,null,null,0,0,0,0,0,0,0,null,0,0,0,0,0,null,0,null,null,null,null,null,0,0,0,0,0,0,0,0,0,0,0,0,0,0,0,0,0,0,0,0,0,0,0,0,0,0,0,0,0,0,0,0,0,0,0,0,0,0,0,0,0,0,0,0,0,0,0,0,0,0,0,0,0,0,0,0,0,0,0,0,0,null,0,0,0,0,0,0,0,0,0,0,0,0,0,0,0,0,null,16,null,null,null,0,{"$f":"SUM($CB$234:$CB282)","v":3},0,null,0,{"$f":"IF(FT282=0,FLOOR(IF(СЭкзаменами,H282,(H282+SUMIF(Курс1!$AL$7:$AL$75,\"=\"&ROW(),Курс1!$AA$7:$AA$75)+SUMIF(Курс2!$AL$7:$AL$75,\"=\"&ROW(),Курс2!$AA$7:$AA$75)+SUMIF(Курс3!$AL$7:$AL$75,\"=\"&ROW(),Курс3!$AA$7:$AA$75)+SUMIF(Курс4!$AL$7:$AL$75,\"=\"&ROW(),Курс4!$AA$7:$AA$75)+SUMIF(Курс5!$AL$7:$AL$75,\"=\"&ROW(),Курс5!$AA$7:$AA$75)+SUMIF(Курс6!$AL$7:$AL$75,\"=\"&ROW(),Курс6!$AA$7:$AA$75)+SUMIF(Курс7!$AL$7:$AL$75,\"=\"&ROW(),Курс7!$AA$7:$AA$75)))/IF(ЧасовВКредите>0,ЧасовВКредите,36),0.5),FT282)","v":0},null,null,null,{"$f":"SUMIF(Курс1!$AL$7:$AL$75,\"=\"&ROW(),Курс1!$AC$7:$AC$75)+SUMIF(Курс2!$AL$7:$AL$75,\"=\"&ROW(),Курс2!$AC$7:$AC$75)+SUMIF(Курс3!$AL$7:$AL$75,\"=\"&ROW(),Курс3!$AC$7:$AC$75)+SUMIF(Курс4!$AL$7:$AL$75,\"=\"&ROW(),Курс4!$AC$7:$AC$75)+SUMIF(Курс5!$AL$7:$AL$75,\"=\"&ROW(),Курс5!$AC$7:$AC$75)+SUMIF(Курс6!$AL$7:$AL$75,\"=\"&ROW(),Курс6!$AC$7:$AC$75)+SUMIF(Курс7!$AL$7:$AL$75,\"=\"&ROW(),Курс7!$AC$7:$AC$75)","v":0}]
["",null,null,null,null,null,{"$f":"IF($FI293>0,$FW293,SUM(I293:K293)+CJ293+IF(СЭкзаменами,SUMIF(Курс1!$AL$7:$AL$75,\"=\"&ROW(),Курс1!$AA$7:$AA$75)+SUMIF(Курс2!$AL$7:$AL$75,\"=\"&ROW(),Курс2!$AA$7:$AA$75)+SUMIF(Курс3!$AL$7:$AL$75,\"=\"&ROW(),Курс3!$AA$7:$AA$75)+SUMIF(Курс4!$AL$7:$AL$75,\"=\"&ROW(),Курс4!$AA$7:$AA$75)+SUMIF(Курс5!$AL$7:$AL$75,\"=\"&ROW(),Курс5!$AA$7:$AA$75)+SUMIF(Курс6!$AL$7:$AL$75,\"=\"&ROW(),Курс6!$AA$7:$AA$75)+SUMIF(Курс7!$AL$7:$AL$75,\"=\"&ROW(),Курс7!$AA$7:$AA$75),0))","v":0},null,0,0,null,null,null,null,null,null,null,null,null,null,null,null,null,null,null,null,null,null,null,null,null,null,null,null,null,null,null,null,null,null,null,null,null,null,null,null,null,null,null,null,null,null,null,null,null,null,null,null,null,null,null,null,null,null,null,null,null,null,0,0,0,0,0,0,0,null,0,0,0,0,0,null,0,null,null,null,null,null,0,0,0,0,0,0,0,0,0,0,0,0,0,0,0,0,0,0,0,0,0,0,0,0,0,0,0,0,0,0,0,0,0,0,0,0,0,0,0,0,0,0,0,0,0,0,0,0,0,0,0,0,0,0,0,0,0,0,0,0,0,null,0,0,0,0,0,0,0,0,0,0,0,0,0,0,0,0,null,16,null,null,null,0,{"$f":"SUM($CB$234:$CB293)","v":3},0,null,0,{"$f":"IF(FT293=0,FLOOR(IF(СЭкзаменами,H293,(H293+SUMIF(Курс1!$AL$7:$AL$75,\"=\"&ROW(),Курс1!$AA$7:$AA$75)+SUMIF(Курс2!$AL$7:$AL$75,\"=\"&ROW(),Курс2!$AA$7:$AA$75)+SUMIF(Курс3!$AL$7:$AL$75,\"=\"&ROW(),Курс3!$AA$7:$AA$75)+SUMIF(Курс4!$AL$7:$AL$75,\"=\"&ROW(),Курс4!$AA$7:$AA$75)+SUMIF(Курс5!$AL$7:$AL$75,\"=\"&ROW(),Курс5!$AA$7:$AA$75)+SUMIF(Курс6!$AL$7:$AL$75,\"=\"&ROW(),Курс6!$AA$7:$AA$75)+SUMIF(Курс7!$AL$7:$AL$75,\"=\"&ROW(),Курс7!$AA$7:$AA$75)))/IF(ЧасовВКредите>0,ЧасовВКредите,36),0.5),FT293)","v":0},null,null,null,{"$f":"SUMIF(Курс1!$AL$7:$AL$75,\"=\"&ROW(),Курс1!$AC$7:$AC$75)+SUMIF(Курс2!$AL$7:$AL$75,\"=\"&ROW(),Курс2!$AC$7:$AC$75)+SUMIF(Курс3!$AL$7:$AL$75,\"=\"&ROW(),Курс3!$AC$7:$AC$75)+SUMIF(Курс4!$AL$7:$AL$75,\"=\"&ROW(),Курс4!$AC$7:$AC$75)+SUMIF(Курс5!$AL$7:$AL$75,\"=\"&ROW(),Курс5!$AC$7:$AC$75)+SUMIF(Курс6!$AL$7:$AL$75,\"=\"&ROW(),Курс6!$AC$7:$AC$75)+SUMIF(Курс7!$AL$7:$AL$75,\"=\"&ROW(),Курс7!$AC$7:$AC$75)","v":0}]
["",null,null,null,null,null,{"$f":"IF($FI298>0,$FW298,SUM(I298:K298)+CJ298+IF(СЭкзаменами,SUMIF(Курс1!$AL$7:$AL$75,\"=\"&ROW(),Курс1!$AA$7:$AA$75)+SUMIF(Курс2!$AL$7:$AL$75,\"=\"&ROW(),Курс2!$AA$7:$AA$75)+SUMIF(Курс3!$AL$7:$AL$75,\"=\"&ROW(),Курс3!$AA$7:$AA$75)+SUMIF(Курс4!$AL$7:$AL$75,\"=\"&ROW(),Курс4!$AA$7:$AA$75)+SUMIF(Курс5!$AL$7:$AL$75,\"=\"&ROW(),Курс5!$AA$7:$AA$75)+SUMIF(Курс6!$AL$7:$AL$75,\"=\"&ROW(),Курс6!$AA$7:$AA$75)+SUMIF(Курс7!$AL$7:$AL$75,\"=\"&ROW(),Курс7!$AA$7:$AA$75),0))","v":0},null,0,0,null,null,null,null,null,null,null,null,null,null,null,null,null,null,null,null,null,null,null,null,null,null,null,null,null,null,null,null,null,null,null,null,null,null,null,null,null,null,null,null,null,null,null,null,null,null,null,null,null,null,null,null,null,null,null,null,null,null,0,0,0,0,0,0,0,null,0,0,0,0,0,null,0,null,null,null,null,null,0,0,0,0,0,0,0,0,0,0,0,0,0,0,0,0,0,0,0,0,0,0,0,0,0,0,0,0,0,0,0,0,0,0,0,0,0,0,0,0,0,0,0,0,0,0,0,0,0,0,0,0,0,0,0,0,0,0,0,{"$f":"FormKontroljaInRange(CH298)","v":0},0,null,0,0,0,0,0,0,0,0,0,0,0,0,0,0,0,0,null,17,null,null,null,0,{"$f":"SUM($CB$294:$CB298)","v":1},0,null,0,{"$f":"IF(FT298=0,FLOOR(IF(СЭкзаменами,H298,(H298+SUMIF(Курс1!$AL$7:$AL$75,\"=\"&ROW(),Курс1!$AA$7:$AA$75)+SUMIF(Курс2!$AL$7:$AL$75,\"=\"&ROW(),Курс2!$AA$7:$AA$75)+SUMIF(Курс3!$AL$7:$AL$75,\"=\"&ROW(),Курс3!$AA$7:$AA$75)+SUMIF(Курс4!$AL$7:$AL$75,\"=\"&ROW(),Курс4!$AA$7:$AA$75)+SUMIF(Курс5!$AL$7:$AL$75,\"=\"&ROW(),Курс5!$AA$7:$AA$75)+SUMIF(Курс6!$AL$7:$AL$75,\"=\"&ROW(),Курс6!$AA$7:$AA$75)+SUMIF(Курс7!$AL$7:$AL$75,\"=\"&ROW(),Курс7!$AA$7:$AA$75)))/IF(ЧасовВКредите>0,ЧасовВКредите,36),0.5),FT298)","v":0},null,null,null,{"$f":"SUMIF(Курс1!$AL$7:$AL$75,\"=\"&ROW(),Курс1!$AC$7:$AC$75)+SUMIF(Курс2!$AL$7:$AL$75,\"=\"&ROW(),Курс2!$AC$7:$AC$75)+SUMIF(Курс3!$AL$7:$AL$75,\"=\"&ROW(),Курс3!$AC$7:$AC$75)+SUMIF(Курс4!$AL$7:$AL$75,\"=\"&ROW(),Курс4!$AC$7:$AC$75)+SUMIF(Курс5!$AL$7:$AL$75,\"=\"&ROW(),Курс5!$AC$7:$AC$75)+SUMIF(Курс6!$AL$7:$AL$75,\"=\"&ROW(),Курс6!$AC$7:$AC$75)+SUMIF(Курс7!$AL$7:$AL$75,\"=\"&ROW(),Курс7!$AC$7:$AC$75)","v":0}]
["",null,null,null,null,null,{"$f":"IF($FI313>0,$FW313,SUM(I313:K313)+CJ313+IF(СЭкзаменами,SUMIF(Курс1!$AL$7:$AL$75,\"=\"&ROW(),Курс1!$AA$7:$AA$75)+SUMIF(Курс2!$AL$7:$AL$75,\"=\"&ROW(),Курс2!$AA$7:$AA$75)+SUMIF(Курс3!$AL$7:$AL$75,\"=\"&ROW(),Курс3!$AA$7:$AA$75)+SUMIF(Курс4!$AL$7:$AL$75,\"=\"&ROW(),Курс4!$AA$7:$AA$75)+SUMIF(Курс5!$AL$7:$AL$75,\"=\"&ROW(),Курс5!$AA$7:$AA$75)+SUMIF(Курс6!$AL$7:$AL$75,\"=\"&ROW(),Курс6!$AA$7:$AA$75)+SUMIF(Курс7!$AL$7:$AL$75,\"=\"&ROW(),Курс7!$AA$7:$AA$75),0))","v":0},null,0,0,null,null,null,null,null,null,null,null,null,null,null,null,null,null,null,null,null,null,null,null,null,null,null,null,null,null,null,null,null,null,null,null,null,null,null,null,null,null,null,null,null,null,null,null,null,null,null,null,null,null,null,null,null,null,null,null,null,null,0,0,0,0,0,0,0,null,0,0,0,0,0,null,0,null,null,null,null,null,0,0,0,0,0,0,0,0,0,0,0,0,0,0,0,0,0,0,0,0,0,0,0,0,0,0,0,0,0,0,0,0,0,0,0,0,0,0,0,0,0,0,0,0,0,0,0,0,0,0,0,0,0,0,0,0,0,0,0,0,0,null,0,0,0,0,0,0,0,0,0,0,0,0,{"$f":"IF(SUM(BH313:BK313)>0,1,0)","v":0},{"$f":"IF(SUM(BL313:BO313)>0,1,0)","v":0},0,0,null,17,null,null,null,0,{"$f":"SUM($CB$294:$CB313)","v":1},0,null,0,{"$f":"IF(FT313=0,FLOOR(IF(СЭкзаменами,H313,(H313+SUMIF(Курс1!$AL$7:$AL$75,\"=\"&ROW(),Курс1!$AA$7:$AA$75)+SUMIF(Курс2!$AL$7:$AL$75,\"=\"&ROW(),Курс2!$AA$7:$AA$75)+SUMIF(Курс3!$AL$7:$AL$75,\"=\"&ROW(),Курс3!$AA$7:$AA$75)+SUMIF(Курс4!$AL$7:$AL$75,\"=\"&ROW(),Курс4!$AA$7:$AA$75)+SUMIF(Курс5!$AL$7:$AL$75,\"=\"&ROW(),Курс5!$AA$7:$AA$75)+SUMIF(Курс6!$AL$7:$AL$75,\"=\"&ROW(),Курс6!$AA$7:$AA$75)+SUMIF(Курс7!$AL$7:$AL$75,\"=\"&ROW(),Курс7!$AA$7:$AA$75)))/IF(ЧасовВКредите>0,ЧасовВКредите,36),0.5),FT313)","v":0},null,null,null,{"$f":"SUMIF(Курс1!$AL$7:$AL$75,\"=\"&ROW(),Курс1!$AC$7:$AC$75)+SUMIF(Курс2!$AL$7:$AL$75,\"=\"&ROW(),Курс2!$AC$7:$AC$75)+SUMIF(Курс3!$AL$7:$AL$75,\"=\"&ROW(),Курс3!$AC$7:$AC$75)+SUMIF(Курс4!$AL$7:$AL$75,\"=\"&ROW(),Курс4!$AC$7:$AC$75)+SUMIF(Курс5!$AL$7:$AL$75,\"=\"&ROW(),Курс5!$AC$7:$AC$75)+SUMIF(Курс6!$AL$7:$AL$75,\"=\"&ROW(),Курс6!$AC$7:$AC$75)+SUMIF(Курс7!$AL$7:$AL$75,\"=\"&ROW(),Курс7!$AC$7:$AC$75)","v":0}]
["",null,null,null,null,null,{"$f":"IF($FI324>0,$FW324,SUM(I324:K324)+CJ324+IF(СЭкзаменами,SUMIF(Курс1!$AL$7:$AL$75,\"=\"&ROW(),Курс1!$AA$7:$AA$75)+SUMIF(Курс2!$AL$7:$AL$75,\"=\"&ROW(),Курс2!$AA$7:$AA$75)+SUMIF(Курс3!$AL$7:$AL$75,\"=\"&ROW(),Курс3!$AA$7:$AA$75)+SUMIF(Курс4!$AL$7:$AL$75,\"=\"&ROW(),Курс4!$AA$7:$AA$75)+SUMIF(Курс5!$AL$7:$AL$75,\"=\"&ROW(),Курс5!$AA$7:$AA$75)+SUMIF(Курс6!$AL$7:$AL$75,\"=\"&ROW(),Курс6!$AA$7:$AA$75)+SUMIF(Курс7!$AL$7:$AL$75,\"=\"&ROW(),Курс7!$AA$7:$AA$75),0))","v":0},null,0,0,null,null,null,null,null,null,null,null,null,null,null,null,null,null,null,null,null,null,null,null,null,null,null,null,null,null,null,null,null,null,null,null,null,null,null,null,null,null,null,null,null,null,null,null,null,null,null,null,null,null,null,null,null,null,null,null,null,null,0,0,0,0,0,0,0,null,0,0,0,0,0,null,0,null,null,null,null,null,0,0,0,0,0,0,0,0,0,0,0,0,0,0,0,0,0,0,0,0,0,0,0,0,0,0,0,0,0,0,0,0,0,0,0,0,0,0,0,0,0,0,0,0,0,0,0,0,0,0,0,0,0,0,0,0,0,0,0,0,0,null,0,0,0,0,0,0,0,0,0,0,0,0,{"$f":"IF(SUM(BH324:BK324)>0,1,0)","v":0},{"$f":"IF(SUM(BL324:BO324)>0,1,0)","v":0},0,0,null,17,null,null,null,0,{"$f":"SUM($CB$294:$CB324)","v":1},0,null,0,{"$f":"IF(FT324=0,FLOOR(IF(СЭкзаменами,H324,(H324+SUMIF(Курс1!$AL$7:$AL$75,\"=\"&ROW(),Курс1!$AA$7:$AA$75)+SUMIF(Курс2!$AL$7:$AL$75,\"=\"&ROW(),Курс2!$AA$7:$AA$75)+SUMIF(Курс3!$AL$7:$AL$75,\"=\"&ROW(),Курс3!$AA$7:$AA$75)+SUMIF(Курс4!$AL$7:$AL$75,\"=\"&ROW(),Курс4!$AA$7:$AA$75)+SUMIF(Курс5!$AL$7:$AL$75,\"=\"&ROW(),Курс5!$AA$7:$AA$75)+SUMIF(Курс6!$AL$7:$AL$75,\"=\"&ROW(),Курс6!$AA$7:$AA$75)+SUMIF(Курс7!$AL$7:$AL$75,\"=\"&ROW(),Курс7!$AA$7:$AA$75)))/IF(ЧасовВКредите>0,ЧасовВКредите,36),0.5),FT324)","v":0},null,null,null,{"$f":"SUMIF(Курс1!$AL$7:$AL$75,\"=\"&ROW(),Курс1!$AC$7:$AC$75)+SUMIF(Курс2!$AL$7:$AL$75,\"=\"&ROW(),Курс2!$AC$7:$AC$75)+SUMIF(Курс3!$AL$7:$AL$75,\"=\"&ROW(),Курс3!$AC$7:$AC$75)+SUMIF(Курс4!$AL$7:$AL$75,\"=\"&ROW(),Курс4!$AC$7:$AC$75)+SUMIF(Курс5!$AL$7:$AL$75,\"=\"&ROW(),Курс5!$AC$7:$AC$75)+SUMIF(Курс6!$AL$7:$AL$75,\"=\"&ROW(),Курс6!$AC$7:$AC$75)+SUMIF(Курс7!$AL$7:$AL$75,\"=\"&ROW(),Курс7!$AC$7:$AC$75)","v":0}]
[{"$f":"IF(isFGOS,\"Б=\"&FU233,\"\")","v":""},{"$f":"IF(isFGOS,\"В=\"&FU460-FU233,\"ГОС: \"&TEXT(SUMIF($FI234:$FI293,\"=0\",H234:H293),\"0\")&\"+\"&TEXT(SUMIF($FI294:$FI327,\"=0\",H294:H327),\"0\")&\"+\"&TEXT(H460-H328,\"0\")&\"=\"&TEXT(H460,\"0\")&IF(A233<>H460,\"<>\"&TEXT(A233,\"0\"),\"\"))","v":"ГОС: 320+80+0=400"},null,null,null,null,{"$f":"SUM(I329:K329)","v":1},{"$f":"IF(H328=0,\"\",IF(ABS(G328-H328)/H328<=0.05,\"OK\",\">5%\"))","v":"OK"},{"$f":"IF($G328>0,I328/$G328,0)","v":0.495},{"$f":"IF($G328>0,J328/$G328,0)","v":0},{"$f":"IF($G328>0,K328/$G328,0)","v":0.505},null,null,null,null,null,null,null,null,null,null,null,null,null,null,null,null,null,null,null,null,null,null,null,null,null,null,null,null,null,null,null,null,null,null,null,null,null,null,null,null,null,null,null,null,null,null,null,null,null,null,null,null,null,null,null,null,null,null,null,null,null,null,null,null,null,null,null,0,{"$f":"IF(G329>0,1,0)","v":1},1,null,null,null,null,null,null,null,null,null,null,null,null,null,null,null,null,null,null,null,null,null,null,null,null,null,null,null,null,null,null,null,null,null,null,null,null,null,null,null,null,null,null,null,null,null,null,null,null,null,null,null,null,null,null,null,null,null,null,null,null,null,null,null,null,null,null,null,null,null,null,null,null,null,null,null,null,null,null,null,null,null,null,null,0,0,null,null,null,null,null,0,null,null,null,null,{"$f":"IF(FU460-FU233>0,FU330/(FU460-FU233),0)","v":0}]
[null,{"$f":"IF(B348<>\"\",B233&IF(isFGOS,\".ДВ2 Дисциплины по выбору\",\".В2 Дисциплины по выбору\"),\"\")","v":""},null,null,null,null,null,null,null,null,null,null,null,null,null,null,null,null,null,null,null,null,null,null,null,null,null,null,null,null,null,null,null,null,null,null,null,null,null,null,null,null,null,null,null,null,null,null,null,null,null,null,null,null,null,null,null,null,null,null,null,null,null,null,null,null,null,null,null,null,null,null,null,null,null,null,null,null,{"$f":"CA341","v":0},0,0,null,null,null,null,null,null,null,null,null,null,null,null,null,null,null,null,null,null,null,null,null,null,null,null,null,null,null,null,null,null,null,null,null,null,null,null,null,null,null,null,null,null,null,null,null,null,null,null,null,null,null,null,null,null,null,null,null,null,null,null,null,null,null,null,null,null,null,null,null,{"$f":"EU341","v":0},0,0,0,0,0,0,0,0,0,0,0,0,0,0,0,null,null,null,null,null,0]
[{"$f":"IF(B355<>\"\",\"5\",\"\")","v":""},null,{"$f":"IF($B355<>\"\",C351,\"\")","v":""},{"$f":"IF($B355<>\"\",D351,\"\")","v":""},{"$f":"IF($B355<>\"\",E351,\"\")","v":""},{"$f":"IF($B355<>\"\",F351,\"\")","v":""},{"$f":"IF($B355<>\"\",G351,0)","v":0},0,0,0,0,0,0,0,0,0,0,0,0,0,0,0,0,0,0,0,0,0,0,0,0,0,0,0,0,0,0,0,{"$f":"IF($B355<>\"\",AM351,0)","v":0},0,0,0,0,0,0,0,0,0,0,0,0,0,0,0,0,0,0,0,0,{"$f":"IF($B355<>\"\",BH351,0)","v":0},0,0,0,0,0,0,0,null,0,0,0,0,0,0,{"$f":"IF($B355<>\"\",BW351,0)","v":0},null,{"$f":"IF($B355<>\"\",BY351,0)","v":0},null,{"$f":"IF(SUM(G355:H355)=0,0,CA351)","v":0},0,0,null,{"$f":"IF(G355+H355>0,CE351,0)","v":0},{"$f":"IF($B355<>\"\",CF351,\"\")","v":""},{"$f":"IF($B355<>\"\",CG351,\"\")","v":""},{"$f":"IF($B355<>\"\",CH351,\"\")","v":""},{"$f":"IF($B355<>\"\",CI351,\"\")","v":""},{"$f":"IF($B355<>\"\",CJ351,0)","v":0},{"$f":"IF($B355<>\"\",CK351,0)","v":0},null,null,null,null,null,null,null,null,null,null,null,null,null,null,null,null,null,null,null,null,null,null,null,null,null,null,null,null,null,null,null,null,null,null,null,null,null,null,null,null,null,null,null,null,null,null,null,null,null,null,null,null,null,null,null,null,null,null,null,null,null,0,0,0,0,0,0,0,0,0,0,0,0,0,0,0,0,null,20,null,null,null,0,null,null,0,0,0,null,null,{"$f":"IF($B355<>\"\",FX351,0)","v":0}]
[null,{"$f":"IF(B368<>\"\",B233&IF(isFGOS,\".ДВ4 Дисциплины по выбору\",\".В4 Дисциплины по выбору\"),\"\")","v":""},null,null,null,null,null,null,null,null,null,null,null,null,null,null,null,null,null,null,null,null,null,null,null,null,null,null,null,null,null,null,null,null,null,null,null,null,null,null,null,null,null,null,null,null,null,null,null,null,null,null,null,null,null,null,null,null,null,null,null,null,null,null,null,null,null,null,null,null,null,null,null,null,null,null,null,null,{"$f":"CA361","v":0},0,0,null,null,null,null,null,null,null,null,null,null,null,null,null,null,null,null,null,null,null,null,null,null,null,null,null,null,null,null,null,null,null,null,null,null,null,null,null,null,null,null,null,null,null,null,null,null,null,null,null,null,null,null,null,null,null,null,null,null,null,null,null,null,null,null,null,null,null,null,null,{"$f":"EU361","v":0},0,0,0,0,0,0,0,0,0,0,0,0,0,0,0,null,null,null,null,null,0]
[{"$f":"IF(B371<>\"\",\"1\",\"\")","v":""},null,null,null,null,null,{"$f":"IF($FI371>0,$FW371,SUM(I371:K371)+CJ371+IF(СЭкзаменами,SUMIF(Курс1!$AL$7:$AL$75,\"=\"&ROW(),Курс1!$AA$7:$AA$75)+SUMIF(Курс2!$AL$7:$AL$75,\"=\"&ROW(),Курс2!$AA$7:$AA$75)+SUMIF(Курс3!$AL$7:$AL$75,\"=\"&ROW(),Курс3!$AA$7:$AA$75)+SUMIF(Курс4!$AL$7:$AL$75,\"=\"&ROW(),Курс4!$AA$7:$AA$75)+SUMIF(Курс5!$AL$7:$AL$75,\"=\"&ROW(),Курс5!$AA$7:$AA$75)+SUMIF(Курс6!$AL$7:$AL$75,\"=\"&ROW(),Курс6!$AA$7:$AA$75)+SUMIF(Курс7!$AL$7:$AL$75,\"=\"&ROW(),Курс7!$AA$7:$AA$75),0))","v":0},null,{"$f":"SUM(L371:N371)+SUM(P371:R371)+SUM(T371:V371)+SUM(X371:Z371)+SUM(AB371:AD371)+SUM(AF371:AH371)+SUM(AJ371:AL371)+SUM(AN371:AP371)+SUM(AR371:AT371)+SUM(AV371:AX371)+SUM(AZ371:BB371)+SUM(BD371:BF371)+SUM(BH371:BJ371)+SUM(BL371:BN371)","v":0},{"$f":"O371+S371+W371+AA371+AE371+AI371+AM371+AQ371+AU371+AY371+BC371+BG371+BK371+BO371","v":0},null,null,null,null,null,null,null,null,null,null,null,null,null,null,null,null,null,null,null,null,null,null,null,null,null,null,null,null,null,null,null,null,null,null,null,null,null,null,null,null,null,null,null,null,null,null,null,null,null,null,null,null,null,null,null,null,null,null,{"$f":"IF(SUM($L371:$S371)>0,SUM($L371:$S371)/SUM($L371:$BO371),0)","v":0},{"$f":"IF(SUM($T371:$AA371)>0,SUM($T371:$AA371)/SUM($L371:$BO371),0)","v":0},{"$f":"IF(SUM($AB371:$AI371)>0,SUM($AB371:$AI371)/SUM($L371:$BO371),0)","v":0},{"$f":"IF(SUM($AJ371:$AQ371)>0,SUM($AJ371:$AQ371)/SUM($L371:$BO371),0)","v":0},{"$f":"IF(SUM($AR371:$AY371)>0,SUM($AR371:$AY371)/SUM($L371:$BO371),0)","v":0},{"$f":"IF(SUM($AZ371:$BG371)>0,SUM($AZ371:$BG371)/SUM($L371:$BO371),0)","v":0},{"$f":"IF(SUM($BH371:$BO371)>0,SUM($BH371:$BO371)/SUM($L371:$BO371),0)","v":0},null,{"$f":"IF(7-COUNTBLANK(A371:$A377)<>0,($H371*MAX(1,$BX371)*($BQ371*Конт1+$BR371*Конт2+$BS371*Конт3+$BT371*Конт4+$BU371*Конт5+$BV371*Конт6)/IF(СреднееКСГ>0,СреднееКСГ,21)+((CL371+CP371)*Экз+(CM371+CQ371)*Зач+(CN371+CR371)*Проект+(CO371+CS371)*Работа)*Конт1+((CT371+CX371)*Экз+(CU371+CY371)*Зач+(CV371+CZ371)*Проект+(CW371+DA371)*Работа)*Конт2+((DB371+DF371)*Экз+(DC371+DG371)*Зач+(DD371+DH371)*Проект+(DE371+DI371)*Работа)*Конт3+((DJ371+DN371)*Экз+(DK371+DO371)*Зач+(DL371+DP371)*Проект+(DM371+DQ371)*Работа)*Конт4+((DR371+DV371)*Экз+(DO371+DW371)*Зач+(DT371+DX371)*Проект+(DU371+DY371)*Работа)*Конт5+((DZ371+ED371)*Экз+(EA371+EE371)*Зач+(EB371+EF371)*Проект+(EC371+EG371)*Работа)*Конт6)/(7-COUNTBLANK(A371:$A377)),0)","v":0},null,{"$f":"IF(SUM(G371:H371)=0,0,IF(SUM(L371:O371,T371:W371,AB371:AE371,AJ371:AM371,AR371:AU371,AZ371:BC371)=0,3,IF(SUM(P371:S371,X371:AA371,AF371:AI371,AN371:AQ371,AV371:AY371,BD371:BG371)=0,1,2)))","v":0},0,0,null,{"$f":"CL371+CP371+CT371+CX371+DB371+DF371+DJ371+DN371+DR371+DV371+DZ371+ED371+CM371+CQ371+CU371+CY371+DC371+DG371+DK371+DO371+DS371+DW371+EA371+EE371","v":0},null,null,null,null,null,{"$f":"SUM(I371:K371)","v":0},{"$f":"IF(OR($FI371=1,$FP371=1),0,IF(ISNUMBER(FIND(CL$2,$C371,1)),MAX(1-$BZ371,0),0))","v":0},{"$f":"IF(OR($FI371=1,$FP371=1),0,IF(ISNUMBER(FIND(CL$2,$D371,1)),1,0))","v":0},{"$f":"IF(ISNUMBER(FIND(CL$2,$E371,1)),IF(OR(FI371=1,$FP371=1),0,1),0)","v":0},{"$f":"IF(ISNUMBER(FIND(CL$2,$F371,1)),IF(OR(FI371=1,$FP371=1),0,1),0)","v":0},{"$f":"IF(OR($FI371=1,$FP371=1),0,IF(ISNUMBER(FIND(CP$2,$C371,1)),MAX(1-$BZ371,0),0))","v":0},{"$f":"IF(OR($FI371=1,$FP371=1),0,IF(ISNUMBER(FIND(CP$2,$D371,1)),1,0))","v":0},{"$f":"IF(ISNUMBER(FIND(CP$2,$E371,1)),IF(OR(FI371=1,$FP371=1),0,1),0)","v":0},{"$f":"IF(ISNUMBER(FIND(CP$2,$F371,1)),IF(OR($FI371=1,$FP371=1),0,1),0)","v":0},{"$f":"IF(OR($FI371=1,$FP371=1),0,IF(ISNUMBER(FIND(CT$2,$C371,1)),MAX(1-$BZ371,0),0))","v":0},{"$f":"IF(OR($FI371=1,$FP371=1),0,IF(ISNUMBER(FIND(CT$2,$D371,1)),1,0))","v":0},{"$f":"IF(ISNUMBER(FIND(CT$2,$E371,1)),IF(OR($FI371=1,$FP371=1),0,1),0)","v":0},{"$f":"IF(ISNUMBER(FIND(CT$2,$F371,1)),IF(OR($FI371=1,$FP371=1),0,1),0)","v":0},{"$f":"IF(OR($FI371=1,$FP371=1),0,IF(ISNUMBER(FIND(CX$2,$C371,1)),MAX(1-$BZ371,0),0))","v":0},{"$f":"IF(OR($FI371=1,$FP371=1),0,IF(ISNUMBER(FIND(CX$2,$D371,1)),1,0))","v":0},{"$f":"IF(ISNUMBER(FIND(CX$2,$E371,1)),IF(OR($FI371=1,$FP371=1),0,1),0)","v":0},{"$f":"IF(ISNUMBER(FIND(CX$2,$F371,1)),IF(OR($FI371=1,$FP371=1),0,1),0)","v":0},{"$f":"IF(OR($FI371=1,$FP371=1),0,IF(ISNUMBER(FIND(DB$2,$C371,1)),MAX(1-$BZ371,0),0))","v":0},{"$f":"IF(OR($FI371=1,$FP371=1),0,IF(ISNUMBER(FIND(DB$2,$D371,1)),1,0))","v":0},{"$f":"IF(ISNUMBER(FIND(DB$2,$E371,1)),IF(OR($FI371=1,$FP371=1),0,1),0)","v":0},{"$f":"IF(ISNUMBER(FIND(DB$2,$F371,1)),IF(OR($FI371=1,$FP371=1),0,1),0)","v":0},{"$f":"IF(OR($FI371=1,$FP371=1),0,IF(ISNUMBER(FIND(DF$2,$C371,1)),MAX(1-$BZ371,0),0))","v":0},{"$f":"IF(OR($FI371=1,$FP371=1),0,IF(ISNUMBER(FIND(DF$2,$D371,1)),1,0))","v":0},{"$f":"IF(ISNUMBER(FIND(DF$2,$E371,1)),IF(OR($FI371=1,$FP371=1),0,1),0)","v":0},{"$f":"IF(ISNUMBER(FIND(DF$2,$F371,1)),IF(OR($FI371=1,$FP371=1),0,1),0)","v":0},{"$f":"IF(OR($FI371=1,$FP371=1),0,IF(ISNUMBER(FIND(DJ$2,$C371,1)),MAX(1-$BZ371,0),0))","v":0},{"$f":"IF(OR($FI371=1,$FP371=1),0,IF(ISNUMBER(FIND(DJ$2,$D371,1)),1,0))","v":0},{"$f":"IF(ISNUMBER(FIND(DJ$2,$E371,1)),IF(OR($FI371=1,$FP371=1),0,1),0)","v":0},{"$f":"IF(ISNUMBER(FIND(DJ$2,$F371,1)),IF(OR($FI371=1,$FP371=1),0,1),0)","v":0},{"$f":"IF(OR($FI371=1,$FP371=1),0,IF(ISNUMBER(FIND(DN$2,$C371,1)),MAX(1-$BZ371,0),0))","v":0},{"$f":"IF(OR($FI371=1,$FP371=1),0,IF(ISNUMBER(FIND(DN$2,$D371,1)),1,0))","v":0},{"$f":"IF(ISNUMBER(FIND(DN$2,$E371,1)),IF(OR($FI371=1,$FP371=1),0,1),0)","v":0},{"$f":"IF(ISNUMBER(FIND(DN$2,$F371,1)),IF(OR($FI371=1,$FP371=1),0,1),0)","v":0},{"$f":"IF(OR($FI371=1,$FP371=1),0,IF(ISNUMBER(FIND(DR$2,$C371,1)),MAX(1-$BZ371,0),0))","v":0},{"$f":"IF(OR($FI371=1,$FP371=1),0,IF(ISNUMBER(FIND(DR$2,$D371,1)),1,0))","v":0},{"$f":"IF(ISNUMBER(FIND(DR$2,$E371,1)),IF(OR($FI371=1,$FP371=1),0,1),0)","v":0},{"$f":"IF(ISNUMBER(FIND(DR$2,$F371,1)),IF(OR($FI371=1,$FP371=1),0,1),0)","v":0},{"$f":"IF(OR($FI371=1,$FP371=1),0,IF(ISNUMBER(FIND(DV$2,$C371,1)),MAX(1-$BZ371,0),0))","v":0},{"$f":"IF(OR($FI371=1,$FP371=1),0,IF(ISNUMBER(FIND(DV$2,$D371,1)),1,0))","v":0},{"$f":"IF(ISNUMBER(FIND(DV$2,$E371,1)),IF(OR($FI371=1,$FP371=1),0,1),0)","v":0},{"$f":"IF(ISNUMBER(FIND(DV$2,$F371,1)),IF(OR($FI371=1,$FP371=1),0,1),0)","v":0},{"$f":"IF(OR($FI371=1,$FP371=1),0,IF(ISNUMBER(FIND(DZ$2,$C371,1)),MAX(1-$BZ371,0),0))","v":0},{"$f":"IF(OR($FI371=1,$FP371=1),0,IF(ISNUMBER(FIND(DZ$2,$D371,1)),1,0))","v":0},{"$f":"IF(ISNUMBER(FIND(DZ$2,$E371,1)),IF(OR($FI371=1,$FP371=1),0,1),0)","v":0},{"$f":"IF(ISNUMBER(FIND(DZ$2,$F371,1)),IF(OR($FI371=1,$FP371=1),0,1),0)","v":0},{"$f":"IF(OR($FI371=1,$FP371=1),0,IF(ISNUMBER(FIND(ED$2,$C371,1)),MAX(1-$BZ371,0),0))","v":0},{"$f":"IF(OR($FI371=1,$FP371=1),0,IF(ISNUMBER(FIND(ED$2,$D371,1)),1,0))","v":0},{"$f":"IF(ISNUMBER(FIND(ED$2,$E371,1)),IF(OR($FI371=1,$FP371=1),0,1),0)","v":0},{"$f":"IF(ISNUMBER(FIND(ED$2,$F371,1)),IF(OR($FI371=1,$FP371=1),0,1),0)","v":0},{"$f":"IF(OR($FI371=1,$FP371=1),0,IF(ISNUMBER(FIND(EH$2,$C371,1)),MAX(1-$BZ371,0),0))","v":0},{"$f":"IF(OR($FI371=1,$FP371=1),0,IF(ISNUMBER(FIND(EH$2,$D371,1)),1,0))","v":0},{"$f":"IF(ISNUMBER(FIND(EH$2,$E371,1)),IF(OR($FI371=1,$FP371=1),0,1),0)","v":0},{"$f":"IF(ISNUMBER(FIND(EH$2,$F371,1)),IF(OR($FI371=1,$FP371=1),0,1),0)","v":0},{"$f":"IF(OR($FI371=1,$FP371=1),0,IF(ISNUMBER(FIND(EL$2,$C371,1)),MAX(1-$BZ371,0),0))","v":0},{"$f":"IF(OR($FI371=1,$FP371=1),0,IF(ISNUMBER(FIND(EL$2,$D371,1)),1,0))","v":0},{"$f":"IF(ISNUMBER(FIND(EL$2,$E371,1)),IF(OR($FI371=1,$FP371=1),0,1),0)","v":0},{"$f":"IF(ISNUMBER(FIND(EL$2,$F371,1)),IF(OR($FI371=1,$FP371=1),0,1),0)","v":0},{"$f":"IF(OR($FI371=1,$FP371=1),0,LEN(TRIM(CF371)))","v":0},{"$f":"IF(OR($FI371=1,$FP371=1),0,LEN(TRIM(CG371)))","v":0},{"$f":"FormKontroljaInRange(CH371)","v":0},{"$f":"IF(OR($FI371=1,$FP371=1),0,LEN(TRIM(CI371)))","v":0},null,{"$f":"IF(SUM(L371:O371)>0,1,0)","v":0},{"$f":"IF(SUM(P371:S371)>0,1,0)","v":0},{"$f":"IF(SUM(T371:W371)>0,1,0)","v":0},{"$f":"IF(SUM(X371:AA371)>0,1,0)","v":0},{"$f":"IF(SUM(AB371:AE371)>0,1,0)","v":0},{"$f":"IF(SUM(AF371:AI371)>0,1,0)","v":0},{"$f":"IF(SUM(AJ371:AM371)>0,1,0)","v":0},{"$f":"IF(SUM(AN371:AQ371)>0,1,0)","v":0},{"$f":"IF(SUM(AR371:AU371)>0,1,0)","v":0},{"$f":"IF(SUM(AV371:AY371)>0,1,0)","v":0},{"$f":"IF(SUM(AZ371:BC371)>0,1,0)","v":0},{"$f":"IF(SUM(BD371:BG371)>0,1,0)","v":0},{"$f":"IF(SUM(BH371:BK371)>0,1,0)","v":0},{"$f":"IF(SUM(BL371:BO371)>0,1,0)","v":0},0,0,null,22,null,null,null,0,null,null,null,0,{"$f":"IF(FT371=0,FLOOR(IF(СЭкзаменами,H371,(H371+SUMIF(Курс1!$AL$7:$AL$75,\"=\"&ROW(),Курс1!$AA$7:$AA$75)+SUMIF(Курс2!$AL$7:$AL$75,\"=\"&ROW(),Курс2!$AA$7:$AA$75)+SUMIF(Курс3!$AL$7:$AL$75,\"=\"&ROW(),Курс3!$AA$7:$AA$75)+SUMIF(Курс4!$AL$7:$AL$75,\"=\"&ROW(),Курс4!$AA$7:$AA$75)+SUMIF(Курс5!$AL$7:$AL$75,\"=\"&ROW(),Курс5!$AA$7:$AA$75)+SUMIF(Курс6!$AL$7:$AL$75,\"=\"&ROW(),Курс6!$AA$7:$AA$75)+SUMIF(Курс7!$AL$7:$AL$75,\"=\"&ROW(),Курс7!$AA$7:$AA$75)))/IF(ЧасовВКредите>0,ЧасовВКредите,36),0.5),FT371)","v":0},null,null,null,{"$f":"SUMIF(Курс1!$AL$7:$AL$75,\"=\"&ROW(),Курс1!$AC$7:$AC$75)+SUMIF(Курс2!$AL$7:$AL$75,\"=\"&ROW(),Курс2!$AC$7:$AC$75)+SUMIF(Курс3!$AL$7:$AL$75,\"=\"&ROW(),Курс3!$AC$7:$AC$75)+SUMIF(Курс4!$AL$7:$AL$75,\"=\"&ROW(),Курс4!$AC$7:$AC$75)+SUMIF(Курс5!$AL$7:$AL$75,\"=\"&ROW(),Курс5!$AC$7:$AC$75)+SUMIF(Курс6!$AL$7:$AL$75,\"=\"&ROW(),Курс6!$AC$7:$AC$75)+SUMIF(Курс7!$AL$7:$AL$75,\"=\"&ROW(),Курс7!$AC$7:$AC$75)","v":0}]
[{"$f":"IF(B376<>\"\",\"6\",\"\")","v":""},null,{"$f":"IF($B376<>\"\",C371,\"\")","v":""},{"$f":"IF($B376<>\"\",D371,\"\")","v":""},{"$f":"IF($B376<>\"\",E371,\"\")","v":""},{"$f":"IF($B376<>\"\",F371,\"\")","v":""},{"$f":"IF($B376<>\"\",G371,0)","v":0},0,0,0,0,0,0,0,0,0,0,0,0,0,0,0,0,0,0,0,0,0,0,0,0,0,0,0,0,0,0,0,{"$f":"IF($B376<>\"\",AM371,0)","v":0},0,0,0,0,0,0,0,0,0,0,0,0,0,0,0,0,0,0,0,0,{"$f":"IF($B376<>\"\",BH371,0)","v":0},0,0,0,0,0,0,0,null,0,0,0,0,0,0,{"$f":"IF($B376<>\"\",BW371,0)","v":0},null,{"$f":"IF($B376<>\"\",BY371,0)","v":0},null,{"$f":"IF(SUM(G376:H376)=0,0,CA371)","v":0},0,0,null,{"$f":"IF(G376+H376>0,CE371,0)","v":0},{"$f":"IF($B376<>\"\",CF371,\"\")","v":""},{"$f":"IF($B376<>\"\",CG371,\"\")","v":""},{"$f":"IF($B376<>\"\",CH371,\"\")","v":""},{"$f":"IF($B376<>\"\",CI371,\"\")","v":""},{"$f":"IF($B376<>\"\",CJ371,0)","v":0},{"$f":"IF($B376<>\"\",CK371,0)","v":0},null,null,null,null,null,null,null,null,null,null,null,null,null,null,null,null,null,null,null,null,null,null,null,null,null,null,null,null,null,null,null,null,null,null,null,null,null,null,null,null,null,null,null,null,null,null,null,null,null,null,null,null,null,null,null,null,null,null,null,null,null,0,0,0,0,0,0,0,0,0,0,0,0,0,0,0,0,null,22,null,null,null,0,null,null,0,0,0,null,null,{"$f":"IF($B376<>\"\",FX371,0)","v":0}]
[{"$f":"IF(B391<>\"\",\"1\",\"\")","v":""},null,null,null,null,null,{"$f":"IF($FI391>0,$FW391,SUM(I391:K391)+CJ391+IF(СЭкзаменами,SUMIF(Курс1!$AL$7:$AL$75,\"=\"&ROW(),Курс1!$AA$7:$AA$75)+SUMIF(Курс2!$AL$7:$AL$75,\"=\"&ROW(),Курс2!$AA$7:$AA$75)+SUMIF(Курс3!$AL$7:$AL$75,\"=\"&ROW(),Курс3!$AA$7:$AA$75)+SUMIF(Курс4!$AL$7:$AL$75,\"=\"&ROW(),Курс4!$AA$7:$AA$75)+SUMIF(Курс5!$AL$7:$AL$75,\"=\"&ROW(),Курс5!$AA$7:$AA$75)+SUMIF(Курс6!$AL$7:$AL$75,\"=\"&ROW(),Курс6!$AA$7:$AA$75)+SUMIF(Курс7!$AL$7:$AL$75,\"=\"&ROW(),Курс7!$AA$7:$AA$75),0))","v":0},null,{"$f":"SUM(L391:N391)+SUM(P391:R391)+SUM(T391:V391)+SUM(X391:Z391)+SUM(AB391:AD391)+SUM(AF391:AH391)+SUM(AJ391:AL391)+SUM(AN391:AP391)+SUM(AR391:AT391)+SUM(AV391:AX391)+SUM(AZ391:BB391)+SUM(BD391:BF391)+SUM(BH391:BJ391)+SUM(BL391:BN391)","v":0},{"$f":"O391+S391+W391+AA391+AE391+AI391+AM391+AQ391+AU391+AY391+BC391+BG391+BK391+BO391","v":0},null,null,null,null,null,null,null,null,null,null,null,null,null,null,null,null,null,null,null,null,null,null,null,null,null,null,null,null,null,null,null,null,null,null,null,null,null,null,null,null,null,null,null,null,null,null,null,null,null,null,null,null,null,null,null,null,null,null,{"$f":"IF(SUM($L391:$S391)>0,SUM($L391:$S391)/SUM($L391:$BO391),0)","v":0},{"$f":"IF(SUM($T391:$AA391)>0,SUM($T391:$AA391)/SUM($L391:$BO391),0)","v":0},{"$f":"IF(SUM($AB391:$AI391)>0,SUM($AB391:$AI391)/SUM($L391:$BO391),0)","v":0},{"$f":"IF(SUM($AJ391:$AQ391)>0,SUM($AJ391:$AQ391)/SUM($L391:$BO391),0)","v":0},{"$f":"IF(SUM($AR391:$AY391)>0,SUM($AR391:$AY391)/SUM($L391:$BO391),0)","v":0},{"$f":"IF(SUM($AZ391:$BG391)>0,SUM($AZ391:$BG391)/SUM($L391:$BO391),0)","v":0},{"$f":"IF(SUM($BH391:$BO391)>0,SUM($BH391:$BO391)/SUM($L391:$BO391),0)","v":0},null,{"$f":"IF(7-COUNTBLANK(A391:$A397)<>0,($H391*MAX(1,$BX391)*($BQ391*Конт1+$BR391*Конт2+$BS391*Конт3+$BT391*Конт4+$BU391*Конт5+$BV391*Конт6)/IF(СреднееКСГ>0,СреднееКСГ,21)+((CL391+CP391)*Экз+(CM391+CQ391)*Зач+(CN391+CR391)*Проект+(CO391+CS391)*Работа)*Конт1+((CT391+CX391)*Экз+(CU391+CY391)*Зач+(CV391+CZ391)*Проект+(CW391+DA391)*Работа)*Конт2+((DB391+DF391)*Экз+(DC391+DG391)*Зач+(DD391+DH391)*Проект+(DE391+DI391)*Работа)*Конт3+((DJ391+DN391)*Экз+(DK391+DO391)*Зач+(DL391+DP391)*Проект+(DM391+DQ391)*Работа)*Конт4+((DR391+DV391)*Экз+(DO391+DW391)*Зач+(DT391+DX391)*Проект+(DU391+DY391)*Работа)*Конт5+((DZ391+ED391)*Экз+(EA391+EE391)*Зач+(EB391+EF391)*Проект+(EC391+EG391)*Работа)*Конт6)/(7-COUNTBLANK(A391:$A397)),0)","v":0},null,{"$f":"IF(SUM(G391:H391)=0,0,IF(SUM(L391:O391,T391:W391,AB391:AE391,AJ391:AM391,AR391:AU391,AZ391:BC391)=0,3,IF(SUM(P391:S391,X391:AA391,AF391:AI391,AN391:AQ391,AV391:AY391,BD391:BG391)=0,1,2)))","v":0},0,0,null,{"$f":"CL391+CP391+CT391+CX391+DB391+DF391+DJ391+DN391+DR391+DV391+DZ391+ED391+CM391+CQ391+CU391+CY391+DC391+DG391+DK391+DO391+DS391+DW391+EA391+EE391","v":0},null,null,null,null,null,{"$f":"SUM(I391:K391)","v":0},{"$f":"IF(OR($FI391=1,$FP391=1),0,IF(ISNUMBER(FIND(CL$2,$C391,1)),MAX(1-$BZ391,0),0))","v":0},{"$f":"IF(OR($FI391=1,$FP391=1),0,IF(ISNUMBER(FIND(CL$2,$D391,1)),1,0))","v":0},{"$f":"IF(ISNUMBER(FIND(CL$2,$E391,1)),IF(OR(FI391=1,$FP391=1),0,1),0)","v":0},{"$f":"IF(ISNUMBER(FIND(CL$2,$F391,1)),IF(OR(FI391=1,$FP391=1),0,1),0)","v":0},{"$f":"IF(OR($FI391=1,$FP391=1),0,IF(ISNUMBER(FIND(CP$2,$C391,1)),MAX(1-$BZ391,0),0))","v":0},{"$f":"IF(OR($FI391=1,$FP391=1),0,IF(ISNUMBER(FIND(CP$2,$D391,1)),1,0))","v":0},{"$f":"IF(ISNUMBER(FIND(CP$2,$E391,1)),IF(OR(FI391=1,$FP391=1),0,1),0)","v":0},{"$f":"IF(ISNUMBER(FIND(CP$2,$F391,1)),IF(OR($FI391=1,$FP391=1),0,1),0)","v":0},{"$f":"IF(OR($FI391=1,$FP391=1),0,IF(ISNUMBER(FIND(CT$2,$C391,1)),MAX(1-$BZ391,0),0))","v":0},{"$f":"IF(OR($FI391=1,$FP391=1),0,IF(ISNUMBER(FIND(CT$2,$D391,1)),1,0))","v":0},{"$f":"IF(ISNUMBER(FIND(CT$2,$E391,1)),IF(OR($FI391=1,$FP391=1),0,1),0)","v":0},{"$f":"IF(ISNUMBER(FIND(CT$2,$F391,1)),IF(OR($FI391=1,$FP391=1),0,1),0)","v":0},{"$f":"IF(OR($FI391=1,$FP391=1),0,IF(ISNUMBER(FIND(CX$2,$C391,1)),MAX(1-$BZ391,0),0))","v":0},{"$f":"IF(OR($FI391=1,$FP391=1),0,IF(ISNUMBER(FIND(CX$2,$D391,1)),1,0))","v":0},{"$f":"IF(ISNUMBER(FIND(CX$2,$E391,1)),IF(OR($FI391=1,$FP391=1),0,1),0)","v":0},{"$f":"IF(ISNUMBER(FIND(CX$2,$F391,1)),IF(OR($FI391=1,$FP391=1),0,1),0)","v":0},{"$f":"IF(OR($FI391=1,$FP391=1),0,IF(ISNUMBER(FIND(DB$2,$C391,1)),MAX(1-$BZ391,0),0))","v":0},{"$f":"IF(OR($FI391=1,$FP391=1),0,IF(ISNUMBER(FIND(DB$2,$D391,1)),1,0))","v":0},{"$f":"IF(ISNUMBER(FIND(DB$2,$E391,1)),IF(OR($FI391=1,$FP391=1),0,1),0)","v":0},{"$f":"IF(ISNUMBER(FIND(DB$2,$F391,1)),IF(OR($FI391=1,$FP391=1),0,1),0)","v":0},{"$f":"IF(OR($FI391=1,$FP391=1),0,IF(ISNUMBER(FIND(DF$2,$C391,1)),MAX(1-$BZ391,0),0))","v":0},{"$f":"IF(OR($FI391=1,$FP391=1),0,IF(ISNUMBER(FIND(DF$2,$D391,1)),1,0))","v":0},{"$f":"IF(ISNUMBER(FIND(DF$2,$E391,1)),IF(OR($FI391=1,$FP391=1),0,1),0)","v":0},{"$f":"IF(ISNUMBER(FIND(DF$2,$F391,1)),IF(OR($FI391=1,$FP391=1),0,1),0)","v":0},{"$f":"IF(OR($FI391=1,$FP391=1),0,IF(ISNUMBER(FIND(DJ$2,$C391,1)),MAX(1-$BZ391,0),0))","v":0},{"$f":"IF(OR($FI391=1,$FP391=1),0,IF(ISNUMBER(FIND(DJ$2,$D391,1)),1,0))","v":0},{"$f":"IF(ISNUMBER(FIND(DJ$2,$E391,1)),IF(OR($FI391=1,$FP391=1),0,1),0)","v":0},{"$f":"IF(ISNUMBER(FIND(DJ$2,$F391,1)),IF(OR($FI391=1,$FP391=1),0,1),0)","v":0},{"$f":"IF(OR($FI391=1,$FP391=1),0,IF(ISNUMBER(FIND(DN$2,$C391,1)),MAX(1-$BZ391,0),0))","v":0},{"$f":"IF(OR($FI391=1,$FP391=1),0,IF(ISNUMBER(FIND(DN$2,$D391,1)),1,0))","v":0},{"$f":"IF(ISNUMBER(FIND(DN$2,$E391,1)),IF(OR($FI391=1,$FP391=1),0,1),0)","v":0},{"$f":"IF(ISNUMBER(FIND(DN$2,$F391,1)),IF(OR($FI391=1,$FP391=1),0,1),0)","v":0},{"$f":"IF(OR($FI391=1,$FP391=1),0,IF(ISNUMBER(FIND(DR$2,$C391,1)),MAX(1-$BZ391,0),0))","v":0},{"$f":"IF(OR($FI391=1,$FP391=1),0,IF(ISNUMBER(FIND(DR$2,$D391,1)),1,0))","v":0},{"$f":"IF(ISNUMBER(FIND(DR$2,$E391,1)),IF(OR($FI391=1,$FP391=1),0,1),0)","v":0},{"$f":"IF(ISNUMBER(FIND(DR$2,$F391,1)),IF(OR($FI391=1,$FP391=1),0,1),0)","v":0},{"$f":"IF(OR($FI391=1,$FP391=1),0,IF(ISNUMBER(FIND(DV$2,$C391,1)),MAX(1-$BZ391,0),0))","v":0},{"$f":"IF(OR($FI391=1,$FP391=1),0,IF(ISNUMBER(FIND(DV$2,$D391,1)),1,0))","v":0},{"$f":"IF(ISNUMBER(FIND(DV$2,$E391,1)),IF(OR($FI391=1,$FP391=1),0,1),0)","v":0},{"$f":"IF(ISNUMBER(FIND(DV$2,$F391,1)),IF(OR($FI391=1,$FP391=1),0,1),0)","v":0},{"$f":"IF(OR($FI391=1,$FP391=1),0,IF(ISNUMBER(FIND(DZ$2,$C391,1)),MAX(1-$BZ391,0),0))","v":0},{"$f":"IF(OR($FI391=1,$FP391=1),0,IF(ISNUMBER(FIND(DZ$2,$D391,1)),1,0))","v":0},{"$f":"IF(ISNUMBER(FIND(DZ$2,$E391,1)),IF(OR($FI391=1,$FP391=1),0,1),0)","v":0},{"$f":"IF(ISNUMBER(FIND(DZ$2,$F391,1)),IF(OR($FI391=1,$FP391=1),0,1),0)","v":0},{"$f":"IF(OR($FI391=1,$FP391=1),0,IF(ISNUMBER(FIND(ED$2,$C391,1)),MAX(1-$BZ391,0),0))","v":0},{"$f":"IF(OR($FI391=1,$FP391=1),0,IF(ISNUMBER(FIND(ED$2,$D391,1)),1,0))","v":0},{"$f":"IF(ISNUMBER(FIND(ED$2,$E391,1)),IF(OR($FI391=1,$FP391=1),0,1),0)","v":0},{"$f":"IF(ISNUMBER(FIND(ED$2,$F391,1)),IF(OR($FI391=1,$FP391=1),0,1),0)","v":0},{"$f":"IF(OR($FI391=1,$FP391=1),0,IF(ISNUMBER(FIND(EH$2,$C391,1)),MAX(1-$BZ391,0),0))","v":0},{"$f":"IF(OR($FI391=1,$FP391=1),0,IF(ISNUMBER(FIND(EH$2,$D391,1)),1,0))","v":0},{"$f":"IF(ISNUMBER(FIND(EH$2,$E391,1)),IF(OR($FI391=1,$FP391=1),0,1),0)","v":0},{"$f":"IF(ISNUMBER(FIND(EH$2,$F391,1)),IF(OR($FI391=1,$FP391=1),0,1),0)","v":0},{"$f":"IF(OR($FI391=1,$FP391=1),0,IF(ISNUMBER(FIND(EL$2,$C391,1)),MAX(1-$BZ391,0),0))","v":0},{"$f":"IF(OR($FI391=1,$FP391=1),0,IF(ISNUMBER(FIND(EL$2,$D391,1)),1,0))","v":0},{"$f":"IF(ISNUMBER(FIND(EL$2,$E391,1)),IF(OR($FI391=1,$FP391=1),0,1),0)","v":0},{"$f":"IF(ISNUMBER(FIND(EL$2,$F391,1)),IF(OR($FI391=1,$FP391=1),0,1),0)","v":0},{"$f":"IF(OR($FI391=1,$FP391=1),0,LEN(TRIM(CF391)))","v":0},{"$f":"IF(OR($FI391=1,$FP391=1),0,LEN(TRIM(CG391)))","v":0},{"$f":"FormKontroljaInRange(CH391)","v":0},{"$f":"IF(OR($FI391=1,$FP391=1),0,LEN(TRIM(CI391)))","v":0},null,{"$f":"IF(SUM(L391:O391)>0,1,0)","v":0},{"$f":"IF(SUM(P391:S391)>0,1,0)","v":0},{"$f":"IF(SUM(T391:W391)>0,1,0)","v":0},{"$f":"IF(SUM(X391:AA391)>0,1,0)","v":0},{"$f":"IF(SUM(AB391:AE391)>0,1,0)","v":0},{"$f":"IF(SUM(AF391:AI391)>0,1,0)","v":0},{"$f":"IF(SUM(AJ391:AM391)>0,1,0)","v":0},{"$f":"IF(SUM(AN391:AQ391)>0,1,0)","v":0},{"$f":"IF(SUM(AR391:AU391)>0,1,0)","v":0},{"$f":"IF(SUM(AV391:AY391)>0,1,0)","v":0},{"$f":"IF(SUM(AZ391:BC391)>0,1,0)","v":0},{"$f":"IF(SUM(BD391:BG391)>0,1,0)","v":0},{"$f":"IF(SUM(BH391:BK391)>0,1,0)","v":0},{"$f":"IF(SUM(BL391:BO391)>0,1,0)","v":0},0,0,null,24,null,null,null,0,null,null,null,0,{"$f":"IF(FT391=0,FLOOR(IF(СЭкзаменами,H391,(H391+SUMIF(Курс1!$AL$7:$AL$75,\"=\"&ROW(),Курс1!$AA$7:$AA$75)+SUMIF(Курс2!$AL$7:$AL$75,\"=\"&ROW(),Курс2!$AA$7:$AA$75)+SUMIF(Курс3!$AL$7:$AL$75,\"=\"&ROW(),Курс3!$AA$7:$AA$75)+SUMIF(Курс4!$AL$7:$AL$75,\"=\"&ROW(),Курс4!$AA$7:$AA$75)+SUMIF(Курс5!$AL$7:$AL$75,\"=\"&ROW(),Курс5!$AA$7:$AA$75)+SUMIF(Курс6!$AL$7:$AL$75,\"=\"&ROW(),Курс6!$AA$7:$AA$75)+SUMIF(Курс7!$AL$7:$AL$75,\"=\"&ROW(),Курс7!$AA$7:$AA$75)))/IF(ЧасовВКредите>0,ЧасовВКредите,36),0.5),FT391)","v":0},null,null,null,{"$f":"SUMIF(Курс1!$AL$7:$AL$75,\"=\"&ROW(),Курс1!$AC$7:$AC$75)+SUMIF(Курс2!$AL$7:$AL$75,\"=\"&ROW(),Курс2!$AC$7:$AC$75)+SUMIF(Курс3!$AL$7:$AL$75,\"=\"&ROW(),Курс3!$AC$7:$AC$75)+SUMIF(Курс4!$AL$7:$AL$75,\"=\"&ROW(),Курс4!$AC$7:$AC$75)+SUMIF(Курс5!$AL$7:$AL$75,\"=\"&ROW(),Курс5!$AC$7:$AC$75)+SUMIF(Курс6!$AL$7:$AL$75,\"=\"&ROW(),Курс6!$AC$7:$AC$75)+SUMIF(Курс7!$AL$7:$AL$75,\"=\"&ROW(),Курс7!$AC$7:$AC$75)","v":0}]
[{"$f":"IF(B402<>\"\",\"2\",\"\")","v":""},null,{"$f":"IF($B402<>\"\",C401,\"\")","v":""},{"$f":"IF($B402<>\"\",D401,\"\")","v":""},{"$f":"IF($B402<>\"\",E401,\"\")","v":""},{"$f":"IF($B402<>\"\",F401,\"\")","v":""},{"$f":"IF($B402<>\"\",G401,0)","v":0},0,0,0,0,0,0,0,0,0,0,0,0,0,0,0,0,0,0,0,0,0,0,0,0,0,0,0,0,0,0,0,{"$f":"IF($B402<>\"\",AM401,0)","v":0},0,0,0,0,0,0,0,0,0,0,0,0,0,0,0,0,0,0,0,0,{"$f":"IF($B402<>\"\",BH401,0)","v":0},0,0,0,0,0,0,0,null,0,0,0,0,0,0,0,null,{"$f":"IF($B402<>\"\",BY401,0)","v":0},null,{"$f":"IF(SUM(G402:H402)=0,0,CA401)","v":0},0,0,null,{"$f":"IF(G402+H402>0,CE401,0)","v":0},{"$f":"IF($B402<>\"\",CF401,\"\")","v":""},{"$f":"IF($B402<>\"\",CG401,\"\")","v":""},{"$f":"IF($B402<>\"\",CH401,\"\")","v":""},{"$f":"IF($B402<>\"\",CI401,\"\")","v":""},{"$f":"IF($B402<>\"\",CJ401,0)","v":0},{"$f":"IF($B402<>\"\",CK401,0)","v":0},null,null,null,null,null,null,null,null,null,null,null,null,null,null,null,null,null,null,null,null,null,null,null,null,null,null,null,null,null,null,null,null,null,null,null,null,null,null,null,null,null,null,null,null,null,null,null,null,null,null,null,null,null,null,null,null,null,null,null,null,null,0,0,0,0,0,0,0,0,0,0,0,0,0,0,0,0,null,25,null,null,null,0,null,null,{"$f":"IF($B402<>\"\",$FS401,0)","v":0},{"$f":"IF($B402<>\"\",$FT401,0)","v":0},{"$f":"IF($B402<>\"\",$FU401,0)","v":0},null,null,{"$f":"IF($B402<>\"\",FX401,0)","v":0}]
[{"$f":"IF(B407<>\"\",\"7\",\"\")","v":""},null,{"$f":"IF($B407<>\"\",C401,\"\")","v":""},{"$f":"IF($B407<>\"\",D401,\"\")","v":""},{"$f":"IF($B407<>\"\",E401,\"\")","v":""},{"$f":"IF($B407<>\"\",F401,\"\")","v":""},{"$f":"IF($B407<>\"\",G401,0)","v":0},0,0,0,0,0,0,0,0,0,0,0,0,0,0,0,0,0,0,0,0,0,0,0,0,0,0,0,0,0,0,0,{"$f":"IF($B407<>\"\",AM401,0)","v":0},0,0,0,0,0,0,0,0,0,0,0,0,0,0,0,0,0,0,0,0,{"$f":"IF($B407<>\"\",BH401,0)","v":0},0,0,0,0,0,0,0,null,0,0,0,0,0,0,{"$f":"IF($B407<>\"\",BW401,0)","v":0},null,{"$f":"IF($B407<>\"\",BY401,0)","v":0},null,{"$f":"IF(SUM(G407:H407)=0,0,CA401)","v":0},0,0,null,{"$f":"IF(G407+H407>0,CE401,0)","v":0},{"$f":"IF($B407<>\"\",CF401,\"\")","v":""},{"$f":"IF($B407<>\"\",CG401,\"\")","v":""},{"$f":"IF($B407<>\"\",CH401,\"\")","v":""},{"$f":"IF($B407<>\"\",CI401,\"\")","v":""},{"$f":"IF($B407<>\"\",CJ401,0)","v":0},{"$f":"IF($B407<>\"\",CK401,0)","v":0},null,null,null,null,null,null,null,null,null,null,null,null,null,null,null,null,null,null,null,null,null,null,null,null,null,null,null,null,null,null,null,null,null,null,null,null,null,null,null,null,null,null,null,null,null,null,null,null,null,null,null,null,null,null,null,null,null,null,null,null,null,0,0,0,0,0,0,0,0,0,0,0,0,0,0,0,0,null,25,null,null,null,0,null,null,0,0,0,null,null,{"$f":"IF($B407<>\"\",FX401,0)","v":0}]
[{"$f":"FL416","v":26},{"$f":"IF(SUM(C418:K418)<>0,\"Всего\",\"\")","v":""},{"$f":"CL411+CP411+CT411+CX411+DB411+DF411+DJ411+DN411+DR411+DV411+DZ411+ED411","v":0},{"$f":"CM411+CQ411+CU411+CY411+DC411+DG411+DK411+DO411+DS411+DW411+EA411+EE411","v":0},{"$f":"CN411+CR411+CV411+CZ411+DD411+DH411+DL411+DP411+DT411+DX411+EB411+EF411","v":0},{"$f":"CO411+CS411+CW411+DA411+DE411+DI411+DM411+DQ411+DU411+DY411+EC411+EG411","v":0},{"$f":"G411","v":0},0,0,0,0,0,0,0,0,0,0,0,0,0,0,0,0,0,0,0,0,0,0,0,0,0,0,0,0,0,0,0,0,0,0,0,0,0,0,0,0,0,0,0,0,0,0,0,0,0,0,0,0,{"$f":"BH411","v":0},0,0,0,0,0,0,0,null,null,null,null,null,null,null,null,null,null,null,0,0,0,null,null,{"$f":"EP411","v":0},{"$f":"EQ411","v":0},{"$f":"ER411","v":0},{"$f":"ES411","v":0},{"$f":"CJ411","v":0},{"$f":"CK411","v":0},null,null,null,null,null,null,null,null,null,null,null,null,null,null,null,null,null,null,null,null,null,null,null,null,null,null,null,null,null,null,null,null,null,null,null,null,null,null,null,null,null,null,null,null,null,null,null,null,null,null,null,null,null,null,null,null,null,null,null,null,null,null,null,null,null,null,null,null,null,null,null,null,null,null,null,0,0,null,null,null,null,null,0,null,null,null,{"$f":"FT411","v":0},{"$f":"FU411","v":0},null,null,{"$f":"FX411","v":0}]
[{"$f":"IF(B433<>\"\",\"3\",\"\")","v":""},null,{"$f":"IF($B433<>\"\",C431,\"\")","v":""},{"$f":"IF($B433<>\"\",D431,\"\")","v":""},{"$f":"IF($B433<>\"\",E431,\"\")","v":""},{"$f":"IF($B433<>\"\",F431,\"\")","v":""},{"$f":"IF($B433<>\"\",G431,0)","v":0},0,0,0,0,0,0,0,0,0,0,0,0,0,0,0,0,0,0,0,0,0,0,0,0,0,0,0,0,0,0,0,{"$f":"IF($B433<>\"\",AM431,0)","v":0},0,0,0,0,0,0,0,0,0,0,0,0,0,0,0,0,0,0,0,0,{"$f":"IF($B433<>\"\",BH431,0)","v":0},0,0,0,0,0,0,0,null,0,0,0,0,0,0,{"$f":"IF($B433<>\"\",BW431,0)","v":0},null,{"$f":"IF($B433<>\"\",BY431,0)","v":0},null,{"$f":"IF(SUM(G433:H433)=0,0,CA431)","v":0},0,0,null,{"$f":"IF(G433+H433>0,CE431,0)","v":0},{"$f":"IF($B433<>\"\",CF431,\"\")","v":""},{"$f":"IF($B433<>\"\",CG431,\"\")","v":""},{"$f":"IF($B433<>\"\",CH431,\"\")","v":""},{"$f":"IF($B433<>\"\",CI431,\"\")","v":""},{"$f":"IF($B433<>\"\",CJ431,0)","v":0},{"$f":"IF($B433<>\"\",CK431,0)","v":0},null,null,null,null,null,null,null,null,null,null,null,null,null,null,null,null,null,null,null,null,null,null,null,null,null,null,null,null,null,null,null,null,null,null,null,null,null,null,null,null,null,null,null,null,null,null,null,null,null,null,null,null,null,null,null,null,null,null,null,null,null,0,0,0,0,0,0,0,0,0,0,0,0,0,0,0,0,null,28,null,null,null,0,null,null,0,0,0,null,null,{"$f":"IF($B433<>\"\",FX431,0)","v":0}]
[{"$f":"FL436","v":28},{"$f":"IF(SUM(C438:K438)<>0,\"Всего\",\"\")","v":""},{"$f":"CL431+CP431+CT431+CX431+DB431+DF431+DJ431+DN431+DR431+DV431+DZ431+ED431","v":0},{"$f":"CM431+CQ431+CU431+CY431+DC431+DG431+DK431+DO431+DS431+DW431+EA431+EE431","v":0},{"$f":"CN431+CR431+CV431+CZ431+DD431+DH431+DL431+DP431+DT431+DX431+EB431+EF431","v":0},{"$f":"CO431+CS431+CW431+DA431+DE431+DI431+DM431+DQ431+DU431+DY431+EC431+EG431","v":0},{"$f":"G431","v":0},0,0,0,0,0,0,0,0,0,0,0,0,0,0,0,0,0,0,0,0,0,0,0,0,0,0,0,0,0,0,0,0,0,0,0,0,0,0,0,0,0,0,0,0,0,0,0,0,0,0,0,0,{"$f":"BH431","v":0},0,0,0,0,0,0,0,null,null,null,null,null,null,null,null,null,null,null,0,0,0,null,null,{"$f":"EP431","v":0},{"$f":"EQ431","v":0},{"$f":"ER431","v":0},{"$f":"ES431","v":0},{"$f":"CJ431","v":0},{"$f":"CK431","v":0},null,null,null,null,null,null,null,null,null,null,null,null,null,null,null,null,null,null,null,null,null,null,null,null,null,null,null,null,null,null,null,null,null,null,null,null,null,null,null,null,null,null,null,null,null,null,null,null,null,null,null,null,null,null,null,null,null,null,null,null,null,null,null,null,null,null,null,null,null,null,null,null,null,null,null,0,0,null,null,null,null,null,0,null,null,null,{"$f":"FT431","v":0},{"$f":"FU431","v":0},null,null,{"$f":"FX431","v":0}]
[null,null,null,null,null,null,{"$f":"SUM(I449:K449)","v":0},{"$f":"IF(H448=0,\"\",IF(ABS(G448-H448)/H448<=0.05,\"OK\",\">5%\"))","v":""},{"$f":"IF($G448>0,I448/$G448,0)","v":0},{"$f":"IF($G448>0,J448/$G448,0)","v":0},{"$f":"IF($G448>0,K448/$G448,0)","v":0},null,null,null,null,null,null,null,null,null,null,null,null,null,null,null,null,null,null,null,null,null,null,null,null,null,null,null,null,null,null,null,null,null,null,null,null,null,null,null,null,null,null,null,null,null,null,null,null,null,null,null,null,null,null,null,null,null,null,null,null,null,null,null,null,null,null,null,0,0,0,null,null,null,null,null,null,null,null,null,null,null,null,null,null,null,null,null,null,null,null,null,null,null,null,null,null,null,null,null,null,null,null,null,null,null,null,null,null,null,null,null,null,null,null,null,null,null,null,null,null,null,null,null,null,null,null,null,null,null,null,null,null,null,null,null,null,null,null,null,null,null,null,null,null,null,null,null,null,null,null,null,null,null,0,0,null,null,null,null,null,0]
["ОПД.Ф.3","Логика и теория аргументации","2",null,null,null,{"$f":"IF($FI464>0,$FW464,SUM(I464:K464)+CJ464+IF(СЭкзаменами,SUMIF(Курс1!$AL$7:$AL$75,\"=\"&ROW(),Курс1!$AA$7:$AA$75)+SUMIF(Курс2!$AL$7:$AL$75,\"=\"&ROW(),Курс2!$AA$7:$AA$75)+SUMIF(Курс3!$AL$7:$AL$75,\"=\"&ROW(),Курс3!$AA$7:$AA$75)+SUMIF(Курс4!$AL$7:$AL$75,\"=\"&ROW(),Курс4!$AA$7:$AA$75)+SUMIF(Курс5!$AL$7:$AL$75,\"=\"&ROW(),Курс5!$AA$7:$AA$75)+SUMIF(Курс6!$AL$7:$AL$75,\"=\"&ROW(),Курс6!$AA$7:$AA$75)+SUMIF(Курс7!$AL$7:$AL$75,\"=\"&ROW(),Курс7!$AA$7:$AA$75),0))","v":72},72,36,0,36,null,null,null,null,18,null,18,null,null,null,null,null,null,null,null,null,null,null,null,null,null,null,null,null,null,null,null,null,null,null,null,null,null,null,null,null,null,null,null,null,null,null,null,null,null,null,null,null,null,null,null,null,null,null,null,null,4,1,0,0,0,0,0,0,0,90.685714285714283,0,3,1,1,null,1,null,null,null,null,0,72,0,0,0,0,1,0,0,0,0,0,0,0,0,0,0,0,0,0,0,0,0,0,0,0,0,0,0,0,0,0,0,0,0,0,0,0,0,0,0,0,0,0,0,0,0,0,0,0,0,0,0,0,0,0,0,0,0,0,0,0,null,0,1,0,0,0,0,0,0,0,0,0,0,0,0,0,0,null,31,null,null,null,0,{"$f":"SUM($CB$462:$CB464)","v":3},0,0,0,{"$f":"IF(FT464=0,FLOOR(IF(СЭкзаменами,H464,(H464+SUMIF(Курс1!$AL$7:$AL$75,\"=\"&ROW(),Курс1!$AA$7:$AA$75)+SUMIF(Курс2!$AL$7:$AL$75,\"=\"&ROW(),Курс2!$AA$7:$AA$75)+SUMIF(Курс3!$AL$7:$AL$75,\"=\"&ROW(),Курс3!$AA$7:$AA$75)+SUMIF(Курс4!$AL$7:$AL$75,\"=\"&ROW(),Курс4!$AA$7:$AA$75)+SUMIF(Курс5!$AL$7:$AL$75,\"=\"&ROW(),Курс5!$AA$7:$AA$75)+SUMIF(Курс6!$AL$7:$AL$75,\"=\"&ROW(),Курс6!$AA$7:$AA$75)+SUMIF(Курс7!$AL$7:$AL$75,\"=\"&ROW(),Курс7!$AA$7:$AA$75)))/IF(ЧасовВКредите>0,ЧасовВКредите,36),0.5),FT464)","v":2.5},"",null,0,{"$f":"SUMIF(Курс1!$AL$7:$AL$75,\"=\"&ROW(),Курс1!$AC$7:$AC$75)+SUMIF(Курс2!$AL$7:$AL$75,\"=\"&ROW(),Курс2!$AC$7:$AC$75)+SUMIF(Курс3!$AL$7:$AL$75,\"=\"&ROW(),Курс3!$AC$7:$AC$75)+SUMIF(Курс4!$AL$7:$AL$75,\"=\"&ROW(),Курс4!$AC$7:$AC$75)+SUMIF(Курс5!$AL$7:$AL$75,\"=\"&ROW(),Курс5!$AC$7:$AC$75)+SUMIF(Курс6!$AL$7:$AL$75,\"=\"&ROW(),Курс6!$AC$7:$AC$75)+SUMIF(Курс7!$AL$7:$AL$75,\"=\"&ROW(),Курс7!$AC$7:$AC$75)","v":2.5}]
["ОПД.Ф.8","Религиоведение","9","8",null,null,{"$f":"IF($FI469>0,$FW469,SUM(I469:K469)+CJ469+IF(СЭкзаменами,SUMIF(Курс1!$AL$7:$AL$75,\"=\"&ROW(),Курс1!$AA$7:$AA$75)+SUMIF(Курс2!$AL$7:$AL$75,\"=\"&ROW(),Курс2!$AA$7:$AA$75)+SUMIF(Курс3!$AL$7:$AL$75,\"=\"&ROW(),Курс3!$AA$7:$AA$75)+SUMIF(Курс4!$AL$7:$AL$75,\"=\"&ROW(),Курс4!$AA$7:$AA$75)+SUMIF(Курс5!$AL$7:$AL$75,\"=\"&ROW(),Курс5!$AA$7:$AA$75)+SUMIF(Курс6!$AL$7:$AL$75,\"=\"&ROW(),Курс6!$AA$7:$AA$75)+SUMIF(Курс7!$AL$7:$AL$75,\"=\"&ROW(),Курс7!$AA$7:$AA$75),0))","v":192},192,90,0,102,null,null,null,null,null,null,null,null,null,null,null,null,null,null,null,null,null,null,null,null,null,null,null,null,null,null,null,null,30,null,null,null,30,null,30,null,null,null,null,null,null,null,null,null,null,null,null,null,null,null,null,null,null,null,null,null,1,0,0,0,0.33333333333333331,0.66666666666666663,0,0,0,943.12619047619046,0,2,1,1,null,2,null,null,null,null,0,192,0,0,0,0,0,0,0,0,0,0,0,0,0,0,0,0,0,0,0,0,0,0,0,0,0,0,0,0,0,1,0,0,1,0,0,0,0,0,0,0,0,0,0,0,0,0,0,0,0,0,0,0,0,0,0,0,0,0,0,0,null,0,0,0,0,0,0,0,1,1,0,0,0,0,0,0,0,null,31,null,null,null,0,{"$f":"SUM($CB$462:$CB469)","v":8},0,0,0,{"$f":"IF(FT469=0,FLOOR(IF(СЭкзаменами,H469,(H469+SUMIF(Курс1!$AL$7:$AL$75,\"=\"&ROW(),Курс1!$AA$7:$AA$75)+SUMIF(Курс2!$AL$7:$AL$75,\"=\"&ROW(),Курс2!$AA$7:$AA$75)+SUMIF(Курс3!$AL$7:$AL$75,\"=\"&ROW(),Курс3!$AA$7:$AA$75)+SUMIF(Курс4!$AL$7:$AL$75,\"=\"&ROW(),Курс4!$AA$7:$AA$75)+SUMIF(Курс5!$AL$7:$AL$75,\"=\"&ROW(),Курс5!$AA$7:$AA$75)+SUMIF(Курс6!$AL$7:$AL$75,\"=\"&ROW(),Курс6!$AA$7:$AA$75)+SUMIF(Курс7!$AL$7:$AL$75,\"=\"&ROW(),Курс7!$AA$7:$AA$75)))/IF(ЧасовВКредите>0,ЧасовВКредите,36),0.5),FT469)","v":6},"",null,0,{"$f":"SUMIF(Курс1!$AL$7:$AL$75,\"=\"&ROW(),Курс1!$AC$7:$AC$75)+SUMIF(Курс2!$AL$7:$AL$75,\"=\"&ROW(),Курс2!$AC$7:$AC$75)+SUMIF(Курс3!$AL$7:$AL$75,\"=\"&ROW(),Курс3!$AC$7:$AC$75)+SUMIF(Курс4!$AL$7:$AL$75,\"=\"&ROW(),Курс4!$AC$7:$AC$75)+SUMIF(Курс5!$AL$7:$AL$75,\"=\"&ROW(),Курс5!$AC$7:$AC$75)+SUMIF(Курс6!$AL$7:$AL$75,\"=\"&ROW(),Курс6!$AC$7:$AC$75)+SUMIF(Курс7!$AL$7:$AL$75,\"=\"&ROW(),Курс7!$AC$7:$AC$75)","v":5.5}]
["",null,null,null,null,null,{"$f":"IF($FI480>0,$FW480,SUM(I480:K480)+CJ480+IF(СЭкзаменами,SUMIF(Курс1!$AL$7:$AL$75,\"=\"&ROW(),Курс1!$AA$7:$AA$75)+SUMIF(Курс2!$AL$7:$AL$75,\"=\"&ROW(),Курс2!$AA$7:$AA$75)+SUMIF(Курс3!$AL$7:$AL$75,\"=\"&ROW(),Курс3!$AA$7:$AA$75)+SUMIF(Курс4!$AL$7:$AL$75,\"=\"&ROW(),Курс4!$AA$7:$AA$75)+SUMIF(Курс5!$AL$7:$AL$75,\"=\"&ROW(),Курс5!$AA$7:$AA$75)+SUMIF(Курс6!$AL$7:$AL$75,\"=\"&ROW(),Курс6!$AA$7:$AA$75)+SUMIF(Курс7!$AL$7:$AL$75,\"=\"&ROW(),Курс7!$AA$7:$AA$75),0))","v":0},null,0,0,null,null,null,null,null,null,null,null,null,null,null,null,null,null,null,null,null,null,null,null,null,null,null,null,null,null,null,null,null,null,null,null,null,null,null,null,null,null,null,null,null,null,null,null,null,null,null,null,null,null,null,null,null,null,null,null,null,null,0,0,0,0,0,0,0,null,0,0,0,0,0,null,0,null,null,null,null,null,0,0,0,0,0,0,0,0,0,0,0,0,0,0,0,0,0,0,0,0,0,0,0,0,0,0,0,0,0,0,0,0,0,0,0,0,0,0,0,0,0,0,0,0,0,0,0,0,0,0,0,0,0,0,0,0,0,0,0,0,0,null,0,0,0,0,0,0,0,0,0,0,0,0,0,0,0,0,null,31,null,null,null,0,{"$f":"SUM($CB$462:$CB480)","v":15},0,0,0,{"$f":"IF(FT480=0,FLOOR(IF(СЭкзаменами,H480,(H480+SUMIF(Курс1!$AL$7:$AL$75,\"=\"&ROW(),Курс1!$AA$7:$AA$75)+SUMIF(Курс2!$AL$7:$AL$75,\"=\"&ROW(),Курс2!$AA$7:$AA$75)+SUMIF(Курс3!$AL$7:$AL$75,\"=\"&ROW(),Курс3!$AA$7:$AA$75)+SUMIF(Курс4!$AL$7:$AL$75,\"=\"&ROW(),Курс4!$AA$7:$AA$75)+SUMIF(Курс5!$AL$7:$AL$75,\"=\"&ROW(),Курс5!$AA$7:$AA$75)+SUMIF(Курс6!$AL$7:$AL$75,\"=\"&ROW(),Курс6!$AA$7:$AA$75)+SUMIF(Курс7!$AL$7:$AL$75,\"=\"&ROW(),Курс7!$AA$7:$AA$75)))/IF(ЧасовВКредите>0,ЧасовВКредите,36),0.5),FT480)","v":0},null,null,null,{"$f":"SUMIF(Курс1!$AL$7:$AL$75,\"=\"&ROW(),Курс1!$AC$7:$AC$75)+SUMIF(Курс2!$AL$7:$AL$75,\"=\"&ROW(),Курс2!$AC$7:$AC$75)+SUMIF(Курс3!$AL$7:$AL$75,\"=\"&ROW(),Курс3!$AC$7:$AC$75)+SUMIF(Курс4!$AL$7:$AL$75,\"=\"&ROW(),Курс4!$AC$7:$AC$75)+SUMIF(Курс5!$AL$7:$AL$75,\"=\"&ROW(),Курс5!$AC$7:$AC$75)+SUMIF(Курс6!$AL$7:$AL$75,\"=\"&ROW(),Курс6!$AC$7:$AC$75)+SUMIF(Курс7!$AL$7:$AL$75,\"=\"&ROW(),Курс7!$AC$7:$AC$75)","v":0}]
["",null,null,null,null,null,{"$f":"IF($FI495>0,$FW495,SUM(I495:K495)+CJ495+IF(СЭкзаменами,SUMIF(Курс1!$AL$7:$AL$75,\"=\"&ROW(),Курс1!$AA$7:$AA$75)+SUMIF(Курс2!$AL$7:$AL$75,\"=\"&ROW(),Курс2!$AA$7:$AA$75)+SUMIF(Курс3!$AL$7:$AL$75,\"=\"&ROW(),Курс3!$AA$7:$AA$75)+SUMIF(Курс4!$AL$7:$AL$75,\"=\"&ROW(),Курс4!$AA$7:$AA$75)+SUMIF(Курс5!$AL$7:$AL$75,\"=\"&ROW(),Курс5!$AA$7:$AA$75)+SUMIF(Курс6!$AL$7:$AL$75,\"=\"&ROW(),Курс6!$AA$7:$AA$75)+SUMIF(Курс7!$AL$7:$AL$75,\"=\"&ROW(),Курс7!$AA$7:$AA$75),0))","v":0},null,0,0,null,null,null,null,null,null,null,null,null,null,null,null,null,null,null,null,null,null,null,null,null,null,null,null,null,null,null,null,null,null,null,null,null,null,null,null,null,null,null,null,null,null,null,null,null,null,null,null,null,null,null,null,null,null,null,null,null,null,0,0,0,0,0,0,0,null,0,0,0,0,0,null,0,null,null,null,null,null,0,0,0,0,0,0,0,0,0,0,0,0,0,0,0,0,0,0,0,0,0,0,0,0,0,0,0,0,0,0,0,0,0,0,0,0,0,0,0,0,0,0,0,0,0,0,0,0,0,0,0,0,0,0,0,0,0,0,0,0,0,null,0,0,0,0,0,0,0,0,0,0,0,0,0,0,0,0,null,31,null,null,null,0,{"$f":"SUM($CB$462:$CB495)","v":15},0,0,0,{"$f":"IF(FT495=0,FLOOR(IF(СЭкзаменами,H495,(H495+SUMIF(Курс1!$AL$7:$AL$75,\"=\"&ROW(),Курс1!$AA$7:$AA$75)+SUMIF(Курс2!$AL$7:$AL$75,\"=\"&ROW(),Курс2!$AA$7:$AA$75)+SUMIF(Курс3!$AL$7:$AL$75,\"=\"&ROW(),Курс3!$AA$7:$AA$75)+SUMIF(Курс4!$AL$7:$AL$75,\"=\"&ROW(),Курс4!$AA$7:$AA$75)+SUMIF(Курс5!$AL$7:$AL$75,\"=\"&ROW(),Курс5!$AA$7:$AA$75)+SUMIF(Курс6!$AL$7:$AL$75,\"=\"&ROW(),Курс6!$AA$7:$AA$75)+SUMIF(Курс7!$AL$7:$AL$75,\"=\"&ROW(),Курс7!$AA$7:$AA$75)))/IF(ЧасовВКредите>0,ЧасовВКредите,36),0.5),FT495)","v":0},null,null,null,{"$f":"SUMIF(Курс1!$AL$7:$AL$75,\"=\"&ROW(),Курс1!$AC$7:$AC$75)+SUMIF(Курс2!$AL$7:$AL$75,\"=\"&ROW(),Курс2!$AC$7:$AC$75)+SUMIF(Курс3!$AL$7:$AL$75,\"=\"&ROW(),Курс3!$AC$7:$AC$75)+SUMIF(Курс4!$AL$7:$AL$75,\"=\"&ROW(),Курс4!$AC$7:$AC$75)+SUMIF(Курс5!$AL$7:$AL$75,\"=\"&ROW(),Курс5!$AC$7:$AC$75)+SUMIF(Курс6!$AL$7:$AL$75,\"=\"&ROW(),Курс6!$AC$7:$AC$75)+SUMIF(Курс7!$AL$7:$AL$75,\"=\"&ROW(),Курс7!$AC$7:$AC$75)","v":0}]
["",null,null,null,null,null,{"$f":"IF($FI496>0,$FW496,SUM(I496:K496)+CJ496+IF(СЭкзаменами,SUMIF(Курс1!$AL$7:$AL$75,\"=\"&ROW(),Курс1!$AA$7:$AA$75)+SUMIF(Курс2!$AL$7:$AL$75,\"=\"&ROW(),Курс2!$AA$7:$AA$75)+SUMIF(Курс3!$AL$7:$AL$75,\"=\"&ROW(),Курс3!$AA$7:$AA$75)+SUMIF(Курс4!$AL$7:$AL$75,\"=\"&ROW(),Курс4!$AA$7:$AA$75)+SUMIF(Курс5!$AL$7:$AL$75,\"=\"&ROW(),Курс5!$AA$7:$AA$75)+SUMIF(Курс6!$AL$7:$AL$75,\"=\"&ROW(),Курс6!$AA$7:$AA$75)+SUMIF(Курс7!$AL$7:$AL$75,\"=\"&ROW(),Курс7!$AA$7:$AA$75),0))","v":0},null,0,0,null,null,null,null,null,null,null,null,null,null,null,null,null,null,null,null,null,null,null,null,null,null,null,null,null,null,null,null,null,null,null,null,null,null,null,null,null,null,null,null,null,null,null,null,null,null,null,null,null,null,null,null,null,null,null,null,null,null,0,0,0,0,0,0,0,null,0,0,0,0,0,null,0,null,null,null,null,null,0,0,0,0,0,0,0,0,0,0,0,0,0,0,0,0,0,0,0,0,0,0,0,0,0,0,0,0,0,0,0,0,0,0,0,0,0,0,0,0,0,0,0,0,0,0,0,0,0,0,0,0,0,0,0,0,0,0,0,0,0,null,0,0,0,0,0,0,0,0,0,0,0,0,0,0,0,0,null,31,null,null,null,0,{"$f":"SUM($CB$462:$CB496)","v":15},0,0,0,{"$f":"IF(FT496=0,FLOOR(IF(СЭкзаменами,H496,(H496+SUMIF(Курс1!$AL$7:$AL$75,\"=\"&ROW(),Курс1!$AA$7:$AA$75)+SUMIF(Курс2!$AL$7:$AL$75,\"=\"&ROW(),Курс2!$AA$7:$AA$75)+SUMIF(Курс3!$AL$7:$AL$75,\"=\"&ROW(),Курс3!$AA$7:$AA$75)+SUMIF(Курс4!$AL$7:$AL$75,\"=\"&ROW(),Курс4!$AA$7:$AA$75)+SUMIF(Курс5!$AL$7:$AL$75,\"=\"&ROW(),Курс5!$AA$7:$AA$75)+SUMIF(Курс6!$AL$7:$AL$75,\"=\"&ROW(),Курс6!$AA$7:$AA$75)+SUMIF(Курс7!$AL$7:$AL$75,\"=\"&ROW(),Курс7!$AA$7:$AA$75)))/IF(ЧасовВКредите>0,ЧасовВКредите,36),0.5),FT496)","v":0},null,null,null,{"$f":"SUMIF(Курс1!$AL$7:$AL$75,\"=\"&ROW(),Курс1!$AC$7:$AC$75)+SUMIF(Курс2!$AL$7:$AL$75,\"=\"&ROW(),Курс2!$AC$7:$AC$75)+SUMIF(Курс3!$AL$7:$AL$75,\"=\"&ROW(),Курс3!$AC$7:$AC$75)+SUMIF(Курс4!$AL$7:$AL$75,\"=\"&ROW(),Курс4!$AC$7:$AC$75)+SUMIF(Курс5!$AL$7:$AL$75,\"=\"&ROW(),Курс5!$AC$7:$AC$75)+SUMIF(Курс6!$AL$7:$AL$75,\"=\"&ROW(),Курс6!$AC$7:$AC$75)+SUMIF(Курс7!$AL$7:$AL$75,\"=\"&ROW(),Курс7!$AC$7:$AC$75)","v":0}]
["",null,null,null,null,null,{"$f":"IF($FI511>0,$FW511,SUM(I511:K511)+CJ511+IF(СЭкзаменами,SUMIF(Курс1!$AL$7:$AL$75,\"=\"&ROW(),Курс1!$AA$7:$AA$75)+SUMIF(Курс2!$AL$7:$AL$75,\"=\"&ROW(),Курс2!$AA$7:$AA$75)+SUMIF(Курс3!$AL$7:$AL$75,\"=\"&ROW(),Курс3!$AA$7:$AA$75)+SUMIF(Курс4!$AL$7:$AL$75,\"=\"&ROW(),Курс4!$AA$7:$AA$75)+SUMIF(Курс5!$AL$7:$AL$75,\"=\"&ROW(),Курс5!$AA$7:$AA$75)+SUMIF(Курс6!$AL$7:$AL$75,\"=\"&ROW(),Курс6!$AA$7:$AA$75)+SUMIF(Курс7!$AL$7:$AL$75,\"=\"&ROW(),Курс7!$AA$7:$AA$75),0))","v":0},null,0,0,null,null,null,null,null,null,null,null,null,null,null,null,null,null,null,null,null,null,null,null,null,null,null,null,null,null,null,null,null,null,null,null,null,null,null,null,null,null,null,null,null,null,null,null,null,null,null,null,null,null,null,null,null,null,null,null,null,null,0,0,0,0,0,0,0,null,0,0,0,0,0,null,0,null,null,null,null,null,0,0,0,0,0,0,0,0,0,0,0,0,0,0,0,0,0,0,0,0,0,0,0,0,0,0,0,0,0,0,0,0,0,0,0,0,0,0,0,0,0,0,0,0,0,0,0,0,0,0,0,0,0,0,0,0,0,0,0,0,0,null,0,0,0,0,0,0,0,0,0,0,0,0,0,0,0,0,null,31,null,null,null,0,{"$f":"SUM($CB$462:$CB511)","v":15},0,null,0,{"$f":"IF(FT511=0,FLOOR(IF(СЭкзаменами,H511,(H511+SUMIF(Курс1!$AL$7:$AL$75,\"=\"&ROW(),Курс1!$AA$7:$AA$75)+SUMIF(Курс2!$AL$7:$AL$75,\"=\"&ROW(),Курс2!$AA$7:$AA$75)+SUMIF(Курс3!$AL$7:$AL$75,\"=\"&ROW(),Курс3!$AA$7:$AA$75)+SUMIF(Курс4!$AL$7:$AL$75,\"=\"&ROW(),Курс4!$AA$7:$AA$75)+SUMIF(Курс5!$AL$7:$AL$75,\"=\"&ROW(),Курс5!$AA$7:$AA$75)+SUMIF(Курс6!$AL$7:$AL$75,\"=\"&ROW(),Курс6!$AA$7:$AA$75)+SUMIF(Курс7!$AL$7:$AL$75,\"=\"&ROW(),Курс7!$AA$7:$AA$75)))/IF(ЧасовВКредите>0,ЧасовВКредите,36),0.5),FT511)","v":0},null,null,null,{"$f":"SUMIF(Курс1!$AL$7:$AL$75,\"=\"&ROW(),Курс1!$AC$7:$AC$75)+SUMIF(Курс2!$AL$7:$AL$75,\"=\"&ROW(),Курс2!$AC$7:$AC$75)+SUMIF(Курс3!$AL$7:$AL$75,\"=\"&ROW(),Курс3!$AC$7:$AC$75)+SUMIF(Курс4!$AL$7:$AL$75,\"=\"&ROW(),Курс4!$AC$7:$AC$75)+SUMIF(Курс5!$AL$7:$AL$75,\"=\"&ROW(),Курс5!$AC$7:$AC$75)+SUMIF(Курс6!$AL$7:$AL$75,\"=\"&ROW(),Курс6!$AC$7:$AC$75)+SUMIF(Курс7!$AL$7:$AL$75,\"=\"&ROW(),Курс7!$AC$7:$AC$75)","v":0}]
["",null,null,null,null,null,{"$f":"IF($FI516>0,$FW516,SUM(I516:K516)+CJ516+IF(СЭкзаменами,SUMIF(Курс1!$AL$7:$AL$75,\"=\"&ROW(),Курс1!$AA$7:$AA$75)+SUMIF(Курс2!$AL$7:$AL$75,\"=\"&ROW(),Курс2!$AA$7:$AA$75)+SUMIF(Курс3!$AL$7:$AL$75,\"=\"&ROW(),Курс3!$AA$7:$AA$75)+SUMIF(Курс4!$AL$7:$AL$75,\"=\"&ROW(),Курс4!$AA$7:$AA$75)+SUMIF(Курс5!$AL$7:$AL$75,\"=\"&ROW(),Курс5!$AA$7:$AA$75)+SUMIF(Курс6!$AL$7:$AL$75,\"=\"&ROW(),Курс6!$AA$7:$AA$75)+SUMIF(Курс7!$AL$7:$AL$75,\"=\"&ROW(),Курс7!$AA$7:$AA$75),0))","v":0},null,0,0,null,null,null,null,null,null,null,null,null,null,null,null,null,null,null,null,null,null,null,null,null,null,null,null,null,null,null,null,null,null,null,null,null,null,null,null,null,null,null,null,null,null,null,null,null,null,null,null,null,null,null,null,null,null,null,null,null,null,0,0,0,0,0,0,0,null,0,0,0,0,0,null,0,null,null,null,null,null,0,0,0,0,0,0,0,0,0,0,0,0,0,0,0,0,0,0,0,0,0,0,0,0,0,0,0,0,0,0,0,0,0,0,0,0,0,0,0,0,0,0,0,0,0,0,0,0,0,0,0,0,0,0,0,0,0,0,0,0,0,null,0,0,0,0,0,0,0,0,0,0,0,0,0,0,0,0,null,31,null,null,null,0,{"$f":"SUM($CB$462:$CB516)","v":15},0,null,0,{"$f":"IF(FT516=0,FLOOR(IF(СЭкзаменами,H516,(H516+SUMIF(Курс1!$AL$7:$AL$75,\"=\"&ROW(),Курс1!$AA$7:$AA$75)+SUMIF(Курс2!$AL$7:$AL$75,\"=\"&ROW(),Курс2!$AA$7:$AA$75)+SUMIF(Курс3!$AL$7:$AL$75,\"=\"&ROW(),Курс3!$AA$7:$AA$75)+SUMIF(Курс4!$AL$7:$AL$75,\"=\"&ROW(),Курс4!$AA$7:$AA$75)+SUMIF(Курс5!$AL$7:$AL$75,\"=\"&ROW(),Курс5!$AA$7:$AA$75)+SUMIF(Курс6!$AL$7:$AL$75,\"=\"&ROW(),Курс6!$AA$7:$AA$75)+SUMIF(Курс7!$AL$7:$AL$75,\"=\"&ROW(),Курс7!$AA$7:$AA$75)))/IF(ЧасовВКредите>0,ЧасовВКредите,36),0.5),FT516)","v":0},null,null,null,{"$f":"SUMIF(Курс1!$AL$7:$AL$75,\"=\"&ROW(),Курс1!$AC$7:$AC$75)+SUMIF(Курс2!$AL$7:$AL$75,\"=\"&ROW(),Курс2!$AC$7:$AC$75)+SUMIF(Курс3!$AL$7:$AL$75,\"=\"&ROW(),Курс3!$AC$7:$AC$75)+SUMIF(Курс4!$AL$7:$AL$75,\"=\"&ROW(),Курс4!$AC$7:$AC$75)+SUMIF(Курс5!$AL$7:$AL$75,\"=\"&ROW(),Курс5!$AC$7:$AC$75)+SUMIF(Курс6!$AL$7:$AL$75,\"=\"&ROW(),Курс6!$AC$7:$AC$75)+SUMIF(Курс7!$AL$7:$AL$75,\"=\"&ROW(),Курс7!$AC$7:$AC$75)","v":0}]
["ОПД.Р.6","Государственное и муниципальное управление",null,"6",null,null,{"$f":"IF($FI527>0,$FW527,SUM(I527:K527)+CJ527+IF(СЭкзаменами,SUMIF(Курс1!$AL$7:$AL$75,\"=\"&ROW(),Курс1!$AA$7:$AA$75)+SUMIF(Курс2!$AL$7:$AL$75,\"=\"&ROW(),Курс2!$AA$7:$AA$75)+SUMIF(Курс3!$AL$7:$AL$75,\"=\"&ROW(),Курс3!$AA$7:$AA$75)+SUMIF(Курс4!$AL$7:$AL$75,\"=\"&ROW(),Курс4!$AA$7:$AA$75)+SUMIF(Курс5!$AL$7:$AL$75,\"=\"&ROW(),Курс5!$AA$7:$AA$75)+SUMIF(Курс6!$AL$7:$AL$75,\"=\"&ROW(),Курс6!$AA$7:$AA$75)+SUMIF(Курс7!$AL$7:$AL$75,\"=\"&ROW(),Курс7!$AA$7:$AA$75),0))","v":60},60,28,0,32,null,null,null,null,null,null,null,null,null,null,null,null,null,null,null,null,null,null,null,null,14,null,14,null,null,null,null,null,null,null,null,null,null,null,null,null,null,null,null,null,null,null,null,null,null,null,null,null,null,null,null,null,null,null,null,null,7,0,0,1,0,0,0,0,0,239.25,0,3,1,1,null,1,null,null,null,null,0,60,0,0,0,0,0,0,0,0,0,0,0,0,0,0,0,0,0,0,0,0,0,1,0,0,0,0,0,0,0,0,0,0,0,0,0,0,0,0,0,0,0,0,0,0,0,0,0,0,0,0,0,0,0,0,0,0,0,0,0,0,null,0,0,0,0,0,1,0,0,0,0,0,0,0,0,0,0,null,32,null,null,null,0,{"$f":"SUM($CB$522:$CB527)","v":6},0,0,0,{"$f":"IF(FT527=0,FLOOR(IF(СЭкзаменами,H527,(H527+SUMIF(Курс1!$AL$7:$AL$75,\"=\"&ROW(),Курс1!$AA$7:$AA$75)+SUMIF(Курс2!$AL$7:$AL$75,\"=\"&ROW(),Курс2!$AA$7:$AA$75)+SUMIF(Курс3!$AL$7:$AL$75,\"=\"&ROW(),Курс3!$AA$7:$AA$75)+SUMIF(Курс4!$AL$7:$AL$75,\"=\"&ROW(),Курс4!$AA$7:$AA$75)+SUMIF(Курс5!$AL$7:$AL$75,\"=\"&ROW(),Курс5!$AA$7:$AA$75)+SUMIF(Курс6!$AL$7:$AL$75,\"=\"&ROW(),Курс6!$AA$7:$AA$75)+SUMIF(Курс7!$AL$7:$AL$75,\"=\"&ROW(),Курс7!$AA$7:$AA$75)))/IF(ЧасовВКредите>0,ЧасовВКредите,36),0.5),FT527)","v":1.5},"",null,0,{"$f":"SUMIF(Курс1!$AL$7:$AL$75,\"=\"&ROW(),Курс1!$AC$7:$AC$75)+SUMIF(Курс2!$AL$7:$AL$75,\"=\"&ROW(),Курс2!$AC$7:$AC$75)+SUMIF(Курс3!$AL$7:$AL$75,\"=\"&ROW(),Курс3!$AC$7:$AC$75)+SUMIF(Курс4!$AL$7:$AL$75,\"=\"&ROW(),Курс4!$AC$7:$AC$75)+SUMIF(Курс5!$AL$7:$AL$75,\"=\"&ROW(),Курс5!$AC$7:$AC$75)+SUMIF(Курс6!$AL$7:$AL$75,\"=\"&ROW(),Курс6!$AC$7:$AC$75)+SUMIF(Курс7!$AL$7:$AL$75,\"=\"&ROW(),Курс7!$AC$7:$AC$75)","v":1.5}]
["",null,null,null,null,null,{"$f":"IF($FI541>0,$FW541,SUM(I541:K541)+CJ541+IF(СЭкзаменами,SUMIF(Курс1!$AL$7:$AL$75,\"=\"&ROW(),Курс1!$AA$7:$AA$75)+SUMIF(Курс2!$AL$7:$AL$75,\"=\"&ROW(),Курс2!$AA$7:$AA$75)+SUMIF(Курс3!$AL$7:$AL$75,\"=\"&ROW(),Курс3!$AA$7:$AA$75)+SUMIF(Курс4!$AL$7:$AL$75,\"=\"&ROW(),Курс4!$AA$7:$AA$75)+SUMIF(Курс5!$AL$7:$AL$75,\"=\"&ROW(),Курс5!$AA$7:$AA$75)+SUMIF(Курс6!$AL$7:$AL$75,\"=\"&ROW(),Курс6!$AA$7:$AA$75)+SUMIF(Курс7!$AL$7:$AL$75,\"=\"&ROW(),Курс7!$AA$7:$AA$75),0))","v":0},null,0,0,null,null,null,null,null,null,null,null,null,null,null,null,null,null,null,null,null,null,null,null,null,null,null,null,null,null,null,null,null,null,null,null,null,null,null,null,null,null,null,null,null,null,null,null,null,null,null,null,null,null,null,null,null,null,null,null,null,null,0,0,0,0,0,0,0,null,0,0,0,0,0,null,0,null,null,null,null,null,0,0,0,0,0,0,0,0,0,0,0,0,0,0,0,0,0,0,0,0,0,0,0,0,0,0,0,0,0,0,0,0,0,0,0,0,0,0,0,0,0,0,0,0,0,0,0,0,0,0,0,0,0,0,0,0,0,0,0,0,0,null,0,0,0,0,0,0,0,0,0,0,0,0,0,0,0,0,null,32,null,null,null,0,{"$f":"SUM($CB$522:$CB541)","v":6},0,null,0,{"$f":"IF(FT541=0,FLOOR(IF(СЭкзаменами,H541,(H541+SUMIF(Курс1!$AL$7:$AL$75,\"=\"&ROW(),Курс1!$AA$7:$AA$75)+SUMIF(Курс2!$AL$7:$AL$75,\"=\"&ROW(),Курс2!$AA$7:$AA$75)+SUMIF(Курс3!$AL$7:$AL$75,\"=\"&ROW(),Курс3!$AA$7:$AA$75)+SUMIF(Курс4!$AL$7:$AL$75,\"=\"&ROW(),Курс4!$AA$7:$AA$75)+SUMIF(Курс5!$AL$7:$AL$75,\"=\"&ROW(),Курс5!$AA$7:$AA$75)+SUMIF(Курс6!$AL$7:$AL$75,\"=\"&ROW(),Курс6!$AA$7:$AA$75)+SUMIF(Курс7!$AL$7:$AL$75,\"=\"&ROW(),Курс7!$AA$7:$AA$75)))/IF(ЧасовВКредите>0,ЧасовВКредите,36),0.5),FT541)","v":0},null,null,null,{"$f":"SUMIF(Курс1!$AL$7:$AL$75,\"=\"&ROW(),Курс1!$AC$7:$AC$75)+SUMIF(Курс2!$AL$7:$AL$75,\"=\"&ROW(),Курс2!$AC$7:$AC$75)+SUMIF(Курс3!$AL$7:$AL$75,\"=\"&ROW(),Курс3!$AC$7:$AC$75)+SUMIF(Курс4!$AL$7:$AL$75,\"=\"&ROW(),Курс4!$AC$7:$AC$75)+SUMIF(Курс5!$AL$7:$AL$75,\"=\"&ROW(),Курс5!$AC$7:$AC$75)+SUMIF(Курс6!$AL$7:$AL$75,\"=\"&ROW(),Курс6!$AC$7:$AC$75)+SUMIF(Курс7!$AL$7:$AL$75,\"=\"&ROW(),Курс7!$AC$7:$AC$75)","v":0}]
["",null,null,null,null,null,{"$f":"IF($FI554>0,$FW554,SUM(I554:K554)+CJ554+IF(СЭкзаменами,SUMIF(Курс1!$AL$7:$AL$75,\"=\"&ROW(),Курс1!$AA$7:$AA$75)+SUMIF(Курс2!$AL$7:$AL$75,\"=\"&ROW(),Курс2!$AA$7:$AA$75)+SUMIF(Курс3!$AL$7:$AL$75,\"=\"&ROW(),Курс3!$AA$7:$AA$75)+SUMIF(Курс4!$AL$7:$AL$75,\"=\"&ROW(),Курс4!$AA$7:$AA$75)+SUMIF(Курс5!$AL$7:$AL$75,\"=\"&ROW(),Курс5!$AA$7:$AA$75)+SUMIF(Курс6!$AL$7:$AL$75,\"=\"&ROW(),Курс6!$AA$7:$AA$75)+SUMIF(Курс7!$AL$7:$AL$75,\"=\"&ROW(),Курс7!$AA$7:$AA$75),0))","v":0},null,0,0,null,null,null,null,null,null,null,null,null,null,null,null,null,null,null,null,null,null,null,null,null,null,null,null,null,null,null,null,null,null,null,null,null,null,null,null,null,null,null,null,null,null,null,null,null,null,null,null,null,null,null,null,null,null,null,null,null,null,0,0,0,0,0,0,0,null,0,0,0,0,0,null,0,null,null,null,null,null,0,0,0,0,0,0,0,0,0,0,0,0,0,0,0,0,0,0,0,0,0,0,0,0,0,0,0,0,0,0,0,0,0,0,0,0,0,0,0,0,0,0,0,0,0,0,0,0,0,0,0,0,0,0,0,0,0,0,0,0,0,null,0,0,0,0,0,0,0,0,0,0,0,0,0,0,0,0,null,32,null,null,null,0,{"$f":"SUM($CB$522:$CB554)","v":6},0,null,0,{"$f":"IF(FT554=0,FLOOR(IF(СЭкзаменами,H554,(H554+SUMIF(Курс1!$AL$7:$AL$75,\"=\"&ROW(),Курс1!$AA$7:$AA$75)+SUMIF(Курс2!$AL$7:$AL$75,\"=\"&ROW(),Курс2!$AA$7:$AA$75)+SUMIF(Курс3!$AL$7:$AL$75,\"=\"&ROW(),Курс3!$AA$7:$AA$75)+SUMIF(Курс4!$AL$7:$AL$75,\"=\"&ROW(),Курс4!$AA$7:$AA$75)+SUMIF(Курс5!$AL$7:$AL$75,\"=\"&ROW(),Курс5!$AA$7:$AA$75)+SUMIF(Курс6!$AL$7:$AL$75,\"=\"&ROW(),Курс6!$AA$7:$AA$75)+SUMIF(Курс7!$AL$7:$AL$75,\"=\"&ROW(),Курс7!$AA$7:$AA$75)))/IF(ЧасовВКредите>0,ЧасовВКредите,36),0.5),FT554)","v":0},null,null,null,{"$f":"SUMIF(Курс1!$AL$7:$AL$75,\"=\"&ROW(),Курс1!$AC$7:$AC$75)+SUMIF(Курс2!$AL$7:$AL$75,\"=\"&ROW(),Курс2!$AC$7:$AC$75)+SUMIF(Курс3!$AL$7:$AL$75,\"=\"&ROW(),Курс3!$AC$7:$AC$75)+SUMIF(Курс4!$AL$7:$AL$75,\"=\"&ROW(),Курс4!$AC$7:$AC$75)+SUMIF(Курс5!$AL$7:$AL$75,\"=\"&ROW(),Курс5!$AC$7:$AC$75)+SUMIF(Курс6!$AL$7:$AL$75,\"=\"&ROW(),Курс6!$AC$7:$AC$75)+SUMIF(Курс7!$AL$7:$AL$75,\"=\"&ROW(),Курс7!$AC$7:$AC$75)","v":0}]
[{"$f":"IF(B559<>\"\",\"1\",\"\")","v":"1"},"Риторика и культура общения",null,"2",null,null,{"$f":"IF($FI559>0,$FW559,SUM(I559:K559)+CJ559+IF(СЭкзаменами,SUMIF(Курс1!$AL$7:$AL$75,\"=\"&ROW(),Курс1!$AA$7:$AA$75)+SUMIF(Курс2!$AL$7:$AL$75,\"=\"&ROW(),Курс2!$AA$7:$AA$75)+SUMIF(Курс3!$AL$7:$AL$75,\"=\"&ROW(),Курс3!$AA$7:$AA$75)+SUMIF(Курс4!$AL$7:$AL$75,\"=\"&ROW(),Курс4!$AA$7:$AA$75)+SUMIF(Курс5!$AL$7:$AL$75,\"=\"&ROW(),Курс5!$AA$7:$AA$75)+SUMIF(Курс6!$AL$7:$AL$75,\"=\"&ROW(),Курс6!$AA$7:$AA$75)+SUMIF(Курс7!$AL$7:$AL$75,\"=\"&ROW(),Курс7!$AA$7:$AA$75),0))","v":148},148,{"$f":"SUM(L559:N559)+SUM(P559:R559)+SUM(T559:V559)+SUM(X559:Z559)+SUM(AB559:AD559)+SUM(AF559:AH559)+SUM(AJ559:AL559)+SUM(AN559:AP559)+SUM(AR559:AT559)+SUM(AV559:AX559)+SUM(AZ559:BB559)+SUM(BD559:BF559)+SUM(BH559:BJ559)+SUM(BL559:BN559)","v":72},{"$f":"O559+S559+W559+AA559+AE559+AI559+AM559+AQ559+AU559+AY559+BC559+BG559+BK559+BO559","v":0},76,null,null,null,null,36,null,36,null,null,null,null,null,null,null,null,null,null,null,null,null,null,null,null,null,null,null,null,null,null,null,null,null,null,null,null,null,null,null,null,null,null,null,null,null,null,null,null,null,null,null,null,null,null,null,null,null,4,{"$f":"IF(SUM($L559:$S559)>0,SUM($L559:$S559)/SUM($L559:$BO559),0)","v":1},{"$f":"IF(SUM($T559:$AA559)>0,SUM($T559:$AA559)/SUM($L559:$BO559),0)","v":0},{"$f":"IF(SUM($AB559:$AI559)>0,SUM($AB559:$AI559)/SUM($L559:$BO559),0)","v":0},{"$f":"IF(SUM($AJ559:$AQ559)>0,SUM($AJ559:$AQ559)/SUM($L559:$BO559),0)","v":0},{"$f":"IF(SUM($AR559:$AY559)>0,SUM($AR559:$AY559)/SUM($L559:$BO559),0)","v":0},{"$f":"IF(SUM($AZ559:$BG559)>0,SUM($AZ559:$BG559)/SUM($L559:$BO559),0)","v":0},{"$f":"IF(SUM($BH559:$BO559)>0,SUM($BH559:$BO559)/SUM($L559:$BO559),0)","v":0},0,{"$f":"IF(7-COUNTBLANK(A559:$A565)<>0,($H559*MAX(1,$BX559)*($BQ559*Конт1+$BR559*Конт2+$BS559*Конт3+$BT559*Конт4+$BU559*Конт5+$BV559*Конт6)/IF(СреднееКСГ>0,СреднееКСГ,21)+((CL559+CP559)*Экз+(CM559+CQ559)*Зач+(CN559+CR559)*Проект+(CO559+CS559)*Работа)*Конт1+((CT559+CX559)*Экз+(CU559+CY559)*Зач+(CV559+CZ559)*Проект+(CW559+DA559)*Работа)*Конт2+((DB559+DF559)*Экз+(DC559+DG559)*Зач+(DD559+DH559)*Проект+(DE559+DI559)*Работа)*Конт3+((DJ559+DN559)*Экз+(DK559+DO559)*Зач+(DL559+DP559)*Проект+(DM559+DQ559)*Работа)*Конт4+((DR559+DV559)*Экз+(DO559+DW559)*Зач+(DT559+DX559)*Проект+(DU559+DY559)*Работа)*Конт5+((DZ559+ED559)*Экз+(EA559+EE559)*Зач+(EB559+EF559)*Проект+(EC559+EG559)*Работа)*Конт6)/(7-COUNTBLANK(A559:$A565)),0)","v":87.571428571428569},null,{"$f":"IF(SUM(G559:H559)=0,0,IF(SUM(L559:O559,T559:W559,AB559:AE559,AJ559:AM559,AR559:AU559,AZ559:BC559)=0,3,IF(SUM(P559:S559,X559:AA559,AF559:AI559,AN559:AQ559,AV559:AY559,BD559:BG559)=0,1,2)))","v":3},1,1,null,{"$f":"CL559+CP559+CT559+CX559+DB559+DF559+DJ559+DN559+DR559+DV559+DZ559+ED559+CM559+CQ559+CU559+CY559+DC559+DG559+DK559+DO559+DS559+DW559+EA559+EE559","v":1},null,null,null,null,0,{"$f":"SUM(I559:K559)","v":148},{"$f":"IF(OR($FI559=1,$FP559=1),0,IF(ISNUMBER(FIND(CL$2,$C559,1)),MAX(1-$BZ559,0),0))","v":0},{"$f":"IF(OR($FI559=1,$FP559=1),0,IF(ISNUMBER(FIND(CL$2,$D559,1)),1,0))","v":0},{"$f":"IF(ISNUMBER(FIND(CL$2,$E559,1)),IF(OR(FI559=1,$FP559=1),0,1),0)","v":0},{"$f":"IF(ISNUMBER(FIND(CL$2,$F559,1)),IF(OR(FI559=1,$FP559=1),0,1),0)","v":0},{"$f":"IF(OR($FI559=1,$FP559=1),0,IF(ISNUMBER(FIND(CP$2,$C559,1)),MAX(1-$BZ559,0),0))","v":0},{"$f":"IF(OR($FI559=1,$FP559=1),0,IF(ISNUMBER(FIND(CP$2,$D559,1)),1,0))","v":1},{"$f":"IF(ISNUMBER(FIND(CP$2,$E559,1)),IF(OR(FI559=1,$FP559=1),0,1),0)","v":0},{"$f":"IF(ISNUMBER(FIND(CP$2,$F559,1)),IF(OR($FI559=1,$FP559=1),0,1),0)","v":0},{"$f":"IF(OR($FI559=1,$FP559=1),0,IF(ISNUMBER(FIND(CT$2,$C559,1)),MAX(1-$BZ559,0),0))","v":0},{"$f":"IF(OR($FI559=1,$FP559=1),0,IF(ISNUMBER(FIND(CT$2,$D559,1)),1,0))","v":0},{"$f":"IF(ISNUMBER(FIND(CT$2,$E559,1)),IF(OR($FI559=1,$FP559=1),0,1),0)","v":0},{"$f":"IF(ISNUMBER(FIND(CT$2,$F559,1)),IF(OR($FI559=1,$FP559=1),0,1),0)","v":0},{"$f":"IF(OR($FI559=1,$FP559=1),0,IF(ISNUMBER(FIND(CX$2,$C559,1)),MAX(1-$BZ559,0),0))","v":0},{"$f":"IF(OR($FI559=1,$FP559=1),0,IF(ISNUMBER(FIND(CX$2,$D559,1)),1,0))","v":0},{"$f":"IF(ISNUMBER(FIND(CX$2,$E559,1)),IF(OR($FI559=1,$FP559=1),0,1),0)","v":0},{"$f":"IF(ISNUMBER(FIND(CX$2,$F559,1)),IF(OR($FI559=1,$FP559=1),0,1),0)","v":0},{"$f":"IF(OR($FI559=1,$FP559=1),0,IF(ISNUMBER(FIND(DB$2,$C559,1)),MAX(1-$BZ559,0),0))","v":0},{"$f":"IF(OR($FI559=1,$FP559=1),0,IF(ISNUMBER(FIND(DB$2,$D559,1)),1,0))","v":0},{"$f":"IF(ISNUMBER(FIND(DB$2,$E559,1)),IF(OR($FI559=1,$FP559=1),0,1),0)","v":0},{"$f":"IF(ISNUMBER(FIND(DB$2,$F559,1)),IF(OR($FI559=1,$FP559=1),0,1),0)","v":0},{"$f":"IF(OR($FI559=1,$FP559=1),0,IF(ISNUMBER(FIND(DF$2,$C559,1)),MAX(1-$BZ559,0),0))","v":0},{"$f":"IF(OR($FI559=1,$FP559=1),0,IF(ISNUMBER(FIND(DF$2,$D559,1)),1,0))","v":0},{"$f":"IF(ISNUMBER(FIND(DF$2,$E559,1)),IF(OR($FI559=1,$FP559=1),0,1),0)","v":0},{"$f":"IF(ISNUMBER(FIND(DF$2,$F559,1)),IF(OR($FI559=1,$FP559=1),0,1),0)","v":0},{"$f":"IF(OR($FI559=1,$FP559=1),0,IF(ISNUMBER(FIND(DJ$2,$C559,1)),MAX(1-$BZ559,0),0))","v":0},{"$f":"IF(OR($FI559=1,$FP559=1),0,IF(ISNUMBER(FIND(DJ$2,$D559,1)),1,0))","v":0},{"$f":"IF(ISNUMBER(FIND(DJ$2,$E559,1)),IF(OR($FI559=1,$FP559=1),0,1),0)","v":0},{"$f":"IF(ISNUMBER(FIND(DJ$2,$F559,1)),IF(OR($FI559=1,$FP559=1),0,1),0)","v":0},{"$f":"IF(OR($FI559=1,$FP559=1),0,IF(ISNUMBER(FIND(DN$2,$C559,1)),MAX(1-$BZ559,0),0))","v":0},{"$f":"IF(OR($FI559=1,$FP559=1),0,IF(ISNUMBER(FIND(DN$2,$D559,1)),1,0))","v":0},{"$f":"IF(ISNUMBER(FIND(DN$2,$E559,1)),IF(OR($FI559=1,$FP559=1),0,1),0)","v":0},{"$f":"IF(ISNUMBER(FIND(DN$2,$F559,1)),IF(OR($FI559=1,$FP559=1),0,1),0)","v":0},{"$f":"IF(OR($FI559=1,$FP559=1),0,IF(ISNUMBER(FIND(DR$2,$C559,1)),MAX(1-$BZ559,0),0))","v":0},{"$f":"IF(OR($FI559=1,$FP559=1),0,IF(ISNUMBER(FIND(DR$2,$D559,1)),1,0))","v":0},{"$f":"IF(ISNUMBER(FIND(DR$2,$E559,1)),IF(OR($FI559=1,$FP559=1),0,1),0)","v":0},{"$f":"IF(ISNUMBER(FIND(DR$2,$F559,1)),IF(OR($FI559=1,$FP559=1),0,1),0)","v":0},{"$f":"IF(OR($FI559=1,$FP559=1),0,IF(ISNUMBER(FIND(DV$2,$C559,1)),MAX(1-$BZ559,0),0))","v":0},{"$f":"IF(OR($FI559=1,$FP559=1),0,IF(ISNUMBER(FIND(DV$2,$D559,1)),1,0))","v":0},{"$f":"IF(ISNUMBER(FIND(DV$2,$E559,1)),IF(OR($FI559=1,$FP559=1),0,1),0)","v":0},{"$f":"IF(ISNUMBER(FIND(DV$2,$F559,1)),IF(OR($FI559=1,$FP559=1),0,1),0)","v":0},{"$f":"IF(OR($FI559=1,$FP559=1),0,IF(ISNUMBER(FIND(DZ$2,$C559,1)),MAX(1-$BZ559,0),0))","v":0},{"$f":"IF(OR($FI559=1,$FP559=1),0,IF(ISNUMBER(FIND(DZ$2,$D559,1)),1,0))","v":0},{"$f":"IF(ISNUMBER(FIND(DZ$2,$E559,1)),IF(OR($FI559=1,$FP559=1),0,1),0)","v":0},{"$f":"IF(ISNUMBER(FIND(DZ$2,$F559,1)),IF(OR($FI559=1,$FP559=1),0,1),0)","v":0},{"$f":"IF(OR($FI559=1,$FP559=1),0,IF(ISNUMBER(FIND(ED$2,$C559,1)),MAX(1-$BZ559,0),0))","v":0},{"$f":"IF(OR($FI559=1,$FP559=1),0,IF(ISNUMBER(FIND(ED$2,$D559,1)),1,0))","v":0},{"$f":"IF(ISNUMBER(FIND(ED$2,$E559,1)),IF(OR($FI559=1,$FP559=1),0,1),0)","v":0},{"$f":"IF(ISNUMBER(FIND(ED$2,$F559,1)),IF(OR($FI559=1,$FP559=1),0,1),0)","v":0},{"$f":"IF(OR($FI559=1,$FP559=1),0,IF(ISNUMBER(FIND(EH$2,$C559,1)),MAX(1-$BZ559,0),0))","v":0},{"$f":"IF(OR($FI559=1,$FP559=1),0,IF(ISNUMBER(FIND(EH$2,$D559,1)),1,0))","v":0},{"$f":"IF(ISNUMBER(FIND(EH$2,$E559,1)),IF(OR($FI559=1,$FP559=1),0,1),0)","v":0},{"$f":"IF(ISNUMBER(FIND(EH$2,$F559,1)),IF(OR($FI559=1,$FP559=1),0,1),0)","v":0},{"$f":"IF(OR($FI559=1,$FP559=1),0,IF(ISNUMBER(FIND(EL$2,$C559,1)),MAX(1-$BZ559,0),0))","v":0},{"$f":"IF(OR($FI559=1,$FP559=1),0,IF(ISNUMBER(FIND(EL$2,$D559,1)),1,0))","v":0},{"$f":"IF(ISNUMBER(FIND(EL$2,$E559,1)),IF(OR($FI559=1,$FP559=1),0,1),0)","v":0},{"$f":"IF(ISNUMBER(FIND(EL$2,$F559,1)),IF(OR($FI559=1,$FP559=1),0,1),0)","v":0},{"$f":"IF(OR($FI559=1,$FP559=1),0,LEN(TRIM(CF559)))","v":0},{"$f":"IF(OR($FI559=1,$FP559=1),0,LEN(TRIM(CG559)))","v":0},{"$f":"FormKontroljaInRange(CH559)","v":0},{"$f":"IF(OR($FI559=1,$FP559=1),0,LEN(TRIM(CI559)))","v":0},null,{"$f":"IF(SUM(L559:O559)>0,1,0)","v":0},{"$f":"IF(SUM(P559:S559)>0,1,0)","v":1},{"$f":"IF(SUM(T559:W559)>0,1,0)","v":0},{"$f":"IF(SUM(X559:AA559)>0,1,0)","v":0},{"$f":"IF(SUM(AB559:AE559)>0,1,0)","v":0},{"$f":"IF(SUM(AF559:AI559)>0,1,0)","v":0},{"$f":"IF(SUM(AJ559:AM559)>0,1,0)","v":0},{"$f":"IF(SUM(AN559:AQ559)>0,1,0)","v":0},{"$f":"IF(SUM(AR559:AU559)>0,1,0)","v":0},{"$f":"IF(SUM(AV559:AY559)>0,1,0)","v":0},{"$f":"IF(SUM(AZ559:BC559)>0,1,0)","v":0},{"$f":"IF(SUM(BD559:BG559)>0,1,0)","v":0},{"$f":"IF(SUM(BH559:BK559)>0,1,0)","v":0},{"$f":"IF(SUM(BL559:BO559)>0,1,0)","v":0},0,0,null,33,null,null,null,0,null,null,0,0,{"$f":"IF(FT559=0,FLOOR(IF(СЭкзаменами,H559,(H559+SUMIF(Курс1!$AL$7:$AL$75,\"=\"&ROW(),Курс1!$AA$7:$AA$75)+SUMIF(Курс2!$AL$7:$AL$75,\"=\"&ROW(),Курс2!$AA$7:$AA$75)+SUMIF(Курс3!$AL$7:$AL$75,\"=\"&ROW(),Курс3!$AA$7:$AA$75)+SUMIF(Курс4!$AL$7:$AL$75,\"=\"&ROW(),Курс4!$AA$7:$AA$75)+SUMIF(Курс5!$AL$7:$AL$75,\"=\"&ROW(),Курс5!$AA$7:$AA$75)+SUMIF(Курс6!$AL$7:$AL$75,\"=\"&ROW(),Курс6!$AA$7:$AA$75)+SUMIF(Курс7!$AL$7:$AL$75,\"=\"&ROW(),Курс7!$AA$7:$AA$75)))/IF(ЧасовВКредите>0,ЧасовВКредите,36),0.5),FT559)","v":4},"",null,0,{"$f":"SUMIF(Курс1!$AL$7:$AL$75,\"=\"&ROW(),Курс1!$AC$7:$AC$75)+SUMIF(Курс2!$AL$7:$AL$75,\"=\"&ROW(),Курс2!$AC$7:$AC$75)+SUMIF(Курс3!$AL$7:$AL$75,\"=\"&ROW(),Курс3!$AC$7:$AC$75)+SUMIF(Курс4!$AL$7:$AL$75,\"=\"&ROW(),Курс4!$AC$7:$AC$75)+SUMIF(Курс5!$AL$7:$AL$75,\"=\"&ROW(),Курс5!$AC$7:$AC$75)+SUMIF(Курс6!$AL$7:$AL$75,\"=\"&ROW(),Курс6!$AC$7:$AC$75)+SUMIF(Курс7!$AL$7:$AL$75,\"=\"&ROW(),Курс7!$AC$7:$AC$75)","v":4}]
[{"$f":"IF(B574<>\"\",\"6\",\"\")","v":""},null,{"$f":"IF($B574<>\"\",C569,\"\")","v":""},{"$f":"IF($B574<>\"\",D569,\"\")","v":""},{"$f":"IF($B574<>\"\",E569,\"\")","v":""},{"$f":"IF($B574<>\"\",F569,\"\")","v":""},{"$f":"IF($B574<>\"\",G569,0)","v":0},0,0,0,0,0,0,0,0,0,0,0,0,0,0,0,0,0,0,0,0,0,0,0,0,0,0,0,0,0,0,0,{"$f":"IF($B574<>\"\",AM569,0)","v":0},0,0,0,0,0,0,0,0,0,0,0,0,0,0,0,0,0,0,0,0,{"$f":"IF($B574<>\"\",BH569,0)","v":0},0,0,0,0,0,0,0,null,0,0,0,0,0,0,{"$f":"IF($B574<>\"\",BW569,0)","v":0},null,{"$f":"IF($B574<>\"\",BY569,0)","v":0},null,{"$f":"IF(SUM(G574:H574)=0,0,CA569)","v":0},0,0,null,{"$f":"IF(G574+H574>0,CE569,0)","v":0},{"$f":"IF($B574<>\"\",CF569,\"\")","v":""},{"$f":"IF($B574<>\"\",CG569,\"\")","v":""},{"$f":"IF($B574<>\"\",CH569,\"\")","v":""},{"$f":"IF($B574<>\"\",CI569,\"\")","v":""},{"$f":"IF($B574<>\"\",CJ569,0)","v":0},{"$f":"IF($B574<>\"\",CK569,0)","v":0},null,null,null,null,null,null,null,null,null,null,null,null,null,null,null,null,null,null,null,null,null,null,null,null,null,null,null,null,null,null,null,null,null,null,null,null,null,null,null,null,null,null,null,null,null,null,null,null,null,null,null,null,null,null,null,null,null,null,null,null,null,0,0,0,0,0,0,0,0,0,0,0,0,0,0,0,0,null,34,null,null,null,0,null,null,0,0,0,null,null,{"$f":"IF($B574<>\"\",FX569,0)","v":0}]
[{"$f":"IF(B585<>\"\",\"7\",\"\")","v":""},null,{"$f":"IF($B585<>\"\",C579,\"\")","v":""},{"$f":"IF($B585<>\"\",D579,\"\")","v":""},{"$f":"IF($B585<>\"\",E579,\"\")","v":""},{"$f":"IF($B585<>\"\",F579,\"\")","v":""},{"$f":"IF($B585<>\"\",G579,0)","v":0},0,0,0,0,0,0,0,0,0,0,0,0,0,0,0,0,0,0,0,0,0,0,0,0,0,0,0,0,0,0,0,{"$f":"IF($B585<>\"\",AM579,0)","v":0},0,0,0,0,0,0,0,0,0,0,0,0,0,0,0,0,0,0,0,0,{"$f":"IF($B585<>\"\",BH579,0)","v":0},0,0,0,0,0,0,0,null,0,0,0,0,0,0,{"$f":"IF($B585<>\"\",BW579,0)","v":0},null,{"$f":"IF($B585<>\"\",BY579,0)","v":0},null,{"$f":"IF(SUM(G585:H585)=0,0,CA579)","v":0},0,0,null,{"$f":"IF(G585+H585>0,CE579,0)","v":0},{"$f":"IF($B585<>\"\",CF579,\"\")","v":""},{"$f":"IF($B585<>\"\",CG579,\"\")","v":""},{"$f":"IF($B585<>\"\",CH579,\"\")","v":""},{"$f":"IF($B585<>\"\",CI579,\"\")","v":""},{"$f":"IF($B585<>\"\",CJ579,0)","v":0},{"$f":"IF($B585<>\"\",CK579,0)","v":0},null,null,null,null,null,null,null,null,null,null,null,null,null,null,null,null,null,null,null,null,null,null,null,null,null,null,null,null,null,null,null,null,null,null,null,null,null,null,null,null,null,null,null,null,null,null,null,null,null,null,null,null,null,null,null,null,null,null,null,null,null,0,0,0,0,0,0,0,0,0,0,0,0,0,0,0,0,null,35,null,null,null,0,null,null,0,0,0,null,null,{"$f":"IF($B585<>\"\",FX579,0)","v":0}]
[{"$f":"IF(B590<>\"\",\"2\",\"\")","v":"2"},"Экономика и организация гостиничного хозяйства",{"$f":"IF($B590<>\"\",C589,\"\")","v":0},{"$f":"IF($B590<>\"\",D589,\"\")","v":"9"},{"$f":"IF($B590<>\"\",E589,\"\")","v":0},{"$f":"IF($B590<>\"\",F589,\"\")","v":0},{"$f":"IF($B590<>\"\",G589,0)","v":136},136,60,0,76,0,0,0,0,0,0,0,0,0,0,0,0,0,0,0,0,0,0,0,0,0,0,0,0,0,0,0,{"$f":"IF($B590<>\"\",AM589,0)","v":0},0,0,0,0,30,0,30,0,0,0,0,0,0,0,0,0,0,0,0,0,{"$f":"IF($B590<>\"\",BH589,0)","v":0},0,0,0,0,0,0,0,10,0,0,0,0,1,0,0,0,{"$f":"IF($B590<>\"\",BY589,0)","v":320.57142857142856},null,{"$f":"IF(SUM(G590:H590)=0,0,CA589)","v":1},1,1,null,{"$f":"IF(G590+H590>0,CE589,0)","v":1},{"$f":"IF($B590<>\"\",CF589,\"\")","v":0},{"$f":"IF($B590<>\"\",CG589,\"\")","v":0},{"$f":"IF($B590<>\"\",CH589,\"\")","v":0},{"$f":"IF($B590<>\"\",CI589,\"\")","v":0},{"$f":"IF($B590<>\"\",CJ589,0)","v":0},{"$f":"IF($B590<>\"\",CK589,0)","v":136},null,null,null,null,null,null,null,null,null,null,null,null,null,null,null,null,null,null,null,null,null,null,null,null,null,null,null,null,null,null,null,null,null,null,null,null,null,null,null,null,null,null,null,null,null,null,null,null,null,null,null,null,null,null,null,null,null,null,null,null,null,0,0,0,0,0,0,0,0,1,0,0,0,0,0,0,0,null,36,null,null,null,0,null,null,{"$f":"IF($B590<>\"\",$FS589,0)","v":0},{"$f":"IF($B590<>\"\",$FT589,0)","v":0},{"$f":"IF($B590<>\"\",$FU589,0)","v":3.5},"",null,{"$f":"IF($B590<>\"\",FX589,0)","v":0}]
[{"$f":"IF(B605<>\"\",\"7\",\"\")","v":""},null,{"$f":"IF($B605<>\"\",C599,\"\")","v":""},{"$f":"IF($B605<>\"\",D599,\"\")","v":""},{"$f":"IF($B605<>\"\",E599,\"\")","v":""},{"$f":"IF($B605<>\"\",F599,\"\")","v":""},{"$f":"IF($B605<>\"\",G599,0)","v":0},0,0,0,0,0,0,0,0,0,0,0,0,0,0,0,0,0,0,0,0,0,0,0,0,0,0,0,0,0,0,0,{"$f":"IF($B605<>\"\",AM599,0)","v":0},0,0,0,0,0,0,0,0,0,0,0,0,0,0,0,0,0,0,0,0,{"$f":"IF($B605<>\"\",BH599,0)","v":0},0,0,0,0,0,0,0,null,0,0,0,0,0,0,{"$f":"IF($B605<>\"\",BW599,0)","v":0},null,{"$f":"IF($B605<>\"\",BY599,0)","v":0},null,{"$f":"IF(SUM(G605:H605)=0,0,CA599)","v":0},0,0,null,{"$f":"IF(G605+H605>0,CE599,0)","v":0},{"$f":"IF($B605<>\"\",CF599,\"\")","v":""},{"$f":"IF($B605<>\"\",CG599,\"\")","v":""},{"$f":"IF($B605<>\"\",CH599,\"\")","v":""},{"$f":"IF($B605<>\"\",CI599,\"\")","v":""},{"$f":"IF($B605<>\"\",CJ599,0)","v":0},{"$f":"IF($B605<>\"\",CK599,0)","v":0},null,null,null,null,null,null,null,null,null,null,null,null,null,null,null,null,null,null,null,null,null,null,null,null,null,null,null,null,null,null,null,null,null,null,null,null,null,null,null,null,null,null,null,null,null,null,null,null,null,null,null,null,null,null,null,null,null,null,null,null,null,0,0,0,0,0,0,0,0,0,0,0,0,0,0,0,0,null,37,null,null,null,0,null,null,0,0,0,null,null,{"$f":"IF($B605<>\"\",FX599,0)","v":0}]
[{"$f":"FL614","v":38},{"$f":"IF(SUM(C616:K616)<>0,\"Всего\",\"\")","v":""},{"$f":"CL609+CP609+CT609+CX609+DB609+DF609+DJ609+DN609+DR609+DV609+DZ609+ED609","v":0},{"$f":"CM609+CQ609+CU609+CY609+DC609+DG609+DK609+DO609+DS609+DW609+EA609+EE609","v":0},{"$f":"CN609+CR609+CV609+CZ609+DD609+DH609+DL609+DP609+DT609+DX609+EB609+EF609","v":0},{"$f":"CO609+CS609+CW609+DA609+DE609+DI609+DM609+DQ609+DU609+DY609+EC609+EG609","v":0},{"$f":"G609","v":0},0,0,0,0,0,0,0,0,0,0,0,0,0,0,0,0,0,0,0,0,0,0,0,0,0,0,0,0,0,0,0,0,0,0,0,0,0,0,0,0,0,0,0,0,0,0,0,0,0,0,0,0,{"$f":"BH609","v":0},0,0,0,0,0,0,0,null,null,null,null,null,null,null,null,null,null,null,0,0,0,null,null,{"$f":"EP609","v":0},{"$f":"EQ609","v":0},{"$f":"ER609","v":0},{"$f":"ES609","v":0},{"$f":"CJ609","v":0},{"$f":"CK609","v":0},null,null,null,null,null,null,null,null,null,null,null,null,null,null,null,null,null,null,null,null,null,null,null,null,null,null,null,null,null,null,null,null,null,null,null,null,null,null,null,null,null,null,null,null,null,null,null,null,null,null,null,null,null,null,null,null,null,null,null,null,null,null,null,null,null,null,null,null,null,null,null,null,null,null,null,0,0,null,null,null,null,null,0,null,null,null,{"$f":"FT609","v":0},{"$f":"FU609","v":0},null,null,{"$f":"FX609","v":0}]
[{"$f":"IF(B621<>\"\",\"3\",\"\")","v":""},null,{"$f":"IF($B621<>\"\",C619,\"\")","v":""},{"$f":"IF($B621<>\"\",D619,\"\")","v":""},{"$f":"IF($B621<>\"\",E619,\"\")","v":""},{"$f":"IF($B621<>\"\",F619,\"\")","v":""},{"$f":"IF($B621<>\"\",G619,0)","v":0},0,0,0,0,0,0,0,0,0,0,0,0,0,0,0,0,0,0,0,0,0,0,0,0,0,0,0,0,0,0,0,{"$f":"IF($B621<>\"\",AM619,0)","v":0},0,0,0,0,0,0,0,0,0,0,0,0,0,0,0,0,0,0,0,0,{"$f":"IF($B621<>\"\",BH619,0)","v":0},0,0,0,0,0,0,0,null,0,0,0,0,0,0,{"$f":"IF($B621<>\"\",BW619,0)","v":0},null,{"$f":"IF($B621<>\"\",BY619,0)","v":0},null,{"$f":"IF(SUM(G621:H621)=0,0,CA619)","v":0},0,0,null,{"$f":"IF(G621+H621>0,CE619,0)","v":0},{"$f":"IF($B621<>\"\",CF619,\"\")","v":""},{"$f":"IF($B621<>\"\",CG619,\"\")","v":""},{"$f":"IF($B621<>\"\",CH619,\"\")","v":""},{"$f":"IF($B621<>\"\",CI619,\"\")","v":""},{"$f":"IF($B621<>\"\",CJ619,0)","v":0},{"$f":"IF($B621<>\"\",CK619,0)","v":0},null,null,null,null,null,null,null,null,null,null,null,null,null,null,null,null,null,null,null,null,null,null,null,null,null,null,null,null,null,null,null,null,null,null,null,null,null,null,null,null,null,null,null,null,null,null,null,null,null,null,null,null,null,null,null,null,null,null,null,null,null,0,0,0,0,0,0,0,0,0,0,0,0,0,0,0,0,null,39,null,null,null,0,null,null,0,0,0,null,null,{"$f":"IF($B621<>\"\",FX619,0)","v":0}]
[{"$f":"IF(B632<>\"\",\"4\",\"\")","v":""},null,{"$f":"IF($B632<>\"\",C629,\"\")","v":""},{"$f":"IF($B632<>\"\",D629,\"\")","v":""},{"$f":"IF($B632<>\"\",E629,\"\")","v":""},{"$f":"IF($B632<>\"\",F629,\"\")","v":""},{"$f":"IF($B632<>\"\",G629,0)","v":0},0,0,0,0,0,0,0,0,0,0,0,0,0,0,0,0,0,0,0,0,0,0,0,0,0,0,0,0,0,0,0,{"$f":"IF($B632<>\"\",AM629,0)","v":0},0,0,0,0,0,0,0,0,0,0,0,0,0,0,0,0,0,0,0,0,{"$f":"IF($B632<>\"\",BH629,0)","v":0},0,0,0,0,0,0,0,null,0,0,0,0,0,0,{"$f":"IF($B632<>\"\",BW629,0)","v":0},null,{"$f":"IF($B632<>\"\",BY629,0)","v":0},null,{"$f":"IF(SUM(G632:H632)=0,0,CA629)","v":0},0,0,null,{"$f":"IF(G632+H632>0,CE629,0)","v":0},{"$f":"IF($B632<>\"\",CF629,\"\")","v":""},{"$f":"IF($B632<>\"\",CG629,\"\")","v":""},{"$f":"IF($B632<>\"\",CH629,\"\")","v":""},{"$f":"IF($B632<>\"\",CI629,\"\")","v":""},{"$f":"IF($B632<>\"\",CJ629,0)","v":0},{"$f":"IF($B632<>\"\",CK629,0)","v":0},null,null,null,null,null,null,null,null,null,null,null,null,null,null,null,null,null,null,null,null,null,null,null,null,null,null,null,null,null,null,null,null,null,null,null,null,null,null,null,null,null,null,null,null,null,null,null,null,null,null,null,null,null,null,null,null,null,null,null,null,null,0,0,0,0,0,0,0,0,0,0,0,0,0,0,0,0,null,40,null,null,null,0,null,null,0,0,0,null,null,{"$f":"IF($B632<>\"\",FX629,0)","v":0}]
[null,null,null,null,null,null,{"$f":"SUM(I637:K637)","v":0},{"$f":"IF(H636=0,\"\",IF(ABS(G636-H636)/H636<=0.05,\"OK\",\">5%\"))","v":""},{"$f":"IF($G636>0,I636/$G636,0)","v":0},{"$f":"IF($G636>0,J636/$G636,0)","v":0},{"$f":"IF($G636>0,K636/$G636,0)","v":0},null,null,null,null,null,null,null,null,null,null,null,null,null,null,null,null,null,null,null,null,null,null,null,null,null,null,null,null,null,null,null,null,null,null,null,null,null,null,null,null,null,null,null,null,null,null,null,null,null,null,null,null,null,null,null,null,null,null,null,null,null,null,null,null,null,null,null,0,0,0,null,null,null,null,null,null,null,null,null,null,null,null,null,null,null,null,null,null,null,null,null,null,null,null,null,null,null,null,null,null,null,null,null,null,null,null,null,null,null,null,null,null,null,null,null,null,null,null,null,null,null,null,null,null,null,null,null,null,null,null,null,null,null,null,null,null,null,null,null,null,null,null,null,null,null,null,null,null,null,null,null,null,null,0,0,null,null,null,null,null,0]
[{"$f":"IF(B652<>\"\",\"4\",\"\")","v":""},null,{"$f":"IF($B652<>\"\",C649,\"\")","v":""},{"$f":"IF($B652<>\"\",D649,\"\")","v":""},{"$f":"IF($B652<>\"\",E649,\"\")","v":""},{"$f":"IF($B652<>\"\",F649,\"\")","v":""},{"$f":"IF($B652<>\"\",G649,0)","v":0},0,0,0,0,0,0,0,0,0,0,0,0,0,0,0,0,0,0,0,0,0,0,0,0,0,0,0,0,0,0,0,{"$f":"IF($B652<>\"\",AM649,0)","v":0},0,0,0,0,0,0,0,0,0,0,0,0,0,0,0,0,0,0,0,0,{"$f":"IF($B652<>\"\",BH649,0)","v":0},0,0,0,0,0,0,0,null,0,0,0,0,0,0,{"$f":"IF($B652<>\"\",BW649,0)","v":0},null,{"$f":"IF($B652<>\"\",BY649,0)","v":0},null,{"$f":"IF(SUM(G652:H652)=0,0,CA649)","v":0},0,0,null,{"$f":"IF(G652+H652>0,CE649,0)","v":0},{"$f":"IF($B652<>\"\",CF649,\"\")","v":""},{"$f":"IF($B652<>\"\",CG649,\"\")","v":""},{"$f":"IF($B652<>\"\",CH649,\"\")","v":""},{"$f":"IF($B652<>\"\",CI649,\"\")","v":""},{"$f":"IF($B652<>\"\",CJ649,0)","v":0},{"$f":"IF($B652<>\"\",CK649,0)","v":0},null,null,null,null,null,null,null,null,null,null,null,null,null,null,null,null,null,null,null,null,null,null,null,null,null,null,null,null,null,null,null,null,null,null,null,null,null,null,null,null,null,null,null,null,null,null,null,null,null,null,null,null,null,null,null,null,null,null,null,null,null,0,0,0,0,0,0,0,0,0,0,0,0,0,0,0,0,null,42,null,null,null,0,null,null,0,0,0,null,null,{"$f":"IF($B652<>\"\",FX649,0)","v":0}]
[{"$f":"IF(B663<>\"\",\"5\",\"\")","v":""},null,{"$f":"IF($B663<>\"\",C659,\"\")","v":""},{"$f":"IF($B663<>\"\",D659,\"\")","v":""},{"$f":"IF($B663<>\"\",E659,\"\")","v":""},{"$f":"IF($B663<>\"\",F659,\"\")","v":""},{"$f":"IF($B663<>\"\",G659,0)","v":0},0,0,0,0,0,0,0,0,0,0,0,0,0,0,0,0,0,0,0,0,0,0,0,0,0,0,0,0,0,0,0,{"$f":"IF($B663<>\"\",AM659,0)","v":0},0,0,0,0,0,0,0,0,0,0,0,0,0,0,0,0,0,0,0,0,{"$f":"IF($B663<>\"\",BH659,0)","v":0},0,0,0,0,0,0,0,null,0,0,0,0,0,0,{"$f":"IF($B663<>\"\",BW659,0)","v":0},null,{"$f":"IF($B663<>\"\",BY659,0)","v":0},null,{"$f":"IF(SUM(G663:H663)=0,0,CA659)","v":0},0,0,null,{"$f":"IF(G663+H663>0,CE659,0)","v":0},{"$f":"IF($B663<>\"\",CF659,\"\")","v":""},{"$f":"IF($B663<>\"\",CG659,\"\")","v":""},{"$f":"IF($B663<>\"\",CH659,\"\")","v":""},{"$f":"IF($B663<>\"\",CI659,\"\")","v":""},{"$f":"IF($B663<>\"\",CJ659,0)","v":0},{"$f":"IF($B663<>\"\",CK659,0)","v":0},null,null,null,null,null,null,null,null,null,null,null,null,null,null,null,null,null,null,null,null,null,null,null,null,null,null,null,null,null,null,null,null,null,null,null,null,null,null,null,null,null,null,null,null,null,null,null,null,null,null,null,null,null,null,null,null,null,null,null,null,null,0,0,0,0,0,0,0,0,0,0,0,0,0,0,0,0,null,43,null,null,null,0,null,null,0,0,0,null,null,{"$f":"IF($B663<>\"\",FX659,0)","v":0}]
[null,{"$f":"IF(B676<>\"\",B461&IF(isFGOS,\".ДВ12 Дисциплины по выбору\",\".В12 Дисциплины по выбору\"),\"\")","v":""},null,null,null,null,null,null,null,null,null,null,null,null,null,null,null,null,null,null,null,null,null,null,null,null,null,null,null,null,null,null,null,null,null,null,null,null,null,null,null,null,null,null,null,null,null,null,null,null,null,null,null,null,null,null,null,null,null,null,null,null,null,null,null,null,null,null,null,null,null,null,null,null,null,null,null,null,{"$f":"CA669","v":0},0,0,null,null,null,null,null,null,null,null,null,null,null,null,null,null,null,null,null,null,null,null,null,null,null,null,null,null,null,null,null,null,null,null,null,null,null,null,null,null,null,null,null,null,null,null,null,null,null,null,null,null,null,null,null,null,null,null,null,null,null,null,null,null,null,null,null,null,null,null,null,{"$f":"EU669","v":0},0,0,0,0,0,0,0,0,0,0,0,0,0,0,0,null,null,null,null,null,0]
[{"$f":"IF(B679<>\"\",\"1\",\"\")","v":""},null,null,null,null,null,{"$f":"IF($FI679>0,$FW679,SUM(I679:K679)+CJ679+IF(СЭкзаменами,SUMIF(Курс1!$AL$7:$AL$75,\"=\"&ROW(),Курс1!$AA$7:$AA$75)+SUMIF(Курс2!$AL$7:$AL$75,\"=\"&ROW(),Курс2!$AA$7:$AA$75)+SUMIF(Курс3!$AL$7:$AL$75,\"=\"&ROW(),Курс3!$AA$7:$AA$75)+SUMIF(Курс4!$AL$7:$AL$75,\"=\"&ROW(),Курс4!$AA$7:$AA$75)+SUMIF(Курс5!$AL$7:$AL$75,\"=\"&ROW(),Курс5!$AA$7:$AA$75)+SUMIF(Курс6!$AL$7:$AL$75,\"=\"&ROW(),Курс6!$AA$7:$AA$75)+SUMIF(Курс7!$AL$7:$AL$75,\"=\"&ROW(),Курс7!$AA$7:$AA$75),0))","v":0},null,{"$f":"SUM(L679:N679)+SUM(P679:R679)+SUM(T679:V679)+SUM(X679:Z679)+SUM(AB679:AD679)+SUM(AF679:AH679)+SUM(AJ679:AL679)+SUM(AN679:AP679)+SUM(AR679:AT679)+SUM(AV679:AX679)+SUM(AZ679:BB679)+SUM(BD679:BF679)+SUM(BH679:BJ679)+SUM(BL679:BN679)","v":0},{"$f":"O679+S679+W679+AA679+AE679+AI679+AM679+AQ679+AU679+AY679+BC679+BG679+BK679+BO679","v":0},null,null,null,null,null,null,null,null,null,null,null,null,null,null,null,null,null,null,null,null,null,null,null,null,null,null,null,null,null,null,null,null,null,null,null,null,null,null,null,null,null,null,null,null,null,null,null,null,null,null,null,null,null,null,null,null,null,null,{"$f":"IF(SUM($L679:$S679)>0,SUM($L679:$S679)/SUM($L679:$BO679),0)","v":0},{"$f":"IF(SUM($T679:$AA679)>0,SUM($T679:$AA679)/SUM($L679:$BO679),0)","v":0},{"$f":"IF(SUM($AB679:$AI679)>0,SUM($AB679:$AI679)/SUM($L679:$BO679),0)","v":0},{"$f":"IF(SUM($AJ679:$AQ679)>0,SUM($AJ679:$AQ679)/SUM($L679:$BO679),0)","v":0},{"$f":"IF(SUM($AR679:$AY679)>0,SUM($AR679:$AY679)/SUM($L679:$BO679),0)","v":0},{"$f":"IF(SUM($AZ679:$BG679)>0,SUM($AZ679:$BG679)/SUM($L679:$BO679),0)","v":0},{"$f":"IF(SUM($BH679:$BO679)>0,SUM($BH679:$BO679)/SUM($L679:$BO679),0)","v":0},null,{"$f":"IF(7-COUNTBLANK(A679:$A685)<>0,($H679*MAX(1,$BX679)*($BQ679*Конт1+$BR679*Конт2+$BS679*Конт3+$BT679*Конт4+$BU679*Конт5+$BV679*Конт6)/IF(СреднееКСГ>0,СреднееКСГ,21)+((CL679+CP679)*Экз+(CM679+CQ679)*Зач+(CN679+CR679)*Проект+(CO679+CS679)*Работа)*Конт1+((CT679+CX679)*Экз+(CU679+CY679)*Зач+(CV679+CZ679)*Проект+(CW679+DA679)*Работа)*Конт2+((DB679+DF679)*Экз+(DC679+DG679)*Зач+(DD679+DH679)*Проект+(DE679+DI679)*Работа)*Конт3+((DJ679+DN679)*Экз+(DK679+DO679)*Зач+(DL679+DP679)*Проект+(DM679+DQ679)*Работа)*Конт4+((DR679+DV679)*Экз+(DO679+DW679)*Зач+(DT679+DX679)*Проект+(DU679+DY679)*Работа)*Конт5+((DZ679+ED679)*Экз+(EA679+EE679)*Зач+(EB679+EF679)*Проект+(EC679+EG679)*Работа)*Конт6)/(7-COUNTBLANK(A679:$A685)),0)","v":0},null,{"$f":"IF(SUM(G679:H679)=0,0,IF(SUM(L679:O679,T679:W679,AB679:AE679,AJ679:AM679,AR679:AU679,AZ679:BC679)=0,3,IF(SUM(P679:S679,X679:AA679,AF679:AI679,AN679:AQ679,AV679:AY679,BD679:BG679)=0,1,2)))","v":0},0,0,null,{"$f":"CL679+CP679+CT679+CX679+DB679+DF679+DJ679+DN679+DR679+DV679+DZ679+ED679+CM679+CQ679+CU679+CY679+DC679+DG679+DK679+DO679+DS679+DW679+EA679+EE679","v":0},null,null,null,null,null,{"$f":"SUM(I679:K679)","v":0},{"$f":"IF(OR($FI679=1,$FP679=1),0,IF(ISNUMBER(FIND(CL$2,$C679,1)),MAX(1-$BZ679,0),0))","v":0},{"$f":"IF(OR($FI679=1,$FP679=1),0,IF(ISNUMBER(FIND(CL$2,$D679,1)),1,0))","v":0},{"$f":"IF(ISNUMBER(FIND(CL$2,$E679,1)),IF(OR(FI679=1,$FP679=1),0,1),0)","v":0},{"$f":"IF(ISNUMBER(FIND(CL$2,$F679,1)),IF(OR(FI679=1,$FP679=1),0,1),0)","v":0},{"$f":"IF(OR($FI679=1,$FP679=1),0,IF(ISNUMBER(FIND(CP$2,$C679,1)),MAX(1-$BZ679,0),0))","v":0},{"$f":"IF(OR($FI679=1,$FP679=1),0,IF(ISNUMBER(FIND(CP$2,$D679,1)),1,0))","v":0},{"$f":"IF(ISNUMBER(FIND(CP$2,$E679,1)),IF(OR(FI679=1,$FP679=1),0,1),0)","v":0},{"$f":"IF(ISNUMBER(FIND(CP$2,$F679,1)),IF(OR($FI679=1,$FP679=1),0,1),0)","v":0},{"$f":"IF(OR($FI679=1,$FP679=1),0,IF(ISNUMBER(FIND(CT$2,$C679,1)),MAX(1-$BZ679,0),0))","v":0},{"$f":"IF(OR($FI679=1,$FP679=1),0,IF(ISNUMBER(FIND(CT$2,$D679,1)),1,0))","v":0},{"$f":"IF(ISNUMBER(FIND(CT$2,$E679,1)),IF(OR($FI679=1,$FP679=1),0,1),0)","v":0},{"$f":"IF(ISNUMBER(FIND(CT$2,$F679,1)),IF(OR($FI679=1,$FP679=1),0,1),0)","v":0},{"$f":"IF(OR($FI679=1,$FP679=1),0,IF(ISNUMBER(FIND(CX$2,$C679,1)),MAX(1-$BZ679,0),0))","v":0},{"$f":"IF(OR($FI679=1,$FP679=1),0,IF(ISNUMBER(FIND(CX$2,$D679,1)),1,0))","v":0},{"$f":"IF(ISNUMBER(FIND(CX$2,$E679,1)),IF(OR($FI679=1,$FP679=1),0,1),0)","v":0},{"$f":"IF(ISNUMBER(FIND(CX$2,$F679,1)),IF(OR($FI679=1,$FP679=1),0,1),0)","v":0},{"$f":"IF(OR($FI679=1,$FP679=1),0,IF(ISNUMBER(FIND(DB$2,$C679,1)),MAX(1-$BZ679,0),0))","v":0},{"$f":"IF(OR($FI679=1,$FP679=1),0,IF(ISNUMBER(FIND(DB$2,$D679,1)),1,0))","v":0},{"$f":"IF(ISNUMBER(FIND(DB$2,$E679,1)),IF(OR($FI679=1,$FP679=1),0,1),0)","v":0},{"$f":"IF(ISNUMBER(FIND(DB$2,$F679,1)),IF(OR($FI679=1,$FP679=1),0,1),0)","v":0},{"$f":"IF(OR($FI679=1,$FP679=1),0,IF(ISNUMBER(FIND(DF$2,$C679,1)),MAX(1-$BZ679,0),0))","v":0},{"$f":"IF(OR($FI679=1,$FP679=1),0,IF(ISNUMBER(FIND(DF$2,$D679,1)),1,0))","v":0},{"$f":"IF(ISNUMBER(FIND(DF$2,$E679,1)),IF(OR($FI679=1,$FP679=1),0,1),0)","v":0},{"$f":"IF(ISNUMBER(FIND(DF$2,$F679,1)),IF(OR($FI679=1,$FP679=1),0,1),0)","v":0},{"$f":"IF(OR($FI679=1,$FP679=1),0,IF(ISNUMBER(FIND(DJ$2,$C679,1)),MAX(1-$BZ679,0),0))","v":0},{"$f":"IF(OR($FI679=1,$FP679=1),0,IF(ISNUMBER(FIND(DJ$2,$D679,1)),1,0))","v":0},{"$f":"IF(ISNUMBER(FIND(DJ$2,$E679,1)),IF(OR($FI679=1,$FP679=1),0,1),0)","v":0},{"$f":"IF(ISNUMBER(FIND(DJ$2,$F679,1)),IF(OR($FI679=1,$FP679=1),0,1),0)","v":0},{"$f":"IF(OR($FI679=1,$FP679=1),0,IF(ISNUMBER(FIND(DN$2,$C679,1)),MAX(1-$BZ679,0),0))","v":0},{"$f":"IF(OR($FI679=1,$FP679=1),0,IF(ISNUMBER(FIND(DN$2,$D679,1)),1,0))","v":0},{"$f":"IF(ISNUMBER(FIND(DN$2,$E679,1)),IF(OR($FI679=1,$FP679=1),0,1),0)","v":0},{"$f":"IF(ISNUMBER(FIND(DN$2,$F679,1)),IF(OR($FI679=1,$FP679=1),0,1),0)","v":0},{"$f":"IF(OR($FI679=1,$FP679=1),0,IF(ISNUMBER(FIND(DR$2,$C679,1)),MAX(1-$BZ679,0),0))","v":0},{"$f":"IF(OR($FI679=1,$FP679=1),0,IF(ISNUMBER(FIND(DR$2,$D679,1)),1,0))","v":0},{"$f":"IF(ISNUMBER(FIND(DR$2,$E679,1)),IF(OR($FI679=1,$FP679=1),0,1),0)","v":0},{"$f":"IF(ISNUMBER(FIND(DR$2,$F679,1)),IF(OR($FI679=1,$FP679=1),0,1),0)","v":0},{"$f":"IF(OR($FI679=1,$FP679=1),0,IF(ISNUMBER(FIND(DV$2,$C679,1)),MAX(1-$BZ679,0),0))","v":0},{"$f":"IF(OR($FI679=1,$FP679=1),0,IF(ISNUMBER(FIND(DV$2,$D679,1)),1,0))","v":0},{"$f":"IF(ISNUMBER(FIND(DV$2,$E679,1)),IF(OR($FI679=1,$FP679=1),0,1),0)","v":0},{"$f":"IF(ISNUMBER(FIND(DV$2,$F679,1)),IF(OR($FI679=1,$FP679=1),0,1),0)","v":0},{"$f":"IF(OR($FI679=1,$FP679=1),0,IF(ISNUMBER(FIND(DZ$2,$C679,1)),MAX(1-$BZ679,0),0))","v":0},{"$f":"IF(OR($FI679=1,$FP679=1),0,IF(ISNUMBER(FIND(DZ$2,$D679,1)),1,0))","v":0},{"$f":"IF(ISNUMBER(FIND(DZ$2,$E679,1)),IF(OR($FI679=1,$FP679=1),0,1),0)","v":0},{"$f":"IF(ISNUMBER(FIND(DZ$2,$F679,1)),IF(OR($FI679=1,$FP679=1),0,1),0)","v":0},{"$f":"IF(OR($FI679=1,$FP679=1),0,IF(ISNUMBER(FIND(ED$2,$C679,1)),MAX(1-$BZ679,0),0))","v":0},{"$f":"IF(OR($FI679=1,$FP679=1),0,IF(ISNUMBER(FIND(ED$2,$D679,1)),1,0))","v":0},{"$f":"IF(ISNUMBER(FIND(ED$2,$E679,1)),IF(OR($FI679=1,$FP679=1),0,1),0)","v":0},{"$f":"IF(ISNUMBER(FIND(ED$2,$F679,1)),IF(OR($FI679=1,$FP679=1),0,1),0)","v":0},{"$f":"IF(OR($FI679=1,$FP679=1),0,IF(ISNUMBER(FIND(EH$2,$C679,1)),MAX(1-$BZ679,0),0))","v":0},{"$f":"IF(OR($FI679=1,$FP679=1),0,IF(ISNUMBER(FIND(EH$2,$D679,1)),1,0))","v":0},{"$f":"IF(ISNUMBER(FIND(EH$2,$E679,1)),IF(OR($FI679=1,$FP679=1),0,1),0)","v":0},{"$f":"IF(ISNUMBER(FIND(EH$2,$F679,1)),IF(OR($FI679=1,$FP679=1),0,1),0)","v":0},{"$f":"IF(OR($FI679=1,$FP679=1),0,IF(ISNUMBER(FIND(EL$2,$C679,1)),MAX(1-$BZ679,0),0))","v":0},{"$f":"IF(OR($FI679=1,$FP679=1),0,IF(ISNUMBER(FIND(EL$2,$D679,1)),1,0))","v":0},{"$f":"IF(ISNUMBER(FIND(EL$2,$E679,1)),IF(OR($FI679=1,$FP679=1),0,1),0)","v":0},{"$f":"IF(ISNUMBER(FIND(EL$2,$F679,1)),IF(OR($FI679=1,$FP679=1),0,1),0)","v":0},{"$f":"IF(OR($FI679=1,$FP679=1),0,LEN(TRIM(CF679)))","v":0},{"$f":"IF(OR($FI679=1,$FP679=1),0,LEN(TRIM(CG679)))","v":0},{"$f":"FormKontroljaInRange(CH679)","v":0},{"$f":"IF(OR($FI679=1,$FP679=1),0,LEN(TRIM(CI679)))","v":0},null,{"$f":"IF(SUM(L679:O679)>0,1,0)","v":0},{"$f":"IF(SUM(P679:S679)>0,1,0)","v":0},{"$f":"IF(SUM(T679:W679)>0,1,0)","v":0},{"$f":"IF(SUM(X679:AA679)>0,1,0)","v":0},{"$f":"IF(SUM(AB679:AE679)>0,1,0)","v":0},{"$f":"IF(SUM(AF679:AI679)>0,1,0)","v":0},{"$f":"IF(SUM(AJ679:AM679)>0,1,0)","v":0},{"$f":"IF(SUM(AN679:AQ679)>0,1,0)","v":0},{"$f":"IF(SUM(AR679:AU679)>0,1,0)","v":0},{"$f":"IF(SUM(AV679:AY679)>0,1,0)","v":0},{"$f":"IF(SUM(AZ679:BC679)>0,1,0)","v":0},{"$f":"IF(SUM(BD679:BG679)>0,1,0)","v":0},{"$f":"IF(SUM(BH679:BK679)>0,1,0)","v":0},{"$f":"IF(SUM(BL679:BO679)>0,1,0)","v":0},0,0,null,45,null,null,null,0,null,null,null,0,{"$f":"IF(FT679=0,FLOOR(IF(СЭкзаменами,H679,(H679+SUMIF(Курс1!$AL$7:$AL$75,\"=\"&ROW(),Курс1!$AA$7:$AA$75)+SUMIF(Курс2!$AL$7:$AL$75,\"=\"&ROW(),Курс2!$AA$7:$AA$75)+SUMIF(Курс3!$AL$7:$AL$75,\"=\"&ROW(),Курс3!$AA$7:$AA$75)+SUMIF(Курс4!$AL$7:$AL$75,\"=\"&ROW(),Курс4!$AA$7:$AA$75)+SUMIF(Курс5!$AL$7:$AL$75,\"=\"&ROW(),Курс5!$AA$7:$AA$75)+SUMIF(Курс6!$AL$7:$AL$75,\"=\"&ROW(),Курс6!$AA$7:$AA$75)+SUMIF(Курс7!$AL$7:$AL$75,\"=\"&ROW(),Курс7!$AA$7:$AA$75)))/IF(ЧасовВКредите>0,ЧасовВКредите,36),0.5),FT679)","v":0},null,null,null,{"$f":"SUMIF(Курс1!$AL$7:$AL$75,\"=\"&ROW(),Курс1!$AC$7:$AC$75)+SUMIF(Курс2!$AL$7:$AL$75,\"=\"&ROW(),Курс2!$AC$7:$AC$75)+SUMIF(Курс3!$AL$7:$AL$75,\"=\"&ROW(),Курс3!$AC$7:$AC$75)+SUMIF(Курс4!$AL$7:$AL$75,\"=\"&ROW(),Курс4!$AC$7:$AC$75)+SUMIF(Курс5!$AL$7:$AL$75,\"=\"&ROW(),Курс5!$AC$7:$AC$75)+SUMIF(Курс6!$AL$7:$AL$75,\"=\"&ROW(),Курс6!$AC$7:$AC$75)+SUMIF(Курс7!$AL$7:$AL$75,\"=\"&ROW(),Курс7!$AC$7:$AC$75)","v":0}]
["",null,null,null,null,null,{"$f":"IF($FI694>0,$FW694,SUM(I694:K694)+CJ694+IF(СЭкзаменами,SUMIF(Курс1!$AL$7:$AL$75,\"=\"&ROW(),Курс1!$AA$7:$AA$75)+SUMIF(Курс2!$AL$7:$AL$75,\"=\"&ROW(),Курс2!$AA$7:$AA$75)+SUMIF(Курс3!$AL$7:$AL$75,\"=\"&ROW(),Курс3!$AA$7:$AA$75)+SUMIF(Курс4!$AL$7:$AL$75,\"=\"&ROW(),Курс4!$AA$7:$AA$75)+SUMIF(Курс5!$AL$7:$AL$75,\"=\"&ROW(),Курс5!$AA$7:$AA$75)+SUMIF(Курс6!$AL$7:$AL$75,\"=\"&ROW(),Курс6!$AA$7:$AA$75)+SUMIF(Курс7!$AL$7:$AL$75,\"=\"&ROW(),Курс7!$AA$7:$AA$75),0))","v":0},null,0,0,null,null,null,null,null,null,null,null,null,null,null,null,null,null,null,null,null,null,null,null,null,null,null,null,null,null,null,null,null,null,null,null,null,null,null,null,null,null,null,null,null,null,null,null,null,null,null,null,null,null,null,null,null,null,null,null,null,null,0,0,0,0,0,0,0,null,0,0,0,0,0,null,0,null,null,null,null,null,0,0,0,0,0,0,0,0,0,0,0,0,0,0,0,0,0,0,0,0,0,0,0,0,0,0,0,0,0,0,0,0,0,0,0,0,0,0,0,0,0,0,0,0,0,0,0,0,0,0,0,0,0,0,0,0,0,0,0,0,0,null,0,0,0,0,0,0,0,0,0,0,0,0,0,0,0,0,null,46,null,null,null,0,{"$f":"SUM($CB$690:$CB694)","v":4},0,0,0,{"$f":"IF(FT694=0,FLOOR(IF(СЭкзаменами,H694,(H694+SUMIF(Курс1!$AL$7:$AL$75,\"=\"&ROW(),Курс1!$AA$7:$AA$75)+SUMIF(Курс2!$AL$7:$AL$75,\"=\"&ROW(),Курс2!$AA$7:$AA$75)+SUMIF(Курс3!$AL$7:$AL$75,\"=\"&ROW(),Курс3!$AA$7:$AA$75)+SUMIF(Курс4!$AL$7:$AL$75,\"=\"&ROW(),Курс4!$AA$7:$AA$75)+SUMIF(Курс5!$AL$7:$AL$75,\"=\"&ROW(),Курс5!$AA$7:$AA$75)+SUMIF(Курс6!$AL$7:$AL$75,\"=\"&ROW(),Курс6!$AA$7:$AA$75)+SUMIF(Курс7!$AL$7:$AL$75,\"=\"&ROW(),Курс7!$AA$7:$AA$75)))/IF(ЧасовВКредите>0,ЧасовВКредите,36),0.5),FT694)","v":0},null,null,null,{"$f":"SUMIF(Курс1!$AL$7:$AL$75,\"=\"&ROW(),Курс1!$AC$7:$AC$75)+SUMIF(Курс2!$AL$7:$AL$75,\"=\"&ROW(),Курс2!$AC$7:$AC$75)+SUMIF(Курс3!$AL$7:$AL$75,\"=\"&ROW(),Курс3!$AC$7:$AC$75)+SUMIF(Курс4!$AL$7:$AL$75,\"=\"&ROW(),Курс4!$AC$7:$AC$75)+SUMIF(Курс5!$AL$7:$AL$75,\"=\"&ROW(),Курс5!$AC$7:$AC$75)+SUMIF(Курс6!$AL$7:$AL$75,\"=\"&ROW(),Курс6!$AC$7:$AC$75)+SUMIF(Курс7!$AL$7:$AL$75,\"=\"&ROW(),Курс7!$AC$7:$AC$75)","v":0}]
["",null,null,null,null,null,{"$f":"IF($FI699>0,$FW699,SUM(I699:K699)+CJ699+IF(СЭкзаменами,SUMIF(Курс1!$AL$7:$AL$75,\"=\"&ROW(),Курс1!$AA$7:$AA$75)+SUMIF(Курс2!$AL$7:$AL$75,\"=\"&ROW(),Курс2!$AA$7:$AA$75)+SUMIF(Курс3!$AL$7:$AL$75,\"=\"&ROW(),Курс3!$AA$7:$AA$75)+SUMIF(Курс4!$AL$7:$AL$75,\"=\"&ROW(),Курс4!$AA$7:$AA$75)+SUMIF(Курс5!$AL$7:$AL$75,\"=\"&ROW(),Курс5!$AA$7:$AA$75)+SUMIF(Курс6!$AL$7:$AL$75,\"=\"&ROW(),Курс6!$AA$7:$AA$75)+SUMIF(Курс7!$AL$7:$AL$75,\"=\"&ROW(),Курс7!$AA$7:$AA$75),0))","v":0},null,0,0,null,null,null,null,null,null,null,null,null,null,null,null,null,null,null,null,null,null,null,null,null,null,null,null,null,null,null,null,null,null,null,null,null,null,null,null,null,null,null,null,null,null,null,null,null,null,null,null,null,null,null,null,null,null,null,null,null,null,0,0,0,0,0,0,0,null,0,0,0,0,0,null,0,null,null,null,null,null,0,0,0,0,0,0,0,0,0,0,0,0,0,0,0,0,0,0,0,0,0,0,0,0,0,0,0,0,0,0,0,0,0,0,0,0,0,0,0,0,0,0,0,0,0,0,0,0,0,0,0,0,0,0,0,0,0,0,0,0,0,null,0,0,0,0,0,0,0,0,0,0,0,0,0,0,0,0,null,46,null,null,null,0,{"$f":"SUM($CB$690:$CB699)","v":4},0,0,0,{"$f":"IF(FT699=0,FLOOR(IF(СЭкзаменами,H699,(H699+SUMIF(Курс1!$AL$7:$AL$75,\"=\"&ROW(),Курс1!$AA$7:$AA$75)+SUMIF(Курс2!$AL$7:$AL$75,\"=\"&ROW(),Курс2!$AA$7:$AA$75)+SUMIF(Курс3!$AL$7:$AL$75,\"=\"&ROW(),Курс3!$AA$7:$AA$75)+SUMIF(Курс4!$AL$7:$AL$75,\"=\"&ROW(),Курс4!$AA$7:$AA$75)+SUMIF(Курс5!$AL$7:$AL$75,\"=\"&ROW(),Курс5!$AA$7:$AA$75)+SUMIF(Курс6!$AL$7:$AL$75,\"=\"&ROW(),Курс6!$AA$7:$AA$75)+SUMIF(Курс7!$AL$7:$AL$75,\"=\"&ROW(),Курс7!$AA$7:$AA$75)))/IF(ЧасовВКредите>0,ЧасовВКредите,36),0.5),FT699)","v":0},null,null,null,{"$f":"SUMIF(Курс1!$AL$7:$AL$75,\"=\"&ROW(),Курс1!$AC$7:$AC$75)+SUMIF(Курс2!$AL$7:$AL$75,\"=\"&ROW(),Курс2!$AC$7:$AC$75)+SUMIF(Курс3!$AL$7:$AL$75,\"=\"&ROW(),Курс3!$AC$7:$AC$75)+SUMIF(Курс4!$AL$7:$AL$75,\"=\"&ROW(),Курс4!$AC$7:$AC$75)+SUMIF(Курс5!$AL$7:$AL$75,\"=\"&ROW(),Курс5!$AC$7:$AC$75)+SUMIF(Курс6!$AL$7:$AL$75,\"=\"&ROW(),Курс6!$AC$7:$AC$75)+SUMIF(Курс7!$AL$7:$AL$75,\"=\"&ROW(),Курс7!$AC$7:$AC$75)","v":0}]
["",null,null,null,null,null,{"$f":"IF($FI710>0,$FW710,SUM(I710:K710)+CJ710+IF(СЭкзаменами,SUMIF(Курс1!$AL$7:$AL$75,\"=\"&ROW(),Курс1!$AA$7:$AA$75)+SUMIF(Курс2!$AL$7:$AL$75,\"=\"&ROW(),Курс2!$AA$7:$AA$75)+SUMIF(Курс3!$AL$7:$AL$75,\"=\"&ROW(),Курс3!$AA$7:$AA$75)+SUMIF(Курс4!$AL$7:$AL$75,\"=\"&ROW(),Курс4!$AA$7:$AA$75)+SUMIF(Курс5!$AL$7:$AL$75,\"=\"&ROW(),Курс5!$AA$7:$AA$75)+SUMIF(Курс6!$AL$7:$AL$75,\"=\"&ROW(),Курс6!$AA$7:$AA$75)+SUMIF(Курс7!$AL$7:$AL$75,\"=\"&ROW(),Курс7!$AA$7:$AA$75),0))","v":0},null,0,0,null,null,null,null,null,null,null,null,null,null,null,null,null,null,null,null,null,null,null,null,null,null,null,null,null,null,null,null,null,null,null,null,null,null,null,null,null,null,null,null,null,null,null,null,null,null,null,null,null,null,null,null,null,null,null,null,null,null,0,0,0,0,0,0,0,null,0,0,0,0,0,null,0,null,null,null,null,null,0,0,0,0,0,0,0,0,0,0,0,0,0,0,0,0,0,0,0,0,0,0,0,0,0,0,0,0,0,0,0,0,0,0,0,0,0,0,0,0,0,0,0,0,0,0,0,0,0,0,0,0,0,0,0,0,0,0,0,0,0,null,0,0,0,0,0,0,0,0,0,0,0,0,0,0,0,0,null,46,null,null,null,0,{"$f":"SUM($CB$690:$CB710)","v":4},0,null,0,{"$f":"IF(FT710=0,FLOOR(IF(СЭкзаменами,H710,(H710+SUMIF(Курс1!$AL$7:$AL$75,\"=\"&ROW(),Курс1!$AA$7:$AA$75)+SUMIF(Курс2!$AL$7:$AL$75,\"=\"&ROW(),Курс2!$AA$7:$AA$75)+SUMIF(Курс3!$AL$7:$AL$75,\"=\"&ROW(),Курс3!$AA$7:$AA$75)+SUMIF(Курс4!$AL$7:$AL$75,\"=\"&ROW(),Курс4!$AA$7:$AA$75)+SUMIF(Курс5!$AL$7:$AL$75,\"=\"&ROW(),Курс5!$AA$7:$AA$75)+SUMIF(Курс6!$AL$7:$AL$75,\"=\"&ROW(),Курс6!$AA$7:$AA$75)+SUMIF(Курс7!$AL$7:$AL$75,\"=\"&ROW(),Курс7!$AA$7:$AA$75)))/IF(ЧасовВКредите>0,ЧасовВКредите,36),0.5),FT710)","v":0},null,null,null,{"$f":"SUMIF(Курс1!$AL$7:$AL$75,\"=\"&ROW(),Курс1!$AC$7:$AC$75)+SUMIF(Курс2!$AL$7:$AL$75,\"=\"&ROW(),Курс2!$AC$7:$AC$75)+SUMIF(Курс3!$AL$7:$AL$75,\"=\"&ROW(),Курс3!$AC$7:$AC$75)+SUMIF(Курс4!$AL$7:$AL$75,\"=\"&ROW(),Курс4!$AC$7:$AC$75)+SUMIF(Курс5!$AL$7:$AL$75,\"=\"&ROW(),Курс5!$AC$7:$AC$75)+SUMIF(Курс6!$AL$7:$AL$75,\"=\"&ROW(),Курс6!$AC$7:$AC$75)+SUMIF(Курс7!$AL$7:$AL$75,\"=\"&ROW(),Курс7!$AC$7:$AC$75)","v":0}]
["",null,null,null,null,null,{"$f":"IF($FI725>0,$FW725,SUM(I725:K725)+CJ725+IF(СЭкзаменами,SUMIF(Курс1!$AL$7:$AL$75,\"=\"&ROW(),Курс1!$AA$7:$AA$75)+SUMIF(Курс2!$AL$7:$AL$75,\"=\"&ROW(),Курс2!$AA$7:$AA$75)+SUMIF(Курс3!$AL$7:$AL$75,\"=\"&ROW(),Курс3!$AA$7:$AA$75)+SUMIF(Курс4!$AL$7:$AL$75,\"=\"&ROW(),Курс4!$AA$7:$AA$75)+SUMIF(Курс5!$AL$7:$AL$75,\"=\"&ROW(),Курс5!$AA$7:$AA$75)+SUMIF(Курс6!$AL$7:$AL$75,\"=\"&ROW(),Курс6!$AA$7:$AA$75)+SUMIF(Курс7!$AL$7:$AL$75,\"=\"&ROW(),Курс7!$AA$7:$AA$75),0))","v":0},null,0,0,null,null,null,null,null,null,null,null,null,null,null,null,null,null,null,null,null,null,null,null,null,null,null,null,null,null,null,null,null,null,null,null,null,null,null,null,null,null,null,null,null,null,null,null,null,null,null,null,null,null,null,null,null,null,null,null,null,null,0,0,0,0,0,0,0,null,0,0,0,0,0,null,0,null,null,null,null,null,0,0,0,0,0,0,0,0,0,0,0,0,0,0,0,0,0,0,0,0,0,0,0,0,0,0,0,0,0,0,0,0,0,0,0,0,0,0,0,0,0,0,0,0,0,0,0,0,0,0,0,0,0,0,0,0,0,0,0,0,0,null,0,0,0,0,0,0,0,0,0,0,0,0,0,0,0,0,null,46,null,null,null,0,{"$f":"SUM($CB$690:$CB725)","v":4},0,null,0,{"$f":"IF(FT725=0,FLOOR(IF(СЭкзаменами,H725,(H725+SUMIF(Курс1!$AL$7:$AL$75,\"=\"&ROW(),Курс1!$AA$7:$AA$75)+SUMIF(Курс2!$AL$7:$AL$75,\"=\"&ROW(),Курс2!$AA$7:$AA$75)+SUMIF(Курс3!$AL$7:$AL$75,\"=\"&ROW(),Курс3!$AA$7:$AA$75)+SUMIF(Курс4!$AL$7:$AL$75,\"=\"&ROW(),Курс4!$AA$7:$AA$75)+SUMIF(Курс5!$AL$7:$AL$75,\"=\"&ROW(),Курс5!$AA$7:$AA$75)+SUMIF(Курс6!$AL$7:$AL$75,\"=\"&ROW(),Курс6!$AA$7:$AA$75)+SUMIF(Курс7!$AL$7:$AL$75,\"=\"&ROW(),Курс7!$AA$7:$AA$75)))/IF(ЧасовВКредите>0,ЧасовВКредите,36),0.5),FT725)","v":0},null,null,null,{"$f":"SUMIF(Курс1!$AL$7:$AL$75,\"=\"&ROW(),Курс1!$AC$7:$AC$75)+SUMIF(Курс2!$AL$7:$AL$75,\"=\"&ROW(),Курс2!$AC$7:$AC$75)+SUMIF(Курс3!$AL$7:$AL$75,\"=\"&ROW(),Курс3!$AC$7:$AC$75)+SUMIF(Курс4!$AL$7:$AL$75,\"=\"&ROW(),Курс4!$AC$7:$AC$75)+SUMIF(Курс5!$AL$7:$AL$75,\"=\"&ROW(),Курс5!$AC$7:$AC$75)+SUMIF(Курс6!$AL$7:$AL$75,\"=\"&ROW(),Курс6!$AC$7:$AC$75)+SUMIF(Курс7!$AL$7:$AL$75,\"=\"&ROW(),Курс7!$AC$7:$AC$75)","v":0}]
["",null,null,null,null,null,{"$f":"IF($FI730>0,$FW730,SUM(I730:K730)+CJ730+IF(СЭкзаменами,SUMIF(Курс1!$AL$7:$AL$75,\"=\"&ROW(),Курс1!$AA$7:$AA$75)+SUMIF(Курс2!$AL$7:$AL$75,\"=\"&ROW(),Курс2!$AA$7:$AA$75)+SUMIF(Курс3!$AL$7:$AL$75,\"=\"&ROW(),Курс3!$AA$7:$AA$75)+SUMIF(Курс4!$AL$7:$AL$75,\"=\"&ROW(),Курс4!$AA$7:$AA$75)+SUMIF(Курс5!$AL$7:$AL$75,\"=\"&ROW(),Курс5!$AA$7:$AA$75)+SUMIF(Курс6!$AL$7:$AL$75,\"=\"&ROW(),Курс6!$AA$7:$AA$75)+SUMIF(Курс7!$AL$7:$AL$75,\"=\"&ROW(),Курс7!$AA$7:$AA$75),0))","v":0},null,0,0,null,null,null,null,null,null,null,null,null,null,null,null,null,null,null,null,null,null,null,null,null,null,null,null,null,null,null,null,null,null,null,null,null,null,null,null,null,null,null,null,null,null,null,null,null,null,null,null,null,null,null,null,null,null,null,null,null,null,0,0,0,0,0,0,0,null,0,0,0,0,0,null,0,null,null,null,null,null,0,0,0,0,0,0,0,0,0,0,0,0,0,0,0,0,0,0,0,0,0,0,0,0,0,0,0,0,0,0,0,0,0,0,0,0,0,0,0,0,0,0,0,0,0,0,0,0,0,0,0,0,0,0,0,0,0,0,0,0,0,null,0,0,0,0,0,0,0,0,0,0,0,0,0,0,0,0,null,46,null,null,null,0,{"$f":"SUM($CB$690:$CB730)","v":4},0,null,0,{"$f":"IF(FT730=0,FLOOR(IF(СЭкзаменами,H730,(H730+SUMIF(Курс1!$AL$7:$AL$75,\"=\"&ROW(),Курс1!$AA$7:$AA$75)+SUMIF(Курс2!$AL$7:$AL$75,\"=\"&ROW(),Курс2!$AA$7:$AA$75)+SUMIF(Курс3!$AL$7:$AL$75,\"=\"&ROW(),Курс3!$AA$7:$AA$75)+SUMIF(Курс4!$AL$7:$AL$75,\"=\"&ROW(),Курс4!$AA$7:$AA$75)+SUMIF(Курс5!$AL$7:$AL$75,\"=\"&ROW(),Курс5!$AA$7:$AA$75)+SUMIF(Курс6!$AL$7:$AL$75,\"=\"&ROW(),Курс6!$AA$7:$AA$75)+SUMIF(Курс7!$AL$7:$AL$75,\"=\"&ROW(),Курс7!$AA$7:$AA$75)))/IF(ЧасовВКредите>0,ЧасовВКредите,36),0.5),FT730)","v":0},null,null,null,{"$f":"SUMIF(Курс1!$AL$7:$AL$75,\"=\"&ROW(),Курс1!$AC$7:$AC$75)+SUMIF(Курс2!$AL$7:$AL$75,\"=\"&ROW(),Курс2!$AC$7:$AC$75)+SUMIF(Курс3!$AL$7:$AL$75,\"=\"&ROW(),Курс3!$AC$7:$AC$75)+SUMIF(Курс4!$AL$7:$AL$75,\"=\"&ROW(),Курс4!$AC$7:$AC$75)+SUMIF(Курс5!$AL$7:$AL$75,\"=\"&ROW(),Курс5!$AC$7:$AC$75)+SUMIF(Курс6!$AL$7:$AL$75,\"=\"&ROW(),Курс6!$AC$7:$AC$75)+SUMIF(Курс7!$AL$7:$AL$75,\"=\"&ROW(),Курс7!$AC$7:$AC$75)","v":0}]
["",null,null,null,null,null,{"$f":"IF($FI741>0,$FW741,SUM(I741:K741)+CJ741+IF(СЭкзаменами,SUMIF(Курс1!$AL$7:$AL$75,\"=\"&ROW(),Курс1!$AA$7:$AA$75)+SUMIF(Курс2!$AL$7:$AL$75,\"=\"&ROW(),Курс2!$AA$7:$AA$75)+SUMIF(Курс3!$AL$7:$AL$75,\"=\"&ROW(),Курс3!$AA$7:$AA$75)+SUMIF(Курс4!$AL$7:$AL$75,\"=\"&ROW(),Курс4!$AA$7:$AA$75)+SUMIF(Курс5!$AL$7:$AL$75,\"=\"&ROW(),Курс5!$AA$7:$AA$75)+SUMIF(Курс6!$AL$7:$AL$75,\"=\"&ROW(),Курс6!$AA$7:$AA$75)+SUMIF(Курс7!$AL$7:$AL$75,\"=\"&ROW(),Курс7!$AA$7:$AA$75),0))","v":0},null,0,0,null,null,null,null,null,null,null,null,null,null,null,null,null,null,null,null,null,null,null,null,null,null,null,null,null,null,null,null,null,null,null,null,null,null,null,null,null,null,null,null,null,null,null,null,null,null,null,null,null,null,null,null,null,null,null,null,null,null,0,0,0,0,0,0,0,null,0,0,0,0,0,null,0,null,null,null,null,null,0,0,0,0,0,0,0,0,0,0,0,0,0,0,0,0,0,0,0,0,0,0,0,0,0,0,0,0,0,0,0,0,0,0,0,0,0,0,0,0,0,0,0,0,0,0,0,0,0,0,0,0,0,0,0,0,0,0,0,0,0,null,0,0,0,0,0,0,0,0,0,0,0,0,0,0,0,0,null,46,null,null,null,0,{"$f":"SUM($CB$690:$CB741)","v":4},0,null,0,{"$f":"IF(FT741=0,FLOOR(IF(СЭкзаменами,H741,(H741+SUMIF(Курс1!$AL$7:$AL$75,\"=\"&ROW(),Курс1!$AA$7:$AA$75)+SUMIF(Курс2!$AL$7:$AL$75,\"=\"&ROW(),Курс2!$AA$7:$AA$75)+SUMIF(Курс3!$AL$7:$AL$75,\"=\"&ROW(),Курс3!$AA$7:$AA$75)+SUMIF(Курс4!$AL$7:$AL$75,\"=\"&ROW(),Курс4!$AA$7:$AA$75)+SUMIF(Курс5!$AL$7:$AL$75,\"=\"&ROW(),Курс5!$AA$7:$AA$75)+SUMIF(Курс6!$AL$7:$AL$75,\"=\"&ROW(),Курс6!$AA$7:$AA$75)+SUMIF(Курс7!$AL$7:$AL$75,\"=\"&ROW(),Курс7!$AA$7:$AA$75)))/IF(ЧасовВКредите>0,ЧасовВКредите,36),0.5),FT741)","v":0},null,null,null,{"$f":"SUMIF(Курс1!$AL$7:$AL$75,\"=\"&ROW(),Курс1!$AC$7:$AC$75)+SUMIF(Курс2!$AL$7:$AL$75,\"=\"&ROW(),Курс2!$AC$7:$AC$75)+SUMIF(Курс3!$AL$7:$AL$75,\"=\"&ROW(),Курс3!$AC$7:$AC$75)+SUMIF(Курс4!$AL$7:$AL$75,\"=\"&ROW(),Курс4!$AC$7:$AC$75)+SUMIF(Курс5!$AL$7:$AL$75,\"=\"&ROW(),Курс5!$AC$7:$AC$75)+SUMIF(Курс6!$AL$7:$AL$75,\"=\"&ROW(),Курс6!$AC$7:$AC$75)+SUMIF(Курс7!$AL$7:$AL$75,\"=\"&ROW(),Курс7!$AC$7:$AC$75)","v":0}]
["",null,null,null,null,null,{"$f":"IF($FI756>0,$FW756,SUM(I756:K756)+CJ756+IF(СЭкзаменами,SUMIF(Курс1!$AL$7:$AL$75,\"=\"&ROW(),Курс1!$AA$7:$AA$75)+SUMIF(Курс2!$AL$7:$AL$75,\"=\"&ROW(),Курс2!$AA$7:$AA$75)+SUMIF(Курс3!$AL$7:$AL$75,\"=\"&ROW(),Курс3!$AA$7:$AA$75)+SUMIF(Курс4!$AL$7:$AL$75,\"=\"&ROW(),Курс4!$AA$7:$AA$75)+SUMIF(Курс5!$AL$7:$AL$75,\"=\"&ROW(),Курс5!$AA$7:$AA$75)+SUMIF(Курс6!$AL$7:$AL$75,\"=\"&ROW(),Курс6!$AA$7:$AA$75)+SUMIF(Курс7!$AL$7:$AL$75,\"=\"&ROW(),Курс7!$AA$7:$AA$75),0))","v":0},null,0,0,null,null,null,null,null,null,null,null,null,null,null,null,null,null,null,null,null,null,null,null,null,null,null,null,null,null,null,null,null,null,null,null,null,null,null,null,null,null,null,null,null,null,null,null,null,null,null,null,null,null,null,null,null,null,null,null,null,null,0,0,0,0,0,0,0,null,0,0,0,0,0,null,0,null,null,null,null,null,0,0,0,0,0,0,0,0,0,0,0,0,0,0,0,0,0,0,0,0,0,0,0,0,0,0,0,0,0,0,0,0,0,0,0,0,0,0,0,0,0,0,0,0,0,0,0,0,0,0,0,0,0,0,0,0,0,0,0,0,0,null,0,0,0,0,0,0,0,0,0,0,0,0,0,0,0,0,null,47,null,null,null,0,{"$f":"SUM($CB$750:$CB756)","v":2},0,null,0,{"$f":"IF(FT756=0,FLOOR(IF(СЭкзаменами,H756,(H756+SUMIF(Курс1!$AL$7:$AL$75,\"=\"&ROW(),Курс1!$AA$7:$AA$75)+SUMIF(Курс2!$AL$7:$AL$75,\"=\"&ROW(),Курс2!$AA$7:$AA$75)+SUMIF(Курс3!$AL$7:$AL$75,\"=\"&ROW(),Курс3!$AA$7:$AA$75)+SUMIF(Курс4!$AL$7:$AL$75,\"=\"&ROW(),Курс4!$AA$7:$AA$75)+SUMIF(Курс5!$AL$7:$AL$75,\"=\"&ROW(),Курс5!$AA$7:$AA$75)+SUMIF(Курс6!$AL$7:$AL$75,\"=\"&ROW(),Курс6!$AA$7:$AA$75)+SUMIF(Курс7!$AL$7:$AL$75,\"=\"&ROW(),Курс7!$AA$7:$AA$75)))/IF(ЧасовВКредите>0,ЧасовВКредите,36),0.5),FT756)","v":0},null,null,null,{"$f":"SUMIF(Курс1!$AL$7:$AL$75,\"=\"&ROW(),Курс1!$AC$7:$AC$75)+SUMIF(Курс2!$AL$7:$AL$75,\"=\"&ROW(),Курс2!$AC$7:$AC$75)+SUMIF(Курс3!$AL$7:$AL$75,\"=\"&ROW(),Курс3!$AC$7:$AC$75)+SUMIF(Курс4!$AL$7:$AL$75,\"=\"&ROW(),Курс4!$AC$7:$AC$75)+SUMIF(Курс5!$AL$7:$AL$75,\"=\"&ROW(),Курс5!$AC$7:$AC$75)+SUMIF(Курс6!$AL$7:$AL$75,\"=\"&ROW(),Курс6!$AC$7:$AC$75)+SUMIF(Курс7!$AL$7:$AL$75,\"=\"&ROW(),Курс7!$AC$7:$AC$75)","v":0}]
["",null,null,null,null,null,{"$f":"IF($FI757>0,$FW757,SUM(I757:K757)+CJ757+IF(СЭкзаменами,SUMIF(Курс1!$AL$7:$AL$75,\"=\"&ROW(),Курс1!$AA$7:$AA$75)+SUMIF(Курс2!$AL$7:$AL$75,\"=\"&ROW(),Курс2!$AA$7:$AA$75)+SUMIF(Курс3!$AL$7:$AL$75,\"=\"&ROW(),Курс3!$AA$7:$AA$75)+SUMIF(Курс4!$AL$7:$AL$75,\"=\"&ROW(),Курс4!$AA$7:$AA$75)+SUMIF(Курс5!$AL$7:$AL$75,\"=\"&ROW(),Курс5!$AA$7:$AA$75)+SUMIF(Курс6!$AL$7:$AL$75,\"=\"&ROW(),Курс6!$AA$7:$AA$75)+SUMIF(Курс7!$AL$7:$AL$75,\"=\"&ROW(),Курс7!$AA$7:$AA$75),0))","v":0},null,0,0,null,null,null,null,null,null,null,null,null,null,null,null,null,null,null,null,null,null,null,null,null,null,null,null,null,null,null,null,null,null,null,null,null,null,null,null,null,null,null,null,null,null,null,null,null,null,null,null,null,null,null,null,null,null,null,null,null,null,0,0,0,0,0,0,0,null,0,0,0,0,0,null,0,null,null,null,null,null,0,0,0,0,0,0,0,0,0,0,0,0,0,0,0,0,0,0,0,0,0,0,0,0,0,0,0,0,0,0,0,0,0,0,0,0,0,0,0,0,0,0,0,0,0,0,0,0,0,0,0,0,0,0,0,0,0,0,0,0,0,null,0,0,0,0,0,0,0,0,0,0,0,0,0,0,0,0,null,47,null,null,null,0,{"$f":"SUM($CB$750:$CB757)","v":2},0,null,0,{"$f":"IF(FT757=0,FLOOR(IF(СЭкзаменами,H757,(H757+SUMIF(Курс1!$AL$7:$AL$75,\"=\"&ROW(),Курс1!$AA$7:$AA$75)+SUMIF(Курс2!$AL$7:$AL$75,\"=\"&ROW(),Курс2!$AA$7:$AA$75)+SUMIF(Курс3!$AL$7:$AL$75,\"=\"&ROW(),Курс3!$AA$7:$AA$75)+SUMIF(Курс4!$AL$7:$AL$75,\"=\"&ROW(),Курс4!$AA$7:$AA$75)+SUMIF(Курс5!$AL$7:$AL$75,\"=\"&ROW(),Курс5!$AA$7:$AA$75)+SUMIF(Курс6!$AL$7:$AL$75,\"=\"&ROW(),Курс6!$AA$7:$AA$75)+SUMIF(Курс7!$AL$7:$AL$75,\"=\"&ROW(),Курс7!$AA$7:$AA$75)))/IF(ЧасовВКредите>0,ЧасовВКредите,36),0.5),FT757)","v":0},null,null,null,{"$f":"SUMIF(Курс1!$AL$7:$AL$75,\"=\"&ROW(),Курс1!$AC$7:$AC$75)+SUMIF(Курс2!$AL$7:$AL$75,\"=\"&ROW(),Курс2!$AC$7:$AC$75)+SUMIF(Курс3!$AL$7:$AL$75,\"=\"&ROW(),Курс3!$AC$7:$AC$75)+SUMIF(Курс4!$AL$7:$AL$75,\"=\"&ROW(),Курс4!$AC$7:$AC$75)+SUMIF(Курс5!$AL$7:$AL$75,\"=\"&ROW(),Курс5!$AC$7:$AC$75)+SUMIF(Курс6!$AL$7:$AL$75,\"=\"&ROW(),Курс6!$AC$7:$AC$75)+SUMIF(Курс7!$AL$7:$AL$75,\"=\"&ROW(),Курс7!$AC$7:$AC$75)","v":0}]
["",null,null,null,null,null,{"$f":"IF($FI772>0,$FW772,SUM(I772:K772)+CJ772+IF(СЭкзаменами,SUMIF(Курс1!$AL$7:$AL$75,\"=\"&ROW(),Курс1!$AA$7:$AA$75)+SUMIF(Курс2!$AL$7:$AL$75,\"=\"&ROW(),Курс2!$AA$7:$AA$75)+SUMIF(Курс3!$AL$7:$AL$75,\"=\"&ROW(),Курс3!$AA$7:$AA$75)+SUMIF(Курс4!$AL$7:$AL$75,\"=\"&ROW(),Курс4!$AA$7:$AA$75)+SUMIF(Курс5!$AL$7:$AL$75,\"=\"&ROW(),Курс5!$AA$7:$AA$75)+SUMIF(Курс6!$AL$7:$AL$75,\"=\"&ROW(),Курс6!$AA$7:$AA$75)+SUMIF(Курс7!$AL$7:$AL$75,\"=\"&ROW(),Курс7!$AA$7:$AA$75),0))","v":0},null,0,0,null,null,null,null,null,null,null,null,null,null,null,null,null,null,null,null,null,null,null,null,null,null,null,null,null,null,null,null,null,null,null,null,null,null,null,null,null,null,null,null,null,null,null,null,null,null,null,null,null,null,null,null,null,null,null,null,null,null,0,0,0,0,0,0,0,null,0,0,0,0,0,null,0,null,null,null,null,null,0,0,0,0,0,0,0,0,0,0,0,0,0,0,0,0,0,0,0,0,0,0,0,0,0,0,0,0,0,0,0,0,0,0,0,0,0,0,0,0,0,0,0,0,0,0,0,0,0,0,0,0,0,0,0,0,0,0,0,0,0,null,0,0,0,0,0,0,0,0,0,0,0,0,0,0,0,0,null,47,null,null,null,0,{"$f":"SUM($CB$750:$CB772)","v":2},0,null,0,{"$f":"IF(FT772=0,FLOOR(IF(СЭкзаменами,H772,(H772+SUMIF(Курс1!$AL$7:$AL$75,\"=\"&ROW(),Курс1!$AA$7:$AA$75)+SUMIF(Курс2!$AL$7:$AL$75,\"=\"&ROW(),Курс2!$AA$7:$AA$75)+SUMIF(Курс3!$AL$7:$AL$75,\"=\"&ROW(),Курс3!$AA$7:$AA$75)+SUMIF(Курс4!$AL$7:$AL$75,\"=\"&ROW(),Курс4!$AA$7:$AA$75)+SUMIF(Курс5!$AL$7:$AL$75,\"=\"&ROW(),Курс5!$AA$7:$AA$75)+SUMIF(Курс6!$AL$7:$AL$75,\"=\"&ROW(),Курс6!$AA$7:$AA$75)+SUMIF(Курс7!$AL$7:$AL$75,\"=\"&ROW(),Курс7!$AA$7:$AA$75)))/IF(ЧасовВКредите>0,ЧасовВКредите,36),0.5),FT772)","v":0},null,null,null,{"$f":"SUMIF(Курс1!$AL$7:$AL$75,\"=\"&ROW(),Курс1!$AC$7:$AC$75)+SUMIF(Курс2!$AL$7:$AL$75,\"=\"&ROW(),Курс2!$AC$7:$AC$75)+SUMIF(Курс3!$AL$7:$AL$75,\"=\"&ROW(),Курс3!$AC$7:$AC$75)+SUMIF(Курс4!$AL$7:$AL$75,\"=\"&ROW(),Курс4!$AC$7:$AC$75)+SUMIF(Курс5!$AL$7:$AL$75,\"=\"&ROW(),Курс5!$AC$7:$AC$75)+SUMIF(Курс6!$AL$7:$AL$75,\"=\"&ROW(),Курс6!$AC$7:$AC$75)+SUMIF(Курс7!$AL$7:$AL$75,\"=\"&ROW(),Курс7!$AC$7:$AC$75)","v":0}]
["",null,null,null,null,null,{"$f":"IF($FI777>0,$FW777,SUM(I777:K777)+CJ777+IF(СЭкзаменами,SUMIF(Курс1!$AL$7:$AL$75,\"=\"&ROW(),Курс1!$AA$7:$AA$75)+SUMIF(Курс2!$AL$7:$AL$75,\"=\"&ROW(),Курс2!$AA$7:$AA$75)+SUMIF(Курс3!$AL$7:$AL$75,\"=\"&ROW(),Курс3!$AA$7:$AA$75)+SUMIF(Курс4!$AL$7:$AL$75,\"=\"&ROW(),Курс4!$AA$7:$AA$75)+SUMIF(Курс5!$AL$7:$AL$75,\"=\"&ROW(),Курс5!$AA$7:$AA$75)+SUMIF(Курс6!$AL$7:$AL$75,\"=\"&ROW(),Курс6!$AA$7:$AA$75)+SUMIF(Курс7!$AL$7:$AL$75,\"=\"&ROW(),Курс7!$AA$7:$AA$75),0))","v":0},null,0,0,null,null,null,null,null,null,null,null,null,null,null,null,null,null,null,null,null,null,null,null,null,null,null,null,null,null,null,null,null,null,null,null,null,null,null,null,null,null,null,null,null,null,null,null,null,null,null,null,null,null,null,null,null,null,null,null,null,null,0,0,0,0,0,0,0,null,0,0,0,0,0,null,0,null,null,null,null,null,0,0,0,0,0,0,0,0,0,0,0,0,0,0,0,0,0,0,0,0,0,0,0,0,0,0,0,0,0,0,0,0,0,0,0,0,0,0,0,0,0,0,0,0,0,0,0,0,0,0,0,0,0,0,0,0,0,0,0,0,0,null,0,0,0,0,0,0,0,0,0,0,0,0,0,0,0,0,null,47,null,null,null,0,{"$f":"SUM($CB$750:$CB777)","v":2},0,null,0,{"$f":"IF(FT777=0,FLOOR(IF(СЭкзаменами,H777,(H777+SUMIF(Курс1!$AL$7:$AL$75,\"=\"&ROW(),Курс1!$AA$7:$AA$75)+SUMIF(Курс2!$AL$7:$AL$75,\"=\"&ROW(),Курс2!$AA$7:$AA$75)+SUMIF(Курс3!$AL$7:$AL$75,\"=\"&ROW(),Курс3!$AA$7:$AA$75)+SUMIF(Курс4!$AL$7:$AL$75,\"=\"&ROW(),Курс4!$AA$7:$AA$75)+SUMIF(Курс5!$AL$7:$AL$75,\"=\"&ROW(),Курс5!$AA$7:$AA$75)+SUMIF(Курс6!$AL$7:$AL$75,\"=\"&ROW(),Курс6!$AA$7:$AA$75)+SUMIF(Курс7!$AL$7:$AL$75,\"=\"&ROW(),Курс7!$AA$7:$AA$75)))/IF(ЧасовВКредите>0,ЧасовВКредите,36),0.5),FT777)","v":0},null,null,null,{"$f":"SUMIF(Курс1!$AL$7:$AL$75,\"=\"&ROW(),Курс1!$AC$7:$AC$75)+SUMIF(Курс2!$AL$7:$AL$75,\"=\"&ROW(),Курс2!$AC$7:$AC$75)+SUMIF(Курс3!$AL$7:$AL$75,\"=\"&ROW(),Курс3!$AC$7:$AC$75)+SUMIF(Курс4!$AL$7:$AL$75,\"=\"&ROW(),Курс4!$AC$7:$AC$75)+SUMIF(Курс5!$AL$7:$AL$75,\"=\"&ROW(),Курс5!$AC$7:$AC$75)+SUMIF(Курс6!$AL$7:$AL$75,\"=\"&ROW(),Курс6!$AC$7:$AC$75)+SUMIF(Курс7!$AL$7:$AL$75,\"=\"&ROW(),Курс7!$AC$7:$AC$75)","v":0}]
[{"$f":"IF(B788<>\"\",\"2\",\"\")","v":"2"},"Коммерческий консалтинг",{"$f":"IF($B788<>\"\",C787,\"\")","v":0},{"$f":"IF($B788<>\"\",D787,\"\")","v":"9"},{"$f":"IF($B788<>\"\",E787,\"\")","v":0},{"$f":"IF($B788<>\"\",F787,\"\")","v":0},{"$f":"IF($B788<>\"\",G787,0)","v":68},68,30,0,38,0,0,0,0,0,0,0,0,0,0,0,0,0,0,0,0,0,0,0,0,0,0,0,0,0,0,0,{"$f":"IF($B788<>\"\",AM787,0)","v":0},0,0,0,0,15,0,15,0,0,0,0,0,0,0,0,0,0,0,0,0,{"$f":"IF($B788<>\"\",BH787,0)","v":0},0,0,0,0,0,0,0,4,0,0,0,0,1,0,0,0,{"$f":"IF($B788<>\"\",BY787,0)","v":160.28571428571428},null,{"$f":"IF(SUM(G788:H788)=0,0,CA787)","v":1},1,1,null,{"$f":"IF(G788+H788>0,CE787,0)","v":1},{"$f":"IF($B788<>\"\",CF787,\"\")","v":0},{"$f":"IF($B788<>\"\",CG787,\"\")","v":0},{"$f":"IF($B788<>\"\",CH787,\"\")","v":0},{"$f":"IF($B788<>\"\",CI787,\"\")","v":0},{"$f":"IF($B788<>\"\",CJ787,0)","v":0},{"$f":"IF($B788<>\"\",CK787,0)","v":68},null,null,null,null,null,null,null,null,null,null,null,null,null,null,null,null,null,null,null,null,null,null,null,null,null,null,null,null,null,null,null,null,null,null,null,null,null,null,null,null,null,null,null,null,null,null,null,null,null,null,null,null,null,null,null,null,null,null,null,null,null,0,0,0,0,0,0,0,0,1,0,0,0,0,0,0,0,null,48,null,null,null,0,null,null,{"$f":"IF($B788<>\"\",$FS787,0)","v":0},{"$f":"IF($B788<>\"\",$FT787,0)","v":0},{"$f":"IF($B788<>\"\",$FU787,0)","v":1.5},"",null,{"$f":"IF($B788<>\"\",FX787,0)","v":0}]
[{"$f":"IF(B803<>\"\",\"7\",\"\")","v":""},null,{"$f":"IF($B803<>\"\",C797,\"\")","v":""},{"$f":"IF($B803<>\"\",D797,\"\")","v":""},{"$f":"IF($B803<>\"\",E797,\"\")","v":""},{"$f":"IF($B803<>\"\",F797,\"\")","v":""},{"$f":"IF($B803<>\"\",G797,0)","v":0},0,0,0,0,0,0,0,0,0,0,0,0,0,0,0,0,0,0,0,0,0,0,0,0,0,0,0,0,0,0,0,{"$f":"IF($B803<>\"\",AM797,0)","v":0},0,0,0,0,0,0,0,0,0,0,0,0,0,0,0,0,0,0,0,0,{"$f":"IF($B803<>\"\",BH797,0)","v":0},0,0,0,0,0,0,0,null,0,0,0,0,0,0,{"$f":"IF($B803<>\"\",BW797,0)","v":0},null,{"$f":"IF($B803<>\"\",BY797,0)","v":0},null,{"$f":"IF(SUM(G803:H803)=0,0,CA797)","v":0},0,0,null,{"$f":"IF(G803+H803>0,CE797,0)","v":0},{"$f":"IF($B803<>\"\",CF797,\"\")","v":""},{"$f":"IF($B803<>\"\",CG797,\"\")","v":""},{"$f":"IF($B803<>\"\",CH797,\"\")","v":""},{"$f":"IF($B803<>\"\",CI797,\"\")","v":""},{"$f":"IF($B803<>\"\",CJ797,0)","v":0},{"$f":"IF($B803<>\"\",CK797,0)","v":0},null,null,null,null,null,null,null,null,null,null,null,null,null,null,null,null,null,null,null,null,null,null,null,null,null,null,null,null,null,null,null,null,null,null,null,null,null,null,null,null,null,null,null,null,null,null,null,null,null,null,null,null,null,null,null,null,null,null,null,null,null,0,0,0,0,0,0,0,0,0,0,0,0,0,0,0,0,null,49,null,null,null,0,null,null,0,0,0,null,null,{"$f":"IF($B803<>\"\",FX797,0)","v":0}]
[{"$f":"IF(B808<>\"\",\"2\",\"\")","v":"2"},"Связи с общественностью в кризисных ситуациях",{"$f":"IF($B808<>\"\",C807,\"\")","v":0},{"$f":"IF($B808<>\"\",D807,\"\")","v":"9"},{"$f":"IF($B808<>\"\",E807,\"\")","v":0},{"$f":"IF($B808<>\"\",F807,\"\")","v":0},{"$f":"IF($B808<>\"\",G807,0)","v":64},64,30,0,34,0,0,0,0,0,0,0,0,0,0,0,0,0,0,0,0,0,0,0,0,0,0,0,0,0,0,0,{"$f":"IF($B808<>\"\",AM807,0)","v":0},0,0,0,0,15,0,15,0,0,0,0,0,0,0,0,0,0,0,0,0,{"$f":"IF($B808<>\"\",BH807,0)","v":0},0,0,0,0,0,0,0,4,0,0,0,0,1,0,0,0,{"$f":"IF($B808<>\"\",BY807,0)","v":150.85714285714286},null,{"$f":"IF(SUM(G808:H808)=0,0,CA807)","v":1},1,1,null,{"$f":"IF(G808+H808>0,CE807,0)","v":1},{"$f":"IF($B808<>\"\",CF807,\"\")","v":0},{"$f":"IF($B808<>\"\",CG807,\"\")","v":0},{"$f":"IF($B808<>\"\",CH807,\"\")","v":0},{"$f":"IF($B808<>\"\",CI807,\"\")","v":0},{"$f":"IF($B808<>\"\",CJ807,0)","v":0},{"$f":"IF($B808<>\"\",CK807,0)","v":64},null,null,null,null,null,null,null,null,null,null,null,null,null,null,null,null,null,null,null,null,null,null,null,null,null,null,null,null,null,null,null,null,null,null,null,null,null,null,null,null,null,null,null,null,null,null,null,null,null,null,null,null,null,null,null,null,null,null,null,null,null,0,0,0,0,0,0,0,0,1,0,0,0,0,0,0,0,null,50,null,null,null,0,null,null,{"$f":"IF($B808<>\"\",$FS807,0)","v":0},{"$f":"IF($B808<>\"\",$FT807,0)","v":0},{"$f":"IF($B808<>\"\",$FU807,0)","v":1.5},"",null,{"$f":"IF($B808<>\"\",FX807,0)","v":0}]
[{"$f":"IF(B819<>\"\",\"3\",\"\")","v":""},null,{"$f":"IF($B819<>\"\",C817,\"\")","v":""},{"$f":"IF($B819<>\"\",D817,\"\")","v":""},{"$f":"IF($B819<>\"\",E817,\"\")","v":""},{"$f":"IF($B819<>\"\",F817,\"\")","v":""},{"$f":"IF($B819<>\"\",G817,0)","v":0},0,0,0,0,0,0,0,0,0,0,0,0,0,0,0,0,0,0,0,0,0,0,0,0,0,0,0,0,0,0,0,{"$f":"IF($B819<>\"\",AM817,0)","v":0},0,0,0,0,0,0,0,0,0,0,0,0,0,0,0,0,0,0,0,0,{"$f":"IF($B819<>\"\",BH817,0)","v":0},0,0,0,0,0,0,0,null,0,0,0,0,0,0,{"$f":"IF($B819<>\"\",BW817,0)","v":0},null,{"$f":"IF($B819<>\"\",BY817,0)","v":0},null,{"$f":"IF(SUM(G819:H819)=0,0,CA817)","v":0},0,0,null,{"$f":"IF(G819+H819>0,CE817,0)","v":0},{"$f":"IF($B819<>\"\",CF817,\"\")","v":""},{"$f":"IF($B819<>\"\",CG817,\"\")","v":""},{"$f":"IF($B819<>\"\",CH817,\"\")","v":""},{"$f":"IF($B819<>\"\",CI817,\"\")","v":""},{"$f":"IF($B819<>\"\",CJ817,0)","v":0},{"$f":"IF($B819<>\"\",CK817,0)","v":0},null,null,null,null,null,null,null,null,null,null,null,null,null,null,null,null,null,null,null,null,null,null,null,null,null,null,null,null,null,null,null,null,null,null,null,null,null,null,null,null,null,null,null,null,null,null,null,null,null,null,null,null,null,null,null,null,null,null,null,null,null,0,0,0,0,0,0,0,0,0,0,0,0,0,0,0,0,null,51,null,null,null,0,null,null,0,0,0,null,null,{"$f":"IF($B819<>\"\",FX817,0)","v":0}]
[{"$f":"FL832","v":52},{"$f":"IF(SUM(C834:K834)<>0,\"Всего\",\"\")","v":""},{"$f":"CL827+CP827+CT827+CX827+DB827+DF827+DJ827+DN827+DR827+DV827+DZ827+ED827","v":0},{"$f":"CM827+CQ827+CU827+CY827+DC827+DG827+DK827+DO827+DS827+DW827+EA827+EE827","v":0},{"$f":"CN827+CR827+CV827+CZ827+DD827+DH827+DL827+DP827+DT827+DX827+EB827+EF827","v":0},{"$f":"CO827+CS827+CW827+DA827+DE827+DI827+DM827+DQ827+DU827+DY827+EC827+EG827","v":0},{"$f":"G827","v":0},0,0,0,0,0,0,0,0,0,0,0,0,0,0,0,0,0,0,0,0,0,0,0,0,0,0,0,0,0,0,0,0,0,0,0,0,0,0,0,0,0,0,0,0,0,0,0,0,0,0,0,0,{"$f":"BH827","v":0},0,0,0,0,0,0,0,null,null,null,null,null,null,null,null,null,null,null,0,0,0,null,null,{"$f":"EP827","v":0},{"$f":"EQ827","v":0},{"$f":"ER827","v":0},{"$f":"ES827","v":0},{"$f":"CJ827","v":0},{"$f":"CK827","v":0},null,null,null,null,null,null,null,null,null,null,null,null,null,null,null,null,null,null,null,null,null,null,null,null,null,null,null,null,null,null,null,null,null,null,null,null,null,null,null,null,null,null,null,null,null,null,null,null,null,null,null,null,null,null,null,null,null,null,null,null,null,null,null,null,null,null,null,null,null,null,null,null,null,null,null,0,0,null,null,null,null,null,0,null,null,null,{"$f":"FT827","v":0},{"$f":"FU827","v":0},null,null,{"$f":"FX827","v":0}]
[null,null,null,null,null,null,{"$f":"SUM(I845:K845)","v":0},{"$f":"IF(H844=0,\"\",IF(ABS(G844-H844)/H844<=0.05,\"OK\",\">5%\"))","v":""},{"$f":"IF($G844>0,I844/$G844,0)","v":0},{"$f":"IF($G844>0,J844/$G844,0)","v":0},{"$f":"IF($G844>0,K844/$G844,0)","v":0},null,null,null,null,null,null,null,null,null,null,null,null,null,null,null,null,null,null,null,null,null,null,null,null,null,null,null,null,null,null,null,null,null,null,null,null,null,null,null,null,null,null,null,null,null,null,null,null,null,null,null,null,null,null,null,null,null,null,null,null,null,null,null,null,null,null,null,0,0,0,null,null,null,null,null,null,null,null,null,null,null,null,null,null,null,null,null,null,null,null,null,null,null,null,null,null,null,null,null,null,null,null,null,null,null,null,null,null,null,null,null,null,null,null,null,null,null,null,null,null,null,null,null,null,null,null,null,null,null,null,null,null,null,null,null,null,null,null,null,null,null,null,null,null,null,null,null,null,null,null,null,null,null,0,0,null,null,null,null,null,0]
[{"$f":"IF(B850<>\"\",\"4\",\"\")","v":""},null,{"$f":"IF($B850<>\"\",C847,\"\")","v":""},{"$f":"IF($B850<>\"\",D847,\"\")","v":""},{"$f":"IF($B850<>\"\",E847,\"\")","v":""},{"$f":"IF($B850<>\"\",F847,\"\")","v":""},{"$f":"IF($B850<>\"\",G847,0)","v":0},0,0,0,0,0,0,0,0,0,0,0,0,0,0,0,0,0,0,0,0,0,0,0,0,0,0,0,0,0,0,0,{"$f":"IF($B850<>\"\",AM847,0)","v":0},0,0,0,0,0,0,0,0,0,0,0,0,0,0,0,0,0,0,0,0,{"$f":"IF($B850<>\"\",BH847,0)","v":0},0,0,0,0,0,0,0,null,0,0,0,0,0,0,{"$f":"IF($B850<>\"\",BW847,0)","v":0},null,{"$f":"IF($B850<>\"\",BY847,0)","v":0},null,{"$f":"IF(SUM(G850:H850)=0,0,CA847)","v":0},0,0,null,{"$f":"IF(G850+H850>0,CE847,0)","v":0},{"$f":"IF($B850<>\"\",CF847,\"\")","v":""},{"$f":"IF($B850<>\"\",CG847,\"\")","v":""},{"$f":"IF($B850<>\"\",CH847,\"\")","v":""},{"$f":"IF($B850<>\"\",CI847,\"\")","v":""},{"$f":"IF($B850<>\"\",CJ847,0)","v":0},{"$f":"IF($B850<>\"\",CK847,0)","v":0},null,null,null,null,null,null,null,null,null,null,null,null,null,null,null,null,null,null,null,null,null,null,null,null,null,null,null,null,null,null,null,null,null,null,null,null,null,null,null,null,null,null,null,null,null,null,null,null,null,null,null,null,null,null,null,null,null,null,null,null,null,0,0,0,0,0,0,0,0,0,0,0,0,0,0,0,0,null,54,null,null,null,0,null,null,0,0,0,null,null,{"$f":"IF($B850<>\"\",FX847,0)","v":0}]
[null,null,null,null,null,null,{"$f":"SUM(I865:K865)","v":0},{"$f":"IF(H864=0,\"\",IF(ABS(G864-H864)/H864<=0.05,\"OK\",\">5%\"))","v":""},{"$f":"IF($G864>0,I864/$G864,0)","v":0},{"$f":"IF($G864>0,J864/$G864,0)","v":0},{"$f":"IF($G864>0,K864/$G864,0)","v":0},null,null,null,null,null,null,null,null,null,null,null,null,null,null,null,null,null,null,null,null,null,null,null,null,null,null,null,null,null,null,null,null,null,null,null,null,null,null,null,null,null,null,null,null,null,null,null,null,null,null,null,null,null,null,null,null,null,null,null,null,null,null,null,null,null,null,null,0,0,0,null,null,null,null,null,null,null,null,null,null,null,null,null,null,null,null,null,null,null,null,null,null,null,null,null,null,null,null,null,null,null,null,null,null,null,null,null,null,null,null,null,null,null,null,null,null,null,null,null,null,null,null,null,null,null,null,null,null,null,null,null,null,null,null,null,null,null,null,null,null,null,null,null,null,null,null,null,null,null,null,null,null,null,0,0,null,null,null,null,null,0]
[null,{"$f":"IF(B884<>\"\",B689&IF(isFGOS,\".ДВ10 Дисциплины по выбору\",\".В10 Дисциплины по выбору\"),\"\")","v":""},null,null,null,null,null,null,null,null,null,null,null,null,null,null,null,null,null,null,null,null,null,null,null,null,null,null,null,null,null,null,null,null,null,null,null,null,null,null,null,null,null,null,null,null,null,null,null,null,null,null,null,null,null,null,null,null,null,null,null,null,null,null,null,null,null,null,null,null,null,null,null,null,null,null,null,null,{"$f":"CA877","v":0},0,0,null,null,null,null,null,null,null,null,null,null,null,null,null,null,null,null,null,null,null,null,null,null,null,null,null,null,null,null,null,null,null,null,null,null,null,null,null,null,null,null,null,null,null,null,null,null,null,null,null,null,null,null,null,null,null,null,null,null,null,null,null,null,null,null,null,null,null,null,null,{"$f":"EU877","v":0},0,0,0,0,0,0,0,0,0,0,0,0,0,0,0,null,null,null,null,null,0]
[{"$f":"IF(B881<>\"\",\"5\",\"\")","v":""},null,{"$f":"IF($B881<>\"\",C877,\"\")","v":""},{"$f":"IF($B881<>\"\",D877,\"\")","v":""},{"$f":"IF($B881<>\"\",E877,\"\")","v":""},{"$f":"IF($B881<>\"\",F877,\"\")","v":""},{"$f":"IF($B881<>\"\",G877,0)","v":0},0,0,0,0,0,0,0,0,0,0,0,0,0,0,0,0,0,0,0,0,0,0,0,0,0,0,0,0,0,0,0,{"$f":"IF($B881<>\"\",AM877,0)","v":0},0,0,0,0,0,0,0,0,0,0,0,0,0,0,0,0,0,0,0,0,{"$f":"IF($B881<>\"\",BH877,0)","v":0},0,0,0,0,0,0,0,null,0,0,0,0,0,0,{"$f":"IF($B881<>\"\",BW877,0)","v":0},null,{"$f":"IF($B881<>\"\",BY877,0)","v":0},null,{"$f":"IF(SUM(G881:H881)=0,0,CA877)","v":0},0,0,null,{"$f":"IF(G881+H881>0,CE877,0)","v":0},{"$f":"IF($B881<>\"\",CF877,\"\")","v":""},{"$f":"IF($B881<>\"\",CG877,\"\")","v":""},{"$f":"IF($B881<>\"\",CH877,\"\")","v":""},{"$f":"IF($B881<>\"\",CI877,\"\")","v":""},{"$f":"IF($B881<>\"\",CJ877,0)","v":0},{"$f":"IF($B881<>\"\",CK877,0)","v":0},null,null,null,null,null,null,null,null,null,null,null,null,null,null,null,null,null,null,null,null,null,null,null,null,null,null,null,null,null,null,null,null,null,null,null,null,null,null,null,null,null,null,null,null,null,null,null,null,null,null,null,null,null,null,null,null,null,null,null,null,null,0,0,0,0,0,0,0,0,0,0,0,0,0,0,0,0,null,57,null,null,null,0,null,null,0,0,0,null,null,{"$f":"IF($B881<>\"\",FX877,0)","v":0}]
[{"$f":"IF(B892<>\"\",\"6\",\"\")","v":""},null,{"$f":"IF($B892<>\"\",C887,\"\")","v":""},{"$f":"IF($B892<>\"\",D887,\"\")","v":""},{"$f":"IF($B892<>\"\",E887,\"\")","v":""},{"$f":"IF($B892<>\"\",F887,\"\")","v":""},{"$f":"IF($B892<>\"\",G887,0)","v":0},0,0,0,0,0,0,0,0,0,0,0,0,0,0,0,0,0,0,0,0,0,0,0,0,0,0,0,0,0,0,0,{"$f":"IF($B892<>\"\",AM887,0)","v":0},0,0,0,0,0,0,0,0,0,0,0,0,0,0,0,0,0,0,0,0,{"$f":"IF($B892<>\"\",BH887,0)","v":0},0,0,0,0,0,0,0,null,0,0,0,0,0,0,{"$f":"IF($B892<>\"\",BW887,0)","v":0},null,{"$f":"IF($B892<>\"\",BY887,0)","v":0},null,{"$f":"IF(SUM(G892:H892)=0,0,CA887)","v":0},0,0,null,{"$f":"IF(G892+H892>0,CE887,0)","v":0},{"$f":"IF($B892<>\"\",CF887,\"\")","v":""},{"$f":"IF($B892<>\"\",CG887,\"\")","v":""},{"$f":"IF($B892<>\"\",CH887,\"\")","v":""},{"$f":"IF($B892<>\"\",CI887,\"\")","v":""},{"$f":"IF($B892<>\"\",CJ887,0)","v":0},{"$f":"IF($B892<>\"\",CK887,0)","v":0},null,null,null,null,null,null,null,null,null,null,null,null,null,null,null,null,null,null,null,null,null,null,null,null,null,null,null,null,null,null,null,null,null,null,null,null,null,null,null,null,null,null,null,null,null,null,null,null,null,null,null,null,null,null,null,null,null,null,null,null,null,0,0,0,0,0,0,0,0,0,0,0,0,0,0,0,0,null,58,null,null,null,0,null,null,0,0,0,null,null,{"$f":"IF($B892<>\"\",FX887,0)","v":0}]
[{"$f":"IF(B897<>\"\",\"1\",\"\")","v":""},null,null,null,null,null,{"$f":"IF($FI897>0,$FW897,SUM(I897:K897)+CJ897+IF(СЭкзаменами,SUMIF(Курс1!$AL$7:$AL$75,\"=\"&ROW(),Курс1!$AA$7:$AA$75)+SUMIF(Курс2!$AL$7:$AL$75,\"=\"&ROW(),Курс2!$AA$7:$AA$75)+SUMIF(Курс3!$AL$7:$AL$75,\"=\"&ROW(),Курс3!$AA$7:$AA$75)+SUMIF(Курс4!$AL$7:$AL$75,\"=\"&ROW(),Курс4!$AA$7:$AA$75)+SUMIF(Курс5!$AL$7:$AL$75,\"=\"&ROW(),Курс5!$AA$7:$AA$75)+SUMIF(Курс6!$AL$7:$AL$75,\"=\"&ROW(),Курс6!$AA$7:$AA$75)+SUMIF(Курс7!$AL$7:$AL$75,\"=\"&ROW(),Курс7!$AA$7:$AA$75),0))","v":0},null,{"$f":"SUM(L897:N897)+SUM(P897:R897)+SUM(T897:V897)+SUM(X897:Z897)+SUM(AB897:AD897)+SUM(AF897:AH897)+SUM(AJ897:AL897)+SUM(AN897:AP897)+SUM(AR897:AT897)+SUM(AV897:AX897)+SUM(AZ897:BB897)+SUM(BD897:BF897)+SUM(BH897:BJ897)+SUM(BL897:BN897)","v":0},{"$f":"O897+S897+W897+AA897+AE897+AI897+AM897+AQ897+AU897+AY897+BC897+BG897+BK897+BO897","v":0},null,null,null,null,null,null,null,null,null,null,null,null,null,null,null,null,null,null,null,null,null,null,null,null,null,null,null,null,null,null,null,null,null,null,null,null,null,null,null,null,null,null,null,null,null,null,null,null,null,null,null,null,null,null,null,null,null,null,{"$f":"IF(SUM($L897:$S897)>0,SUM($L897:$S897)/SUM($L897:$BO897),0)","v":0},{"$f":"IF(SUM($T897:$AA897)>0,SUM($T897:$AA897)/SUM($L897:$BO897),0)","v":0},{"$f":"IF(SUM($AB897:$AI897)>0,SUM($AB897:$AI897)/SUM($L897:$BO897),0)","v":0},{"$f":"IF(SUM($AJ897:$AQ897)>0,SUM($AJ897:$AQ897)/SUM($L897:$BO897),0)","v":0},{"$f":"IF(SUM($AR897:$AY897)>0,SUM($AR897:$AY897)/SUM($L897:$BO897),0)","v":0},{"$f":"IF(SUM($AZ897:$BG897)>0,SUM($AZ897:$BG897)/SUM($L897:$BO897),0)","v":0},{"$f":"IF(SUM($BH897:$BO897)>0,SUM($BH897:$BO897)/SUM($L897:$BO897),0)","v":0},null,{"$f":"IF(7-COUNTBLANK(A897:$A903)<>0,($H897*MAX(1,$BX897)*($BQ897*Конт1+$BR897*Конт2+$BS897*Конт3+$BT897*Конт4+$BU897*Конт5+$BV897*Конт6)/IF(СреднееКСГ>0,СреднееКСГ,21)+((CL897+CP897)*Экз+(CM897+CQ897)*Зач+(CN897+CR897)*Проект+(CO897+CS897)*Работа)*Конт1+((CT897+CX897)*Экз+(CU897+CY897)*Зач+(CV897+CZ897)*Проект+(CW897+DA897)*Работа)*Конт2+((DB897+DF897)*Экз+(DC897+DG897)*Зач+(DD897+DH897)*Проект+(DE897+DI897)*Работа)*Конт3+((DJ897+DN897)*Экз+(DK897+DO897)*Зач+(DL897+DP897)*Проект+(DM897+DQ897)*Работа)*Конт4+((DR897+DV897)*Экз+(DO897+DW897)*Зач+(DT897+DX897)*Проект+(DU897+DY897)*Работа)*Конт5+((DZ897+ED897)*Экз+(EA897+EE897)*Зач+(EB897+EF897)*Проект+(EC897+EG897)*Работа)*Конт6)/(7-COUNTBLANK(A897:$A903)),0)","v":0},null,{"$f":"IF(SUM(G897:H897)=0,0,IF(SUM(L897:O897,T897:W897,AB897:AE897,AJ897:AM897,AR897:AU897,AZ897:BC897)=0,3,IF(SUM(P897:S897,X897:AA897,AF897:AI897,AN897:AQ897,AV897:AY897,BD897:BG897)=0,1,2)))","v":0},0,0,null,{"$f":"CL897+CP897+CT897+CX897+DB897+DF897+DJ897+DN897+DR897+DV897+DZ897+ED897+CM897+CQ897+CU897+CY897+DC897+DG897+DK897+DO897+DS897+DW897+EA897+EE897","v":0},null,null,null,null,null,{"$f":"SUM(I897:K897)","v":0},{"$f":"IF(OR($FI897=1,$FP897=1),0,IF(ISNUMBER(FIND(CL$2,$C897,1)),MAX(1-$BZ897,0),0))","v":0},{"$f":"IF(OR($FI897=1,$FP897=1),0,IF(ISNUMBER(FIND(CL$2,$D897,1)),1,0))","v":0},{"$f":"IF(ISNUMBER(FIND(CL$2,$E897,1)),IF(OR(FI897=1,$FP897=1),0,1),0)","v":0},{"$f":"IF(ISNUMBER(FIND(CL$2,$F897,1)),IF(OR(FI897=1,$FP897=1),0,1),0)","v":0},{"$f":"IF(OR($FI897=1,$FP897=1),0,IF(ISNUMBER(FIND(CP$2,$C897,1)),MAX(1-$BZ897,0),0))","v":0},{"$f":"IF(OR($FI897=1,$FP897=1),0,IF(ISNUMBER(FIND(CP$2,$D897,1)),1,0))","v":0},{"$f":"IF(ISNUMBER(FIND(CP$2,$E897,1)),IF(OR(FI897=1,$FP897=1),0,1),0)","v":0},{"$f":"IF(ISNUMBER(FIND(CP$2,$F897,1)),IF(OR($FI897=1,$FP897=1),0,1),0)","v":0},{"$f":"IF(OR($FI897=1,$FP897=1),0,IF(ISNUMBER(FIND(CT$2,$C897,1)),MAX(1-$BZ897,0),0))","v":0},{"$f":"IF(OR($FI897=1,$FP897=1),0,IF(ISNUMBER(FIND(CT$2,$D897,1)),1,0))","v":0},{"$f":"IF(ISNUMBER(FIND(CT$2,$E897,1)),IF(OR($FI897=1,$FP897=1),0,1),0)","v":0},{"$f":"IF(ISNUMBER(FIND(CT$2,$F897,1)),IF(OR($FI897=1,$FP897=1),0,1),0)","v":0},{"$f":"IF(OR($FI897=1,$FP897=1),0,IF(ISNUMBER(FIND(CX$2,$C897,1)),MAX(1-$BZ897,0),0))","v":0},{"$f":"IF(OR($FI897=1,$FP897=1),0,IF(ISNUMBER(FIND(CX$2,$D897,1)),1,0))","v":0},{"$f":"IF(ISNUMBER(FIND(CX$2,$E897,1)),IF(OR($FI897=1,$FP897=1),0,1),0)","v":0},{"$f":"IF(ISNUMBER(FIND(CX$2,$F897,1)),IF(OR($FI897=1,$FP897=1),0,1),0)","v":0},{"$f":"IF(OR($FI897=1,$FP897=1),0,IF(ISNUMBER(FIND(DB$2,$C897,1)),MAX(1-$BZ897,0),0))","v":0},{"$f":"IF(OR($FI897=1,$FP897=1),0,IF(ISNUMBER(FIND(DB$2,$D897,1)),1,0))","v":0},{"$f":"IF(ISNUMBER(FIND(DB$2,$E897,1)),IF(OR($FI897=1,$FP897=1),0,1),0)","v":0},{"$f":"IF(ISNUMBER(FIND(DB$2,$F897,1)),IF(OR($FI897=1,$FP897=1),0,1),0)","v":0},{"$f":"IF(OR($FI897=1,$FP897=1),0,IF(ISNUMBER(FIND(DF$2,$C897,1)),MAX(1-$BZ897,0),0))","v":0},{"$f":"IF(OR($FI897=1,$FP897=1),0,IF(ISNUMBER(FIND(DF$2,$D897,1)),1,0))","v":0},{"$f":"IF(ISNUMBER(FIND(DF$2,$E897,1)),IF(OR($FI897=1,$FP897=1),0,1),0)","v":0},{"$f":"IF(ISNUMBER(FIND(DF$2,$F897,1)),IF(OR($FI897=1,$FP897=1),0,1),0)","v":0},{"$f":"IF(OR($FI897=1,$FP897=1),0,IF(ISNUMBER(FIND(DJ$2,$C897,1)),MAX(1-$BZ897,0),0))","v":0},{"$f":"IF(OR($FI897=1,$FP897=1),0,IF(ISNUMBER(FIND(DJ$2,$D897,1)),1,0))","v":0},{"$f":"IF(ISNUMBER(FIND(DJ$2,$E897,1)),IF(OR($FI897=1,$FP897=1),0,1),0)","v":0},{"$f":"IF(ISNUMBER(FIND(DJ$2,$F897,1)),IF(OR($FI897=1,$FP897=1),0,1),0)","v":0},{"$f":"IF(OR($FI897=1,$FP897=1),0,IF(ISNUMBER(FIND(DN$2,$C897,1)),MAX(1-$BZ897,0),0))","v":0},{"$f":"IF(OR($FI897=1,$FP897=1),0,IF(ISNUMBER(FIND(DN$2,$D897,1)),1,0))","v":0},{"$f":"IF(ISNUMBER(FIND(DN$2,$E897,1)),IF(OR($FI897=1,$FP897=1),0,1),0)","v":0},{"$f":"IF(ISNUMBER(FIND(DN$2,$F897,1)),IF(OR($FI897=1,$FP897=1),0,1),0)","v":0},{"$f":"IF(OR($FI897=1,$FP897=1),0,IF(ISNUMBER(FIND(DR$2,$C897,1)),MAX(1-$BZ897,0),0))","v":0},{"$f":"IF(OR($FI897=1,$FP897=1),0,IF(ISNUMBER(FIND(DR$2,$D897,1)),1,0))","v":0},{"$f":"IF(ISNUMBER(FIND(DR$2,$E897,1)),IF(OR($FI897=1,$FP897=1),0,1),0)","v":0},{"$f":"IF(ISNUMBER(FIND(DR$2,$F897,1)),IF(OR($FI897=1,$FP897=1),0,1),0)","v":0},{"$f":"IF(OR($FI897=1,$FP897=1),0,IF(ISNUMBER(FIND(DV$2,$C897,1)),MAX(1-$BZ897,0),0))","v":0},{"$f":"IF(OR($FI897=1,$FP897=1),0,IF(ISNUMBER(FIND(DV$2,$D897,1)),1,0))","v":0},{"$f":"IF(ISNUMBER(FIND(DV$2,$E897,1)),IF(OR($FI897=1,$FP897=1),0,1),0)","v":0},{"$f":"IF(ISNUMBER(FIND(DV$2,$F897,1)),IF(OR($FI897=1,$FP897=1),0,1),0)","v":0},{"$f":"IF(OR($FI897=1,$FP897=1),0,IF(ISNUMBER(FIND(DZ$2,$C897,1)),MAX(1-$BZ897,0),0))","v":0},{"$f":"IF(OR($FI897=1,$FP897=1),0,IF(ISNUMBER(FIND(DZ$2,$D897,1)),1,0))","v":0},{"$f":"IF(ISNUMBER(FIND(DZ$2,$E897,1)),IF(OR($FI897=1,$FP897=1),0,1),0)","v":0},{"$f":"IF(ISNUMBER(FIND(DZ$2,$F897,1)),IF(OR($FI897=1,$FP897=1),0,1),0)","v":0},{"$f":"IF(OR($FI897=1,$FP897=1),0,IF(ISNUMBER(FIND(ED$2,$C897,1)),MAX(1-$BZ897,0),0))","v":0},{"$f":"IF(OR($FI897=1,$FP897=1),0,IF(ISNUMBER(FIND(ED$2,$D897,1)),1,0))","v":0},{"$f":"IF(ISNUMBER(FIND(ED$2,$E897,1)),IF(OR($FI897=1,$FP897=1),0,1),0)","v":0},{"$f":"IF(ISNUMBER(FIND(ED$2,$F897,1)),IF(OR($FI897=1,$FP897=1),0,1),0)","v":0},{"$f":"IF(OR($FI897=1,$FP897=1),0,IF(ISNUMBER(FIND(EH$2,$C897,1)),MAX(1-$BZ897,0),0))","v":0},{"$f":"IF(OR($FI897=1,$FP897=1),0,IF(ISNUMBER(FIND(EH$2,$D897,1)),1,0))","v":0},{"$f":"IF(ISNUMBER(FIND(EH$2,$E897,1)),IF(OR($FI897=1,$FP897=1),0,1),0)","v":0},{"$f":"IF(ISNUMBER(FIND(EH$2,$F897,1)),IF(OR($FI897=1,$FP897=1),0,1),0)","v":0},{"$f":"IF(OR($FI897=1,$FP897=1),0,IF(ISNUMBER(FIND(EL$2,$C897,1)),MAX(1-$BZ897,0),0))","v":0},{"$f":"IF(OR($FI897=1,$FP897=1),0,IF(ISNUMBER(FIND(EL$2,$D897,1)),1,0))","v":0},{"$f":"IF(ISNUMBER(FIND(EL$2,$E897,1)),IF(OR($FI897=1,$FP897=1),0,1),0)","v":0},{"$f":"IF(ISNUMBER(FIND(EL$2,$F897,1)),IF(OR($FI897=1,$FP897=1),0,1),0)","v":0},{"$f":"IF(OR($FI897=1,$FP897=1),0,LEN(TRIM(CF897)))","v":0},{"$f":"IF(OR($FI897=1,$FP897=1),0,LEN(TRIM(CG897)))","v":0},{"$f":"FormKontroljaInRange(CH897)","v":0},{"$f":"IF(OR($FI897=1,$FP897=1),0,LEN(TRIM(CI897)))","v":0},null,{"$f":"IF(SUM(L897:O897)>0,1,0)","v":0},{"$f":"IF(SUM(P897:S897)>0,1,0)","v":0},{"$f":"IF(SUM(T897:W897)>0,1,0)","v":0},{"$f":"IF(SUM(X897:AA897)>0,1,0)","v":0},{"$f":"IF(SUM(AB897:AE897)>0,1,0)","v":0},{"$f":"IF(SUM(AF897:AI897)>0,1,0)","v":0},{"$f":"IF(SUM(AJ897:AM897)>0,1,0)","v":0},{"$f":"IF(SUM(AN897:AQ897)>0,1,0)","v":0},{"$f":"IF(SUM(AR897:AU897)>0,1,0)","v":0},{"$f":"IF(SUM(AV897:AY897)>0,1,0)","v":0},{"$f":"IF(SUM(AZ897:BC897)>0,1,0)","v":0},{"$f":"IF(SUM(BD897:BG897)>0,1,0)","v":0},{"$f":"IF(SUM(BH897:BK897)>0,1,0)","v":0},{"$f":"IF(SUM(BL897:BO897)>0,1,0)","v":0},0,0,null,59,null,null,null,0,null,null,null,0,{"$f":"IF(FT897=0,FLOOR(IF(СЭкзаменами,H897,(H897+SUMIF(Курс1!$AL$7:$AL$75,\"=\"&ROW(),Курс1!$AA$7:$AA$75)+SUMIF(Курс2!$AL$7:$AL$75,\"=\"&ROW(),Курс2!$AA$7:$AA$75)+SUMIF(Курс3!$AL$7:$AL$75,\"=\"&ROW(),Курс3!$AA$7:$AA$75)+SUMIF(Курс4!$AL$7:$AL$75,\"=\"&ROW(),Курс4!$AA$7:$AA$75)+SUMIF(Курс5!$AL$7:$AL$75,\"=\"&ROW(),Курс5!$AA$7:$AA$75)+SUMIF(Курс6!$AL$7:$AL$75,\"=\"&ROW(),Курс6!$AA$7:$AA$75)+SUMIF(Курс7!$AL$7:$AL$75,\"=\"&ROW(),Курс7!$AA$7:$AA$75)))/IF(ЧасовВКредите>0,ЧасовВКредите,36),0.5),FT897)","v":0},null,null,null,{"$f":"SUMIF(Курс1!$AL$7:$AL$75,\"=\"&ROW(),Курс1!$AC$7:$AC$75)+SUMIF(Курс2!$AL$7:$AL$75,\"=\"&ROW(),Курс2!$AC$7:$AC$75)+SUMIF(Курс3!$AL$7:$AL$75,\"=\"&ROW(),Курс3!$AC$7:$AC$75)+SUMIF(Курс4!$AL$7:$AL$75,\"=\"&ROW(),Курс4!$AC$7:$AC$75)+SUMIF(Курс5!$AL$7:$AL$75,\"=\"&ROW(),Курс5!$AC$7:$AC$75)+SUMIF(Курс6!$AL$7:$AL$75,\"=\"&ROW(),Курс6!$AC$7:$AC$75)+SUMIF(Курс7!$AL$7:$AL$75,\"=\"&ROW(),Курс7!$AC$7:$AC$75)","v":0}]
[{"$f":"IF(B912<>\"\",\"6\",\"\")","v":""},null,{"$f":"IF($B912<>\"\",C907,\"\")","v":""},{"$f":"IF($B912<>\"\",D907,\"\")","v":""},{"$f":"IF($B912<>\"\",E907,\"\")","v":""},{"$f":"IF($B912<>\"\",F907,\"\")","v":""},{"$f":"IF($B912<>\"\",G907,0)","v":0},0,0,0,0,0,0,0,0,0,0,0,0,0,0,0,0,0,0,0,0,0,0,0,0,0,0,0,0,0,0,0,{"$f":"IF($B912<>\"\",AM907,0)","v":0},0,0,0,0,0,0,0,0,0,0,0,0,0,0,0,0,0,0,0,0,{"$f":"IF($B912<>\"\",BH907,0)","v":0},0,0,0,0,0,0,0,null,0,0,0,0,0,0,{"$f":"IF($B912<>\"\",BW907,0)","v":0},null,{"$f":"IF($B912<>\"\",BY907,0)","v":0},null,{"$f":"IF(SUM(G912:H912)=0,0,CA907)","v":0},0,0,null,{"$f":"IF(G912+H912>0,CE907,0)","v":0},{"$f":"IF($B912<>\"\",CF907,\"\")","v":""},{"$f":"IF($B912<>\"\",CG907,\"\")","v":""},{"$f":"IF($B912<>\"\",CH907,\"\")","v":""},{"$f":"IF($B912<>\"\",CI907,\"\")","v":""},{"$f":"IF($B912<>\"\",CJ907,0)","v":0},{"$f":"IF($B912<>\"\",CK907,0)","v":0},null,null,null,null,null,null,null,null,null,null,null,null,null,null,null,null,null,null,null,null,null,null,null,null,null,null,null,null,null,null,null,null,null,null,null,null,null,null,null,null,null,null,null,null,null,null,null,null,null,null,null,null,null,null,null,null,null,null,null,null,null,0,0,0,0,0,0,0,0,0,0,0,0,0,0,0,0,null,60,null,null,null,0,null,null,0,0,0,null,null,{"$f":"IF($B912<>\"\",FX907,0)","v":0}]
["",null,null,null,null,null,{"$f":"IF($FI923>0,$FW923,SUM(I923:K923)+CJ923+IF(СЭкзаменами,SUMIF(Курс1!$AL$7:$AL$75,\"=\"&ROW(),Курс1!$AA$7:$AA$75)+SUMIF(Курс2!$AL$7:$AL$75,\"=\"&ROW(),Курс2!$AA$7:$AA$75)+SUMIF(Курс3!$AL$7:$AL$75,\"=\"&ROW(),Курс3!$AA$7:$AA$75)+SUMIF(Курс4!$AL$7:$AL$75,\"=\"&ROW(),Курс4!$AA$7:$AA$75)+SUMIF(Курс5!$AL$7:$AL$75,\"=\"&ROW(),Курс5!$AA$7:$AA$75)+SUMIF(Курс6!$AL$7:$AL$75,\"=\"&ROW(),Курс6!$AA$7:$AA$75)+SUMIF(Курс7!$AL$7:$AL$75,\"=\"&ROW(),Курс7!$AA$7:$AA$75),0))","v":0},null,0,0,null,null,null,null,null,null,null,null,null,null,null,null,null,null,null,null,null,null,null,null,null,null,null,null,null,null,null,null,null,null,null,null,null,null,null,null,null,null,null,null,null,null,null,null,null,null,null,null,null,null,null,null,null,null,null,null,null,null,0,0,0,0,0,0,0,null,0,0,0,0,0,null,0,null,null,null,null,null,0,0,0,0,0,0,0,0,0,0,0,0,0,0,0,0,0,0,0,0,0,0,0,0,0,0,0,0,0,0,0,0,0,0,0,0,0,0,0,0,0,0,0,0,0,0,0,0,0,0,0,0,0,0,0,0,0,0,0,0,0,null,0,0,0,0,0,0,0,0,0,0,0,0,0,0,0,0,null,61,null,null,null,0,{"$f":"SUM($CB$918:$CB923)","v":0},0,0,0,{"$f":"IF(FT923=0,FLOOR(IF(СЭкзаменами,H923,(H923+SUMIF(Курс1!$AL$7:$AL$75,\"=\"&ROW(),Курс1!$AA$7:$AA$75)+SUMIF(Курс2!$AL$7:$AL$75,\"=\"&ROW(),Курс2!$AA$7:$AA$75)+SUMIF(Курс3!$AL$7:$AL$75,\"=\"&ROW(),Курс3!$AA$7:$AA$75)+SUMIF(Курс4!$AL$7:$AL$75,\"=\"&ROW(),Курс4!$AA$7:$AA$75)+SUMIF(Курс5!$AL$7:$AL$75,\"=\"&ROW(),Курс5!$AA$7:$AA$75)+SUMIF(Курс6!$AL$7:$AL$75,\"=\"&ROW(),Курс6!$AA$7:$AA$75)+SUMIF(Курс7!$AL$7:$AL$75,\"=\"&ROW(),Курс7!$AA$7:$AA$75)))/IF(ЧасовВКредите>0,ЧасовВКредите,36),0.5),FT923)","v":0},null,null,null,{"$f":"SUMIF(Курс1!$AL$7:$AL$75,\"=\"&ROW(),Курс1!$AC$7:$AC$75)+SUMIF(Курс2!$AL$7:$AL$75,\"=\"&ROW(),Курс2!$AC$7:$AC$75)+SUMIF(Курс3!$AL$7:$AL$75,\"=\"&ROW(),Курс3!$AC$7:$AC$75)+SUMIF(Курс4!$AL$7:$AL$75,\"=\"&ROW(),Курс4!$AC$7:$AC$75)+SUMIF(Курс5!$AL$7:$AL$75,\"=\"&ROW(),Курс5!$AC$7:$AC$75)+SUMIF(Курс6!$AL$7:$AL$75,\"=\"&ROW(),Курс6!$AC$7:$AC$75)+SUMIF(Курс7!$AL$7:$AL$75,\"=\"&ROW(),Курс7!$AC$7:$AC$75)","v":0},0]
["",null,null,null,null,null,{"$f":"IF($FI928>0,$FW928,SUM(I928:K928)+CJ928+IF(СЭкзаменами,SUMIF(Курс1!$AL$7:$AL$75,\"=\"&ROW(),Курс1!$AA$7:$AA$75)+SUMIF(Курс2!$AL$7:$AL$75,\"=\"&ROW(),Курс2!$AA$7:$AA$75)+SUMIF(Курс3!$AL$7:$AL$75,\"=\"&ROW(),Курс3!$AA$7:$AA$75)+SUMIF(Курс4!$AL$7:$AL$75,\"=\"&ROW(),Курс4!$AA$7:$AA$75)+SUMIF(Курс5!$AL$7:$AL$75,\"=\"&ROW(),Курс5!$AA$7:$AA$75)+SUMIF(Курс6!$AL$7:$AL$75,\"=\"&ROW(),Курс6!$AA$7:$AA$75)+SUMIF(Курс7!$AL$7:$AL$75,\"=\"&ROW(),Курс7!$AA$7:$AA$75),0))","v":0},null,0,0,null,null,null,null,null,null,null,null,null,null,null,null,null,null,null,null,null,null,null,null,null,null,null,null,null,null,null,null,null,null,null,null,null,null,null,null,null,null,null,null,null,null,null,null,null,null,null,null,null,null,null,null,null,null,null,null,null,null,0,0,0,0,0,0,0,null,0,0,0,0,0,null,0,null,null,null,null,null,0,0,0,0,0,0,0,0,0,0,0,0,0,0,0,0,0,0,0,0,0,0,0,0,0,0,0,0,0,0,0,0,0,0,0,0,0,0,0,0,0,0,0,0,0,0,0,0,0,0,0,0,0,0,0,0,0,0,0,0,0,null,0,0,0,0,0,0,0,0,0,0,0,0,0,0,0,0,null,61,null,null,null,0,{"$f":"SUM($CB$918:$CB928)","v":0},0,0,0,{"$f":"IF(FT928=0,FLOOR(IF(СЭкзаменами,H928,(H928+SUMIF(Курс1!$AL$7:$AL$75,\"=\"&ROW(),Курс1!$AA$7:$AA$75)+SUMIF(Курс2!$AL$7:$AL$75,\"=\"&ROW(),Курс2!$AA$7:$AA$75)+SUMIF(Курс3!$AL$7:$AL$75,\"=\"&ROW(),Курс3!$AA$7:$AA$75)+SUMIF(Курс4!$AL$7:$AL$75,\"=\"&ROW(),Курс4!$AA$7:$AA$75)+SUMIF(Курс5!$AL$7:$AL$75,\"=\"&ROW(),Курс5!$AA$7:$AA$75)+SUMIF(Курс6!$AL$7:$AL$75,\"=\"&ROW(),Курс6!$AA$7:$AA$75)+SUMIF(Курс7!$AL$7:$AL$75,\"=\"&ROW(),Курс7!$AA$7:$AA$75)))/IF(ЧасовВКредите>0,ЧасовВКредите,36),0.5),FT928)","v":0},null,null,null,{"$f":"SUMIF(Курс1!$AL$7:$AL$75,\"=\"&ROW(),Курс1!$AC$7:$AC$75)+SUMIF(Курс2!$AL$7:$AL$75,\"=\"&ROW(),Курс2!$AC$7:$AC$75)+SUMIF(Курс3!$AL$7:$AL$75,\"=\"&ROW(),Курс3!$AC$7:$AC$75)+SUMIF(Курс4!$AL$7:$AL$75,\"=\"&ROW(),Курс4!$AC$7:$AC$75)+SUMIF(Курс5!$AL$7:$AL$75,\"=\"&ROW(),Курс5!$AC$7:$AC$75)+SUMIF(Курс6!$AL$7:$AL$75,\"=\"&ROW(),Курс6!$AC$7:$AC$75)+SUMIF(Курс7!$AL$7:$AL$75,\"=\"&ROW(),Курс7!$AC$7:$AC$75)","v":0},0]
["",null,null,null,null,null,{"$f":"IF($FI943>0,$FW943,SUM(I943:K943)+CJ943+IF(СЭкзаменами,SUMIF(Курс1!$AL$7:$AL$75,\"=\"&ROW(),Курс1!$AA$7:$AA$75)+SUMIF(Курс2!$AL$7:$AL$75,\"=\"&ROW(),Курс2!$AA$7:$AA$75)+SUMIF(Курс3!$AL$7:$AL$75,\"=\"&ROW(),Курс3!$AA$7:$AA$75)+SUMIF(Курс4!$AL$7:$AL$75,\"=\"&ROW(),Курс4!$AA$7:$AA$75)+SUMIF(Курс5!$AL$7:$AL$75,\"=\"&ROW(),Курс5!$AA$7:$AA$75)+SUMIF(Курс6!$AL$7:$AL$75,\"=\"&ROW(),Курс6!$AA$7:$AA$75)+SUMIF(Курс7!$AL$7:$AL$75,\"=\"&ROW(),Курс7!$AA$7:$AA$75),0))","v":0},null,0,0,null,null,null,null,null,null,null,null,null,null,null,null,null,null,null,null,null,null,null,null,null,null,null,null,null,null,null,null,null,null,null,null,null,null,null,null,null,null,null,null,null,null,null,null,null,null,null,null,null,null,null,null,null,null,null,null,null,null,0,0,0,0,0,0,0,null,0,0,0,0,0,null,0,null,null,null,null,null,0,0,0,0,0,0,0,0,0,0,0,0,0,0,0,0,0,0,0,0,0,0,0,0,0,0,0,0,0,0,0,0,0,0,0,0,0,0,0,0,0,0,0,0,0,0,0,0,0,0,0,0,0,0,0,0,0,0,0,0,0,null,0,0,0,0,0,0,0,0,0,0,0,0,0,0,0,0,null,61,null,null,null,0,{"$f":"SUM($CB$918:$CB943)","v":0},0,0,0,{"$f":"IF(FT943=0,FLOOR(IF(СЭкзаменами,H943,(H943+SUMIF(Курс1!$AL$7:$AL$75,\"=\"&ROW(),Курс1!$AA$7:$AA$75)+SUMIF(Курс2!$AL$7:$AL$75,\"=\"&ROW(),Курс2!$AA$7:$AA$75)+SUMIF(Курс3!$AL$7:$AL$75,\"=\"&ROW(),Курс3!$AA$7:$AA$75)+SUMIF(Курс4!$AL$7:$AL$75,\"=\"&ROW(),Курс4!$AA$7:$AA$75)+SUMIF(Курс5!$AL$7:$AL$75,\"=\"&ROW(),Курс5!$AA$7:$AA$75)+SUMIF(Курс6!$AL$7:$AL$75,\"=\"&ROW(),Курс6!$AA$7:$AA$75)+SUMIF(Курс7!$AL$7:$AL$75,\"=\"&ROW(),Курс7!$AA$7:$AA$75)))/IF(ЧасовВКредите>0,ЧасовВКредите,36),0.5),FT943)","v":0},null,null,null,{"$f":"SUMIF(Курс1!$AL$7:$AL$75,\"=\"&ROW(),Курс1!$AC$7:$AC$75)+SUMIF(Курс2!$AL$7:$AL$75,\"=\"&ROW(),Курс2!$AC$7:$AC$75)+SUMIF(Курс3!$AL$7:$AL$75,\"=\"&ROW(),Курс3!$AC$7:$AC$75)+SUMIF(Курс4!$AL$7:$AL$75,\"=\"&ROW(),Курс4!$AC$7:$AC$75)+SUMIF(Курс5!$AL$7:$AL$75,\"=\"&ROW(),Курс5!$AC$7:$AC$75)+SUMIF(Курс6!$AL$7:$AL$75,\"=\"&ROW(),Курс6!$AC$7:$AC$75)+SUMIF(Курс7!$AL$7:$AL$75,\"=\"&ROW(),Курс7!$AC$7:$AC$75)","v":0},0]
["",null,null,null,null,null,{"$f":"IF($FI954>0,$FW954,SUM(I954:K954)+CJ954+IF(СЭкзаменами,SUMIF(Курс1!$AL$7:$AL$75,\"=\"&ROW(),Курс1!$AA$7:$AA$75)+SUMIF(Курс2!$AL$7:$AL$75,\"=\"&ROW(),Курс2!$AA$7:$AA$75)+SUMIF(Курс3!$AL$7:$AL$75,\"=\"&ROW(),Курс3!$AA$7:$AA$75)+SUMIF(Курс4!$AL$7:$AL$75,\"=\"&ROW(),Курс4!$AA$7:$AA$75)+SUMIF(Курс5!$AL$7:$AL$75,\"=\"&ROW(),Курс5!$AA$7:$AA$75)+SUMIF(Курс6!$AL$7:$AL$75,\"=\"&ROW(),Курс6!$AA$7:$AA$75)+SUMIF(Курс7!$AL$7:$AL$75,\"=\"&ROW(),Курс7!$AA$7:$AA$75),0))","v":0},null,0,0,null,null,null,null,null,null,null,null,null,null,null,null,null,null,null,null,null,null,null,null,null,null,null,null,null,null,null,null,null,null,null,null,null,null,null,null,null,null,null,null,null,null,null,null,null,null,null,null,null,null,null,null,null,null,null,null,null,null,0,0,0,0,0,0,0,null,0,0,0,0,0,null,0,null,null,null,null,null,0,0,0,0,0,0,0,0,0,0,0,0,0,0,0,0,0,0,0,0,0,0,0,0,0,0,0,0,0,0,0,0,0,0,0,0,0,0,0,0,0,0,0,0,0,0,0,0,0,0,0,0,0,0,0,0,0,0,0,0,0,null,0,0,0,0,0,0,0,0,0,0,0,0,0,0,0,0,null,61,null,null,null,0,{"$f":"SUM($CB$918:$CB954)","v":0},0,null,0,{"$f":"IF(FT954=0,FLOOR(IF(СЭкзаменами,H954,(H954+SUMIF(Курс1!$AL$7:$AL$75,\"=\"&ROW(),Курс1!$AA$7:$AA$75)+SUMIF(Курс2!$AL$7:$AL$75,\"=\"&ROW(),Курс2!$AA$7:$AA$75)+SUMIF(Курс3!$AL$7:$AL$75,\"=\"&ROW(),Курс3!$AA$7:$AA$75)+SUMIF(Курс4!$AL$7:$AL$75,\"=\"&ROW(),Курс4!$AA$7:$AA$75)+SUMIF(Курс5!$AL$7:$AL$75,\"=\"&ROW(),Курс5!$AA$7:$AA$75)+SUMIF(Курс6!$AL$7:$AL$75,\"=\"&ROW(),Курс6!$AA$7:$AA$75)+SUMIF(Курс7!$AL$7:$AL$75,\"=\"&ROW(),Курс7!$AA$7:$AA$75)))/IF(ЧасовВКредите>0,ЧасовВКредите,36),0.5),FT954)","v":0},null,null,null,{"$f":"SUMIF(Курс1!$AL$7:$AL$75,\"=\"&ROW(),Курс1!$AC$7:$AC$75)+SUMIF(Курс2!$AL$7:$AL$75,\"=\"&ROW(),Курс2!$AC$7:$AC$75)+SUMIF(Курс3!$AL$7:$AL$75,\"=\"&ROW(),Курс3!$AC$7:$AC$75)+SUMIF(Курс4!$AL$7:$AL$75,\"=\"&ROW(),Курс4!$AC$7:$AC$75)+SUMIF(Курс5!$AL$7:$AL$75,\"=\"&ROW(),Курс5!$AC$7:$AC$75)+SUMIF(Курс6!$AL$7:$AL$75,\"=\"&ROW(),Курс6!$AC$7:$AC$75)+SUMIF(Курс7!$AL$7:$AL$75,\"=\"&ROW(),Курс7!$AC$7:$AC$75)","v":0},0]
["",null,null,null,null,null,{"$f":"IF($FI959>0,$FW959,SUM(I959:K959)+CJ959+IF(СЭкзаменами,SUMIF(Курс1!$AL$7:$AL$75,\"=\"&ROW(),Курс1!$AA$7:$AA$75)+SUMIF(Курс2!$AL$7:$AL$75,\"=\"&ROW(),Курс2!$AA$7:$AA$75)+SUMIF(Курс3!$AL$7:$AL$75,\"=\"&ROW(),Курс3!$AA$7:$AA$75)+SUMIF(Курс4!$AL$7:$AL$75,\"=\"&ROW(),Курс4!$AA$7:$AA$75)+SUMIF(Курс5!$AL$7:$AL$75,\"=\"&ROW(),Курс5!$AA$7:$AA$75)+SUMIF(Курс6!$AL$7:$AL$75,\"=\"&ROW(),Курс6!$AA$7:$AA$75)+SUMIF(Курс7!$AL$7:$AL$75,\"=\"&ROW(),Курс7!$AA$7:$AA$75),0))","v":0},null,0,0,null,null,null,null,null,null,null,null,null,null,null,null,null,null,null,null,null,null,null,null,null,null,null,null,null,null,null,null,null,null,null,null,null,null,null,null,null,null,null,null,null,null,null,null,null,null,null,null,null,null,null,null,null,null,null,null,null,null,0,0,0,0,0,0,0,null,0,0,0,0,0,null,0,null,null,null,null,null,0,0,0,0,0,0,0,0,0,0,0,0,0,0,0,0,0,0,0,0,0,0,0,0,0,0,0,0,0,0,0,0,0,0,0,0,0,0,0,0,0,0,0,0,0,0,0,0,0,0,0,0,0,0,0,0,0,0,0,0,0,null,0,0,0,0,0,0,0,0,0,0,0,0,0,0,0,0,null,61,null,null,null,0,{"$f":"SUM($CB$918:$CB959)","v":0},0,null,0,{"$f":"IF(FT959=0,FLOOR(IF(СЭкзаменами,H959,(H959+SUMIF(Курс1!$AL$7:$AL$75,\"=\"&ROW(),Курс1!$AA$7:$AA$75)+SUMIF(Курс2!$AL$7:$AL$75,\"=\"&ROW(),Курс2!$AA$7:$AA$75)+SUMIF(Курс3!$AL$7:$AL$75,\"=\"&ROW(),Курс3!$AA$7:$AA$75)+SUMIF(Курс4!$AL$7:$AL$75,\"=\"&ROW(),Курс4!$AA$7:$AA$75)+SUMIF(Курс5!$AL$7:$AL$75,\"=\"&ROW(),Курс5!$AA$7:$AA$75)+SUMIF(Курс6!$AL$7:$AL$75,\"=\"&ROW(),Курс6!$AA$7:$AA$75)+SUMIF(Курс7!$AL$7:$AL$75,\"=\"&ROW(),Курс7!$AA$7:$AA$75)))/IF(ЧасовВКредите>0,ЧасовВКредите,36),0.5),FT959)","v":0},null,null,null,{"$f":"SUMIF(Курс1!$AL$7:$AL$75,\"=\"&ROW(),Курс1!$AC$7:$AC$75)+SUMIF(Курс2!$AL$7:$AL$75,\"=\"&ROW(),Курс2!$AC$7:$AC$75)+SUMIF(Курс3!$AL$7:$AL$75,\"=\"&ROW(),Курс3!$AC$7:$AC$75)+SUMIF(Курс4!$AL$7:$AL$75,\"=\"&ROW(),Курс4!$AC$7:$AC$75)+SUMIF(Курс5!$AL$7:$AL$75,\"=\"&ROW(),Курс5!$AC$7:$AC$75)+SUMIF(Курс6!$AL$7:$AL$75,\"=\"&ROW(),Курс6!$AC$7:$AC$75)+SUMIF(Курс7!$AL$7:$AL$75,\"=\"&ROW(),Курс7!$AC$7:$AC$75)","v":0},0]
["",null,null,null,null,null,{"$f":"IF($FI971>0,$FW971,SUM(I971:K971)+CJ971+IF(СЭкзаменами,SUMIF(Курс1!$AL$7:$AL$75,\"=\"&ROW(),Курс1!$AA$7:$AA$75)+SUMIF(Курс2!$AL$7:$AL$75,\"=\"&ROW(),Курс2!$AA$7:$AA$75)+SUMIF(Курс3!$AL$7:$AL$75,\"=\"&ROW(),Курс3!$AA$7:$AA$75)+SUMIF(Курс4!$AL$7:$AL$75,\"=\"&ROW(),Курс4!$AA$7:$AA$75)+SUMIF(Курс5!$AL$7:$AL$75,\"=\"&ROW(),Курс5!$AA$7:$AA$75)+SUMIF(Курс6!$AL$7:$AL$75,\"=\"&ROW(),Курс6!$AA$7:$AA$75)+SUMIF(Курс7!$AL$7:$AL$75,\"=\"&ROW(),Курс7!$AA$7:$AA$75),0))","v":0},null,0,0,null,null,null,null,null,null,null,null,null,null,null,null,null,null,null,null,null,null,null,null,null,null,null,null,null,null,null,null,null,null,null,null,null,null,null,null,null,null,null,null,null,null,null,null,null,null,null,null,null,null,null,null,null,null,null,null,null,null,0,0,0,0,0,0,0,null,0,0,0,0,0,null,0,null,null,null,null,null,0,0,0,0,0,0,0,0,0,0,0,0,0,0,0,0,0,0,0,0,0,0,0,0,0,0,0,0,0,0,0,0,0,0,0,0,0,0,0,0,0,0,0,0,0,0,0,0,0,0,0,0,0,0,0,0,0,0,0,0,0,null,0,0,0,0,0,0,0,0,0,0,0,0,0,0,0,0,null,61,null,null,null,0,{"$f":"SUM($CB$918:$CB971)","v":0},0,null,0,{"$f":"IF(FT971=0,FLOOR(IF(СЭкзаменами,H971,(H971+SUMIF(Курс1!$AL$7:$AL$75,\"=\"&ROW(),Курс1!$AA$7:$AA$75)+SUMIF(Курс2!$AL$7:$AL$75,\"=\"&ROW(),Курс2!$AA$7:$AA$75)+SUMIF(Курс3!$AL$7:$AL$75,\"=\"&ROW(),Курс3!$AA$7:$AA$75)+SUMIF(Курс4!$AL$7:$AL$75,\"=\"&ROW(),Курс4!$AA$7:$AA$75)+SUMIF(Курс5!$AL$7:$AL$75,\"=\"&ROW(),Курс5!$AA$7:$AA$75)+SUMIF(Курс6!$AL$7:$AL$75,\"=\"&ROW(),Курс6!$AA$7:$AA$75)+SUMIF(Курс7!$AL$7:$AL$75,\"=\"&ROW(),Курс7!$AA$7:$AA$75)))/IF(ЧасовВКредите>0,ЧасовВКредите,36),0.5),FT971)","v":0},null,null,null,{"$f":"SUMIF(Курс1!$AL$7:$AL$75,\"=\"&ROW(),Курс1!$AC$7:$AC$75)+SUMIF(Курс2!$AL$7:$AL$75,\"=\"&ROW(),Курс2!$AC$7:$AC$75)+SUMIF(Курс3!$AL$7:$AL$75,\"=\"&ROW(),Курс3!$AC$7:$AC$75)+SUMIF(Курс4!$AL$7:$AL$75,\"=\"&ROW(),Курс4!$AC$7:$AC$75)+SUMIF(Курс5!$AL$7:$AL$75,\"=\"&ROW(),Курс5!$AC$7:$AC$75)+SUMIF(Курс6!$AL$7:$AL$75,\"=\"&ROW(),Курс6!$AC$7:$AC$75)+SUMIF(Курс7!$AL$7:$AL$75,\"=\"&ROW(),Курс7!$AC$7:$AC$75)","v":0},0]
["",null,null,null,null,null,{"$f":"IF($FI986>0,$FW986,SUM(I986:K986)+CJ986+IF(СЭкзаменами,SUMIF(Курс1!$AL$7:$AL$75,\"=\"&ROW(),Курс1!$AA$7:$AA$75)+SUMIF(Курс2!$AL$7:$AL$75,\"=\"&ROW(),Курс2!$AA$7:$AA$75)+SUMIF(Курс3!$AL$7:$AL$75,\"=\"&ROW(),Курс3!$AA$7:$AA$75)+SUMIF(Курс4!$AL$7:$AL$75,\"=\"&ROW(),Курс4!$AA$7:$AA$75)+SUMIF(Курс5!$AL$7:$AL$75,\"=\"&ROW(),Курс5!$AA$7:$AA$75)+SUMIF(Курс6!$AL$7:$AL$75,\"=\"&ROW(),Курс6!$AA$7:$AA$75)+SUMIF(Курс7!$AL$7:$AL$75,\"=\"&ROW(),Курс7!$AA$7:$AA$75),0))","v":0},null,0,0,null,null,null,null,null,null,null,null,null,null,null,null,null,null,null,null,null,null,null,null,null,null,null,null,null,null,null,null,null,null,null,null,null,null,null,null,null,null,null,null,null,null,null,null,null,null,null,null,null,null,null,null,null,null,null,null,null,null,0,0,0,0,0,0,0,null,0,0,0,0,0,null,0,null,null,null,null,null,0,0,0,0,0,0,0,0,0,0,0,0,0,0,0,0,0,0,0,0,0,0,0,0,0,0,0,0,0,0,0,0,0,0,0,0,0,0,0,0,0,0,0,0,0,0,0,0,0,0,0,0,0,0,0,0,0,0,0,0,0,null,0,0,0,0,0,0,0,0,0,0,0,0,0,0,0,0,null,62,null,null,null,0,{"$f":"SUM($CB$978:$CB986)","v":0},0,null,0,{"$f":"IF(FT986=0,FLOOR(IF(СЭкзаменами,H986,(H986+SUMIF(Курс1!$AL$7:$AL$75,\"=\"&ROW(),Курс1!$AA$7:$AA$75)+SUMIF(Курс2!$AL$7:$AL$75,\"=\"&ROW(),Курс2!$AA$7:$AA$75)+SUMIF(Курс3!$AL$7:$AL$75,\"=\"&ROW(),Курс3!$AA$7:$AA$75)+SUMIF(Курс4!$AL$7:$AL$75,\"=\"&ROW(),Курс4!$AA$7:$AA$75)+SUMIF(Курс5!$AL$7:$AL$75,\"=\"&ROW(),Курс5!$AA$7:$AA$75)+SUMIF(Курс6!$AL$7:$AL$75,\"=\"&ROW(),Курс6!$AA$7:$AA$75)+SUMIF(Курс7!$AL$7:$AL$75,\"=\"&ROW(),Курс7!$AA$7:$AA$75)))/IF(ЧасовВКредите>0,ЧасовВКредите,36),0.5),FT986)","v":0},null,null,null,{"$f":"SUMIF(Курс1!$AL$7:$AL$75,\"=\"&ROW(),Курс1!$AC$7:$AC$75)+SUMIF(Курс2!$AL$7:$AL$75,\"=\"&ROW(),Курс2!$AC$7:$AC$75)+SUMIF(Курс3!$AL$7:$AL$75,\"=\"&ROW(),Курс3!$AC$7:$AC$75)+SUMIF(Курс4!$AL$7:$AL$75,\"=\"&ROW(),Курс4!$AC$7:$AC$75)+SUMIF(Курс5!$AL$7:$AL$75,\"=\"&ROW(),Курс5!$AC$7:$AC$75)+SUMIF(Курс6!$AL$7:$AL$75,\"=\"&ROW(),Курс6!$AC$7:$AC$75)+SUMIF(Курс7!$AL$7:$AL$75,\"=\"&ROW(),Курс7!$AC$7:$AC$75)","v":0},0]
["",null,null,null,null,null,{"$f":"IF($FI991>0,$FW991,SUM(I991:K991)+CJ991+IF(СЭкзаменами,SUMIF(Курс1!$AL$7:$AL$75,\"=\"&ROW(),Курс1!$AA$7:$AA$75)+SUMIF(Курс2!$AL$7:$AL$75,\"=\"&ROW(),Курс2!$AA$7:$AA$75)+SUMIF(Курс3!$AL$7:$AL$75,\"=\"&ROW(),Курс3!$AA$7:$AA$75)+SUMIF(Курс4!$AL$7:$AL$75,\"=\"&ROW(),Курс4!$AA$7:$AA$75)+SUMIF(Курс5!$AL$7:$AL$75,\"=\"&ROW(),Курс5!$AA$7:$AA$75)+SUMIF(Курс6!$AL$7:$AL$75,\"=\"&ROW(),Курс6!$AA$7:$AA$75)+SUMIF(Курс7!$AL$7:$AL$75,\"=\"&ROW(),Курс7!$AA$7:$AA$75),0))","v":0},null,0,0,null,null,null,null,null,null,null,null,null,null,null,null,null,null,null,null,null,null,null,null,null,null,null,null,null,null,null,null,null,null,null,null,null,null,null,null,null,null,null,null,null,null,null,null,null,null,null,null,null,null,null,null,null,null,null,null,null,null,0,0,0,0,0,0,0,null,0,0,0,0,0,null,0,null,null,null,null,null,0,0,0,0,0,0,0,0,0,0,0,0,0,0,0,0,0,0,0,0,0,0,0,0,0,0,0,0,0,0,0,0,0,0,0,0,0,0,0,0,0,0,0,0,0,0,0,0,0,0,0,0,0,0,0,0,0,0,0,0,0,null,0,0,0,0,0,0,0,0,0,0,0,0,0,0,0,0,null,62,null,null,null,0,{"$f":"SUM($CB$978:$CB991)","v":0},0,null,0,{"$f":"IF(FT991=0,FLOOR(IF(СЭкзаменами,H991,(H991+SUMIF(Курс1!$AL$7:$AL$75,\"=\"&ROW(),Курс1!$AA$7:$AA$75)+SUMIF(Курс2!$AL$7:$AL$75,\"=\"&ROW(),Курс2!$AA$7:$AA$75)+SUMIF(Курс3!$AL$7:$AL$75,\"=\"&ROW(),Курс3!$AA$7:$AA$75)+SUMIF(Курс4!$AL$7:$AL$75,\"=\"&ROW(),Курс4!$AA$7:$AA$75)+SUMIF(Курс5!$AL$7:$AL$75,\"=\"&ROW(),Курс5!$AA$7:$AA$75)+SUMIF(Курс6!$AL$7:$AL$75,\"=\"&ROW(),Курс6!$AA$7:$AA$75)+SUMIF(Курс7!$AL$7:$AL$75,\"=\"&ROW(),Курс7!$AA$7:$AA$75)))/IF(ЧасовВКредите>0,ЧасовВКредите,36),0.5),FT991)","v":0},null,null,null,{"$f":"SUMIF(Курс1!$AL$7:$AL$75,\"=\"&ROW(),Курс1!$AC$7:$AC$75)+SUMIF(Курс2!$AL$7:$AL$75,\"=\"&ROW(),Курс2!$AC$7:$AC$75)+SUMIF(Курс3!$AL$7:$AL$75,\"=\"&ROW(),Курс3!$AC$7:$AC$75)+SUMIF(Курс4!$AL$7:$AL$75,\"=\"&ROW(),Курс4!$AC$7:$AC$75)+SUMIF(Курс5!$AL$7:$AL$75,\"=\"&ROW(),Курс5!$AC$7:$AC$75)+SUMIF(Курс6!$AL$7:$AL$75,\"=\"&ROW(),Курс6!$AC$7:$AC$75)+SUMIF(Курс7!$AL$7:$AL$75,\"=\"&ROW(),Курс7!$AC$7:$AC$75)","v":0},0]
["",null,null,null,null,null,{"$f":"IF($FI1002>0,$FW1002,SUM(I1002:K1002)+CJ1002+IF(СЭкзаменами,SUMIF(Курс1!$AL$7:$AL$75,\"=\"&ROW(),Курс1!$AA$7:$AA$75)+SUMIF(Курс2!$AL$7:$AL$75,\"=\"&ROW(),Курс2!$AA$7:$AA$75)+SUMIF(Курс3!$AL$7:$AL$75,\"=\"&ROW(),Курс3!$AA$7:$AA$75)+SUMIF(Курс4!$AL$7:$AL$75,\"=\"&ROW(),Курс4!$AA$7:$AA$75)+SUMIF(Курс5!$AL$7:$AL$75,\"=\"&ROW(),Курс5!$AA$7:$AA$75)+SUMIF(Курс6!$AL$7:$AL$75,\"=\"&ROW(),Курс6!$AA$7:$AA$75)+SUMIF(Курс7!$AL$7:$AL$75,\"=\"&ROW(),Курс7!$AA$7:$AA$75),0))","v":0},null,0,0,null,null,null,null,null,null,null,null,null,null,null,null,null,null,null,null,null,null,null,null,null,null,null,null,null,null,null,null,null,null,null,null,null,null,null,null,null,null,null,null,null,null,null,null,null,null,null,null,null,null,null,null,null,null,null,null,null,null,0,0,0,0,0,0,0,null,0,0,0,0,0,null,0,null,null,null,null,null,0,0,0,0,0,0,0,0,0,0,0,0,0,0,0,0,0,0,0,0,0,0,0,0,0,0,0,0,0,0,0,0,0,0,0,0,0,0,0,0,0,0,0,0,0,0,0,0,0,0,0,0,0,0,0,0,0,0,0,0,0,null,0,0,0,0,0,0,0,0,0,0,0,0,0,0,0,0,null,62,null,null,null,0,{"$f":"SUM($CB$978:$CB1002)","v":0},0,null,0,{"$f":"IF(FT1002=0,FLOOR(IF(СЭкзаменами,H1002,(H1002+SUMIF(Курс1!$AL$7:$AL$75,\"=\"&ROW(),Курс1!$AA$7:$AA$75)+SUMIF(Курс2!$AL$7:$AL$75,\"=\"&ROW(),Курс2!$AA$7:$AA$75)+SUMIF(Курс3!$AL$7:$AL$75,\"=\"&ROW(),Курс3!$AA$7:$AA$75)+SUMIF(Курс4!$AL$7:$AL$75,\"=\"&ROW(),Курс4!$AA$7:$AA$75)+SUMIF(Курс5!$AL$7:$AL$75,\"=\"&ROW(),Курс5!$AA$7:$AA$75)+SUMIF(Курс6!$AL$7:$AL$75,\"=\"&ROW(),Курс6!$AA$7:$AA$75)+SUMIF(Курс7!$AL$7:$AL$75,\"=\"&ROW(),Курс7!$AA$7:$AA$75)))/IF(ЧасовВКредите>0,ЧасовВКредите,36),0.5),FT1002)","v":0},null,null,null,{"$f":"SUMIF(Курс1!$AL$7:$AL$75,\"=\"&ROW(),Курс1!$AC$7:$AC$75)+SUMIF(Курс2!$AL$7:$AL$75,\"=\"&ROW(),Курс2!$AC$7:$AC$75)+SUMIF(Курс3!$AL$7:$AL$75,\"=\"&ROW(),Курс3!$AC$7:$AC$75)+SUMIF(Курс4!$AL$7:$AL$75,\"=\"&ROW(),Курс4!$AC$7:$AC$75)+SUMIF(Курс5!$AL$7:$AL$75,\"=\"&ROW(),Курс5!$AC$7:$AC$75)+SUMIF(Курс6!$AL$7:$AL$75,\"=\"&ROW(),Курс6!$AC$7:$AC$75)+SUMIF(Курс7!$AL$7:$AL$75,\"=\"&ROW(),Курс7!$AC$7:$AC$75)","v":0},0]
[{"$f":"IF(B1017<>\"\",\"3\",\"\")","v":""},null,{"$f":"IF($B1017<>\"\",C1015,\"\")","v":""},{"$f":"IF($B1017<>\"\",D1015,\"\")","v":""},{"$f":"IF($B1017<>\"\",E1015,\"\")","v":""},{"$f":"IF($B1017<>\"\",F1015,\"\")","v":""},{"$f":"IF($B1017<>\"\",G1015,0)","v":0},0,0,0,0,0,0,0,0,0,0,0,0,0,0,0,0,0,0,0,0,0,0,0,0,0,0,0,0,0,0,0,{"$f":"IF($B1017<>\"\",AM1015,0)","v":0},0,0,0,0,0,0,0,0,0,0,0,0,0,0,0,0,0,0,0,0,{"$f":"IF($B1017<>\"\",BH1015,0)","v":0},0,0,0,0,0,0,0,null,0,0,0,0,0,0,{"$f":"IF($B1017<>\"\",BW1015,0)","v":0},null,{"$f":"IF($B1017<>\"\",BY1015,0)","v":0},null,{"$f":"IF(SUM(G1017:H1017)=0,0,CA1015)","v":0},0,0,null,{"$f":"IF(G1017+H1017>0,CE1015,0)","v":0},{"$f":"IF($B1017<>\"\",CF1015,\"\")","v":""},{"$f":"IF($B1017<>\"\",CG1015,\"\")","v":""},{"$f":"IF($B1017<>\"\",CH1015,\"\")","v":""},{"$f":"IF($B1017<>\"\",CI1015,\"\")","v":""},{"$f":"IF($B1017<>\"\",CJ1015,0)","v":0},{"$f":"IF($B1017<>\"\",CK1015,0)","v":0},null,null,null,null,null,null,null,null,null,null,null,null,null,null,null,null,null,null,null,null,null,null,null,null,null,null,null,null,null,null,null,null,null,null,null,null,null,null,null,null,null,null,null,null,null,null,null,null,null,null,null,null,null,null,null,null,null,null,null,null,null,0,0,0,0,0,0,0,0,0,0,0,0,0,0,0,0,null,63,null,null,null,0,null,null,0,0,0,null,null,{"$f":"IF($B1017<>\"\",FX1015,0)","v":0}]
[{"$f":"FL1020","v":63},{"$f":"IF(SUM(C1022:K1022)<>0,\"Всего\",\"\")","v":""},{"$f":"CL1015+CP1015+CT1015+CX1015+DB1015+DF1015+DJ1015+DN1015+DR1015+DV1015+DZ1015+ED1015","v":0},{"$f":"CM1015+CQ1015+CU1015+CY1015+DC1015+DG1015+DK1015+DO1015+DS1015+DW1015+EA1015+EE1015","v":0},{"$f":"CN1015+CR1015+CV1015+CZ1015+DD1015+DH1015+DL1015+DP1015+DT1015+DX1015+EB1015+EF1015","v":0},{"$f":"CO1015+CS1015+CW1015+DA1015+DE1015+DI1015+DM1015+DQ1015+DU1015+DY1015+EC1015+EG1015","v":0},{"$f":"G1015","v":0},0,0,0,0,0,0,0,0,0,0,0,0,0,0,0,0,0,0,0,0,0,0,0,0,0,0,0,0,0,0,0,0,0,0,0,0,0,0,0,0,0,0,0,0,0,0,0,0,0,0,0,0,{"$f":"BH1015","v":0},0,0,0,0,0,0,0,null,null,null,null,null,null,null,null,null,null,null,0,0,0,null,null,{"$f":"EP1015","v":0},{"$f":"EQ1015","v":0},{"$f":"ER1015","v":0},{"$f":"ES1015","v":0},{"$f":"CJ1015","v":0},{"$f":"CK1015","v":0},null,null,null,null,null,null,null,null,null,null,null,null,null,null,null,null,null,null,null,null,null,null,null,null,null,null,null,null,null,null,null,null,null,null,null,null,null,null,null,null,null,null,null,null,null,null,null,null,null,null,null,null,null,null,null,null,null,null,null,null,null,null,null,null,null,null,null,null,null,null,null,null,null,null,null,0,0,null,null,null,null,null,0,null,null,null,{"$f":"FT1015","v":0},{"$f":"FU1015","v":0},null,null,{"$f":"FX1015","v":0}]
[null,null,null,null,null,null,{"$f":"SUM(I1033:K1033)","v":0},{"$f":"IF(H1032=0,\"\",IF(ABS(G1032-H1032)/H1032<=0.05,\"OK\",\">5%\"))","v":""},{"$f":"IF($G1032>0,I1032/$G1032,0)","v":0},{"$f":"IF($G1032>0,J1032/$G1032,0)","v":0},{"$f":"IF($G1032>0,K1032/$G1032,0)","v":0},null,null,null,null,null,null,null,null,null,null,null,null,null,null,null,null,null,null,null,null,null,null,null,null,null,null,null,null,null,null,null,null,null,null,null,null,null,null,null,null,null,null,null,null,null,null,null,null,null,null,null,null,null,null,null,null,null,null,null,null,null,null,null,null,null,null,null,0,0,0,null,null,null,null,null,null,null,null,null,null,null,null,null,null,null,null,null,null,null,null,null,null,null,null,null,null,null,null,null,null,null,null,null,null,null,null,null,null,null,null,null,null,null,null,null,null,null,null,null,null,null,null,null,null,null,null,null,null,null,null,null,null,null,null,null,null,null,null,null,null,null,null,null,null,null,null,null,null,null,null,null,null,null,0,0,null,null,null,null,null,0]
[{"$f":"IF(B1038<>\"\",\"4\",\"\")","v":""},null,{"$f":"IF($B1038<>\"\",C1035,\"\")","v":""},{"$f":"IF($B1038<>\"\",D1035,\"\")","v":""},{"$f":"IF($B1038<>\"\",E1035,\"\")","v":""},{"$f":"IF($B1038<>\"\",F1035,\"\")","v":""},{"$f":"IF($B1038<>\"\",G1035,0)","v":0},0,0,0,0,0,0,0,0,0,0,0,0,0,0,0,0,0,0,0,0,0,0,0,0,0,0,0,0,0,0,0,{"$f":"IF($B1038<>\"\",AM1035,0)","v":0},0,0,0,0,0,0,0,0,0,0,0,0,0,0,0,0,0,0,0,0,{"$f":"IF($B1038<>\"\",BH1035,0)","v":0},0,0,0,0,0,0,0,null,0,0,0,0,0,0,{"$f":"IF($B1038<>\"\",BW1035,0)","v":0},null,{"$f":"IF($B1038<>\"\",BY1035,0)","v":0},null,{"$f":"IF(SUM(G1038:H1038)=0,0,CA1035)","v":0},0,0,null,{"$f":"IF(G1038+H1038>0,CE1035,0)","v":0},{"$f":"IF($B1038<>\"\",CF1035,\"\")","v":""},{"$f":"IF($B1038<>\"\",CG1035,\"\")","v":""},{"$f":"IF($B1038<>\"\",CH1035,\"\")","v":""},{"$f":"IF($B1038<>\"\",CI1035,\"\")","v":""},{"$f":"IF($B1038<>\"\",CJ1035,0)","v":0},{"$f":"IF($B1038<>\"\",CK1035,0)","v":0},null,null,null,null,null,null,null,null,null,null,null,null,null,null,null,null,null,null,null,null,null,null,null,null,null,null,null,null,null,null,null,null,null,null,null,null,null,null,null,null,null,null,null,null,null,null,null,null,null,null,null,null,null,null,null,null,null,null,null,null,null,0,0,0,0,0,0,0,0,0,0,0,0,0,0,0,0,null,65,null,null,null,0,null,null,0,0,0,null,null,{"$f":"IF($B1038<>\"\",FX1035,0)","v":0}]
[{"$f":"IF(B1049<>\"\",\"5\",\"\")","v":""},null,{"$f":"IF($B1049<>\"\",C1045,\"\")","v":""},{"$f":"IF($B1049<>\"\",D1045,\"\")","v":""},{"$f":"IF($B1049<>\"\",E1045,\"\")","v":""},{"$f":"IF($B1049<>\"\",F1045,\"\")","v":""},{"$f":"IF($B1049<>\"\",G1045,0)","v":0},0,0,0,0,0,0,0,0,0,0,0,0,0,0,0,0,0,0,0,0,0,0,0,0,0,0,0,0,0,0,0,{"$f":"IF($B1049<>\"\",AM1045,0)","v":0},0,0,0,0,0,0,0,0,0,0,0,0,0,0,0,0,0,0,0,0,{"$f":"IF($B1049<>\"\",BH1045,0)","v":0},0,0,0,0,0,0,0,null,0,0,0,0,0,0,{"$f":"IF($B1049<>\"\",BW1045,0)","v":0},null,{"$f":"IF($B1049<>\"\",BY1045,0)","v":0},null,{"$f":"IF(SUM(G1049:H1049)=0,0,CA1045)","v":0},0,0,null,{"$f":"IF(G1049+H1049>0,CE1045,0)","v":0},{"$f":"IF($B1049<>\"\",CF1045,\"\")","v":""},{"$f":"IF($B1049<>\"\",CG1045,\"\")","v":""},{"$f":"IF($B1049<>\"\",CH1045,\"\")","v":""},{"$f":"IF($B1049<>\"\",CI1045,\"\")","v":""},{"$f":"IF($B1049<>\"\",CJ1045,0)","v":0},{"$f":"IF($B1049<>\"\",CK1045,0)","v":0},null,null,null,null,null,null,null,null,null,null,null,null,null,null,null,null,null,null,null,null,null,null,null,null,null,null,null,null,null,null,null,null,null,null,null,null,null,null,null,null,null,null,null,null,null,null,null,null,null,null,null,null,null,null,null,null,null,null,null,null,null,0,0,0,0,0,0,0,0,0,0,0,0,0,0,0,0,null,66,null,null,null,0,null,null,0,0,0,null,null,{"$f":"IF($B1049<>\"\",FX1045,0)","v":0}]
[null,{"$f":"IF(B1072<>\"\",B917&IF(isFGOS,\".ДВ6 Дисциплины по выбору\",\".В6 Дисциплины по выбору\"),\"\")","v":""},null,null,null,null,null,null,null,null,null,null,null,null,null,null,null,null,null,null,null,null,null,null,null,null,null,null,null,null,null,null,null,null,null,null,null,null,null,null,null,null,null,null,null,null,null,null,null,null,null,null,null,null,null,null,null,null,null,null,null,null,null,null,null,null,null,null,null,null,null,null,null,null,null,null,null,null,{"$f":"CA1065","v":0},0,0,null,null,null,null,null,null,null,null,null,null,null,null,null,null,null,null,null,null,null,null,null,null,null,null,null,null,null,null,null,null,null,null,null,null,null,null,null,null,null,null,null,null,null,null,null,null,null,null,null,null,null,null,null,null,null,null,null,null,null,null,null,null,null,null,null,null,null,null,null,{"$f":"EU1065","v":0},0,0,0,0,0,0,0,0,0,0,0,0,0,0,0,null,null,null,null,null,0]
[{"$f":"IF(B1069<>\"\",\"5\",\"\")","v":""},null,{"$f":"IF($B1069<>\"\",C1065,\"\")","v":""},{"$f":"IF($B1069<>\"\",D1065,\"\")","v":""},{"$f":"IF($B1069<>\"\",E1065,\"\")","v":""},{"$f":"IF($B1069<>\"\",F1065,\"\")","v":""},{"$f":"IF($B1069<>\"\",G1065,0)","v":0},0,0,0,0,0,0,0,0,0,0,0,0,0,0,0,0,0,0,0,0,0,0,0,0,0,0,0,0,0,0,0,{"$f":"IF($B1069<>\"\",AM1065,0)","v":0},0,0,0,0,0,0,0,0,0,0,0,0,0,0,0,0,0,0,0,0,{"$f":"IF($B1069<>\"\",BH1065,0)","v":0},0,0,0,0,0,0,0,null,0,0,0,0,0,0,{"$f":"IF($B1069<>\"\",BW1065,0)","v":0},null,{"$f":"IF($B1069<>\"\",BY1065,0)","v":0},null,{"$f":"IF(SUM(G1069:H1069)=0,0,CA1065)","v":0},0,0,null,{"$f":"IF(G1069+H1069>0,CE1065,0)","v":0},{"$f":"IF($B1069<>\"\",CF1065,\"\")","v":""},{"$f":"IF($B1069<>\"\",CG1065,\"\")","v":""},{"$f":"IF($B1069<>\"\",CH1065,\"\")","v":""},{"$f":"IF($B1069<>\"\",CI1065,\"\")","v":""},{"$f":"IF($B1069<>\"\",CJ1065,0)","v":0},{"$f":"IF($B1069<>\"\",CK1065,0)","v":0},null,null,null,null,null,null,null,null,null,null,null,null,null,null,null,null,null,null,null,null,null,null,null,null,null,null,null,null,null,null,null,null,null,null,null,null,null,null,null,null,null,null,null,null,null,null,null,null,null,null,null,null,null,null,null,null,null,null,null,null,null,0,0,0,0,0,0,0,0,0,0,0,0,0,0,0,0,null,68,null,null,null,0,null,null,0,0,0,null,null,{"$f":"IF($B1069<>\"\",FX1065,0)","v":0}]
[{"$f":"IF(B1080<>\"\",\"6\",\"\")","v":""},null,{"$f":"IF($B1080<>\"\",C1075,\"\")","v":""},{"$f":"IF($B1080<>\"\",D1075,\"\")","v":""},{"$f":"IF($B1080<>\"\",E1075,\"\")","v":""},{"$f":"IF($B1080<>\"\",F1075,\"\")","v":""},{"$f":"IF($B1080<>\"\",G1075,0)","v":0},0,0,0,0,0,0,0,0,0,0,0,0,0,0,0,0,0,0,0,0,0,0,0,0,0,0,0,0,0,0,0,{"$f":"IF($B1080<>\"\",AM1075,0)","v":0},0,0,0,0,0,0,0,0,0,0,0,0,0,0,0,0,0,0,0,0,{"$f":"IF($B1080<>\"\",BH1075,0)","v":0},0,0,0,0,0,0,0,null,0,0,0,0,0,0,{"$f":"IF($B1080<>\"\",BW1075,0)","v":0},null,{"$f":"IF($B1080<>\"\",BY1075,0)","v":0},null,{"$f":"IF(SUM(G1080:H1080)=0,0,CA1075)","v":0},0,0,null,{"$f":"IF(G1080+H1080>0,CE1075,0)","v":0},{"$f":"IF($B1080<>\"\",CF1075,\"\")","v":""},{"$f":"IF($B1080<>\"\",CG1075,\"\")","v":""},{"$f":"IF($B1080<>\"\",CH1075,\"\")","v":""},{"$f":"IF($B1080<>\"\",CI1075,\"\")","v":""},{"$f":"IF($B1080<>\"\",CJ1075,0)","v":0},{"$f":"IF($B1080<>\"\",CK1075,0)","v":0},null,null,null,null,null,null,null,null,null,null,null,null,null,null,null,null,null,null,null,null,null,null,null,null,null,null,null,null,null,null,null,null,null,null,null,null,null,null,null,null,null,null,null,null,null,null,null,null,null,null,null,null,null,null,null,null,null,null,null,null,null,0,0,0,0,0,0,0,0,0,0,0,0,0,0,0,0,null,69,null,null,null,0,null,null,0,0,0,null,null,{"$f":"IF($B1080<>\"\",FX1075,0)","v":0}]
[{"$f":"IF(B1095<>\"\",\"1\",\"\")","v":""},null,null,null,null,null,{"$f":"IF($FI1095>0,$FW1095,SUM(I1095:K1095)+CJ1095+IF(СЭкзаменами,SUMIF(Курс1!$AL$7:$AL$75,\"=\"&ROW(),Курс1!$AA$7:$AA$75)+SUMIF(Курс2!$AL$7:$AL$75,\"=\"&ROW(),Курс2!$AA$7:$AA$75)+SUMIF(Курс3!$AL$7:$AL$75,\"=\"&ROW(),Курс3!$AA$7:$AA$75)+SUMIF(Курс4!$AL$7:$AL$75,\"=\"&ROW(),Курс4!$AA$7:$AA$75)+SUMIF(Курс5!$AL$7:$AL$75,\"=\"&ROW(),Курс5!$AA$7:$AA$75)+SUMIF(Курс6!$AL$7:$AL$75,\"=\"&ROW(),Курс6!$AA$7:$AA$75)+SUMIF(Курс7!$AL$7:$AL$75,\"=\"&ROW(),Курс7!$AA$7:$AA$75),0))","v":0},null,{"$f":"SUM(L1095:N1095)+SUM(P1095:R1095)+SUM(T1095:V1095)+SUM(X1095:Z1095)+SUM(AB1095:AD1095)+SUM(AF1095:AH1095)+SUM(AJ1095:AL1095)+SUM(AN1095:AP1095)+SUM(AR1095:AT1095)+SUM(AV1095:AX1095)+SUM(AZ1095:BB1095)+SUM(BD1095:BF1095)+SUM(BH1095:BJ1095)+SUM(BL1095:BN1095)","v":0},{"$f":"O1095+S1095+W1095+AA1095+AE1095+AI1095+AM1095+AQ1095+AU1095+AY1095+BC1095+BG1095+BK1095+BO1095","v":0},null,null,null,null,null,null,null,null,null,null,null,null,null,null,null,null,null,null,null,null,null,null,null,null,null,null,null,null,null,null,null,null,null,null,null,null,null,null,null,null,null,null,null,null,null,null,null,null,null,null,null,null,null,null,null,null,null,null,{"$f":"IF(SUM($L1095:$S1095)>0,SUM($L1095:$S1095)/SUM($L1095:$BO1095),0)","v":0},{"$f":"IF(SUM($T1095:$AA1095)>0,SUM($T1095:$AA1095)/SUM($L1095:$BO1095),0)","v":0},{"$f":"IF(SUM($AB1095:$AI1095)>0,SUM($AB1095:$AI1095)/SUM($L1095:$BO1095),0)","v":0},{"$f":"IF(SUM($AJ1095:$AQ1095)>0,SUM($AJ1095:$AQ1095)/SUM($L1095:$BO1095),0)","v":0},{"$f":"IF(SUM($AR1095:$AY1095)>0,SUM($AR1095:$AY1095)/SUM($L1095:$BO1095),0)","v":0},{"$f":"IF(SUM($AZ1095:$BG1095)>0,SUM($AZ1095:$BG1095)/SUM($L1095:$BO1095),0)","v":0},{"$f":"IF(SUM($BH1095:$BO1095)>0,SUM($BH1095:$BO1095)/SUM($L1095:$BO1095),0)","v":0},null,{"$f":"IF(7-COUNTBLANK(A1095:$A1101)<>0,($H1095*MAX(1,$BX1095)*($BQ1095*Конт1+$BR1095*Конт2+$BS1095*Конт3+$BT1095*Конт4+$BU1095*Конт5+$BV1095*Конт6)/IF(СреднееКСГ>0,СреднееКСГ,21)+((CL1095+CP1095)*Экз+(CM1095+CQ1095)*Зач+(CN1095+CR1095)*Проект+(CO1095+CS1095)*Работа)*Конт1+((CT1095+CX1095)*Экз+(CU1095+CY1095)*Зач+(CV1095+CZ1095)*Проект+(CW1095+DA1095)*Работа)*Конт2+((DB1095+DF1095)*Экз+(DC1095+DG1095)*Зач+(DD1095+DH1095)*Проект+(DE1095+DI1095)*Работа)*Конт3+((DJ1095+DN1095)*Экз+(DK1095+DO1095)*Зач+(DL1095+DP1095)*Проект+(DM1095+DQ1095)*Работа)*Конт4+((DR1095+DV1095)*Экз+(DO1095+DW1095)*Зач+(DT1095+DX1095)*Проект+(DU1095+DY1095)*Работа)*Конт5+((DZ1095+ED1095)*Экз+(EA1095+EE1095)*Зач+(EB1095+EF1095)*Проект+(EC1095+EG1095)*Работа)*Конт6)/(7-COUNTBLANK(A1095:$A1101)),0)","v":0},null,{"$f":"IF(SUM(G1095:H1095)=0,0,IF(SUM(L1095:O1095,T1095:W1095,AB1095:AE1095,AJ1095:AM1095,AR1095:AU1095,AZ1095:BC1095)=0,3,IF(SUM(P1095:S1095,X1095:AA1095,AF1095:AI1095,AN1095:AQ1095,AV1095:AY1095,BD1095:BG1095)=0,1,2)))","v":0},0,0,null,{"$f":"CL1095+CP1095+CT1095+CX1095+DB1095+DF1095+DJ1095+DN1095+DR1095+DV1095+DZ1095+ED1095+CM1095+CQ1095+CU1095+CY1095+DC1095+DG1095+DK1095+DO1095+DS1095+DW1095+EA1095+EE1095","v":0},null,null,null,null,null,{"$f":"SUM(I1095:K1095)","v":0},{"$f":"IF(OR($FI1095=1,$FP1095=1),0,IF(ISNUMBER(FIND(CL$2,$C1095,1)),MAX(1-$BZ1095,0),0))","v":0},{"$f":"IF(OR($FI1095=1,$FP1095=1),0,IF(ISNUMBER(FIND(CL$2,$D1095,1)),1,0))","v":0},{"$f":"IF(ISNUMBER(FIND(CL$2,$E1095,1)),IF(OR(FI1095=1,$FP1095=1),0,1),0)","v":0},{"$f":"IF(ISNUMBER(FIND(CL$2,$F1095,1)),IF(OR(FI1095=1,$FP1095=1),0,1),0)","v":0},{"$f":"IF(OR($FI1095=1,$FP1095=1),0,IF(ISNUMBER(FIND(CP$2,$C1095,1)),MAX(1-$BZ1095,0),0))","v":0},{"$f":"IF(OR($FI1095=1,$FP1095=1),0,IF(ISNUMBER(FIND(CP$2,$D1095,1)),1,0))","v":0},{"$f":"IF(ISNUMBER(FIND(CP$2,$E1095,1)),IF(OR(FI1095=1,$FP1095=1),0,1),0)","v":0},{"$f":"IF(ISNUMBER(FIND(CP$2,$F1095,1)),IF(OR($FI1095=1,$FP1095=1),0,1),0)","v":0},{"$f":"IF(OR($FI1095=1,$FP1095=1),0,IF(ISNUMBER(FIND(CT$2,$C1095,1)),MAX(1-$BZ1095,0),0))","v":0},{"$f":"IF(OR($FI1095=1,$FP1095=1),0,IF(ISNUMBER(FIND(CT$2,$D1095,1)),1,0))","v":0},{"$f":"IF(ISNUMBER(FIND(CT$2,$E1095,1)),IF(OR($FI1095=1,$FP1095=1),0,1),0)","v":0},{"$f":"IF(ISNUMBER(FIND(CT$2,$F1095,1)),IF(OR($FI1095=1,$FP1095=1),0,1),0)","v":0},{"$f":"IF(OR($FI1095=1,$FP1095=1),0,IF(ISNUMBER(FIND(CX$2,$C1095,1)),MAX(1-$BZ1095,0),0))","v":0},{"$f":"IF(OR($FI1095=1,$FP1095=1),0,IF(ISNUMBER(FIND(CX$2,$D1095,1)),1,0))","v":0},{"$f":"IF(ISNUMBER(FIND(CX$2,$E1095,1)),IF(OR($FI1095=1,$FP1095=1),0,1),0)","v":0},{"$f":"IF(ISNUMBER(FIND(CX$2,$F1095,1)),IF(OR($FI1095=1,$FP1095=1),0,1),0)","v":0},{"$f":"IF(OR($FI1095=1,$FP1095=1),0,IF(ISNUMBER(FIND(DB$2,$C1095,1)),MAX(1-$BZ1095,0),0))","v":0},{"$f":"IF(OR($FI1095=1,$FP1095=1),0,IF(ISNUMBER(FIND(DB$2,$D1095,1)),1,0))","v":0},{"$f":"IF(ISNUMBER(FIND(DB$2,$E1095,1)),IF(OR($FI1095=1,$FP1095=1),0,1),0)","v":0},{"$f":"IF(ISNUMBER(FIND(DB$2,$F1095,1)),IF(OR($FI1095=1,$FP1095=1),0,1),0)","v":0},{"$f":"IF(OR($FI1095=1,$FP1095=1),0,IF(ISNUMBER(FIND(DF$2,$C1095,1)),MAX(1-$BZ1095,0),0))","v":0},{"$f":"IF(OR($FI1095=1,$FP1095=1),0,IF(ISNUMBER(FIND(DF$2,$D1095,1)),1,0))","v":0},{"$f":"IF(ISNUMBER(FIND(DF$2,$E1095,1)),IF(OR($FI1095=1,$FP1095=1),0,1),0)","v":0},{"$f":"IF(ISNUMBER(FIND(DF$2,$F1095,1)),IF(OR($FI1095=1,$FP1095=1),0,1),0)","v":0},{"$f":"IF(OR($FI1095=1,$FP1095=1),0,IF(ISNUMBER(FIND(DJ$2,$C1095,1)),MAX(1-$BZ1095,0),0))","v":0},{"$f":"IF(OR($FI1095=1,$FP1095=1),0,IF(ISNUMBER(FIND(DJ$2,$D1095,1)),1,0))","v":0},{"$f":"IF(ISNUMBER(FIND(DJ$2,$E1095,1)),IF(OR($FI1095=1,$FP1095=1),0,1),0)","v":0},{"$f":"IF(ISNUMBER(FIND(DJ$2,$F1095,1)),IF(OR($FI1095=1,$FP1095=1),0,1),0)","v":0},{"$f":"IF(OR($FI1095=1,$FP1095=1),0,IF(ISNUMBER(FIND(DN$2,$C1095,1)),MAX(1-$BZ1095,0),0))","v":0},{"$f":"IF(OR($FI1095=1,$FP1095=1),0,IF(ISNUMBER(FIND(DN$2,$D1095,1)),1,0))","v":0},{"$f":"IF(ISNUMBER(FIND(DN$2,$E1095,1)),IF(OR($FI1095=1,$FP1095=1),0,1),0)","v":0},{"$f":"IF(ISNUMBER(FIND(DN$2,$F1095,1)),IF(OR($FI1095=1,$FP1095=1),0,1),0)","v":0},{"$f":"IF(OR($FI1095=1,$FP1095=1),0,IF(ISNUMBER(FIND(DR$2,$C1095,1)),MAX(1-$BZ1095,0),0))","v":0},{"$f":"IF(OR($FI1095=1,$FP1095=1),0,IF(ISNUMBER(FIND(DR$2,$D1095,1)),1,0))","v":0},{"$f":"IF(ISNUMBER(FIND(DR$2,$E1095,1)),IF(OR($FI1095=1,$FP1095=1),0,1),0)","v":0},{"$f":"IF(ISNUMBER(FIND(DR$2,$F1095,1)),IF(OR($FI1095=1,$FP1095=1),0,1),0)","v":0},{"$f":"IF(OR($FI1095=1,$FP1095=1),0,IF(ISNUMBER(FIND(DV$2,$C1095,1)),MAX(1-$BZ1095,0),0))","v":0},{"$f":"IF(OR($FI1095=1,$FP1095=1),0,IF(ISNUMBER(FIND(DV$2,$D1095,1)),1,0))","v":0},{"$f":"IF(ISNUMBER(FIND(DV$2,$E1095,1)),IF(OR($FI1095=1,$FP1095=1),0,1),0)","v":0},{"$f":"IF(ISNUMBER(FIND(DV$2,$F1095,1)),IF(OR($FI1095=1,$FP1095=1),0,1),0)","v":0},{"$f":"IF(OR($FI1095=1,$FP1095=1),0,IF(ISNUMBER(FIND(DZ$2,$C1095,1)),MAX(1-$BZ1095,0),0))","v":0},{"$f":"IF(OR($FI1095=1,$FP1095=1),0,IF(ISNUMBER(FIND(DZ$2,$D1095,1)),1,0))","v":0},{"$f":"IF(ISNUMBER(FIND(DZ$2,$E1095,1)),IF(OR($FI1095=1,$FP1095=1),0,1),0)","v":0},{"$f":"IF(ISNUMBER(FIND(DZ$2,$F1095,1)),IF(OR($FI1095=1,$FP1095=1),0,1),0)","v":0},{"$f":"IF(OR($FI1095=1,$FP1095=1),0,IF(ISNUMBER(FIND(ED$2,$C1095,1)),MAX(1-$BZ1095,0),0))","v":0},{"$f":"IF(OR($FI1095=1,$FP1095=1),0,IF(ISNUMBER(FIND(ED$2,$D1095,1)),1,0))","v":0},{"$f":"IF(ISNUMBER(FIND(ED$2,$E1095,1)),IF(OR($FI1095=1,$FP1095=1),0,1),0)","v":0},{"$f":"IF(ISNUMBER(FIND(ED$2,$F1095,1)),IF(OR($FI1095=1,$FP1095=1),0,1),0)","v":0},{"$f":"IF(OR($FI1095=1,$FP1095=1),0,IF(ISNUMBER(FIND(EH$2,$C1095,1)),MAX(1-$BZ1095,0),0))","v":0},{"$f":"IF(OR($FI1095=1,$FP1095=1),0,IF(ISNUMBER(FIND(EH$2,$D1095,1)),1,0))","v":0},{"$f":"IF(ISNUMBER(FIND(EH$2,$E1095,1)),IF(OR($FI1095=1,$FP1095=1),0,1),0)","v":0},{"$f":"IF(ISNUMBER(FIND(EH$2,$F1095,1)),IF(OR($FI1095=1,$FP1095=1),0,1),0)","v":0},{"$f":"IF(OR($FI1095=1,$FP1095=1),0,IF(ISNUMBER(FIND(EL$2,$C1095,1)),MAX(1-$BZ1095,0),0))","v":0},{"$f":"IF(OR($FI1095=1,$FP1095=1),0,IF(ISNUMBER(FIND(EL$2,$D1095,1)),1,0))","v":0},{"$f":"IF(ISNUMBER(FIND(EL$2,$E1095,1)),IF(OR($FI1095=1,$FP1095=1),0,1),0)","v":0},{"$f":"IF(ISNUMBER(FIND(EL$2,$F1095,1)),IF(OR($FI1095=1,$FP1095=1),0,1),0)","v":0},{"$f":"IF(OR($FI1095=1,$FP1095=1),0,LEN(TRIM(CF1095)))","v":0},{"$f":"IF(OR($FI1095=1,$FP1095=1),0,LEN(TRIM(CG1095)))","v":0},{"$f":"FormKontroljaInRange(CH1095)","v":0},{"$f":"IF(OR($FI1095=1,$FP1095=1),0,LEN(TRIM(CI1095)))","v":0},null,{"$f":"IF(SUM(L1095:O1095)>0,1,0)","v":0},{"$f":"IF(SUM(P1095:S1095)>0,1,0)","v":0},{"$f":"IF(SUM(T1095:W1095)>0,1,0)","v":0},{"$f":"IF(SUM(X1095:AA1095)>0,1,0)","v":0},{"$f":"IF(SUM(AB1095:AE1095)>0,1,0)","v":0},{"$f":"IF(SUM(AF1095:AI1095)>0,1,0)","v":0},{"$f":"IF(SUM(AJ1095:AM1095)>0,1,0)","v":0},{"$f":"IF(SUM(AN1095:AQ1095)>0,1,0)","v":0},{"$f":"IF(SUM(AR1095:AU1095)>0,1,0)","v":0},{"$f":"IF(SUM(AV1095:AY1095)>0,1,0)","v":0},{"$f":"IF(SUM(AZ1095:BC1095)>0,1,0)","v":0},{"$f":"IF(SUM(BD1095:BG1095)>0,1,0)","v":0},{"$f":"IF(SUM(BH1095:BK1095)>0,1,0)","v":0},{"$f":"IF(SUM(BL1095:BO1095)>0,1,0)","v":0},0,0,null,71,null,null,null,0,null,null,null,0,{"$f":"IF(FT1095=0,FLOOR(IF(СЭкзаменами,H1095,(H1095+SUMIF(Курс1!$AL$7:$AL$75,\"=\"&ROW(),Курс1!$AA$7:$AA$75)+SUMIF(Курс2!$AL$7:$AL$75,\"=\"&ROW(),Курс2!$AA$7:$AA$75)+SUMIF(Курс3!$AL$7:$AL$75,\"=\"&ROW(),Курс3!$AA$7:$AA$75)+SUMIF(Курс4!$AL$7:$AL$75,\"=\"&ROW(),Курс4!$AA$7:$AA$75)+SUMIF(Курс5!$AL$7:$AL$75,\"=\"&ROW(),Курс5!$AA$7:$AA$75)+SUMIF(Курс6!$AL$7:$AL$75,\"=\"&ROW(),Курс6!$AA$7:$AA$75)+SUMIF(Курс7!$AL$7:$AL$75,\"=\"&ROW(),Курс7!$AA$7:$AA$75)))/IF(ЧасовВКредите>0,ЧасовВКредите,36),0.5),FT1095)","v":0},null,null,null,{"$f":"SUMIF(Курс1!$AL$7:$AL$75,\"=\"&ROW(),Курс1!$AC$7:$AC$75)+SUMIF(Курс2!$AL$7:$AL$75,\"=\"&ROW(),Курс2!$AC$7:$AC$75)+SUMIF(Курс3!$AL$7:$AL$75,\"=\"&ROW(),Курс3!$AC$7:$AC$75)+SUMIF(Курс4!$AL$7:$AL$75,\"=\"&ROW(),Курс4!$AC$7:$AC$75)+SUMIF(Курс5!$AL$7:$AL$75,\"=\"&ROW(),Курс5!$AC$7:$AC$75)+SUMIF(Курс6!$AL$7:$AL$75,\"=\"&ROW(),Курс6!$AC$7:$AC$75)+SUMIF(Курс7!$AL$7:$AL$75,\"=\"&ROW(),Курс7!$AC$7:$AC$75)","v":0}]
[{"$f":"IF(B1106<>\"\",\"2\",\"\")","v":""},null,{"$f":"IF($B1106<>\"\",C1105,\"\")","v":""},{"$f":"IF($B1106<>\"\",D1105,\"\")","v":""},{"$f":"IF($B1106<>\"\",E1105,\"\")","v":""},{"$f":"IF($B1106<>\"\",F1105,\"\")","v":""},{"$f":"IF($B1106<>\"\",G1105,0)","v":0},0,0,0,0,0,0,0,0,0,0,0,0,0,0,0,0,0,0,0,0,0,0,0,0,0,0,0,0,0,0,0,{"$f":"IF($B1106<>\"\",AM1105,0)","v":0},0,0,0,0,0,0,0,0,0,0,0,0,0,0,0,0,0,0,0,0,{"$f":"IF($B1106<>\"\",BH1105,0)","v":0},0,0,0,0,0,0,0,null,0,0,0,0,0,0,0,null,{"$f":"IF($B1106<>\"\",BY1105,0)","v":0},null,{"$f":"IF(SUM(G1106:H1106)=0,0,CA1105)","v":0},0,0,null,{"$f":"IF(G1106+H1106>0,CE1105,0)","v":0},{"$f":"IF($B1106<>\"\",CF1105,\"\")","v":""},{"$f":"IF($B1106<>\"\",CG1105,\"\")","v":""},{"$f":"IF($B1106<>\"\",CH1105,\"\")","v":""},{"$f":"IF($B1106<>\"\",CI1105,\"\")","v":""},{"$f":"IF($B1106<>\"\",CJ1105,0)","v":0},{"$f":"IF($B1106<>\"\",CK1105,0)","v":0},null,null,null,null,null,null,null,null,null,null,null,null,null,null,null,null,null,null,null,null,null,null,null,null,null,null,null,null,null,null,null,null,null,null,null,null,null,null,null,null,null,null,null,null,null,null,null,null,null,null,null,null,null,null,null,null,null,null,null,null,null,0,0,0,0,0,0,0,0,0,0,0,0,0,0,0,0,null,72,null,null,null,0,null,null,{"$f":"IF($B1106<>\"\",$FS1105,0)","v":0},{"$f":"IF($B1106<>\"\",$FT1105,0)","v":0},{"$f":"IF($B1106<>\"\",$FU1105,0)","v":0},null,null,{"$f":"IF($B1106<>\"\",FX1105,0)","v":0}]
[{"$f":"IF(B1111<>\"\",\"7\",\"\")","v":""},null,{"$f":"IF($B1111<>\"\",C1105,\"\")","v":""},{"$f":"IF($B1111<>\"\",D1105,\"\")","v":""},{"$f":"IF($B1111<>\"\",E1105,\"\")","v":""},{"$f":"IF($B1111<>\"\",F1105,\"\")","v":""},{"$f":"IF($B1111<>\"\",G1105,0)","v":0},0,0,0,0,0,0,0,0,0,0,0,0,0,0,0,0,0,0,0,0,0,0,0,0,0,0,0,0,0,0,0,{"$f":"IF($B1111<>\"\",AM1105,0)","v":0},0,0,0,0,0,0,0,0,0,0,0,0,0,0,0,0,0,0,0,0,{"$f":"IF($B1111<>\"\",BH1105,0)","v":0},0,0,0,0,0,0,0,null,0,0,0,0,0,0,{"$f":"IF($B1111<>\"\",BW1105,0)","v":0},null,{"$f":"IF($B1111<>\"\",BY1105,0)","v":0},null,{"$f":"IF(SUM(G1111:H1111)=0,0,CA1105)","v":0},0,0,null,{"$f":"IF(G1111+H1111>0,CE1105,0)","v":0},{"$f":"IF($B1111<>\"\",CF1105,\"\")","v":""},{"$f":"IF($B1111<>\"\",CG1105,\"\")","v":""},{"$f":"IF($B1111<>\"\",CH1105,\"\")","v":""},{"$f":"IF($B1111<>\"\",CI1105,\"\")","v":""},{"$f":"IF($B1111<>\"\",CJ1105,0)","v":0},{"$f":"IF($B1111<>\"\",CK1105,0)","v":0},null,null,null,null,null,null,null,null,null,null,null,null,null,null,null,null,null,null,null,null,null,null,null,null,null,null,null,null,null,null,null,null,null,null,null,null,null,null,null,null,null,null,null,null,null,null,null,null,null,null,null,null,null,null,null,null,null,null,null,null,null,0,0,0,0,0,0,0,0,0,0,0,0,0,0,0,0,null,72,null,null,null,0,null,null,0,0,0,null,null,{"$f":"IF($B1111<>\"\",FX1105,0)","v":0}]
[{"$f":"IF(B1126<>\"\",\"2\",\"\")","v":""},null,{"$f":"IF($B1126<>\"\",C1125,\"\")","v":""},{"$f":"IF($B1126<>\"\",D1125,\"\")","v":""},{"$f":"IF($B1126<>\"\",E1125,\"\")","v":""},{"$f":"IF($B1126<>\"\",F1125,\"\")","v":""},{"$f":"IF($B1126<>\"\",G1125,0)","v":0},0,0,0,0,0,0,0,0,0,0,0,0,0,0,0,0,0,0,0,0,0,0,0,0,0,0,0,0,0,0,0,{"$f":"IF($B1126<>\"\",AM1125,0)","v":0},0,0,0,0,0,0,0,0,0,0,0,0,0,0,0,0,0,0,0,0,{"$f":"IF($B1126<>\"\",BH1125,0)","v":0},0,0,0,0,0,0,0,null,0,0,0,0,0,0,0,null,{"$f":"IF($B1126<>\"\",BY1125,0)","v":0},null,{"$f":"IF(SUM(G1126:H1126)=0,0,CA1125)","v":0},0,0,null,{"$f":"IF(G1126+H1126>0,CE1125,0)","v":0},{"$f":"IF($B1126<>\"\",CF1125,\"\")","v":""},{"$f":"IF($B1126<>\"\",CG1125,\"\")","v":""},{"$f":"IF($B1126<>\"\",CH1125,\"\")","v":""},{"$f":"IF($B1126<>\"\",CI1125,\"\")","v":""},{"$f":"IF($B1126<>\"\",CJ1125,0)","v":0},{"$f":"IF($B1126<>\"\",CK1125,0)","v":0},null,null,null,null,null,null,null,null,null,null,null,null,null,null,null,null,null,null,null,null,null,null,null,null,null,null,null,null,null,null,null,null,null,null,null,null,null,null,null,null,null,null,null,null,null,null,null,null,null,null,null,null,null,null,null,null,null,null,null,null,null,0,0,0,0,0,0,0,0,0,0,0,0,0,0,0,0,null,74,null,null,null,0,null,null,{"$f":"IF($B1126<>\"\",$FS1125,0)","v":0},{"$f":"IF($B1126<>\"\",$FT1125,0)","v":0},{"$f":"IF($B1126<>\"\",$FU1125,0)","v":0},null,null,{"$f":"IF($B1126<>\"\",FX1125,0)","v":0}]
[{"$f":"IF(B1137<>\"\",\"3\",\"\")","v":""},null,{"$f":"IF($B1137<>\"\",C1135,\"\")","v":""},{"$f":"IF($B1137<>\"\",D1135,\"\")","v":""},{"$f":"IF($B1137<>\"\",E1135,\"\")","v":""},{"$f":"IF($B1137<>\"\",F1135,\"\")","v":""},{"$f":"IF($B1137<>\"\",G1135,0)","v":0},0,0,0,0,0,0,0,0,0,0,0,0,0,0,0,0,0,0,0,0,0,0,0,0,0,0,0,0,0,0,0,{"$f":"IF($B1137<>\"\",AM1135,0)","v":0},0,0,0,0,0,0,0,0,0,0,0,0,0,0,0,0,0,0,0,0,{"$f":"IF($B1137<>\"\",BH1135,0)","v":0},0,0,0,0,0,0,0,null,0,0,0,0,0,0,{"$f":"IF($B1137<>\"\",BW1135,0)","v":0},null,{"$f":"IF($B1137<>\"\",BY1135,0)","v":0},null,{"$f":"IF(SUM(G1137:H1137)=0,0,CA1135)","v":0},0,0,null,{"$f":"IF(G1137+H1137>0,CE1135,0)","v":0},{"$f":"IF($B1137<>\"\",CF1135,\"\")","v":""},{"$f":"IF($B1137<>\"\",CG1135,\"\")","v":""},{"$f":"IF($B1137<>\"\",CH1135,\"\")","v":""},{"$f":"IF($B1137<>\"\",CI1135,\"\")","v":""},{"$f":"IF($B1137<>\"\",CJ1135,0)","v":0},{"$f":"IF($B1137<>\"\",CK1135,0)","v":0},null,null,null,null,null,null,null,null,null,null,null,null,null,null,null,null,null,null,null,null,null,null,null,null,null,null,null,null,null,null,null,null,null,null,null,null,null,null,null,null,null,null,null,null,null,null,null,null,null,null,null,null,null,null,null,null,null,null,null,null,null,0,0,0,0,0,0,0,0,0,0,0,0,0,0,0,0,null,75,null,null,null,0,null,null,0,0,0,null,null,{"$f":"IF($B1137<>\"\",FX1135,0)","v":0}]
[{"$f":"FL1140","v":75},{"$f":"IF(SUM(C1142:K1142)<>0,\"Всего\",\"\")","v":""},{"$f":"CL1135+CP1135+CT1135+CX1135+DB1135+DF1135+DJ1135+DN1135+DR1135+DV1135+DZ1135+ED1135","v":0},{"$f":"CM1135+CQ1135+CU1135+CY1135+DC1135+DG1135+DK1135+DO1135+DS1135+DW1135+EA1135+EE1135","v":0},{"$f":"CN1135+CR1135+CV1135+CZ1135+DD1135+DH1135+DL1135+DP1135+DT1135+DX1135+EB1135+EF1135","v":0},{"$f":"CO1135+CS1135+CW1135+DA1135+DE1135+DI1135+DM1135+DQ1135+DU1135+DY1135+EC1135+EG1135","v":0},{"$f":"G1135","v":0},0,0,0,0,0,0,0,0,0,0,0,0,0,0,0,0,0,0,0,0,0,0,0,0,0,0,0,0,0,0,0,0,0,0,0,0,0,0,0,0,0,0,0,0,0,0,0,0,0,0,0,0,{"$f":"BH1135","v":0},0,0,0,0,0,0,0,null,null,null,null,null,null,null,null,null,null,null,0,0,0,null,null,{"$f":"EP1135","v":0},{"$f":"EQ1135","v":0},{"$f":"ER1135","v":0},{"$f":"ES1135","v":0},{"$f":"CJ1135","v":0},{"$f":"CK1135","v":0},null,null,null,null,null,null,null,null,null,null,null,null,null,null,null,null,null,null,null,null,null,null,null,null,null,null,null,null,null,null,null,null,null,null,null,null,null,null,null,null,null,null,null,null,null,null,null,null,null,null,null,null,null,null,null,null,null,null,null,null,null,null,null,null,null,null,null,null,null,null,null,null,null,null,null,0,0,null,null,null,null,null,0,null,null,null,{"$f":"FT1135","v":0},{"$f":"FU1135","v":0},null,null,{"$f":"FX1135","v":0}]
["",null,null,null,null,null,{"$f":"IF($FI1157>0,$FW1157,SUM(I1157:K1157)+CJ1157+IF(СЭкзаменами,SUMIF(Курс1!$AL$7:$AL$75,\"=\"&ROW(),Курс1!$AA$7:$AA$75)+SUMIF(Курс2!$AL$7:$AL$75,\"=\"&ROW(),Курс2!$AA$7:$AA$75)+SUMIF(Курс3!$AL$7:$AL$75,\"=\"&ROW(),Курс3!$AA$7:$AA$75)+SUMIF(Курс4!$AL$7:$AL$75,\"=\"&ROW(),Курс4!$AA$7:$AA$75)+SUMIF(Курс5!$AL$7:$AL$75,\"=\"&ROW(),Курс5!$AA$7:$AA$75)+SUMIF(Курс6!$AL$7:$AL$75,\"=\"&ROW(),Курс6!$AA$7:$AA$75)+SUMIF(Курс7!$AL$7:$AL$75,\"=\"&ROW(),Курс7!$AA$7:$AA$75),0))","v":0},null,0,0,null,null,null,null,null,null,null,null,null,null,null,null,null,null,null,null,null,null,null,null,null,null,null,null,null,null,null,null,null,null,null,null,null,null,null,null,null,null,null,null,null,null,null,null,null,null,null,null,null,null,null,null,null,null,null,null,null,null,0,0,0,0,0,0,0,null,0,0,0,0,0,null,0,null,null,null,null,null,0,0,0,0,0,0,0,0,0,0,0,0,0,0,0,0,0,0,0,0,0,0,0,0,0,0,0,0,0,0,0,0,0,0,0,0,0,0,0,0,0,0,0,0,0,0,0,0,0,0,0,0,0,0,0,0,0,0,0,0,0,null,0,0,0,0,0,0,0,0,0,0,0,0,0,0,0,0,null,76,null,null,null,0,{"$f":"SUM($CB$1146:$CB1157)","v":3},0,null,0,{"$f":"IF(FT1157=0,FLOOR(IF(СЭкзаменами,H1157,(H1157+SUMIF(Курс1!$AL$7:$AL$75,\"=\"&ROW(),Курс1!$AA$7:$AA$75)+SUMIF(Курс2!$AL$7:$AL$75,\"=\"&ROW(),Курс2!$AA$7:$AA$75)+SUMIF(Курс3!$AL$7:$AL$75,\"=\"&ROW(),Курс3!$AA$7:$AA$75)+SUMIF(Курс4!$AL$7:$AL$75,\"=\"&ROW(),Курс4!$AA$7:$AA$75)+SUMIF(Курс5!$AL$7:$AL$75,\"=\"&ROW(),Курс5!$AA$7:$AA$75)+SUMIF(Курс6!$AL$7:$AL$75,\"=\"&ROW(),Курс6!$AA$7:$AA$75)+SUMIF(Курс7!$AL$7:$AL$75,\"=\"&ROW(),Курс7!$AA$7:$AA$75)))/IF(ЧасовВКредите>0,ЧасовВКредите,36),0.5),FT1157)","v":0},null,null,null,{"$f":"SUMIF(Курс1!$AL$7:$AL$75,\"=\"&ROW(),Курс1!$AC$7:$AC$75)+SUMIF(Курс2!$AL$7:$AL$75,\"=\"&ROW(),Курс2!$AC$7:$AC$75)+SUMIF(Курс3!$AL$7:$AL$75,\"=\"&ROW(),Курс3!$AC$7:$AC$75)+SUMIF(Курс4!$AL$7:$AL$75,\"=\"&ROW(),Курс4!$AC$7:$AC$75)+SUMIF(Курс5!$AL$7:$AL$75,\"=\"&ROW(),Курс5!$AC$7:$AC$75)+SUMIF(Курс6!$AL$7:$AL$75,\"=\"&ROW(),Курс6!$AC$7:$AC$75)+SUMIF(Курс7!$AL$7:$AL$75,\"=\"&ROW(),Курс7!$AC$7:$AC$75)","v":0}]
["",null,null,null,null,null,{"$f":"IF($FI1158>0,$FW1158,SUM(I1158:K1158)+CJ1158+IF(СЭкзаменами,SUMIF(Курс1!$AL$7:$AL$75,\"=\"&ROW(),Курс1!$AA$7:$AA$75)+SUMIF(Курс2!$AL$7:$AL$75,\"=\"&ROW(),Курс2!$AA$7:$AA$75)+SUMIF(Курс3!$AL$7:$AL$75,\"=\"&ROW(),Курс3!$AA$7:$AA$75)+SUMIF(Курс4!$AL$7:$AL$75,\"=\"&ROW(),Курс4!$AA$7:$AA$75)+SUMIF(Курс5!$AL$7:$AL$75,\"=\"&ROW(),Курс5!$AA$7:$AA$75)+SUMIF(Курс6!$AL$7:$AL$75,\"=\"&ROW(),Курс6!$AA$7:$AA$75)+SUMIF(Курс7!$AL$7:$AL$75,\"=\"&ROW(),Курс7!$AA$7:$AA$75),0))","v":0},null,0,0,null,null,null,null,null,null,null,null,null,null,null,null,null,null,null,null,null,null,null,null,null,null,null,null,null,null,null,null,null,null,null,null,null,null,null,null,null,null,null,null,null,null,null,null,null,null,null,null,null,null,null,null,null,null,null,null,null,null,0,0,0,0,0,0,0,null,0,0,0,0,0,null,0,null,null,null,null,null,0,0,0,0,0,0,0,0,0,0,0,0,0,0,0,0,0,0,0,0,0,0,0,0,0,0,0,0,0,0,0,0,0,0,0,0,0,0,0,0,0,0,0,0,0,0,0,0,0,0,0,0,0,0,0,0,0,0,0,0,0,null,0,0,0,0,0,0,0,0,0,0,0,0,0,0,0,0,null,76,null,null,null,0,{"$f":"SUM($CB$1146:$CB1158)","v":3},0,null,0,{"$f":"IF(FT1158=0,FLOOR(IF(СЭкзаменами,H1158,(H1158+SUMIF(Курс1!$AL$7:$AL$75,\"=\"&ROW(),Курс1!$AA$7:$AA$75)+SUMIF(Курс2!$AL$7:$AL$75,\"=\"&ROW(),Курс2!$AA$7:$AA$75)+SUMIF(Курс3!$AL$7:$AL$75,\"=\"&ROW(),Курс3!$AA$7:$AA$75)+SUMIF(Курс4!$AL$7:$AL$75,\"=\"&ROW(),Курс4!$AA$7:$AA$75)+SUMIF(Курс5!$AL$7:$AL$75,\"=\"&ROW(),Курс5!$AA$7:$AA$75)+SUMIF(Курс6!$AL$7:$AL$75,\"=\"&ROW(),Курс6!$AA$7:$AA$75)+SUMIF(Курс7!$AL$7:$AL$75,\"=\"&ROW(),Курс7!$AA$7:$AA$75)))/IF(ЧасовВКредите>0,ЧасовВКредите,36),0.5),FT1158)","v":0},null,null,null,{"$f":"SUMIF(Курс1!$AL$7:$AL$75,\"=\"&ROW(),Курс1!$AC$7:$AC$75)+SUMIF(Курс2!$AL$7:$AL$75,\"=\"&ROW(),Курс2!$AC$7:$AC$75)+SUMIF(Курс3!$AL$7:$AL$75,\"=\"&ROW(),Курс3!$AC$7:$AC$75)+SUMIF(Курс4!$AL$7:$AL$75,\"=\"&ROW(),Курс4!$AC$7:$AC$75)+SUMIF(Курс5!$AL$7:$AL$75,\"=\"&ROW(),Курс5!$AC$7:$AC$75)+SUMIF(Курс6!$AL$7:$AL$75,\"=\"&ROW(),Курс6!$AC$7:$AC$75)+SUMIF(Курс7!$AL$7:$AL$75,\"=\"&ROW(),Курс7!$AC$7:$AC$75)","v":0}]
["",null,null,null,null,null,{"$f":"IF($FI1173>0,$FW1173,SUM(I1173:K1173)+CJ1173+IF(СЭкзаменами,SUMIF(Курс1!$AL$7:$AL$75,\"=\"&ROW(),Курс1!$AA$7:$AA$75)+SUMIF(Курс2!$AL$7:$AL$75,\"=\"&ROW(),Курс2!$AA$7:$AA$75)+SUMIF(Курс3!$AL$7:$AL$75,\"=\"&ROW(),Курс3!$AA$7:$AA$75)+SUMIF(Курс4!$AL$7:$AL$75,\"=\"&ROW(),Курс4!$AA$7:$AA$75)+SUMIF(Курс5!$AL$7:$AL$75,\"=\"&ROW(),Курс5!$AA$7:$AA$75)+SUMIF(Курс6!$AL$7:$AL$75,\"=\"&ROW(),Курс6!$AA$7:$AA$75)+SUMIF(Курс7!$AL$7:$AL$75,\"=\"&ROW(),Курс7!$AA$7:$AA$75),0))","v":0},null,0,0,null,null,null,null,null,null,null,null,null,null,null,null,null,null,null,null,null,null,null,null,null,null,null,null,null,null,null,null,null,null,null,null,null,null,null,null,null,null,null,null,null,null,null,null,null,null,null,null,null,null,null,null,null,null,null,null,null,null,0,0,0,0,0,0,0,null,0,0,0,0,0,null,0,null,null,null,null,null,0,0,0,0,0,0,0,0,0,0,0,0,0,0,0,0,0,0,0,0,0,0,0,0,0,0,0,0,0,0,0,0,0,0,0,0,0,0,0,0,0,0,0,0,0,0,0,0,0,0,0,0,0,0,0,0,0,0,0,0,0,null,0,0,0,0,0,0,0,0,0,0,0,0,0,0,0,0,0,77,null,null,null,0,{"$f":"SUM($CB$1169:$CB1173)","v":0},0,null,0,{"$f":"IF(FT1173=0,FLOOR(IF(СЭкзаменами,H1173,(H1173+SUMIF(Курс1!$AL$7:$AL$75,\"=\"&ROW(),Курс1!$AA$7:$AA$75)+SUMIF(Курс2!$AL$7:$AL$75,\"=\"&ROW(),Курс2!$AA$7:$AA$75)+SUMIF(Курс3!$AL$7:$AL$75,\"=\"&ROW(),Курс3!$AA$7:$AA$75)+SUMIF(Курс4!$AL$7:$AL$75,\"=\"&ROW(),Курс4!$AA$7:$AA$75)+SUMIF(Курс5!$AL$7:$AL$75,\"=\"&ROW(),Курс5!$AA$7:$AA$75)+SUMIF(Курс6!$AL$7:$AL$75,\"=\"&ROW(),Курс6!$AA$7:$AA$75)+SUMIF(Курс7!$AL$7:$AL$75,\"=\"&ROW(),Курс7!$AA$7:$AA$75)))/IF(ЧасовВКредите>0,ЧасовВКредите,36),0.5),FT1173)","v":0},null,null,null,{"$f":"SUMIF(Курс1!$AL$7:$AL$75,\"=\"&ROW(),Курс1!$AC$7:$AC$75)+SUMIF(Курс2!$AL$7:$AL$75,\"=\"&ROW(),Курс2!$AC$7:$AC$75)+SUMIF(Курс3!$AL$7:$AL$75,\"=\"&ROW(),Курс3!$AC$7:$AC$75)+SUMIF(Курс4!$AL$7:$AL$75,\"=\"&ROW(),Курс4!$AC$7:$AC$75)+SUMIF(Курс5!$AL$7:$AL$75,\"=\"&ROW(),Курс5!$AC$7:$AC$75)+SUMIF(Курс6!$AL$7:$AL$75,\"=\"&ROW(),Курс6!$AC$7:$AC$75)+SUMIF(Курс7!$AL$7:$AL$75,\"=\"&ROW(),Курс7!$AC$7:$AC$75)","v":0}]
["",null,null,null,null,null,{"$f":"IF($FI1184>0,$FW1184,SUM(I1184:K1184)+CJ1184+IF(СЭкзаменами,SUMIF(Курс1!$AL$7:$AL$75,\"=\"&ROW(),Курс1!$AA$7:$AA$75)+SUMIF(Курс2!$AL$7:$AL$75,\"=\"&ROW(),Курс2!$AA$7:$AA$75)+SUMIF(Курс3!$AL$7:$AL$75,\"=\"&ROW(),Курс3!$AA$7:$AA$75)+SUMIF(Курс4!$AL$7:$AL$75,\"=\"&ROW(),Курс4!$AA$7:$AA$75)+SUMIF(Курс5!$AL$7:$AL$75,\"=\"&ROW(),Курс5!$AA$7:$AA$75)+SUMIF(Курс6!$AL$7:$AL$75,\"=\"&ROW(),Курс6!$AA$7:$AA$75)+SUMIF(Курс7!$AL$7:$AL$75,\"=\"&ROW(),Курс7!$AA$7:$AA$75),0))","v":0},null,0,0,null,null,null,null,null,null,null,null,null,null,null,null,null,null,null,null,null,null,null,null,null,null,null,null,null,null,null,null,null,null,null,null,null,null,null,null,null,null,null,null,null,null,null,null,null,null,null,null,null,null,null,null,null,null,null,null,null,null,0,0,0,0,0,0,0,null,0,0,0,0,0,null,0,null,null,null,null,null,0,0,0,0,0,0,0,0,0,0,0,0,0,0,0,0,0,0,0,0,0,0,0,0,0,0,0,0,0,0,0,0,0,0,0,0,0,0,0,0,0,0,0,0,0,0,0,0,0,0,0,0,0,0,0,0,0,0,0,0,0,null,0,0,0,0,0,0,0,0,0,0,0,0,0,0,0,0,0,77,null,null,null,0,{"$f":"SUM($CB$1169:$CB1184)","v":0},0,null,0,{"$f":"IF(FT1184=0,FLOOR(IF(СЭкзаменами,H1184,(H1184+SUMIF(Курс1!$AL$7:$AL$75,\"=\"&ROW(),Курс1!$AA$7:$AA$75)+SUMIF(Курс2!$AL$7:$AL$75,\"=\"&ROW(),Курс2!$AA$7:$AA$75)+SUMIF(Курс3!$AL$7:$AL$75,\"=\"&ROW(),Курс3!$AA$7:$AA$75)+SUMIF(Курс4!$AL$7:$AL$75,\"=\"&ROW(),Курс4!$AA$7:$AA$75)+SUMIF(Курс5!$AL$7:$AL$75,\"=\"&ROW(),Курс5!$AA$7:$AA$75)+SUMIF(Курс6!$AL$7:$AL$75,\"=\"&ROW(),Курс6!$AA$7:$AA$75)+SUMIF(Курс7!$AL$7:$AL$75,\"=\"&ROW(),Курс7!$AA$7:$AA$75)))/IF(ЧасовВКредите>0,ЧасовВКредите,36),0.5),FT1184)","v":0},null,null,null,{"$f":"SUMIF(Курс1!$AL$7:$AL$75,\"=\"&ROW(),Курс1!$AC$7:$AC$75)+SUMIF(Курс2!$AL$7:$AL$75,\"=\"&ROW(),Курс2!$AC$7:$AC$75)+SUMIF(Курс3!$AL$7:$AL$75,\"=\"&ROW(),Курс3!$AC$7:$AC$75)+SUMIF(Курс4!$AL$7:$AL$75,\"=\"&ROW(),Курс4!$AC$7:$AC$75)+SUMIF(Курс5!$AL$7:$AL$75,\"=\"&ROW(),Курс5!$AC$7:$AC$75)+SUMIF(Курс6!$AL$7:$AL$75,\"=\"&ROW(),Курс6!$AC$7:$AC$75)+SUMIF(Курс7!$AL$7:$AL$75,\"=\"&ROW(),Курс7!$AC$7:$AC$75)","v":0}]
["",null,null,null,null,null,{"$f":"IF($FI1189>0,$FW1189,SUM(I1189:K1189)+CJ1189+IF(СЭкзаменами,SUMIF(Курс1!$AL$7:$AL$75,\"=\"&ROW(),Курс1!$AA$7:$AA$75)+SUMIF(Курс2!$AL$7:$AL$75,\"=\"&ROW(),Курс2!$AA$7:$AA$75)+SUMIF(Курс3!$AL$7:$AL$75,\"=\"&ROW(),Курс3!$AA$7:$AA$75)+SUMIF(Курс4!$AL$7:$AL$75,\"=\"&ROW(),Курс4!$AA$7:$AA$75)+SUMIF(Курс5!$AL$7:$AL$75,\"=\"&ROW(),Курс5!$AA$7:$AA$75)+SUMIF(Курс6!$AL$7:$AL$75,\"=\"&ROW(),Курс6!$AA$7:$AA$75)+SUMIF(Курс7!$AL$7:$AL$75,\"=\"&ROW(),Курс7!$AA$7:$AA$75),0))","v":0},null,0,0,null,null,null,null,null,null,null,null,null,null,null,null,null,null,null,null,null,null,null,null,null,null,null,null,null,null,null,null,null,null,null,null,null,null,null,null,null,null,null,null,null,null,null,null,null,null,null,null,null,null,null,null,null,null,null,null,null,null,0,0,0,0,0,0,0,null,0,0,0,0,0,null,0,null,null,null,null,null,0,0,0,0,0,0,0,0,0,0,0,0,0,0,0,0,0,0,0,0,0,0,0,0,0,0,0,0,0,0,0,0,0,0,0,0,0,0,0,0,0,0,0,0,0,0,0,0,0,0,0,0,0,0,0,0,0,0,0,0,0,null,0,0,0,0,0,0,0,0,0,0,0,0,0,0,0,0,0,77,null,null,null,0,{"$f":"SUM($CB$1169:$CB1189)","v":0},0,null,0,{"$f":"IF(FT1189=0,FLOOR(IF(СЭкзаменами,H1189,(H1189+SUMIF(Курс1!$AL$7:$AL$75,\"=\"&ROW(),Курс1!$AA$7:$AA$75)+SUMIF(Курс2!$AL$7:$AL$75,\"=\"&ROW(),Курс2!$AA$7:$AA$75)+SUMIF(Курс3!$AL$7:$AL$75,\"=\"&ROW(),Курс3!$AA$7:$AA$75)+SUMIF(Курс4!$AL$7:$AL$75,\"=\"&ROW(),Курс4!$AA$7:$AA$75)+SUMIF(Курс5!$AL$7:$AL$75,\"=\"&ROW(),Курс5!$AA$7:$AA$75)+SUMIF(Курс6!$AL$7:$AL$75,\"=\"&ROW(),Курс6!$AA$7:$AA$75)+SUMIF(Курс7!$AL$7:$AL$75,\"=\"&ROW(),Курс7!$AA$7:$AA$75)))/IF(ЧасовВКредите>0,ЧасовВКредите,36),0.5),FT1189)","v":0},null,null,null,{"$f":"SUMIF(Курс1!$AL$7:$AL$75,\"=\"&ROW(),Курс1!$AC$7:$AC$75)+SUMIF(Курс2!$AL$7:$AL$75,\"=\"&ROW(),Курс2!$AC$7:$AC$75)+SUMIF(Курс3!$AL$7:$AL$75,\"=\"&ROW(),Курс3!$AC$7:$AC$75)+SUMIF(Курс4!$AL$7:$AL$75,\"=\"&ROW(),Курс4!$AC$7:$AC$75)+SUMIF(Курс5!$AL$7:$AL$75,\"=\"&ROW(),Курс5!$AC$7:$AC$75)+SUMIF(Курс6!$AL$7:$AL$75,\"=\"&ROW(),Курс6!$AC$7:$AC$75)+SUMIF(Курс7!$AL$7:$AL$75,\"=\"&ROW(),Курс7!$AC$7:$AC$75)","v":0}]
["",null,null,null,null,null,{"$f":"IF($FI1204>0,$FW1204,SUM(I1204:K1204)+CJ1204+IF(СЭкзаменами,SUMIF(Курс1!$AL$7:$AL$75,\"=\"&ROW(),Курс1!$AA$7:$AA$75)+SUMIF(Курс2!$AL$7:$AL$75,\"=\"&ROW(),Курс2!$AA$7:$AA$75)+SUMIF(Курс3!$AL$7:$AL$75,\"=\"&ROW(),Курс3!$AA$7:$AA$75)+SUMIF(Курс4!$AL$7:$AL$75,\"=\"&ROW(),Курс4!$AA$7:$AA$75)+SUMIF(Курс5!$AL$7:$AL$75,\"=\"&ROW(),Курс5!$AA$7:$AA$75)+SUMIF(Курс6!$AL$7:$AL$75,\"=\"&ROW(),Курс6!$AA$7:$AA$75)+SUMIF(Курс7!$AL$7:$AL$75,\"=\"&ROW(),Курс7!$AA$7:$AA$75),0))","v":0},null,0,0,null,null,null,null,null,null,null,null,null,null,null,null,null,null,null,null,null,null,null,null,null,null,null,null,null,null,null,null,null,null,null,null,null,null,null,null,null,null,null,null,null,null,null,null,null,null,null,null,null,null,null,null,null,null,null,null,null,null,0,0,0,0,0,0,0,null,0,0,0,0,0,null,0,null,null,null,null,null,0,0,0,0,0,0,0,0,0,0,0,0,0,0,0,0,0,0,0,0,0,0,0,0,0,0,0,0,0,0,0,0,0,0,0,0,0,0,0,0,0,0,0,0,0,0,0,0,0,0,0,0,0,0,0,0,0,0,0,0,0,null,0,0,0,0,0,0,0,0,0,0,0,0,0,0,0,0,0,77,null,null,null,0,{"$f":"SUM($CB$1169:$CB1204)","v":0},0,null,0,{"$f":"IF(FT1204=0,FLOOR(IF(СЭкзаменами,H1204,(H1204+SUMIF(Курс1!$AL$7:$AL$75,\"=\"&ROW(),Курс1!$AA$7:$AA$75)+SUMIF(Курс2!$AL$7:$AL$75,\"=\"&ROW(),Курс2!$AA$7:$AA$75)+SUMIF(Курс3!$AL$7:$AL$75,\"=\"&ROW(),Курс3!$AA$7:$AA$75)+SUMIF(Курс4!$AL$7:$AL$75,\"=\"&ROW(),Курс4!$AA$7:$AA$75)+SUMIF(Курс5!$AL$7:$AL$75,\"=\"&ROW(),Курс5!$AA$7:$AA$75)+SUMIF(Курс6!$AL$7:$AL$75,\"=\"&ROW(),Курс6!$AA$7:$AA$75)+SUMIF(Курс7!$AL$7:$AL$75,\"=\"&ROW(),Курс7!$AA$7:$AA$75)))/IF(ЧасовВКредите>0,ЧасовВКредите,36),0.5),FT1204)","v":0},null,null,null,{"$f":"SUMIF(Курс1!$AL$7:$AL$75,\"=\"&ROW(),Курс1!$AC$7:$AC$75)+SUMIF(Курс2!$AL$7:$AL$75,\"=\"&ROW(),Курс2!$AC$7:$AC$75)+SUMIF(Курс3!$AL$7:$AL$75,\"=\"&ROW(),Курс3!$AC$7:$AC$75)+SUMIF(Курс4!$AL$7:$AL$75,\"=\"&ROW(),Курс4!$AC$7:$AC$75)+SUMIF(Курс5!$AL$7:$AL$75,\"=\"&ROW(),Курс5!$AC$7:$AC$75)+SUMIF(Курс6!$AL$7:$AL$75,\"=\"&ROW(),Курс6!$AC$7:$AC$75)+SUMIF(Курс7!$AL$7:$AL$75,\"=\"&ROW(),Курс7!$AC$7:$AC$75)","v":0}]
["",null,null,null,null,null,{"$f":"IF($FI1215>0,$FW1215,SUM(I1215:K1215)+CJ1215+IF(СЭкзаменами,SUMIF(Курс1!$AL$7:$AL$75,\"=\"&ROW(),Курс1!$AA$7:$AA$75)+SUMIF(Курс2!$AL$7:$AL$75,\"=\"&ROW(),Курс2!$AA$7:$AA$75)+SUMIF(Курс3!$AL$7:$AL$75,\"=\"&ROW(),Курс3!$AA$7:$AA$75)+SUMIF(Курс4!$AL$7:$AL$75,\"=\"&ROW(),Курс4!$AA$7:$AA$75)+SUMIF(Курс5!$AL$7:$AL$75,\"=\"&ROW(),Курс5!$AA$7:$AA$75)+SUMIF(Курс6!$AL$7:$AL$75,\"=\"&ROW(),Курс6!$AA$7:$AA$75)+SUMIF(Курс7!$AL$7:$AL$75,\"=\"&ROW(),Курс7!$AA$7:$AA$75),0))","v":0},null,0,0,null,null,null,null,null,null,null,null,null,null,null,null,null,null,null,null,null,null,null,null,null,null,null,null,null,null,null,null,null,null,null,null,null,null,null,null,null,null,null,null,null,null,null,null,null,null,null,null,null,null,null,null,null,null,null,null,null,null,0,0,0,0,0,0,0,null,0,0,0,0,0,null,0,null,null,null,null,null,0,0,0,0,0,0,0,0,0,0,0,0,0,0,0,0,0,0,0,0,0,0,0,0,0,0,0,0,0,0,0,0,0,0,0,0,0,0,0,0,0,0,0,0,0,0,0,0,0,0,0,0,0,0,0,0,0,0,0,0,0,null,0,0,0,0,0,0,0,0,0,0,0,0,0,0,0,0,0,77,null,null,null,0,{"$f":"SUM($CB$1169:$CB1215)","v":0},0,null,0,{"$f":"IF(FT1215=0,FLOOR(IF(СЭкзаменами,H1215,(H1215+SUMIF(Курс1!$AL$7:$AL$75,\"=\"&ROW(),Курс1!$AA$7:$AA$75)+SUMIF(Курс2!$AL$7:$AL$75,\"=\"&ROW(),Курс2!$AA$7:$AA$75)+SUMIF(Курс3!$AL$7:$AL$75,\"=\"&ROW(),Курс3!$AA$7:$AA$75)+SUMIF(Курс4!$AL$7:$AL$75,\"=\"&ROW(),Курс4!$AA$7:$AA$75)+SUMIF(Курс5!$AL$7:$AL$75,\"=\"&ROW(),Курс5!$AA$7:$AA$75)+SUMIF(Курс6!$AL$7:$AL$75,\"=\"&ROW(),Курс6!$AA$7:$AA$75)+SUMIF(Курс7!$AL$7:$AL$75,\"=\"&ROW(),Курс7!$AA$7:$AA$75)))/IF(ЧасовВКредите>0,ЧасовВКредите,36),0.5),FT1215)","v":0},null,null,null,{"$f":"SUMIF(Курс1!$AL$7:$AL$75,\"=\"&ROW(),Курс1!$AC$7:$AC$75)+SUMIF(Курс2!$AL$7:$AL$75,\"=\"&ROW(),Курс2!$AC$7:$AC$75)+SUMIF(Курс3!$AL$7:$AL$75,\"=\"&ROW(),Курс3!$AC$7:$AC$75)+SUMIF(Курс4!$AL$7:$AL$75,\"=\"&ROW(),Курс4!$AC$7:$AC$75)+SUMIF(Курс5!$AL$7:$AL$75,\"=\"&ROW(),Курс5!$AC$7:$AC$75)+SUMIF(Курс6!$AL$7:$AL$75,\"=\"&ROW(),Курс6!$AC$7:$AC$75)+SUMIF(Курс7!$AL$7:$AL$75,\"=\"&ROW(),Курс7!$AC$7:$AC$75)","v":0}]
["",null,null,null,null,null,{"$f":"IF($FI1220>0,$FW1220,SUM(I1220:K1220)+CJ1220+IF(СЭкзаменами,SUMIF(Курс1!$AL$7:$AL$75,\"=\"&ROW(),Курс1!$AA$7:$AA$75)+SUMIF(Курс2!$AL$7:$AL$75,\"=\"&ROW(),Курс2!$AA$7:$AA$75)+SUMIF(Курс3!$AL$7:$AL$75,\"=\"&ROW(),Курс3!$AA$7:$AA$75)+SUMIF(Курс4!$AL$7:$AL$75,\"=\"&ROW(),Курс4!$AA$7:$AA$75)+SUMIF(Курс5!$AL$7:$AL$75,\"=\"&ROW(),Курс5!$AA$7:$AA$75)+SUMIF(Курс6!$AL$7:$AL$75,\"=\"&ROW(),Курс6!$AA$7:$AA$75)+SUMIF(Курс7!$AL$7:$AL$75,\"=\"&ROW(),Курс7!$AA$7:$AA$75),0))","v":0},null,0,0,null,null,null,null,null,null,null,null,null,null,null,null,null,null,null,null,null,null,null,null,null,null,null,null,null,null,null,null,null,null,null,null,null,null,null,null,null,null,null,null,null,null,null,null,null,null,null,null,null,null,null,null,null,null,null,null,null,null,0,0,0,0,0,0,0,null,0,0,0,0,0,null,0,null,null,null,null,null,0,0,0,0,0,0,0,0,0,0,0,0,0,0,0,0,0,0,0,0,0,0,0,0,0,0,0,0,0,0,0,0,0,0,0,0,0,0,0,0,0,0,0,0,0,0,0,0,0,0,0,0,0,0,0,0,0,0,0,0,0,null,0,0,0,0,0,0,0,0,0,0,0,0,0,0,0,0,0,77,null,null,null,0,{"$f":"SUM($CB$1169:$CB1220)","v":0},0,null,0,{"$f":"IF(FT1220=0,FLOOR(IF(СЭкзаменами,H1220,(H1220+SUMIF(Курс1!$AL$7:$AL$75,\"=\"&ROW(),Курс1!$AA$7:$AA$75)+SUMIF(Курс2!$AL$7:$AL$75,\"=\"&ROW(),Курс2!$AA$7:$AA$75)+SUMIF(Курс3!$AL$7:$AL$75,\"=\"&ROW(),Курс3!$AA$7:$AA$75)+SUMIF(Курс4!$AL$7:$AL$75,\"=\"&ROW(),Курс4!$AA$7:$AA$75)+SUMIF(Курс5!$AL$7:$AL$75,\"=\"&ROW(),Курс5!$AA$7:$AA$75)+SUMIF(Курс6!$AL$7:$AL$75,\"=\"&ROW(),Курс6!$AA$7:$AA$75)+SUMIF(Курс7!$AL$7:$AL$75,\"=\"&ROW(),Курс7!$AA$7:$AA$75)))/IF(ЧасовВКредите>0,ЧасовВКредите,36),0.5),FT1220)","v":0},null,null,null,{"$f":"SUMIF(Курс1!$AL$7:$AL$75,\"=\"&ROW(),Курс1!$AC$7:$AC$75)+SUMIF(Курс2!$AL$7:$AL$75,\"=\"&ROW(),Курс2!$AC$7:$AC$75)+SUMIF(Курс3!$AL$7:$AL$75,\"=\"&ROW(),Курс3!$AC$7:$AC$75)+SUMIF(Курс4!$AL$7:$AL$75,\"=\"&ROW(),Курс4!$AC$7:$AC$75)+SUMIF(Курс5!$AL$7:$AL$75,\"=\"&ROW(),Курс5!$AC$7:$AC$75)+SUMIF(Курс6!$AL$7:$AL$75,\"=\"&ROW(),Курс6!$AC$7:$AC$75)+SUMIF(Курс7!$AL$7:$AL$75,\"=\"&ROW(),Курс7!$AC$7:$AC$75)","v":0}]
["",null,null,null,null,null,{"$f":"IF($FI1231>0,$FW1231,SUM(I1231:K1231)+CJ1231+IF(СЭкзаменами,SUMIF(Курс1!$AL$7:$AL$75,\"=\"&ROW(),Курс1!$AA$7:$AA$75)+SUMIF(Курс2!$AL$7:$AL$75,\"=\"&ROW(),Курс2!$AA$7:$AA$75)+SUMIF(Курс3!$AL$7:$AL$75,\"=\"&ROW(),Курс3!$AA$7:$AA$75)+SUMIF(Курс4!$AL$7:$AL$75,\"=\"&ROW(),Курс4!$AA$7:$AA$75)+SUMIF(Курс5!$AL$7:$AL$75,\"=\"&ROW(),Курс5!$AA$7:$AA$75)+SUMIF(Курс6!$AL$7:$AL$75,\"=\"&ROW(),Курс6!$AA$7:$AA$75)+SUMIF(Курс7!$AL$7:$AL$75,\"=\"&ROW(),Курс7!$AA$7:$AA$75),0))","v":0},null,0,0,null,null,null,null,null,null,null,null,null,null,null,null,null,null,null,null,null,null,null,null,null,null,null,null,null,null,null,null,null,null,null,null,null,null,null,null,null,null,null,null,null,null,null,null,null,null,null,null,null,null,null,null,null,null,null,null,null,null,0,0,0,0,0,0,0,null,0,0,0,0,0,null,0,null,null,null,null,null,0,0,0,0,0,0,0,0,0,0,0,0,0,0,0,0,0,0,0,0,0,0,0,0,0,0,0,0,0,0,0,0,0,0,0,0,0,0,0,0,0,0,0,0,0,0,0,0,0,0,0,0,0,0,0,0,0,0,0,0,0,null,0,0,0,0,0,0,0,0,0,0,0,0,0,0,0,0,0,78,null,null,null,0,{"$f":"SUM($CB$1229:$CB1231)","v":0},0,null,0,{"$f":"IF(FT1231=0,FLOOR(IF(СЭкзаменами,H1231,(H1231+SUMIF(Курс1!$AL$7:$AL$75,\"=\"&ROW(),Курс1!$AA$7:$AA$75)+SUMIF(Курс2!$AL$7:$AL$75,\"=\"&ROW(),Курс2!$AA$7:$AA$75)+SUMIF(Курс3!$AL$7:$AL$75,\"=\"&ROW(),Курс3!$AA$7:$AA$75)+SUMIF(Курс4!$AL$7:$AL$75,\"=\"&ROW(),Курс4!$AA$7:$AA$75)+SUMIF(Курс5!$AL$7:$AL$75,\"=\"&ROW(),Курс5!$AA$7:$AA$75)+SUMIF(Курс6!$AL$7:$AL$75,\"=\"&ROW(),Курс6!$AA$7:$AA$75)+SUMIF(Курс7!$AL$7:$AL$75,\"=\"&ROW(),Курс7!$AA$7:$AA$75)))/IF(ЧасовВКредите>0,ЧасовВКредите,36),0.5),FT1231)","v":0},null,null,null,{"$f":"SUMIF(Курс1!$AL$7:$AL$75,\"=\"&ROW(),Курс1!$AC$7:$AC$75)+SUMIF(Курс2!$AL$7:$AL$75,\"=\"&ROW(),Курс2!$AC$7:$AC$75)+SUMIF(Курс3!$AL$7:$AL$75,\"=\"&ROW(),Курс3!$AC$7:$AC$75)+SUMIF(Курс4!$AL$7:$AL$75,\"=\"&ROW(),Курс4!$AC$7:$AC$75)+SUMIF(Курс5!$AL$7:$AL$75,\"=\"&ROW(),Курс5!$AC$7:$AC$75)+SUMIF(Курс6!$AL$7:$AL$75,\"=\"&ROW(),Курс6!$AC$7:$AC$75)+SUMIF(Курс7!$AL$7:$AL$75,\"=\"&ROW(),Курс7!$AC$7:$AC$75)","v":0}]
["",null,null,null,null,null,{"$f":"IF($FI1246>0,$FW1246,SUM(I1246:K1246)+CJ1246+IF(СЭкзаменами,SUMIF(Курс1!$AL$7:$AL$75,\"=\"&ROW(),Курс1!$AA$7:$AA$75)+SUMIF(Курс2!$AL$7:$AL$75,\"=\"&ROW(),Курс2!$AA$7:$AA$75)+SUMIF(Курс3!$AL$7:$AL$75,\"=\"&ROW(),Курс3!$AA$7:$AA$75)+SUMIF(Курс4!$AL$7:$AL$75,\"=\"&ROW(),Курс4!$AA$7:$AA$75)+SUMIF(Курс5!$AL$7:$AL$75,\"=\"&ROW(),Курс5!$AA$7:$AA$75)+SUMIF(Курс6!$AL$7:$AL$75,\"=\"&ROW(),Курс6!$AA$7:$AA$75)+SUMIF(Курс7!$AL$7:$AL$75,\"=\"&ROW(),Курс7!$AA$7:$AA$75),0))","v":0},null,0,0,null,null,null,null,null,null,null,null,null,null,null,null,null,null,null,null,null,null,null,null,null,null,null,null,null,null,null,null,null,null,null,null,null,null,null,null,null,null,null,null,null,null,null,null,null,null,null,null,null,null,null,null,null,null,null,null,null,null,0,0,0,0,0,0,0,null,0,0,0,0,0,null,0,null,null,null,null,null,0,0,0,0,0,0,0,0,0,0,0,0,0,0,0,0,0,0,0,0,0,0,0,0,0,0,0,0,0,0,0,0,0,0,0,0,0,0,0,0,0,0,0,0,0,0,0,0,0,0,0,0,0,0,0,0,0,0,0,0,0,null,0,0,0,0,0,0,0,0,0,0,0,0,0,0,0,0,0,78,null,null,null,0,{"$f":"SUM($CB$1229:$CB1246)","v":0},0,null,0,{"$f":"IF(FT1246=0,FLOOR(IF(СЭкзаменами,H1246,(H1246+SUMIF(Курс1!$AL$7:$AL$75,\"=\"&ROW(),Курс1!$AA$7:$AA$75)+SUMIF(Курс2!$AL$7:$AL$75,\"=\"&ROW(),Курс2!$AA$7:$AA$75)+SUMIF(Курс3!$AL$7:$AL$75,\"=\"&ROW(),Курс3!$AA$7:$AA$75)+SUMIF(Курс4!$AL$7:$AL$75,\"=\"&ROW(),Курс4!$AA$7:$AA$75)+SUMIF(Курс5!$AL$7:$AL$75,\"=\"&ROW(),Курс5!$AA$7:$AA$75)+SUMIF(Курс6!$AL$7:$AL$75,\"=\"&ROW(),Курс6!$AA$7:$AA$75)+SUMIF(Курс7!$AL$7:$AL$75,\"=\"&ROW(),Курс7!$AA$7:$AA$75)))/IF(ЧасовВКредите>0,ЧасовВКредите,36),0.5),FT1246)","v":0},null,null,null,{"$f":"SUMIF(Курс1!$AL$7:$AL$75,\"=\"&ROW(),Курс1!$AC$7:$AC$75)+SUMIF(Курс2!$AL$7:$AL$75,\"=\"&ROW(),Курс2!$AC$7:$AC$75)+SUMIF(Курс3!$AL$7:$AL$75,\"=\"&ROW(),Курс3!$AC$7:$AC$75)+SUMIF(Курс4!$AL$7:$AL$75,\"=\"&ROW(),Курс4!$AC$7:$AC$75)+SUMIF(Курс5!$AL$7:$AL$75,\"=\"&ROW(),Курс5!$AC$7:$AC$75)+SUMIF(Курс6!$AL$7:$AL$75,\"=\"&ROW(),Курс6!$AC$7:$AC$75)+SUMIF(Курс7!$AL$7:$AL$75,\"=\"&ROW(),Курс7!$AC$7:$AC$75)","v":0}]
["",null,null,null,null,null,{"$f":"IF($FI1251>0,$FW1251,SUM(I1251:K1251)+CJ1251+IF(СЭкзаменами,SUMIF(Курс1!$AL$7:$AL$75,\"=\"&ROW(),Курс1!$AA$7:$AA$75)+SUMIF(Курс2!$AL$7:$AL$75,\"=\"&ROW(),Курс2!$AA$7:$AA$75)+SUMIF(Курс3!$AL$7:$AL$75,\"=\"&ROW(),Курс3!$AA$7:$AA$75)+SUMIF(Курс4!$AL$7:$AL$75,\"=\"&ROW(),Курс4!$AA$7:$AA$75)+SUMIF(Курс5!$AL$7:$AL$75,\"=\"&ROW(),Курс5!$AA$7:$AA$75)+SUMIF(Курс6!$AL$7:$AL$75,\"=\"&ROW(),Курс6!$AA$7:$AA$75)+SUMIF(Курс7!$AL$7:$AL$75,\"=\"&ROW(),Курс7!$AA$7:$AA$75),0))","v":0},null,0,0,null,null,null,null,null,null,null,null,null,null,null,null,null,null,null,null,null,null,null,null,null,null,null,null,null,null,null,null,null,null,null,null,null,null,null,null,null,null,null,null,null,null,null,null,null,null,null,null,null,null,null,null,null,null,null,null,null,null,0,0,0,0,0,0,0,null,0,0,0,0,0,null,0,null,null,null,null,null,0,0,0,0,0,0,0,0,0,0,0,0,0,0,0,0,0,0,0,0,0,0,0,0,0,0,0,0,0,0,0,0,0,0,0,0,0,0,0,0,0,0,0,0,0,0,0,0,0,0,0,0,0,0,0,0,0,0,0,0,0,null,0,0,0,0,0,0,0,0,0,0,0,0,0,0,0,0,0,78,null,null,null,0,{"$f":"SUM($CB$1229:$CB1251)","v":0},0,null,0,{"$f":"IF(FT1251=0,FLOOR(IF(СЭкзаменами,H1251,(H1251+SUMIF(Курс1!$AL$7:$AL$75,\"=\"&ROW(),Курс1!$AA$7:$AA$75)+SUMIF(Курс2!$AL$7:$AL$75,\"=\"&ROW(),Курс2!$AA$7:$AA$75)+SUMIF(Курс3!$AL$7:$AL$75,\"=\"&ROW(),Курс3!$AA$7:$AA$75)+SUMIF(Курс4!$AL$7:$AL$75,\"=\"&ROW(),Курс4!$AA$7:$AA$75)+SUMIF(Курс5!$AL$7:$AL$75,\"=\"&ROW(),Курс5!$AA$7:$AA$75)+SUMIF(Курс6!$AL$7:$AL$75,\"=\"&ROW(),Курс6!$AA$7:$AA$75)+SUMIF(Курс7!$AL$7:$AL$75,\"=\"&ROW(),Курс7!$AA$7:$AA$75)))/IF(ЧасовВКредите>0,ЧасовВКредите,36),0.5),FT1251)","v":0},null,null,null,{"$f":"SUMIF(Курс1!$AL$7:$AL$75,\"=\"&ROW(),Курс1!$AC$7:$AC$75)+SUMIF(Курс2!$AL$7:$AL$75,\"=\"&ROW(),Курс2!$AC$7:$AC$75)+SUMIF(Курс3!$AL$7:$AL$75,\"=\"&ROW(),Курс3!$AC$7:$AC$75)+SUMIF(Курс4!$AL$7:$AL$75,\"=\"&ROW(),Курс4!$AC$7:$AC$75)+SUMIF(Курс5!$AL$7:$AL$75,\"=\"&ROW(),Курс5!$AC$7:$AC$75)+SUMIF(Курс6!$AL$7:$AL$75,\"=\"&ROW(),Курс6!$AC$7:$AC$75)+SUMIF(Курс7!$AL$7:$AL$75,\"=\"&ROW(),Курс7!$AC$7:$AC$75)","v":0}]
["",null,null,null,null,null,{"$f":"IF($FI1262>0,$FW1262,SUM(I1262:K1262)+CJ1262+IF(СЭкзаменами,SUMIF(Курс1!$AL$7:$AL$75,\"=\"&ROW(),Курс1!$AA$7:$AA$75)+SUMIF(Курс2!$AL$7:$AL$75,\"=\"&ROW(),Курс2!$AA$7:$AA$75)+SUMIF(Курс3!$AL$7:$AL$75,\"=\"&ROW(),Курс3!$AA$7:$AA$75)+SUMIF(Курс4!$AL$7:$AL$75,\"=\"&ROW(),Курс4!$AA$7:$AA$75)+SUMIF(Курс5!$AL$7:$AL$75,\"=\"&ROW(),Курс5!$AA$7:$AA$75)+SUMIF(Курс6!$AL$7:$AL$75,\"=\"&ROW(),Курс6!$AA$7:$AA$75)+SUMIF(Курс7!$AL$7:$AL$75,\"=\"&ROW(),Курс7!$AA$7:$AA$75),0))","v":0},null,0,0,null,null,null,null,null,null,null,null,null,null,null,null,null,null,null,null,null,null,null,null,null,null,null,null,null,null,null,null,null,null,null,null,null,null,null,null,null,null,null,null,null,null,null,null,null,null,null,null,null,null,null,null,null,null,null,null,null,null,0,0,0,0,0,0,0,null,0,{"$f":"IF(AND(UPPER(LEFT(B1262,8))=\"ИТОГОВЫЙ\",TRIM(C1262)<>\"\"),1,0)","v":0},{"$f":"IF(SUM(G1262:H1262)=0,0,IF(SUM(L1262:O1262,T1262:W1262,AB1262:AE1262,AJ1262:AM1262,AR1262:AU1262,AZ1262:BC1262)=0,3,IF(SUM(P1262:S1262,X1262:AA1262,AF1262:AI1262,AN1262:AQ1262,AV1262:AY1262,BD1262:BG1262)=0,1,2)))","v":0},0,0,null,{"$f":"CL1262+CP1262+CT1262+CX1262+DB1262+DF1262+DJ1262+DN1262+DR1262+DV1262+DZ1262+ED1262+CM1262+CQ1262+CU1262+CY1262+DC1262+DG1262+DK1262+DO1262+DS1262+DW1262+EA1262+EE1262","v":0},null,null,null,null,null,{"$f":"SUM(I1262:K1262)","v":0},0,0,0,0,0,0,0,0,0,0,0,0,0,0,0,0,0,0,0,0,0,0,0,0,0,0,0,0,0,0,0,0,0,0,0,0,0,0,0,0,0,0,0,0,0,0,0,0,0,0,0,0,0,0,0,0,0,0,0,0,null,{"$f":"IF(SUM(L1262:O1262)>0,1,0)","v":0},{"$f":"IF(SUM(P1262:S1262)>0,1,0)","v":0},{"$f":"IF(SUM(T1262:W1262)>0,1,0)","v":0},{"$f":"IF(SUM(X1262:AA1262)>0,1,0)","v":0},{"$f":"IF(SUM(AB1262:AE1262)>0,1,0)","v":0},{"$f":"IF(SUM(AF1262:AI1262)>0,1,0)","v":0},{"$f":"IF(SUM(AJ1262:AM1262)>0,1,0)","v":0},{"$f":"IF(SUM(AN1262:AQ1262)>0,1,0)","v":0},{"$f":"IF(SUM(AR1262:AU1262)>0,1,0)","v":0},{"$f":"IF(SUM(AV1262:AY1262)>0,1,0)","v":0},{"$f":"IF(SUM(AZ1262:BC1262)>0,1,0)","v":0},{"$f":"IF(SUM(BD1262:BG1262)>0,1,0)","v":0},0,0,0,0,0,78,null,null,null,0,{"$f":"SUM($CB$1229:$CB1262)","v":0},0,null,0,{"$f":"IF(FT1262=0,FLOOR(IF(СЭкзаменами,H1262,(H1262+SUMIF(Курс1!$AL$7:$AL$75,\"=\"&ROW(),Курс1!$AA$7:$AA$75)+SUMIF(Курс2!$AL$7:$AL$75,\"=\"&ROW(),Курс2!$AA$7:$AA$75)+SUMIF(Курс3!$AL$7:$AL$75,\"=\"&ROW(),Курс3!$AA$7:$AA$75)+SUMIF(Курс4!$AL$7:$AL$75,\"=\"&ROW(),Курс4!$AA$7:$AA$75)+SUMIF(Курс5!$AL$7:$AL$75,\"=\"&ROW(),Курс5!$AA$7:$AA$75)+SUMIF(Курс6!$AL$7:$AL$75,\"=\"&ROW(),Курс6!$AA$7:$AA$75)+SUMIF(Курс7!$AL$7:$AL$75,\"=\"&ROW(),Курс7!$AA$7:$AA$75)))/IF(ЧасовВКредите>0,ЧасовВКредите,36),0.5),FT1262)","v":0},null,null,null,{"$f":"SUMIF(Курс1!$AL$7:$AL$75,\"=\"&ROW(),Курс1!$AC$7:$AC$75)+SUMIF(Курс2!$AL$7:$AL$75,\"=\"&ROW(),Курс2!$AC$7:$AC$75)+SUMIF(Курс3!$AL$7:$AL$75,\"=\"&ROW(),Курс3!$AC$7:$AC$75)+SUMIF(Курс4!$AL$7:$AL$75,\"=\"&ROW(),Курс4!$AC$7:$AC$75)+SUMIF(Курс5!$AL$7:$AL$75,\"=\"&ROW(),Курс5!$AC$7:$AC$75)+SUMIF(Курс6!$AL$7:$AL$75,\"=\"&ROW(),Курс6!$AC$7:$AC$75)+SUMIF(Курс7!$AL$7:$AL$75,\"=\"&ROW(),Курс7!$AC$7:$AC$75)","v":0}]
[{"$f":"IF(B1277<>\"\",\"2\",\"\")","v":""},null,{"$f":"IF($B1277<>\"\",C1276,\"\")","v":""},{"$f":"IF($B1277<>\"\",D1276,\"\")","v":""},{"$f":"IF($B1277<>\"\",E1276,\"\")","v":""},{"$f":"IF($B1277<>\"\",F1276,\"\")","v":""},{"$f":"IF($B1277<>\"\",G1276,0)","v":0},0,0,0,0,0,0,0,0,0,0,0,0,0,0,0,0,0,0,0,0,0,0,0,0,0,0,0,0,0,0,0,{"$f":"IF($B1277<>\"\",AM1276,0)","v":0},0,0,0,0,0,0,0,0,0,0,0,0,0,0,0,0,0,0,0,0,{"$f":"IF($B1277<>\"\",BH1276,0)","v":0},0,0,0,0,0,0,0,null,0,0,0,0,0,0,0,null,{"$f":"IF($B1277<>\"\",BY1276,0)","v":0},null,{"$f":"IF(SUM(G1277:H1277)=0,0,CA1276)","v":0},0,0,null,{"$f":"IF(G1277+H1277>0,CE1276,0)","v":0},{"$f":"IF($B1277<>\"\",CF1276,\"\")","v":""},{"$f":"IF($B1277<>\"\",CG1276,\"\")","v":""},{"$f":"IF($B1277<>\"\",CH1276,\"\")","v":""},{"$f":"IF($B1277<>\"\",CI1276,\"\")","v":""},{"$f":"IF($B1277<>\"\",CJ1276,0)","v":0},{"$f":"IF($B1277<>\"\",CK1276,0)","v":0},null,null,null,null,null,null,null,null,null,null,null,null,null,null,null,null,null,null,null,null,null,null,null,null,null,null,null,null,null,null,null,null,null,null,null,null,null,null,null,null,null,null,null,null,null,null,null,null,null,null,null,null,null,null,null,null,null,null,null,null,null,0,0,0,0,0,0,0,0,0,0,0,0,0,0,0,0,null,80,null,null,null,0,null,null,{"$f":"IF($B1277<>\"\",$FS1276,0)","v":0},{"$f":"IF($B1277<>\"\",$FT1276,0)","v":0},{"$f":"IF($B1277<>\"\",$FU1276,0)","v":0},null,null,{"$f":"IF($B1277<>\"\",FX1276,0)","v":0}]
[{"$f":"IF(B1282<>\"\",\"7\",\"\")","v":""},null,{"$f":"IF($B1282<>\"\",C1276,\"\")","v":""},{"$f":"IF($B1282<>\"\",D1276,\"\")","v":""},{"$f":"IF($B1282<>\"\",E1276,\"\")","v":""},{"$f":"IF($B1282<>\"\",F1276,\"\")","v":""},{"$f":"IF($B1282<>\"\",G1276,0)","v":0},0,0,0,0,0,0,0,0,0,0,0,0,0,0,0,0,0,0,0,0,0,0,0,0,0,0,0,0,0,0,0,{"$f":"IF($B1282<>\"\",AM1276,0)","v":0},0,0,0,0,0,0,0,0,0,0,0,0,0,0,0,0,0,0,0,0,{"$f":"IF($B1282<>\"\",BH1276,0)","v":0},0,0,0,0,0,0,0,null,0,0,0,0,0,0,{"$f":"IF($B1282<>\"\",BW1276,0)","v":0},null,{"$f":"IF($B1282<>\"\",BY1276,0)","v":0},null,{"$f":"IF(SUM(G1282:H1282)=0,0,CA1276)","v":0},0,0,null,{"$f":"IF(G1282+H1282>0,CE1276,0)","v":0},{"$f":"IF($B1282<>\"\",CF1276,\"\")","v":""},{"$f":"IF($B1282<>\"\",CG1276,\"\")","v":""},{"$f":"IF($B1282<>\"\",CH1276,\"\")","v":""},{"$f":"IF($B1282<>\"\",CI1276,\"\")","v":""},{"$f":"IF($B1282<>\"\",CJ1276,0)","v":0},{"$f":"IF($B1282<>\"\",CK1276,0)","v":0},null,null,null,null,null,null,null,null,null,null,null,null,null,null,null,null,null,null,null,null,null,null,null,null,null,null,null,null,null,null,null,null,null,null,null,null,null,null,null,null,null,null,null,null,null,null,null,null,null,null,null,null,null,null,null,null,null,null,null,null,null,0,0,0,0,0,0,0,0,0,0,0,0,0,0,0,0,null,80,null,null,null,0,null,null,0,0,0,null,null,{"$f":"IF($B1282<>\"\",FX1276,0)","v":0}]
[{"$f":"FL1291","v":81},{"$f":"IF(SUM(C1293:K1293)<>0,\"Всего\",\"\")","v":""},{"$f":"CL1286+CP1286+CT1286+CX1286+DB1286+DF1286+DJ1286+DN1286+DR1286+DV1286+DZ1286+ED1286","v":0},{"$f":"CM1286+CQ1286+CU1286+CY1286+DC1286+DG1286+DK1286+DO1286+DS1286+DW1286+EA1286+EE1286","v":0},{"$f":"CN1286+CR1286+CV1286+CZ1286+DD1286+DH1286+DL1286+DP1286+DT1286+DX1286+EB1286+EF1286","v":0},{"$f":"CO1286+CS1286+CW1286+DA1286+DE1286+DI1286+DM1286+DQ1286+DU1286+DY1286+EC1286+EG1286","v":0},{"$f":"G1286","v":0},0,0,0,0,0,0,0,0,0,0,0,0,0,0,0,0,0,0,0,0,0,0,0,0,0,0,0,0,0,0,0,0,0,0,0,0,{"$f":"AR1286","v":0},0,0,0,0,0,0,0,{"$f":"AZ1286","v":0},0,0,0,0,0,0,0,{"$f":"BH1286","v":0},0,0,0,0,0,0,0,null,null,null,null,null,null,null,null,null,null,null,0,0,0,null,null,{"$f":"EP1286","v":0},{"$f":"EQ1286","v":0},{"$f":"ER1286","v":0},{"$f":"ES1286","v":0},{"$f":"CJ1286","v":0},{"$f":"CK1286","v":0},null,null,null,null,null,null,null,null,null,null,null,null,null,null,null,null,null,null,null,null,null,null,null,null,null,null,null,null,null,null,null,null,null,null,null,null,null,null,null,null,null,null,null,null,null,null,null,null,null,null,null,null,null,null,null,null,null,null,null,null,null,null,null,null,null,null,null,null,null,null,null,null,null,null,null,0,0,null,null,null,null,null,0,null,null,null,{"$f":"FT1286","v":0},{"$f":"FU1286","v":0},null,null,{"$f":"FX1286","v":0}]
[{"$f":"IF(B1298<>\"\",\"3\",\"\")","v":""},null,{"$f":"IF($B1298<>\"\",C1296,\"\")","v":""},{"$f":"IF($B1298<>\"\",D1296,\"\")","v":""},{"$f":"IF($B1298<>\"\",E1296,\"\")","v":""},{"$f":"IF($B1298<>\"\",F1296,\"\")","v":""},{"$f":"IF($B1298<>\"\",G1296,0)","v":0},0,0,0,0,0,0,0,0,0,0,0,0,0,0,0,0,0,0,0,0,0,0,0,0,0,0,0,0,0,0,0,{"$f":"IF($B1298<>\"\",AM1296,0)","v":0},0,0,0,0,0,0,0,0,0,0,0,0,0,0,0,0,0,0,0,0,{"$f":"IF($B1298<>\"\",BH1296,0)","v":0},0,0,0,0,0,0,0,null,0,0,0,0,0,0,{"$f":"IF($B1298<>\"\",BW1296,0)","v":0},null,{"$f":"IF($B1298<>\"\",BY1296,0)","v":0},null,{"$f":"IF(SUM(G1298:H1298)=0,0,CA1296)","v":0},0,0,null,{"$f":"IF(G1298+H1298>0,CE1296,0)","v":0},{"$f":"IF($B1298<>\"\",CF1296,\"\")","v":""},{"$f":"IF($B1298<>\"\",CG1296,\"\")","v":""},{"$f":"IF($B1298<>\"\",CH1296,\"\")","v":""},{"$f":"IF($B1298<>\"\",CI1296,\"\")","v":""},{"$f":"IF($B1298<>\"\",CJ1296,0)","v":0},{"$f":"IF($B1298<>\"\",CK1296,0)","v":0},null,null,null,null,null,null,null,null,null,null,null,null,null,null,null,null,null,null,null,null,null,null,null,null,null,null,null,null,null,null,null,null,null,null,null,null,null,null,null,null,null,null,null,null,null,null,null,null,null,null,null,null,null,null,null,null,null,null,null,null,null,0,0,0,0,0,0,0,0,0,0,0,0,0,0,0,0,null,82,null,null,null,0,null,null,0,0,0,null,null,{"$f":"IF($B1298<>\"\",FX1296,0)","v":0}]
[{"$f":"IF(B1309<>\"\",\"4\",\"\")","v":""},null,{"$f":"IF($B1309<>\"\",C1306,\"\")","v":""},{"$f":"IF($B1309<>\"\",D1306,\"\")","v":""},{"$f":"IF($B1309<>\"\",E1306,\"\")","v":""},{"$f":"IF($B1309<>\"\",F1306,\"\")","v":""},{"$f":"IF($B1309<>\"\",G1306,0)","v":0},0,0,0,0,0,0,0,0,0,0,0,0,0,0,0,0,0,0,0,0,0,0,0,0,0,0,0,0,0,0,0,{"$f":"IF($B1309<>\"\",AM1306,0)","v":0},0,0,0,0,0,0,0,0,0,0,0,0,0,0,0,0,0,0,0,0,{"$f":"IF($B1309<>\"\",BH1306,0)","v":0},0,0,0,0,0,0,0,null,0,0,0,0,0,0,{"$f":"IF($B1309<>\"\",BW1306,0)","v":0},null,{"$f":"IF($B1309<>\"\",BY1306,0)","v":0},null,{"$f":"IF(SUM(G1309:H1309)=0,0,CA1306)","v":0},0,0,null,{"$f":"IF(G1309+H1309>0,CE1306,0)","v":0},{"$f":"IF($B1309<>\"\",CF1306,\"\")","v":""},{"$f":"IF($B1309<>\"\",CG1306,\"\")","v":""},{"$f":"IF($B1309<>\"\",CH1306,\"\")","v":""},{"$f":"IF($B1309<>\"\",CI1306,\"\")","v":""},{"$f":"IF($B1309<>\"\",CJ1306,0)","v":0},{"$f":"IF($B1309<>\"\",CK1306,0)","v":0},null,null,null,null,null,null,null,null,null,null,null,null,null,null,null,null,null,null,null,null,null,null,null,null,null,null,null,null,null,null,null,null,null,null,null,null,null,null,null,null,null,null,null,null,null,null,null,null,null,null,null,null,null,null,null,null,null,null,null,null,null,0,0,0,0,0,0,0,0,0,0,0,0,0,0,0,0,null,83,null,null,null,0,null,null,0,0,0,null,null,{"$f":"IF($B1309<>\"\",FX1306,0)","v":0}]
[null,null,null,null,null,null,{"$f":"SUM(I1324:K1324)","v":0},{"$f":"IF(H1323=0,\"\",IF(ABS(G1323-H1323)/H1323<=0.05,\"OK\",\">5%\"))","v":""},{"$f":"IF($G1323>0,I1323/$G1323,0)","v":0},{"$f":"IF($G1323>0,J1323/$G1323,0)","v":0},{"$f":"IF($G1323>0,K1323/$G1323,0)","v":0},null,null,null,null,null,null,null,null,null,null,null,null,null,null,null,null,null,null,null,null,null,null,null,null,null,null,null,null,null,null,null,null,null,null,null,null,null,null,null,null,null,null,null,null,null,null,null,null,null,null,null,null,null,null,null,null,null,null,null,null,null,null,null,null,null,null,null,0,0,0,null,null,null,null,null,null,null,null,null,null,null,null,null,null,null,null,null,null,null,null,null,null,null,null,null,null,null,null,null,null,null,null,null,null,null,null,null,null,null,null,null,null,null,null,null,null,null,null,null,null,null,null,null,null,null,null,null,null,null,null,null,null,null,null,null,null,null,null,null,null,null,null,null,null,null,null,null,null,null,null,null,null,null,0,0,null,null,null,null,null,0]
[{"$f":"IF(B1329<>\"\",\"4\",\"\")","v":""},null,{"$f":"IF($B1329<>\"\",C1326,\"\")","v":""},{"$f":"IF($B1329<>\"\",D1326,\"\")","v":""},{"$f":"IF($B1329<>\"\",E1326,\"\")","v":""},{"$f":"IF($B1329<>\"\",F1326,\"\")","v":""},{"$f":"IF($B1329<>\"\",G1326,0)","v":0},0,0,0,0,0,0,0,0,0,0,0,0,0,0,0,0,0,0,0,0,0,0,0,0,0,0,0,0,0,0,0,{"$f":"IF($B1329<>\"\",AM1326,0)","v":0},0,0,0,0,0,0,0,0,0,0,0,0,0,0,0,0,0,0,0,0,{"$f":"IF($B1329<>\"\",BH1326,0)","v":0},0,0,0,0,0,0,0,null,0,0,0,0,0,0,{"$f":"IF($B1329<>\"\",BW1326,0)","v":0},null,{"$f":"IF($B1329<>\"\",BY1326,0)","v":0},null,{"$f":"IF(SUM(G1329:H1329)=0,0,CA1326)","v":0},0,0,null,{"$f":"IF(G1329+H1329>0,CE1326,0)","v":0},{"$f":"IF($B1329<>\"\",CF1326,\"\")","v":""},{"$f":"IF($B1329<>\"\",CG1326,\"\")","v":""},{"$f":"IF($B1329<>\"\",CH1326,\"\")","v":""},{"$f":"IF($B1329<>\"\",CI1326,\"\")","v":""},{"$f":"IF($B1329<>\"\",CJ1326,0)","v":0},{"$f":"IF($B1329<>\"\",CK1326,0)","v":0},null,null,null,null,null,null,null,null,null,null,null,null,null,null,null,null,null,null,null,null,null,null,null,null,null,null,null,null,null,null,null,null,null,null,null,null,null,null,null,null,null,null,null,null,null,null,null,null,null,null,null,null,null,null,null,null,null,null,null,null,null,0,0,0,0,0,0,0,0,0,0,0,0,0,0,0,0,null,85,null,null,null,0,null,null,0,0,0,null,null,{"$f":"IF($B1329<>\"\",FX1326,0)","v":0}]
[{"$f":"IF(B1340<>\"\",\"5\",\"\")","v":""},null,{"$f":"IF($B1340<>\"\",C1336,\"\")","v":""},{"$f":"IF($B1340<>\"\",D1336,\"\")","v":""},{"$f":"IF($B1340<>\"\",E1336,\"\")","v":""},{"$f":"IF($B1340<>\"\",F1336,\"\")","v":""},{"$f":"IF($B1340<>\"\",G1336,0)","v":0},0,0,0,0,0,0,0,0,0,0,0,0,0,0,0,0,0,0,0,0,0,0,0,0,0,0,0,0,0,0,0,{"$f":"IF($B1340<>\"\",AM1336,0)","v":0},0,0,0,0,0,0,0,0,0,0,0,0,0,0,0,0,0,0,0,0,{"$f":"IF($B1340<>\"\",BH1336,0)","v":0},0,0,0,0,0,0,0,null,0,0,0,0,0,0,{"$f":"IF($B1340<>\"\",BW1336,0)","v":0},null,{"$f":"IF($B1340<>\"\",BY1336,0)","v":0},null,{"$f":"IF(SUM(G1340:H1340)=0,0,CA1336)","v":0},0,0,null,{"$f":"IF(G1340+H1340>0,CE1336,0)","v":0},{"$f":"IF($B1340<>\"\",CF1336,\"\")","v":""},{"$f":"IF($B1340<>\"\",CG1336,\"\")","v":""},{"$f":"IF($B1340<>\"\",CH1336,\"\")","v":""},{"$f":"IF($B1340<>\"\",CI1336,\"\")","v":""},{"$f":"IF($B1340<>\"\",CJ1336,0)","v":0},{"$f":"IF($B1340<>\"\",CK1336,0)","v":0},null,null,null,null,null,null,null,null,null,null,null,null,null,null,null,null,null,null,null,null,null,null,null,null,null,null,null,null,null,null,null,null,null,null,null,null,null,null,null,null,null,null,null,null,null,null,null,null,null,null,null,null,null,null,null,null,null,null,null,null,null,0,0,0,0,0,0,0,0,0,0,0,0,0,0,0,0,null,86,null,null,null,0,null,null,0,0,0,null,null,{"$f":"IF($B1340<>\"\",FX1336,0)","v":0}]
[null,{"$f":"IF(B1363<>\"\",B1168&IF(isFGOS,\".ДВ10 Дисциплины по выбору\",\".В10 Дисциплины по выбору\"),\"\")","v":""},null,null,null,null,null,null,null,null,null,null,null,null,null,null,null,null,null,null,null,null,null,null,null,null,null,null,null,null,null,null,null,null,null,null,null,null,null,null,null,null,null,null,null,null,null,null,null,null,null,null,null,null,null,null,null,null,null,null,null,null,null,null,null,null,null,null,null,null,null,null,null,null,null,null,null,null,{"$f":"CA1356","v":0},0,{"$f":"IF(OR(CA1355>0,TRIM(B1355)<>\"\"),1,0)","v":0},null,null,null,null,null,null,null,null,null,null,null,null,null,null,null,null,null,null,null,null,null,null,null,null,null,null,null,null,null,null,null,null,null,null,null,null,null,null,null,null,null,null,null,null,null,null,null,null,null,null,null,null,null,null,null,null,null,null,null,null,null,null,null,null,null,null,null,null,null,{"$f":"EU1356","v":0},0,0,0,0,0,0,0,0,0,0,0,0,0,0,0,null,null,null,null,null,0]
[{"$f":"IF(B1360<>\"\",\"5\",\"\")","v":""},null,{"$f":"IF($B1360<>\"\",C1356,\"\")","v":""},{"$f":"IF($B1360<>\"\",D1356,\"\")","v":""},{"$f":"IF($B1360<>\"\",E1356,\"\")","v":""},{"$f":"IF($B1360<>\"\",F1356,\"\")","v":""},{"$f":"IF($B1360<>\"\",G1356,0)","v":0},0,0,0,0,0,0,0,0,0,0,0,0,0,0,0,0,0,0,0,0,0,0,0,0,0,0,0,0,0,0,0,{"$f":"IF($B1360<>\"\",AM1356,0)","v":0},0,0,0,0,0,0,0,0,0,0,0,0,0,0,0,0,0,0,0,0,{"$f":"IF($B1360<>\"\",BH1356,0)","v":0},0,0,0,0,0,0,0,null,0,0,0,0,0,0,{"$f":"IF($B1360<>\"\",BW1356,0)","v":0},null,{"$f":"IF($B1360<>\"\",BY1356,0)","v":0},null,{"$f":"IF(SUM(G1360:H1360)=0,0,CA1356)","v":0},0,0,null,{"$f":"IF(G1360+H1360>0,CE1356,0)","v":0},{"$f":"IF($B1360<>\"\",CF1356,\"\")","v":""},{"$f":"IF($B1360<>\"\",CG1356,\"\")","v":""},{"$f":"IF($B1360<>\"\",CH1356,\"\")","v":""},{"$f":"IF($B1360<>\"\",CI1356,\"\")","v":""},{"$f":"IF($B1360<>\"\",CJ1356,0)","v":0},{"$f":"IF($B1360<>\"\",CK1356,0)","v":0},null,null,null,null,null,null,null,null,null,null,null,null,null,null,null,null,null,null,null,null,null,null,null,null,null,null,null,null,null,null,null,null,null,null,null,null,null,null,null,null,null,null,null,null,null,null,null,null,null,null,null,null,null,null,null,null,null,null,null,null,null,0,0,0,0,0,0,0,0,0,0,0,0,0,0,0,0,null,88,null,null,null,0,null,null,0,0,0,null,null,{"$f":"IF($B1360<>\"\",FX1356,0)","v":0}]
[{"$f":"IF(B1372<>\"\",\"7\",\"\")","v":""},null,{"$f":"IF($B1372<>\"\",C1366,\"\")","v":""},{"$f":"IF($B1372<>\"\",D1366,\"\")","v":""},{"$f":"IF($B1372<>\"\",E1366,\"\")","v":""},{"$f":"IF($B1372<>\"\",F1366,\"\")","v":""},{"$f":"IF($B1372<>\"\",G1366,0)","v":0},0,0,0,0,0,0,0,0,0,0,0,0,0,0,0,0,0,0,0,0,0,0,0,0,0,0,0,0,0,0,0,{"$f":"IF($B1372<>\"\",AM1366,0)","v":0},0,0,0,0,0,0,0,0,0,0,0,0,0,0,0,0,0,0,0,0,{"$f":"IF($B1372<>\"\",BH1366,0)","v":0},0,0,0,0,0,0,0,null,0,0,0,0,0,0,{"$f":"IF($B1372<>\"\",BW1366,0)","v":0},null,{"$f":"IF($B1372<>\"\",BY1366,0)","v":0},null,{"$f":"IF(SUM(G1372:H1372)=0,0,CA1366)","v":0},0,0,null,{"$f":"IF(G1372+H1372>0,CE1366,0)","v":0},{"$f":"IF($B1372<>\"\",CF1366,\"\")","v":""},{"$f":"IF($B1372<>\"\",CG1366,\"\")","v":""},{"$f":"IF($B1372<>\"\",CH1366,\"\")","v":""},{"$f":"IF($B1372<>\"\",CI1366,\"\")","v":""},{"$f":"IF($B1372<>\"\",CJ1366,0)","v":0},{"$f":"IF($B1372<>\"\",CK1366,0)","v":0},null,null,null,null,null,null,null,null,null,null,null,null,null,null,null,null,null,null,null,null,null,null,null,null,null,null,null,null,null,null,null,null,null,null,null,null,null,null,null,null,null,null,null,null,null,null,null,null,null,null,null,null,null,null,null,null,null,null,null,null,null,0,0,0,0,0,0,0,0,0,0,0,0,0,0,0,0,null,89,null,null,null,0,null,null,0,0,0,null,null,{"$f":"IF($B1372<>\"\",FX1366,0)","v":0}]
[{"$f":"IF(B1379<>\"\",\"4\",\"\")","v":""},null,{"$f":"IF($B1379<>\"\",C1376,\"\")","v":""},{"$f":"IF($B1379<>\"\",D1376,\"\")","v":""},{"$f":"IF($B1379<>\"\",E1376,\"\")","v":""},{"$f":"IF($B1379<>\"\",F1376,\"\")","v":""},{"$f":"IF($B1379<>\"\",G1376,0)","v":0},0,0,0,0,0,0,0,0,0,0,0,0,0,0,0,0,0,0,0,0,0,0,0,0,0,0,0,0,0,0,0,{"$f":"IF($B1379<>\"\",AM1376,0)","v":0},0,0,0,0,0,0,0,0,0,0,0,0,0,0,0,0,0,0,0,0,{"$f":"IF($B1379<>\"\",BH1376,0)","v":0},0,0,0,0,0,0,0,null,0,0,0,0,0,0,{"$f":"IF($B1379<>\"\",BW1376,0)","v":0},null,{"$f":"IF($B1379<>\"\",BY1376,0)","v":0},null,{"$f":"IF(SUM(G1379:H1379)=0,0,CA1376)","v":0},0,0,null,{"$f":"IF(G1379+H1379>0,CE1376,0)","v":0},{"$f":"IF($B1379<>\"\",CF1376,\"\")","v":""},{"$f":"IF($B1379<>\"\",CG1376,\"\")","v":""},{"$f":"IF($B1379<>\"\",CH1376,\"\")","v":""},{"$f":"IF($B1379<>\"\",CI1376,\"\")","v":""},{"$f":"IF($B1379<>\"\",CJ1376,0)","v":0},{"$f":"IF($B1379<>\"\",CK1376,0)","v":0},null,null,null,null,null,null,null,null,null,null,null,null,null,null,null,null,null,null,null,null,null,null,null,null,null,null,null,null,null,null,null,null,null,null,null,null,null,null,null,null,null,null,null,null,null,null,null,null,null,null,null,null,null,null,null,null,null,null,null,null,null,0,0,0,0,0,0,0,0,0,0,0,0,0,0,0,0,null,90,null,null,null,0,null,null,0,0,0,null,null,{"$f":"IF($B1379<>\"\",FX1376,0)","v":0}]
[{"$f":"IF(B1380<>\"\",\"5\",\"\")","v":""},null,{"$f":"IF($B1380<>\"\",C1376,\"\")","v":""},{"$f":"IF($B1380<>\"\",D1376,\"\")","v":""},{"$f":"IF($B1380<>\"\",E1376,\"\")","v":""},{"$f":"IF($B1380<>\"\",F1376,\"\")","v":""},{"$f":"IF($B1380<>\"\",G1376,0)","v":0},0,0,0,0,0,0,0,0,0,0,0,0,0,0,0,0,0,0,0,0,0,0,0,0,0,0,0,0,0,0,0,{"$f":"IF($B1380<>\"\",AM1376,0)","v":0},0,0,0,0,0,0,0,0,0,0,0,0,0,0,0,0,0,0,0,0,{"$f":"IF($B1380<>\"\",BH1376,0)","v":0},0,0,0,0,0,0,0,null,0,0,0,0,0,0,{"$f":"IF($B1380<>\"\",BW1376,0)","v":0},null,{"$f":"IF($B1380<>\"\",BY1376,0)","v":0},null,{"$f":"IF(SUM(G1380:H1380)=0,0,CA1376)","v":0},0,0,null,{"$f":"IF(G1380+H1380>0,CE1376,0)","v":0},{"$f":"IF($B1380<>\"\",CF1376,\"\")","v":""},{"$f":"IF($B1380<>\"\",CG1376,\"\")","v":""},{"$f":"IF($B1380<>\"\",CH1376,\"\")","v":""},{"$f":"IF($B1380<>\"\",CI1376,\"\")","v":""},{"$f":"IF($B1380<>\"\",CJ1376,0)","v":0},{"$f":"IF($B1380<>\"\",CK1376,0)","v":0},null,null,null,null,null,null,null,null,null,null,null,null,null,null,null,null,null,null,null,null,null,null,null,null,null,null,null,null,null,null,null,null,null,null,null,null,null,null,null,null,null,null,null,null,null,null,null,null,null,null,null,null,null,null,null,null,null,null,null,null,null,0,0,0,0,0,0,0,0,0,0,0,0,0,0,0,0,null,90,null,null,null,0,null,null,0,0,0,null,null,{"$f":"IF($B1380<>\"\",FX1376,0)","v":0}]
[{"$f":"IF(B1381<>\"\",\"6\",\"\")","v":""},null,{"$f":"IF($B1381<>\"\",C1376,\"\")","v":""},{"$f":"IF($B1381<>\"\",D1376,\"\")","v":""},{"$f":"IF($B1381<>\"\",E1376,\"\")","v":""},{"$f":"IF($B1381<>\"\",F1376,\"\")","v":""},{"$f":"IF($B1381<>\"\",G1376,0)","v":0},0,0,0,0,0,0,0,0,0,0,0,0,0,0,0,0,0,0,0,0,0,0,0,0,0,0,0,0,0,0,0,{"$f":"IF($B1381<>\"\",AM1376,0)","v":0},0,0,0,0,0,0,0,0,0,0,0,0,0,0,0,0,0,0,0,0,{"$f":"IF($B1381<>\"\",BH1376,0)","v":0},0,0,0,0,0,0,0,null,0,0,0,0,0,0,{"$f":"IF($B1381<>\"\",BW1376,0)","v":0},null,{"$f":"IF($B1381<>\"\",BY1376,0)","v":0},null,{"$f":"IF(SUM(G1381:H1381)=0,0,CA1376)","v":0},{"$f":"IF(G1381>0,1,0)","v":0},0,null,{"$f":"IF(G1381+H1381>0,CE1376,0)","v":0},{"$f":"IF($B1381<>\"\",CF1376,\"\")","v":""},{"$f":"IF($B1381<>\"\",CG1376,\"\")","v":""},{"$f":"IF($B1381<>\"\",CH1376,\"\")","v":""},{"$f":"IF($B1381<>\"\",CI1376,\"\")","v":""},{"$f":"IF($B1381<>\"\",CJ1376,0)","v":0},{"$f":"IF($B1381<>\"\",CK1376,0)","v":0},null,null,null,null,null,null,null,null,null,null,null,null,null,null,null,null,null,null,null,null,null,null,null,null,null,null,null,null,null,null,null,null,null,null,null,null,null,null,null,null,null,null,null,null,null,null,null,null,null,null,null,null,null,null,null,null,null,null,null,null,null,0,0,0,0,0,0,0,0,0,0,0,0,0,0,0,0,null,90,null,null,null,0,null,null,0,0,0,null,null,{"$f":"IF($B1381<>\"\",FX1376,0)","v":0}]
[{"$f":"IF(B1382<>\"\",\"7\",\"\")","v":""},null,{"$f":"IF($B1382<>\"\",C1376,\"\")","v":""},{"$f":"IF($B1382<>\"\",D1376,\"\")","v":""},{"$f":"IF($B1382<>\"\",E1376,\"\")","v":""},{"$f":"IF($B1382<>\"\",F1376,\"\")","v":""},{"$f":"IF($B1382<>\"\",G1376,0)","v":0},0,0,0,0,0,0,0,0,0,0,0,0,0,0,0,0,0,0,0,0,0,0,0,0,0,0,0,0,0,0,0,{"$f":"IF($B1382<>\"\",AM1376,0)","v":0},0,0,0,0,0,0,0,0,0,0,0,0,0,0,0,0,0,0,0,0,{"$f":"IF($B1382<>\"\",BH1376,0)","v":0},0,0,0,0,0,0,0,null,0,0,0,0,0,0,{"$f":"IF($B1382<>\"\",BW1376,0)","v":0},null,{"$f":"IF($B1382<>\"\",BY1376,0)","v":0},null,{"$f":"IF(SUM(G1382:H1382)=0,0,CA1376)","v":0},0,0,null,{"$f":"IF(G1382+H1382>0,CE1376,0)","v":0},{"$f":"IF($B1382<>\"\",CF1376,\"\")","v":""},{"$f":"IF($B1382<>\"\",CG1376,\"\")","v":""},{"$f":"IF($B1382<>\"\",CH1376,\"\")","v":""},{"$f":"IF($B1382<>\"\",CI1376,\"\")","v":""},{"$f":"IF($B1382<>\"\",CJ1376,0)","v":0},{"$f":"IF($B1382<>\"\",CK1376,0)","v":0},null,null,null,null,null,null,null,null,null,null,null,null,null,null,null,null,null,null,null,null,null,null,null,null,null,null,null,null,null,null,null,null,null,null,null,null,null,null,null,null,null,null,null,null,null,null,null,null,null,null,null,null,null,null,null,null,null,null,null,null,null,0,0,0,0,0,0,0,0,0,0,0,0,0,0,0,0,null,90,null,null,null,0,null,null,0,0,0,null,null,{"$f":"IF($B1382<>\"\",FX1376,0)","v":0}]
[{"$f":"FL1381","v":90},{"$f":"IF(SUM(C1383:K1383)<>0,\"Всего\",\"\")","v":""},{"$f":"CL1376+CP1376+CT1376+CX1376+DB1376+DF1376+DJ1376+DN1376+DR1376+DV1376+DZ1376+ED1376","v":0},{"$f":"CM1376+CQ1376+CU1376+CY1376+DC1376+DG1376+DK1376+DO1376+DS1376+DW1376+EA1376+EE1376","v":0},{"$f":"CN1376+CR1376+CV1376+CZ1376+DD1376+DH1376+DL1376+DP1376+DT1376+DX1376+EB1376+EF1376","v":0},{"$f":"CO1376+CS1376+CW1376+DA1376+DE1376+DI1376+DM1376+DQ1376+DU1376+DY1376+EC1376+EG1376","v":0},{"$f":"G1376","v":0},0,0,0,0,0,0,0,0,0,0,0,0,0,0,0,0,0,0,0,0,0,0,0,0,0,0,0,0,0,0,0,0,0,0,0,0,0,0,0,0,0,0,0,0,0,0,0,0,0,0,0,0,{"$f":"BH1376","v":0},0,0,0,0,0,0,0,null,null,null,null,null,null,null,null,null,null,null,0,0,0,null,null,{"$f":"EP1376","v":0},{"$f":"EQ1376","v":0},{"$f":"ER1376","v":0},{"$f":"ES1376","v":0},{"$f":"CJ1376","v":0},{"$f":"CK1376","v":0},null,null,null,null,null,null,null,null,null,null,null,null,null,null,null,null,null,null,null,null,null,null,null,null,null,null,null,null,null,null,null,null,null,null,null,null,null,null,null,null,null,null,null,null,null,null,null,null,null,null,null,null,null,null,null,null,null,null,null,null,null,null,null,null,null,null,null,null,null,null,null,null,null,null,null,0,0,null,null,null,null,null,0,null,null,null,{"$f":"FT1376","v":0},{"$f":"FU1376","v":0},null,null,{"$f":"FX1376","v":0}]
[null,null,null,null,null,null,{"$f":"SUM(I1384:K1384)","v":0},{"$f":"IF(H1383=0,\"\",IF(ABS(G1383-H1383)/H1383<=0.05,\"OK\",\">5%\"))","v":""},{"$f":"IF($G1383>0,I1383/$G1383,0)","v":0},{"$f":"IF($G1383>0,J1383/$G1383,0)","v":0},{"$f":"IF($G1383>0,K1383/$G1383,0)","v":0},null,null,null,null,null,null,null,null,null,null,null,null,null,null,null,null,null,null,null,null,null,null,null,null,null,null,null,null,null,null,null,null,null,null,null,null,null,null,null,null,null,null,null,null,null,null,null,null,null,null,null,null,null,null,null,null,null,null,null,null,null,null,null,null,null,null,null,0,0,0,null,null,null,null,null,null,null,null,null,null,null,null,null,null,null,null,null,null,null,null,null,null,null,null,null,null,null,null,null,null,null,null,null,null,null,null,null,null,null,null,null,null,null,null,null,null,null,null,null,null,null,null,null,null,null,null,null,null,null,null,null,null,null,null,null,null,null,null,null,null,null,null,null,null,null,null,null,null,null,null,null,null,null,0,0,null,null,null,null,null,0]
[null,{"$f":"IF(B1393<>\"\",B1168&IF(isFGOS,\".ДВ13 Дисциплины по выбору\",\".В13 Дисциплины по выбору\"),\"\")","v":""},null,null,null,null,null,null,null,null,null,null,null,null,null,null,null,null,null,null,null,null,null,null,null,null,null,null,null,null,null,null,null,null,null,null,null,null,null,null,null,null,null,null,null,null,null,null,null,null,null,null,null,null,null,null,null,null,null,null,null,null,null,null,null,null,null,null,null,null,null,null,null,null,null,null,null,null,{"$f":"CA1386","v":0},0,{"$f":"IF(OR(CA1385>0,TRIM(B1385)<>\"\"),1,0)","v":0},null,null,null,null,null,null,null,null,null,null,null,null,null,null,null,null,null,null,null,null,null,null,null,null,null,null,null,null,null,null,null,null,null,null,null,null,null,null,null,null,null,null,null,null,null,null,null,null,null,null,null,null,null,null,null,null,null,null,null,null,null,null,null,null,null,null,null,null,null,{"$f":"EU1386","v":0},0,0,0,0,0,0,0,0,0,0,0,0,0,0,0,null,null,null,null,null,0]
[{"$f":"IF(B1386<>\"\",\"1\",\"\")","v":""},null,null,null,null,null,{"$f":"IF($FI1386>0,$FW1386,SUM(I1386:K1386)+CJ1386+IF(СЭкзаменами,SUMIF(Курс1!$AL$7:$AL$75,\"=\"&ROW(),Курс1!$AA$7:$AA$75)+SUMIF(Курс2!$AL$7:$AL$75,\"=\"&ROW(),Курс2!$AA$7:$AA$75)+SUMIF(Курс3!$AL$7:$AL$75,\"=\"&ROW(),Курс3!$AA$7:$AA$75)+SUMIF(Курс4!$AL$7:$AL$75,\"=\"&ROW(),Курс4!$AA$7:$AA$75)+SUMIF(Курс5!$AL$7:$AL$75,\"=\"&ROW(),Курс5!$AA$7:$AA$75)+SUMIF(Курс6!$AL$7:$AL$75,\"=\"&ROW(),Курс6!$AA$7:$AA$75)+SUMIF(Курс7!$AL$7:$AL$75,\"=\"&ROW(),Курс7!$AA$7:$AA$75),0))","v":0},null,{"$f":"SUM(L1386:N1386)+SUM(P1386:R1386)+SUM(T1386:V1386)+SUM(X1386:Z1386)+SUM(AB1386:AD1386)+SUM(AF1386:AH1386)+SUM(AJ1386:AL1386)+SUM(AN1386:AP1386)+SUM(AR1386:AT1386)+SUM(AV1386:AX1386)+SUM(AZ1386:BB1386)+SUM(BD1386:BF1386)+SUM(BH1386:BJ1386)+SUM(BL1386:BN1386)","v":0},{"$f":"O1386+S1386+W1386+AA1386+AE1386+AI1386+AM1386+AQ1386+AU1386+AY1386+BC1386+BG1386+BK1386+BO1386","v":0},null,null,null,null,null,null,null,null,null,null,null,null,null,null,null,null,null,null,null,null,null,null,null,null,null,null,null,null,null,null,null,null,null,null,null,null,null,null,null,null,null,null,null,null,null,null,null,null,null,null,null,null,null,null,null,null,null,null,{"$f":"IF(SUM($L1386:$S1386)>0,SUM($L1386:$S1386)/SUM($L1386:$BO1386),0)","v":0},{"$f":"IF(SUM($T1386:$AA1386)>0,SUM($T1386:$AA1386)/SUM($L1386:$BO1386),0)","v":0},{"$f":"IF(SUM($AB1386:$AI1386)>0,SUM($AB1386:$AI1386)/SUM($L1386:$BO1386),0)","v":0},{"$f":"IF(SUM($AJ1386:$AQ1386)>0,SUM($AJ1386:$AQ1386)/SUM($L1386:$BO1386),0)","v":0},{"$f":"IF(SUM($AR1386:$AY1386)>0,SUM($AR1386:$AY1386)/SUM($L1386:$BO1386),0)","v":0},{"$f":"IF(SUM($AZ1386:$BG1386)>0,SUM($AZ1386:$BG1386)/SUM($L1386:$BO1386),0)","v":0},{"$f":"IF(SUM($BH1386:$BO1386)>0,SUM($BH1386:$BO1386)/SUM($L1386:$BO1386),0)","v":0},null,{"$f":"IF(7-COUNTBLANK(A1386:$A1392)<>0,($H1386*MAX(1,$BX1386)*($BQ1386*Конт1+$BR1386*Конт2+$BS1386*Конт3+$BT1386*Конт4+$BU1386*Конт5+$BV1386*Конт6)/IF(СреднееКСГ>0,СреднееКСГ,21)+((CL1386+CP1386)*Экз+(CM1386+CQ1386)*Зач+(CN1386+CR1386)*Проект+(CO1386+CS1386)*Работа)*Конт1+((CT1386+CX1386)*Экз+(CU1386+CY1386)*Зач+(CV1386+CZ1386)*Проект+(CW1386+DA1386)*Работа)*Конт2+((DB1386+DF1386)*Экз+(DC1386+DG1386)*Зач+(DD1386+DH1386)*Проект+(DE1386+DI1386)*Работа)*Конт3+((DJ1386+DN1386)*Экз+(DK1386+DO1386)*Зач+(DL1386+DP1386)*Проект+(DM1386+DQ1386)*Работа)*Конт4+((DR1386+DV1386)*Экз+(DO1386+DW1386)*Зач+(DT1386+DX1386)*Проект+(DU1386+DY1386)*Работа)*Конт5+((DZ1386+ED1386)*Экз+(EA1386+EE1386)*Зач+(EB1386+EF1386)*Проект+(EC1386+EG1386)*Работа)*Конт6)/(7-COUNTBLANK(A1386:$A1392)),0)","v":0},null,{"$f":"IF(SUM(G1386:H1386)=0,0,IF(SUM(L1386:O1386,T1386:W1386,AB1386:AE1386,AJ1386:AM1386,AR1386:AU1386,AZ1386:BC1386)=0,3,IF(SUM(P1386:S1386,X1386:AA1386,AF1386:AI1386,AN1386:AQ1386,AV1386:AY1386,BD1386:BG1386)=0,1,2)))","v":0},0,0,null,{"$f":"CL1386+CP1386+CT1386+CX1386+DB1386+DF1386+DJ1386+DN1386+DR1386+DV1386+DZ1386+ED1386+CM1386+CQ1386+CU1386+CY1386+DC1386+DG1386+DK1386+DO1386+DS1386+DW1386+EA1386+EE1386","v":0},null,null,null,null,null,{"$f":"SUM(I1386:K1386)","v":0},{"$f":"IF(OR($FI1386=1,$FP1386=1),0,IF(ISNUMBER(FIND(CL$2,$C1386,1)),MAX(1-$BZ1386,0),0))","v":0},{"$f":"IF(OR($FI1386=1,$FP1386=1),0,IF(ISNUMBER(FIND(CL$2,$D1386,1)),1,0))","v":0},{"$f":"IF(ISNUMBER(FIND(CL$2,$E1386,1)),IF(OR(FI1386=1,$FP1386=1),0,1),0)","v":0},{"$f":"IF(ISNUMBER(FIND(CL$2,$F1386,1)),IF(OR(FI1386=1,$FP1386=1),0,1),0)","v":0},{"$f":"IF(OR($FI1386=1,$FP1386=1),0,IF(ISNUMBER(FIND(CP$2,$C1386,1)),MAX(1-$BZ1386,0),0))","v":0},{"$f":"IF(OR($FI1386=1,$FP1386=1),0,IF(ISNUMBER(FIND(CP$2,$D1386,1)),1,0))","v":0},{"$f":"IF(ISNUMBER(FIND(CP$2,$E1386,1)),IF(OR(FI1386=1,$FP1386=1),0,1),0)","v":0},{"$f":"IF(ISNUMBER(FIND(CP$2,$F1386,1)),IF(OR($FI1386=1,$FP1386=1),0,1),0)","v":0},{"$f":"IF(OR($FI1386=1,$FP1386=1),0,IF(ISNUMBER(FIND(CT$2,$C1386,1)),MAX(1-$BZ1386,0),0))","v":0},{"$f":"IF(OR($FI1386=1,$FP1386=1),0,IF(ISNUMBER(FIND(CT$2,$D1386,1)),1,0))","v":0},{"$f":"IF(ISNUMBER(FIND(CT$2,$E1386,1)),IF(OR($FI1386=1,$FP1386=1),0,1),0)","v":0},{"$f":"IF(ISNUMBER(FIND(CT$2,$F1386,1)),IF(OR($FI1386=1,$FP1386=1),0,1),0)","v":0},{"$f":"IF(OR($FI1386=1,$FP1386=1),0,IF(ISNUMBER(FIND(CX$2,$C1386,1)),MAX(1-$BZ1386,0),0))","v":0},{"$f":"IF(OR($FI1386=1,$FP1386=1),0,IF(ISNUMBER(FIND(CX$2,$D1386,1)),1,0))","v":0},{"$f":"IF(ISNUMBER(FIND(CX$2,$E1386,1)),IF(OR($FI1386=1,$FP1386=1),0,1),0)","v":0},{"$f":"IF(ISNUMBER(FIND(CX$2,$F1386,1)),IF(OR($FI1386=1,$FP1386=1),0,1),0)","v":0},{"$f":"IF(OR($FI1386=1,$FP1386=1),0,IF(ISNUMBER(FIND(DB$2,$C1386,1)),MAX(1-$BZ1386,0),0))","v":0},{"$f":"IF(OR($FI1386=1,$FP1386=1),0,IF(ISNUMBER(FIND(DB$2,$D1386,1)),1,0))","v":0},{"$f":"IF(ISNUMBER(FIND(DB$2,$E1386,1)),IF(OR($FI1386=1,$FP1386=1),0,1),0)","v":0},{"$f":"IF(ISNUMBER(FIND(DB$2,$F1386,1)),IF(OR($FI1386=1,$FP1386=1),0,1),0)","v":0},{"$f":"IF(OR($FI1386=1,$FP1386=1),0,IF(ISNUMBER(FIND(DF$2,$C1386,1)),MAX(1-$BZ1386,0),0))","v":0},{"$f":"IF(OR($FI1386=1,$FP1386=1),0,IF(ISNUMBER(FIND(DF$2,$D1386,1)),1,0))","v":0},{"$f":"IF(ISNUMBER(FIND(DF$2,$E1386,1)),IF(OR($FI1386=1,$FP1386=1),0,1),0)","v":0},{"$f":"IF(ISNUMBER(FIND(DF$2,$F1386,1)),IF(OR($FI1386=1,$FP1386=1),0,1),0)","v":0},{"$f":"IF(OR($FI1386=1,$FP1386=1),0,IF(ISNUMBER(FIND(DJ$2,$C1386,1)),MAX(1-$BZ1386,0),0))","v":0},{"$f":"IF(OR($FI1386=1,$FP1386=1),0,IF(ISNUMBER(FIND(DJ$2,$D1386,1)),1,0))","v":0},{"$f":"IF(ISNUMBER(FIND(DJ$2,$E1386,1)),IF(OR($FI1386=1,$FP1386=1),0,1),0)","v":0},{"$f":"IF(ISNUMBER(FIND(DJ$2,$F1386,1)),IF(OR($FI1386=1,$FP1386=1),0,1),0)","v":0},{"$f":"IF(OR($FI1386=1,$FP1386=1),0,IF(ISNUMBER(FIND(DN$2,$C1386,1)),MAX(1-$BZ1386,0),0))","v":0},{"$f":"IF(OR($FI1386=1,$FP1386=1),0,IF(ISNUMBER(FIND(DN$2,$D1386,1)),1,0))","v":0},{"$f":"IF(ISNUMBER(FIND(DN$2,$E1386,1)),IF(OR($FI1386=1,$FP1386=1),0,1),0)","v":0},{"$f":"IF(ISNUMBER(FIND(DN$2,$F1386,1)),IF(OR($FI1386=1,$FP1386=1),0,1),0)","v":0},{"$f":"IF(OR($FI1386=1,$FP1386=1),0,IF(ISNUMBER(FIND(DR$2,$C1386,1)),MAX(1-$BZ1386,0),0))","v":0},{"$f":"IF(OR($FI1386=1,$FP1386=1),0,IF(ISNUMBER(FIND(DR$2,$D1386,1)),1,0))","v":0},{"$f":"IF(ISNUMBER(FIND(DR$2,$E1386,1)),IF(OR($FI1386=1,$FP1386=1),0,1),0)","v":0},{"$f":"IF(ISNUMBER(FIND(DR$2,$F1386,1)),IF(OR($FI1386=1,$FP1386=1),0,1),0)","v":0},{"$f":"IF(OR($FI1386=1,$FP1386=1),0,IF(ISNUMBER(FIND(DV$2,$C1386,1)),MAX(1-$BZ1386,0),0))","v":0},{"$f":"IF(OR($FI1386=1,$FP1386=1),0,IF(ISNUMBER(FIND(DV$2,$D1386,1)),1,0))","v":0},{"$f":"IF(ISNUMBER(FIND(DV$2,$E1386,1)),IF(OR($FI1386=1,$FP1386=1),0,1),0)","v":0},{"$f":"IF(ISNUMBER(FIND(DV$2,$F1386,1)),IF(OR($FI1386=1,$FP1386=1),0,1),0)","v":0},{"$f":"IF(OR($FI1386=1,$FP1386=1),0,IF(ISNUMBER(FIND(DZ$2,$C1386,1)),MAX(1-$BZ1386,0),0))","v":0},{"$f":"IF(OR($FI1386=1,$FP1386=1),0,IF(ISNUMBER(FIND(DZ$2,$D1386,1)),1,0))","v":0},{"$f":"IF(ISNUMBER(FIND(DZ$2,$E1386,1)),IF(OR($FI1386=1,$FP1386=1),0,1),0)","v":0},{"$f":"IF(ISNUMBER(FIND(DZ$2,$F1386,1)),IF(OR($FI1386=1,$FP1386=1),0,1),0)","v":0},{"$f":"IF(OR($FI1386=1,$FP1386=1),0,IF(ISNUMBER(FIND(ED$2,$C1386,1)),MAX(1-$BZ1386,0),0))","v":0},{"$f":"IF(OR($FI1386=1,$FP1386=1),0,IF(ISNUMBER(FIND(ED$2,$D1386,1)),1,0))","v":0},{"$f":"IF(ISNUMBER(FIND(ED$2,$E1386,1)),IF(OR($FI1386=1,$FP1386=1),0,1),0)","v":0},{"$f":"IF(ISNUMBER(FIND(ED$2,$F1386,1)),IF(OR($FI1386=1,$FP1386=1),0,1),0)","v":0},{"$f":"IF(OR($FI1386=1,$FP1386=1),0,IF(ISNUMBER(FIND(EH$2,$C1386,1)),MAX(1-$BZ1386,0),0))","v":0},{"$f":"IF(OR($FI1386=1,$FP1386=1),0,IF(ISNUMBER(FIND(EH$2,$D1386,1)),1,0))","v":0},{"$f":"IF(ISNUMBER(FIND(EH$2,$E1386,1)),IF(OR($FI1386=1,$FP1386=1),0,1),0)","v":0},{"$f":"IF(ISNUMBER(FIND(EH$2,$F1386,1)),IF(OR($FI1386=1,$FP1386=1),0,1),0)","v":0},{"$f":"IF(OR($FI1386=1,$FP1386=1),0,IF(ISNUMBER(FIND(EL$2,$C1386,1)),MAX(1-$BZ1386,0),0))","v":0},{"$f":"IF(OR($FI1386=1,$FP1386=1),0,IF(ISNUMBER(FIND(EL$2,$D1386,1)),1,0))","v":0},{"$f":"IF(ISNUMBER(FIND(EL$2,$E1386,1)),IF(OR($FI1386=1,$FP1386=1),0,1),0)","v":0},{"$f":"IF(ISNUMBER(FIND(EL$2,$F1386,1)),IF(OR($FI1386=1,$FP1386=1),0,1),0)","v":0},{"$f":"IF(OR($FI1386=1,$FP1386=1),0,LEN(TRIM(CF1386)))","v":0},{"$f":"IF(OR($FI1386=1,$FP1386=1),0,LEN(TRIM(CG1386)))","v":0},{"$f":"FormKontroljaInRange(CH1386)","v":0},{"$f":"IF(OR($FI1386=1,$FP1386=1),0,LEN(TRIM(CI1386)))","v":0},null,{"$f":"IF(SUM(L1386:O1386)>0,1,0)","v":0},{"$f":"IF(SUM(P1386:S1386)>0,1,0)","v":0},{"$f":"IF(SUM(T1386:W1386)>0,1,0)","v":0},{"$f":"IF(SUM(X1386:AA1386)>0,1,0)","v":0},{"$f":"IF(SUM(AB1386:AE1386)>0,1,0)","v":0},{"$f":"IF(SUM(AF1386:AI1386)>0,1,0)","v":0},{"$f":"IF(SUM(AJ1386:AM1386)>0,1,0)","v":0},{"$f":"IF(SUM(AN1386:AQ1386)>0,1,0)","v":0},{"$f":"IF(SUM(AR1386:AU1386)>0,1,0)","v":0},{"$f":"IF(SUM(AV1386:AY1386)>0,1,0)","v":0},{"$f":"IF(SUM(AZ1386:BC1386)>0,1,0)","v":0},{"$f":"IF(SUM(BD1386:BG1386)>0,1,0)","v":0},{"$f":"IF(SUM(BH1386:BK1386)>0,1,0)","v":0},{"$f":"IF(SUM(BL1386:BO1386)>0,1,0)","v":0},0,0,null,91,null,null,null,0,null,null,null,0,{"$f":"IF(FT1386=0,FLOOR(IF(СЭкзаменами,H1386,(H1386+SUMIF(Курс1!$AL$7:$AL$75,\"=\"&ROW(),Курс1!$AA$7:$AA$75)+SUMIF(Курс2!$AL$7:$AL$75,\"=\"&ROW(),Курс2!$AA$7:$AA$75)+SUMIF(Курс3!$AL$7:$AL$75,\"=\"&ROW(),Курс3!$AA$7:$AA$75)+SUMIF(Курс4!$AL$7:$AL$75,\"=\"&ROW(),Курс4!$AA$7:$AA$75)+SUMIF(Курс5!$AL$7:$AL$75,\"=\"&ROW(),Курс5!$AA$7:$AA$75)+SUMIF(Курс6!$AL$7:$AL$75,\"=\"&ROW(),Курс6!$AA$7:$AA$75)+SUMIF(Курс7!$AL$7:$AL$75,\"=\"&ROW(),Курс7!$AA$7:$AA$75)))/IF(ЧасовВКредите>0,ЧасовВКредите,36),0.5),FT1386)","v":0},null,null,null,{"$f":"SUMIF(Курс1!$AL$7:$AL$75,\"=\"&ROW(),Курс1!$AC$7:$AC$75)+SUMIF(Курс2!$AL$7:$AL$75,\"=\"&ROW(),Курс2!$AC$7:$AC$75)+SUMIF(Курс3!$AL$7:$AL$75,\"=\"&ROW(),Курс3!$AC$7:$AC$75)+SUMIF(Курс4!$AL$7:$AL$75,\"=\"&ROW(),Курс4!$AC$7:$AC$75)+SUMIF(Курс5!$AL$7:$AL$75,\"=\"&ROW(),Курс5!$AC$7:$AC$75)+SUMIF(Курс6!$AL$7:$AL$75,\"=\"&ROW(),Курс6!$AC$7:$AC$75)+SUMIF(Курс7!$AL$7:$AL$75,\"=\"&ROW(),Курс7!$AC$7:$AC$75)","v":0}]
[{"$f":"IF(B1387<>\"\",\"2\",\"\")","v":""},null,{"$f":"IF($B1387<>\"\",C1386,\"\")","v":""},{"$f":"IF($B1387<>\"\",D1386,\"\")","v":""},{"$f":"IF($B1387<>\"\",E1386,\"\")","v":""},{"$f":"IF($B1387<>\"\",F1386,\"\")","v":""},{"$f":"IF($B1387<>\"\",G1386,0)","v":0},0,0,0,0,0,0,0,0,0,0,0,0,0,0,0,0,0,0,0,0,0,0,0,0,0,0,0,0,0,0,0,{"$f":"IF($B1387<>\"\",AM1386,0)","v":0},0,0,0,0,0,0,0,0,0,0,0,0,0,0,0,0,0,0,0,0,{"$f":"IF($B1387<>\"\",BH1386,0)","v":0},0,0,0,0,0,0,0,null,0,0,0,0,0,0,0,null,{"$f":"IF($B1387<>\"\",BY1386,0)","v":0},null,{"$f":"IF(SUM(G1387:H1387)=0,0,CA1386)","v":0},0,0,null,{"$f":"IF(G1387+H1387>0,CE1386,0)","v":0},{"$f":"IF($B1387<>\"\",CF1386,\"\")","v":""},{"$f":"IF($B1387<>\"\",CG1386,\"\")","v":""},{"$f":"IF($B1387<>\"\",CH1386,\"\")","v":""},{"$f":"IF($B1387<>\"\",CI1386,\"\")","v":""},{"$f":"IF($B1387<>\"\",CJ1386,0)","v":0},{"$f":"IF($B1387<>\"\",CK1386,0)","v":0},null,null,null,null,null,null,null,null,null,null,null,null,null,null,null,null,null,null,null,null,null,null,null,null,null,null,null,null,null,null,null,null,null,null,null,null,null,null,null,null,null,null,null,null,null,null,null,null,null,null,null,null,null,null,null,null,null,null,null,null,null,0,0,0,0,0,0,0,0,0,0,0,0,0,0,0,0,null,91,null,null,null,0,null,null,{"$f":"IF($B1387<>\"\",$FS1386,0)","v":0},{"$f":"IF($B1387<>\"\",$FT1386,0)","v":0},{"$f":"IF($B1387<>\"\",$FU1386,0)","v":0},null,null,{"$f":"IF($B1387<>\"\",FX1386,0)","v":0}]
[{"$f":"IF(B1388<>\"\",\"3\",\"\")","v":""},null,{"$f":"IF($B1388<>\"\",C1386,\"\")","v":""},{"$f":"IF($B1388<>\"\",D1386,\"\")","v":""},{"$f":"IF($B1388<>\"\",E1386,\"\")","v":""},{"$f":"IF($B1388<>\"\",F1386,\"\")","v":""},{"$f":"IF($B1388<>\"\",G1386,0)","v":0},0,0,0,0,0,0,0,0,0,0,0,0,0,0,0,0,0,0,0,0,0,0,0,0,0,0,0,0,0,0,0,{"$f":"IF($B1388<>\"\",AM1386,0)","v":0},0,0,0,0,0,0,0,0,0,0,0,0,0,0,0,0,0,0,0,0,{"$f":"IF($B1388<>\"\",BH1386,0)","v":0},0,0,0,0,0,0,0,null,0,0,0,0,0,0,{"$f":"IF($B1388<>\"\",BW1386,0)","v":0},null,{"$f":"IF($B1388<>\"\",BY1386,0)","v":0},null,{"$f":"IF(SUM(G1388:H1388)=0,0,CA1386)","v":0},0,0,null,{"$f":"IF(G1388+H1388>0,CE1386,0)","v":0},{"$f":"IF($B1388<>\"\",CF1386,\"\")","v":""},{"$f":"IF($B1388<>\"\",CG1386,\"\")","v":""},{"$f":"IF($B1388<>\"\",CH1386,\"\")","v":""},{"$f":"IF($B1388<>\"\",CI1386,\"\")","v":""},{"$f":"IF($B1388<>\"\",CJ1386,0)","v":0},{"$f":"IF($B1388<>\"\",CK1386,0)","v":0},null,null,null,null,null,null,null,null,null,null,null,null,null,null,null,null,null,null,null,null,null,null,null,null,null,null,null,null,null,null,null,null,null,null,null,null,null,null,null,null,null,null,null,null,null,null,null,null,null,null,null,null,null,null,null,null,null,null,null,null,null,0,0,0,0,0,0,0,0,0,0,0,0,0,0,0,0,null,91,null,null,null,0,null,null,0,0,0,null,null,{"$f":"IF($B1388<>\"\",FX1386,0)","v":0}]
[{"$f":"IF(B1389<>\"\",\"4\",\"\")","v":""},null,{"$f":"IF($B1389<>\"\",C1386,\"\")","v":""},{"$f":"IF($B1389<>\"\",D1386,\"\")","v":""},{"$f":"IF($B1389<>\"\",E1386,\"\")","v":""},{"$f":"IF($B1389<>\"\",F1386,\"\")","v":""},{"$f":"IF($B1389<>\"\",G1386,0)","v":0},0,0,0,0,0,0,0,0,0,0,0,0,0,0,0,0,0,0,0,0,0,0,0,0,0,0,0,0,0,0,0,{"$f":"IF($B1389<>\"\",AM1386,0)","v":0},0,0,0,0,0,0,0,0,0,0,0,0,0,0,0,0,0,0,0,0,{"$f":"IF($B1389<>\"\",BH1386,0)","v":0},0,0,0,0,0,0,0,null,0,0,0,0,0,0,{"$f":"IF($B1389<>\"\",BW1386,0)","v":0},null,{"$f":"IF($B1389<>\"\",BY1386,0)","v":0},null,{"$f":"IF(SUM(G1389:H1389)=0,0,CA1386)","v":0},0,0,null,{"$f":"IF(G1389+H1389>0,CE1386,0)","v":0},{"$f":"IF($B1389<>\"\",CF1386,\"\")","v":""},{"$f":"IF($B1389<>\"\",CG1386,\"\")","v":""},{"$f":"IF($B1389<>\"\",CH1386,\"\")","v":""},{"$f":"IF($B1389<>\"\",CI1386,\"\")","v":""},{"$f":"IF($B1389<>\"\",CJ1386,0)","v":0},{"$f":"IF($B1389<>\"\",CK1386,0)","v":0},null,null,null,null,null,null,null,null,null,null,null,null,null,null,null,null,null,null,null,null,null,null,null,null,null,null,null,null,null,null,null,null,null,null,null,null,null,null,null,null,null,null,null,null,null,null,null,null,null,null,null,null,null,null,null,null,null,null,null,null,null,0,0,0,0,0,0,0,0,0,0,0,0,0,0,0,0,null,91,null,null,null,0,null,null,0,0,0,null,null,{"$f":"IF($B1389<>\"\",FX1386,0)","v":0}]
[{"$f":"IF(B1390<>\"\",\"5\",\"\")","v":""},null,{"$f":"IF($B1390<>\"\",C1386,\"\")","v":""},{"$f":"IF($B1390<>\"\",D1386,\"\")","v":""},{"$f":"IF($B1390<>\"\",E1386,\"\")","v":""},{"$f":"IF($B1390<>\"\",F1386,\"\")","v":""},{"$f":"IF($B1390<>\"\",G1386,0)","v":0},0,0,0,0,0,0,0,0,0,0,0,0,0,0,0,0,0,0,0,0,0,0,0,0,0,0,0,0,0,0,0,{"$f":"IF($B1390<>\"\",AM1386,0)","v":0},0,0,0,0,0,0,0,0,0,0,0,0,0,0,0,0,0,0,0,0,{"$f":"IF($B1390<>\"\",BH1386,0)","v":0},0,0,0,0,0,0,0,null,0,0,0,0,0,0,{"$f":"IF($B1390<>\"\",BW1386,0)","v":0},null,{"$f":"IF($B1390<>\"\",BY1386,0)","v":0},null,{"$f":"IF(SUM(G1390:H1390)=0,0,CA1386)","v":0},0,0,null,{"$f":"IF(G1390+H1390>0,CE1386,0)","v":0},{"$f":"IF($B1390<>\"\",CF1386,\"\")","v":""},{"$f":"IF($B1390<>\"\",CG1386,\"\")","v":""},{"$f":"IF($B1390<>\"\",CH1386,\"\")","v":""},{"$f":"IF($B1390<>\"\",CI1386,\"\")","v":""},{"$f":"IF($B1390<>\"\",CJ1386,0)","v":0},{"$f":"IF($B1390<>\"\",CK1386,0)","v":0},null,null,null,null,null,null,null,null,null,null,null,null,null,null,null,null,null,null,null,null,null,null,null,null,null,null,null,null,null,null,null,null,null,null,null,null,null,null,null,null,null,null,null,null,null,null,null,null,null,null,null,null,null,null,null,null,null,null,null,null,null,0,0,0,0,0,0,0,0,0,0,0,0,0,0,0,0,null,91,null,null,null,0,null,null,0,0,0,null,null,{"$f":"IF($B1390<>\"\",FX1386,0)","v":0}]
[{"$f":"IF(B1391<>\"\",\"6\",\"\")","v":""},null,{"$f":"IF($B1391<>\"\",C1386,\"\")","v":""},{"$f":"IF($B1391<>\"\",D1386,\"\")","v":""},{"$f":"IF($B1391<>\"\",E1386,\"\")","v":""},{"$f":"IF($B1391<>\"\",F1386,\"\")","v":""},{"$f":"IF($B1391<>\"\",G1386,0)","v":0},0,0,0,0,0,0,0,0,0,0,0,0,0,0,0,0,0,0,0,0,0,0,0,0,0,0,0,0,0,0,0,{"$f":"IF($B1391<>\"\",AM1386,0)","v":0},0,0,0,0,0,0,0,0,0,0,0,0,0,0,0,0,0,0,0,0,{"$f":"IF($B1391<>\"\",BH1386,0)","v":0},0,0,0,0,0,0,0,null,0,0,0,0,0,0,{"$f":"IF($B1391<>\"\",BW1386,0)","v":0},null,{"$f":"IF($B1391<>\"\",BY1386,0)","v":0},null,{"$f":"IF(SUM(G1391:H1391)=0,0,CA1386)","v":0},{"$f":"IF(G1391>0,1,0)","v":0},0,null,{"$f":"IF(G1391+H1391>0,CE1386,0)","v":0},{"$f":"IF($B1391<>\"\",CF1386,\"\")","v":""},{"$f":"IF($B1391<>\"\",CG1386,\"\")","v":""},{"$f":"IF($B1391<>\"\",CH1386,\"\")","v":""},{"$f":"IF($B1391<>\"\",CI1386,\"\")","v":""},{"$f":"IF($B1391<>\"\",CJ1386,0)","v":0},{"$f":"IF($B1391<>\"\",CK1386,0)","v":0},null,null,null,null,null,null,null,null,null,null,null,null,null,null,null,null,null,null,null,null,null,null,null,null,null,null,null,null,null,null,null,null,null,null,null,null,null,null,null,null,null,null,null,null,null,null,null,null,null,null,null,null,null,null,null,null,null,null,null,null,null,0,0,0,0,0,0,0,0,0,0,0,0,0,0,0,0,null,91,null,null,null,0,null,null,0,0,0,null,null,{"$f":"IF($B1391<>\"\",FX1386,0)","v":0}]
[{"$f":"IF(B1392<>\"\",\"7\",\"\")","v":""},null,{"$f":"IF($B1392<>\"\",C1386,\"\")","v":""},{"$f":"IF($B1392<>\"\",D1386,\"\")","v":""},{"$f":"IF($B1392<>\"\",E1386,\"\")","v":""},{"$f":"IF($B1392<>\"\",F1386,\"\")","v":""},{"$f":"IF($B1392<>\"\",G1386,0)","v":0},0,0,0,0,0,0,0,0,0,0,0,0,0,0,0,0,0,0,0,0,0,0,0,0,0,0,0,0,0,0,0,{"$f":"IF($B1392<>\"\",AM1386,0)","v":0},0,0,0,0,0,0,0,0,0,0,0,0,0,0,0,0,0,0,0,0,{"$f":"IF($B1392<>\"\",BH1386,0)","v":0},0,0,0,0,0,0,0,null,0,0,0,0,0,0,{"$f":"IF($B1392<>\"\",BW1386,0)","v":0},null,{"$f":"IF($B1392<>\"\",BY1386,0)","v":0},null,{"$f":"IF(SUM(G1392:H1392)=0,0,CA1386)","v":0},{"$f":"IF(G1392>0,1,0)","v":0},0,null,{"$f":"IF(G1392+H1392>0,CE1386,0)","v":0},{"$f":"IF($B1392<>\"\",CF1386,\"\")","v":""},{"$f":"IF($B1392<>\"\",CG1386,\"\")","v":""},{"$f":"IF($B1392<>\"\",CH1386,\"\")","v":""},{"$f":"IF($B1392<>\"\",CI1386,\"\")","v":""},{"$f":"IF($B1392<>\"\",CJ1386,0)","v":0},{"$f":"IF($B1392<>\"\",CK1386,0)","v":0},null,null,null,null,null,null,null,null,null,null,null,null,null,null,null,null,null,null,null,null,null,null,null,null,null,null,null,null,null,null,null,null,null,null,null,null,null,null,null,null,null,null,null,null,null,null,null,null,null,null,null,null,null,null,null,null,null,null,null,null,null,0,0,0,0,0,0,0,0,0,0,0,0,0,0,0,0,null,91,null,null,null,0,null,null,0,0,0,null,null,{"$f":"IF($B1392<>\"\",FX1386,0)","v":0}]
[{"$f":"FL1391","v":91},{"$f":"IF(SUM(C1393:K1393)<>0,\"Всего\",\"\")","v":""},{"$f":"CL1386+CP1386+CT1386+CX1386+DB1386+DF1386+DJ1386+DN1386+DR1386+DV1386+DZ1386+ED1386","v":0},{"$f":"CM1386+CQ1386+CU1386+CY1386+DC1386+DG1386+DK1386+DO1386+DS1386+DW1386+EA1386+EE1386","v":0},{"$f":"CN1386+CR1386+CV1386+CZ1386+DD1386+DH1386+DL1386+DP1386+DT1386+DX1386+EB1386+EF1386","v":0},{"$f":"CO1386+CS1386+CW1386+DA1386+DE1386+DI1386+DM1386+DQ1386+DU1386+DY1386+EC1386+EG1386","v":0},{"$f":"G1386","v":0},0,0,0,0,0,0,0,0,0,0,0,0,0,0,0,0,0,0,0,0,0,0,0,0,0,0,0,0,0,0,0,0,0,0,0,0,0,0,0,0,0,0,0,0,0,0,0,0,0,0,0,0,{"$f":"BH1386","v":0},0,0,0,0,0,0,0,null,null,null,null,null,null,null,null,null,null,null,0,{"$f":"IF(G1393>0,1,0)","v":0},0,null,null,{"$f":"EP1386","v":0},{"$f":"EQ1386","v":0},{"$f":"ER1386","v":0},{"$f":"ES1386","v":0},{"$f":"CJ1386","v":0},{"$f":"CK1386","v":0},null,null,null,null,null,null,null,null,null,null,null,null,null,null,null,null,null,null,null,null,null,null,null,null,null,null,null,null,null,null,null,null,null,null,null,null,null,null,null,null,null,null,null,null,null,null,null,null,null,null,null,null,null,null,null,null,null,null,null,null,null,null,null,null,null,null,null,null,null,null,null,null,null,null,null,0,0,null,null,null,null,null,null,null,null,null,{"$f":"FT1386","v":0},{"$f":"FU1386","v":0},null,null,{"$f":"FX1386","v":0}]
[null,null,null,null,null,null,{"$f":"SUM(I1394:K1394)","v":0},{"$f":"IF(H1393=0,\"\",IF(ABS(G1393-H1393)/H1393<=0.05,\"OK\",\">5%\"))","v":""},{"$f":"IF($G1393>0,I1393/$G1393,0)","v":0},{"$f":"IF($G1393>0,J1393/$G1393,0)","v":0},{"$f":"IF($G1393>0,K1393/$G1393,0)","v":0},null,null,null,null,null,null,null,null,null,null,null,null,null,null,null,null,null,null,null,null,null,null,null,null,null,null,null,null,null,null,null,null,null,null,null,null,null,null,null,null,null,null,null,null,null,null,null,null,null,null,null,null,null,null,null,null,null,null,null,null,null,null,null,null,null,null,null,0,{"$f":"IF(G1394>0,1,0)","v":0},0,null,null,null,null,null,null,null,null,null,null,null,null,null,null,null,null,null,null,null,null,null,null,null,null,null,null,null,null,null,null,null,null,null,null,null,null,null,null,null,null,null,null,null,null,null,null,null,null,null,null,null,null,null,null,null,null,null,null,null,null,null,null,null,null,null,null,null,null,null,null,null,null,null,null,null,null,null,null,null,null,null,null,null,0,0]
[null,{"$f":"IF(AND(B1168<>\"\",A1168<>0),\"Всего\",\"\")","v":""},{"$f":"SUM(C1393,C1383,C1373,C1363,C1353,C1343,C1333,C1323,C1313,C1303,C1293,C1283,C1273,C1263)","v":0},{"$f":"SUM(D1393,D1383,D1373,D1363,D1353,D1343,D1333,D1323,D1313,D1303,D1293,D1283,D1273,D1263)","v":0},0,0,0,0,0,0,0,0,0,0,0,0,0,0,0,0,0,0,0,0,0,0,0,0,0,0,0,0,0,0,0,0,0,0,0,0,0,0,0,0,0,0,0,0,0,0,0,0,0,0,0,0,0,0,0,{"$f":"SUM(BH1393,BH1383,BH1373,BH1363,BH1353,BH1343,BH1333,BH1323,BH1313,BH1303,BH1293,BH1283,BH1273,BH1263)","v":0},0,0,0,0,0,0,0,null,null,null,null,null,null,null,null,null,{"$f":"SUM(BY1393,BY1383,BY1373,BY1363,BY1353,BY1343,BY1333,BY1323,BY1313,BY1303,BY1293,BY1283,BY1273,BY1263)","v":0},null,{"$f":"IF(AND(Рабочий!$C$13=1,TRIM(B1395)<>\"\"),2,0)","v":0},{"$f":"IF(G1395>0,1,0)","v":0},{"$f":"IF(OR(CA1395>0,TRIM(B1395)<>\"\"),1,0)","v":0},null,{"$f":"SUM(CE1393,CE1383,CE1373,CE1363,CE1353,CE1343,CE1333,CE1323,CE1313,CE1303,CE1293,CE1283,CE1273,CE1263)","v":0},0,0,0,0,0,0,null,null,null,null,null,null,null,null,null,null,null,null,null,null,null,null,null,null,null,null,null,null,null,null,null,null,null,null,null,null,null,null,null,null,null,null,null,null,null,null,null,null,null,null,null,null,null,null,null,null,null,null,null,null,null,null,null,null,null,null,null,null,null,null,null,null,null,null,null,null,null,null,null,null,null,0,0,null,null,null,null,null,null,null,null,null,{"$f":"SUM(FT1393,FT1383,FT1373,FT1363,FT1353,FT1343,FT1333,FT1323,FT1313,FT1303,FT1293,FT1283,FT1273,FT1263)","v":0},{"$f":"SUM(FU1393,FU1383,FU1373,FU1363,FU1353,FU1343,FU1333,FU1323,FU1313,FU1303,FU1293,FU1283,FU1273,FU1263)","v":0},null,null,{"$f":"SUM(FX1393,FX1383,FX1373,FX1363,FX1353,FX1343,FX1333,FX1323,FX1313,FX1303,FX1293,FX1283,FX1273,FX1263)","v":0},{"$f":"SUM(FY1386,FY1376,FY1366,FY1356,FY1346,FY1336,FY1326,FY1316,FY1306,FY1296,FY1286,FY1276,FY1266,FY1263)","v":0}]
[null,"Итого",{"$f":"C1395+C460+C688+C916+C1166+C232","v":39},{"$f":"D1395+D460+D688+D916+D1166+D232","v":52},0,7,9072,9072,4833,0,4239,224,36,262,0,240,54,282,0,188,54,334,0,186,36,336,0,184,72,374,0,228,42,234,0,216,72,324,0,150,44,286,0,166,45,164,0,0,0,0,0,0,0,0,0,0,0,0,0,{"$f":"BH1395+BH460+BH688+BH916+BH1166+BH232","v":0},0,0,0,0,0,0,0,null,null,null,null,null,null,null,null,null,{"$f":"SUM(BY6:BY1392)","v":28592.788992959438},null,{"$f":"IF(TRIM(B1396)<>\"\",2,0)","v":2},null,{"$f":"IF(OR(CA1396>0,TRIM(B1396)<>\"\"),1,0)","v":1},null,null,{"$f":"CF1395+CF460+CF688+CF916+CF1166+CF232","v":0},0,0,0,0,9072,null,null,null,null,null,null,null,null,null,null,null,null,null,null,null,null,null,null,null,null,null,null,null,null,null,null,null,null,null,null,null,null,null,null,null,null,null,null,null,null,null,null,null,null,null,null,null,null,null,null,null,null,null,null,null,null,null,null,null,null,null,null,null,null,null,null,null,null,null,null,null,null,null,null,null,0,0,null,null,null,null,null,null,null,null,null,{"$f":"FT1395+FT460+FT688+FT916+FT1166+FT232","v":0},{"$f":"FU1395+FU460+FU688+FU916+FU1166+FU232","v":258.5},null,null,{"$f":"FX1395+FX460+FX688+FX916+FX1166+FX232","v":0},250.5]
[null,null,"Обязательных уч. часов в неделю - физ-ра / физ-ры",null,null,null,null,null,null,null,null,{"$f":"IF(N$3<>0,ROUND(IF(КСР=\"КСР\",(SUM(L1396:N1396)-SUM(L1166:N1166)-(SUMIF($FK6:$FK1392,1,L6:L1392)+SUMIF($FK6:$FK1392,1,M6:M1392)+SUMIF($FK6:$FK1392,1,N6:N1392))),(SUM(L1396:O1396)-SUM(L1166:O1166)-(SUMIF($FK6:$FK1392,1,L6:L1392)+SUMIF($FK6:$FK1392,1,M6:M1392)+SUMIF($FK6:$FK1392,1,N6:N1392)+SUMIF($FK6:$FK1392,1,O6:O1392))))/N$3,0),0)","v":25},{"$f":"\"/\"","v":"/"},{"$f":"IF(N$3<>0,ROUND(IF(КСР=\"КСР\",(SUMIF($FK6:$FK1392,1,L6:L1392)+SUMIF($FK6:$FK1392,1,M6:M1392)+SUMIF($FK6:$FK1392,1,N6:N1392)),(SUMIF($FK6:$FK1392,1,L6:L1392)+SUMIF($FK6:$FK1392,1,M6:M1392)+SUMIF($FK6:$FK1392,1,N6:N1392)+SUMIF($FK6:$FK1392,1,O6:O1392)))/N$3,0),0)","v":2},null,{"$f":"IF(R$3<>0,ROUND(IF(КСР=\"КСР\",(SUM(P1396:R1396)-SUM(P1166:R1166)-(SUMIF($FK6:$FK1392,1,P6:P1392)+SUMIF($FK6:$FK1392,1,Q6:Q1392)+SUMIF($FK6:$FK1392,1,R6:R1392))),(SUM(P1396:S1396)-SUM(P1166:S1166)-(SUMIF($FK6:$FK1392,1,P6:P1392)+SUMIF($FK6:$FK1392,1,Q6:Q1392)+SUMIF($FK6:$FK1392,1,R6:R1392)+SUMIF($FK6:$FK1392,1,S6:S1392))))/R$3,0),0)","v":27},{"$f":"\"/\"","v":"/"},{"$f":"IF(R$3<>0,ROUND(IF(КСР=\"КСР\",(SUMIF($FK6:$FK1392,1,P6:P1392)+SUMIF($FK6:$FK1392,1,Q6:Q1392)+SUMIF($FK6:$FK1392,1,R6:R1392)),(SUMIF($FK6:$FK1392,1,P6:P1392)+SUMIF($FK6:$FK1392,1,Q6:Q1392)+SUMIF($FK6:$FK1392,1,R6:R1392)+SUMIF($FK6:$FK1392,1,S6:S1392)))/R$3,0),0)","v":3},null,{"$f":"IF(V$3<>0,ROUND(IF(КСР=\"КСР\",(SUM(T1396:V1396)-SUM(T1166:V1166)-(SUMIF($FK6:$FK1392,1,T6:T1392)+SUMIF($FK6:$FK1392,1,U6:U1392)+SUMIF($FK6:$FK1392,1,V6:V1392))),(SUM(T1396:W1396)-SUM(T1166:W1166)-(SUMIF($FK6:$FK1392,1,T6:T1392)+SUMIF($FK6:$FK1392,1,U6:U1392)+SUMIF($FK6:$FK1392,1,V6:V1392)+SUMIF($FK6:$FK1392,1,W6:W1392))))/V$3,0),0)","v":27},{"$f":"\"/\"","v":"/"},{"$f":"IF(V$3<>0,ROUND(IF(КСР=\"КСР\",(SUMIF($FK6:$FK1392,1,T6:T1392)+SUMIF($FK6:$FK1392,1,U6:U1392)+SUMIF($FK6:$FK1392,1,V6:V1392)),(SUMIF($FK6:$FK1392,1,T6:T1392)+SUMIF($FK6:$FK1392,1,U6:U1392)+SUMIF($FK6:$FK1392,1,V6:V1392)+SUMIF($FK6:$FK1392,1,W6:W1392)))/V$3,0),0)","v":3},null,{"$f":"IF(Z$3<>0,ROUND(IF(КСР=\"КСР\",(SUM(X1396:Z1396)-SUM(X1166:Z1166)-(SUMIF($FK6:$FK1392,1,X6:X1392)+SUMIF($FK6:$FK1392,1,Y6:Y1392)+SUMIF($FK6:$FK1392,1,Z6:Z1392))),(SUM(X1396:AA1396)-SUM(X1166:AA1166)-(SUMIF($FK6:$FK1392,1,X6:X1392)+SUMIF($FK6:$FK1392,1,Y6:Y1392)+SUMIF($FK6:$FK1392,1,Z6:Z1392)+SUMIF($FK6:$FK1392,1,AA6:AA1392))))/Z$3,0),0)","v":26},{"$f":"\"/\"","v":"/"},{"$f":"IF(Z$3<>0,ROUND(IF(КСР=\"КСР\",(SUMIF($FK6:$FK1392,1,X6:X1392)+SUMIF($FK6:$FK1392,1,Y6:Y1392)+SUMIF($FK6:$FK1392,1,Z6:Z1392)),(SUMIF($FK6:$FK1392,1,X6:X1392)+SUMIF($FK6:$FK1392,1,Y6:Y1392)+SUMIF($FK6:$FK1392,1,Z6:Z1392)+SUMIF($FK6:$FK1392,1,AA6:AA1392)))/Z$3,0),0)","v":3},null,{"$f":"IF(AD$3<>0,ROUND(IF(КСР=\"КСР\",(SUM(AB1396:AD1396)-SUM(AB1166:AD1166)-(SUMIF($FK6:$FK1392,1,AB6:AB1392)+SUMIF($FK6:$FK1392,1,AC6:AC1392)+SUMIF($FK6:$FK1392,1,AD6:AD1392))),(SUM(AB1396:AE1396)-SUM(AB1166:AE1166)-(SUMIF($FK6:$FK1392,1,AB6:AB1392)+SUMIF($FK6:$FK1392,1,AC6:AC1392)+SUMIF($FK6:$FK1392,1,AD6:AD1392)+SUMIF($FK6:$FK1392,1,AE6:AE1392))))/AD$3,0),0)","v":26},{"$f":"\"/\"","v":"/"},{"$f":"IF(AD$3<>0,ROUND(IF(КСР=\"КСР\",(SUMIF($FK6:$FK1392,1,AB6:AB1392)+SUMIF($FK6:$FK1392,1,AC6:AC1392)+SUMIF($FK6:$FK1392,1,AD6:AD1392)),(SUMIF($FK6:$FK1392,1,AB6:AB1392)+SUMIF($FK6:$FK1392,1,AC6:AC1392)+SUMIF($FK6:$FK1392,1,AD6:AD1392)+SUMIF($FK6:$FK1392,1,AE6:AE1392)))/AD$3,0),0)","v":3},null,{"$f":"IF(AH$3<>0,ROUND(IF(КСР=\"КСР\",(SUM(AF1396:AH1396)-SUM(AF1166:AH1166)-(SUMIF($FK6:$FK1392,1,AF6:AF1392)+SUMIF($FK6:$FK1392,1,AG6:AG1392)+SUMIF($FK6:$FK1392,1,AH6:AH1392))),(SUM(AF1396:AI1396)-SUM(AF1166:AI1166)-(SUMIF($FK6:$FK1392,1,AF6:AF1392)+SUMIF($FK6:$FK1392,1,AG6:AG1392)+SUMIF($FK6:$FK1392,1,AH6:AH1392)+SUMIF($FK6:$FK1392,1,AI6:AI1392))))/AH$3,0),0)","v":27},{"$f":"\"/\"","v":"/"},{"$f":"IF(AH$3<>0,ROUND(IF(КСР=\"КСР\",(SUMIF($FK6:$FK1392,1,AF6:AF1392)+SUMIF($FK6:$FK1392,1,AG6:AG1392)+SUMIF($FK6:$FK1392,1,AH6:AH1392)),(SUMIF($FK6:$FK1392,1,AF6:AF1392)+SUMIF($FK6:$FK1392,1,AG6:AG1392)+SUMIF($FK6:$FK1392,1,AH6:AH1392)+SUMIF($FK6:$FK1392,1,AI6:AI1392)))/AH$3,0),0)","v":3},null,{"$f":"IF(AL$3<>0,ROUND(IF(КСР=\"КСР\",(SUM(AJ1396:AL1396)-SUM(AJ1166:AL1166)-(SUMIF($FK6:$FK1392,1,AJ6:AJ1392)+SUMIF($FK6:$FK1392,1,AK6:AK1392)+SUMIF($FK6:$FK1392,1,AL6:AL1392))),(SUM(AJ1396:AM1396)-SUM(AJ1166:AM1166)-(SUMIF($FK6:$FK1392,1,AJ6:AJ1392)+SUMIF($FK6:$FK1392,1,AK6:AK1392)+SUMIF($FK6:$FK1392,1,AL6:AL1392)+SUMIF($FK6:$FK1392,1,AM6:AM1392))))/AL$3,0),0)","v":25},{"$f":"\"/\"","v":"/"},{"$f":"IF(AL$3<>0,ROUND(IF(КСР=\"КСР\",(SUMIF($FK6:$FK1392,1,AJ6:AJ1392)+SUMIF($FK6:$FK1392,1,AK6:AK1392)+SUMIF($FK6:$FK1392,1,AL6:AL1392)),(SUMIF($FK6:$FK1392,1,AJ6:AJ1392)+SUMIF($FK6:$FK1392,1,AK6:AK1392)+SUMIF($FK6:$FK1392,1,AL6:AL1392)+SUMIF($FK6:$FK1392,1,AM6:AM1392)))/AL$3,0),0)","v":3},null,{"$f":"IF(AP$3<>0,ROUND(IF(КСР=\"КСР\",(SUM(AN1396:AP1396)-SUM(AN1166:AP1166)-(SUMIF($FK6:$FK1392,1,AN6:AN1392)+SUMIF($FK6:$FK1392,1,AO6:AO1392)+SUMIF($FK6:$FK1392,1,AP6:AP1392))),(SUM(AN1396:AQ1396)-SUM(AN1166:AQ1166)-(SUMIF($FK6:$FK1392,1,AN6:AN1392)+SUMIF($FK6:$FK1392,1,AO6:AO1392)+SUMIF($FK6:$FK1392,1,AP6:AP1392)+SUMIF($FK6:$FK1392,1,AQ6:AQ1392))))/AP$3,0),0)","v":24},{"$f":"\"/\"","v":"/"},{"$f":"IF(AP$3<>0,ROUND(IF(КСР=\"КСР\",(SUMIF($FK6:$FK1392,1,AN6:AN1392)+SUMIF($FK6:$FK1392,1,AO6:AO1392)+SUMIF($FK6:$FK1392,1,AP6:AP1392)),(SUMIF($FK6:$FK1392,1,AN6:AN1392)+SUMIF($FK6:$FK1392,1,AO6:AO1392)+SUMIF($FK6:$FK1392,1,AP6:AP1392)+SUMIF($FK6:$FK1392,1,AQ6:AQ1392)))/AP$3,0),0)","v":2},null,{"$f":"IF(AT$3<>0,ROUND(IF(КСР=\"КСР\",(SUM(AR1396:AT1396)-SUM(AR1166:AT1166)-(SUMIF($FK6:$FK1392,1,AR6:AR1392)+SUMIF($FK6:$FK1392,1,AS6:AS1392)+SUMIF($FK6:$FK1392,1,AT6:AT1392))),(SUM(AR1396:AU1396)-SUM(AR1166:AU1166)-(SUMIF($FK6:$FK1392,1,AR6:AR1392)+SUMIF($FK6:$FK1392,1,AS6:AS1392)+SUMIF($FK6:$FK1392,1,AT6:AT1392)+SUMIF($FK6:$FK1392,1,AU6:AU1392))))/AT$3,0),0)","v":22},{"$f":"\"/\"","v":"/"},{"$f":"IF(AT$3<>0,ROUND(IF(КСР=\"КСР\",(SUMIF($FK6:$FK1392,1,AR6:AR1392)+SUMIF($FK6:$FK1392,1,AS6:AS1392)+SUMIF($FK6:$FK1392,1,AT6:AT1392)),(SUMIF($FK6:$FK1392,1,AR6:AR1392)+SUMIF($FK6:$FK1392,1,AS6:AS1392)+SUMIF($FK6:$FK1392,1,AT6:AT1392)+SUMIF($FK6:$FK1392,1,AU6:AU1392)))/AT$3,0),0)","v":0},null,{"$f":"IF(AX$3<>0,ROUND(IF(КСР=\"КСР\",(SUM(AV1396:AX1396)-SUM(AV1166:AX1166)-(SUMIF($FK6:$FK1392,1,AV6:AV1392)+SUMIF($FK6:$FK1392,1,AW6:AW1392)+SUMIF($FK6:$FK1392,1,AX6:AX1392))),(SUM(AV1396:AY1396)-SUM(AV1166:AY1166)-(SUMIF($FK6:$FK1392,1,AV6:AV1392)+SUMIF($FK6:$FK1392,1,AW6:AW1392)+SUMIF($FK6:$FK1392,1,AX6:AX1392)+SUMIF($FK6:$FK1392,1,AY6:AY1392))))/AX$3,0),0)","v":0},{"$f":"\"/\"","v":"/"},{"$f":"IF(AX$3<>0,ROUND(IF(КСР=\"КСР\",(SUMIF($FK6:$FK1392,1,AV6:AV1392)+SUMIF($FK6:$FK1392,1,AW6:AW1392)+SUMIF($FK6:$FK1392,1,AX6:AX1392)),(SUMIF($FK6:$FK1392,1,AV6:AV1392)+SUMIF($FK6:$FK1392,1,AW6:AW1392)+SUMIF($FK6:$FK1392,1,AX6:AX1392)+SUMIF($FK6:$FK1392,1,AY6:AY1392)))/AX$3,0),0)","v":0},null,{"$f":"IF(BB$3<>0,ROUND(IF(КСР=\"КСР\",(SUM(AZ1396:BB1396)-SUM(AZ1166:BB1166)-(SUMIF($FK6:$FK1392,1,AZ6:AZ1392)+SUMIF($FK6:$FK1392,1,BA6:BA1392)+SUMIF($FK6:$FK1392,1,BB6:BB1392))),(SUM(AZ1396:BC1396)-SUM(AZ1166:BC1166)-(SUMIF($FK6:$FK1392,1,AZ6:AZ1392)+SUMIF($FK6:$FK1392,1,BA6:BA1392)+SUMIF($FK6:$FK1392,1,BB6:BB1392)+SUMIF($FK6:$FK1392,1,BC6:BC1392))))/BB$3,0),0)","v":0},{"$f":"\"/\"","v":"/"},{"$f":"IF(BB$3<>0,ROUND(IF(КСР=\"КСР\",(SUMIF($FK6:$FK1392,1,AZ6:AZ1392)+SUMIF($FK6:$FK1392,1,BA6:BA1392)+SUMIF($FK6:$FK1392,1,BB6:BB1392)),(SUMIF($FK6:$FK1392,1,AZ6:AZ1392)+SUMIF($FK6:$FK1392,1,BA6:BA1392)+SUMIF($FK6:$FK1392,1,BB6:BB1392)+SUMIF($FK6:$FK1392,1,BC6:BC1392)))/BB$3,0),0)","v":0},null,{"$f":"IF(BF$3<>0,ROUND(IF(КСР=\"КСР\",(SUM(BD1396:BF1396)-SUM(BD1166:BF1166)-(SUMIF($FK6:$FK1392,1,BD6:BD1392)+SUMIF($FK6:$FK1392,1,BE6:BE1392)+SUMIF($FK6:$FK1392,1,BF6:BF1392))),(SUM(BD1396:BG1396)-SUM(BD1166:BG1166)-(SUMIF($FK6:$FK1392,1,BD6:BD1392)+SUMIF($FK6:$FK1392,1,BE6:BE1392)+SUMIF($FK6:$FK1392,1,BF6:BF1392)+SUMIF($FK6:$FK1392,1,BG6:BG1392))))/BF$3,0),0)","v":0},{"$f":"\"/\"","v":"/"},{"$f":"IF(BF$3<>0,ROUND(IF(КСР=\"КСР\",(SUMIF($FK6:$FK1392,1,BD6:BD1392)+SUMIF($FK6:$FK1392,1,BE6:BE1392)+SUMIF($FK6:$FK1392,1,BF6:BF1392)),(SUMIF($FK6:$FK1392,1,BD6:BD1392)+SUMIF($FK6:$FK1392,1,BE6:BE1392)+SUMIF($FK6:$FK1392,1,BF6:BF1392)+SUMIF($FK6:$FK1392,1,BG6:BG1392)))/BF$3,0),0)","v":0},null,{"$f":"IF(BJ$3<>0,ROUND(IF(КСР=\"КСР\",(SUM(BH1396:BJ1396)-SUM(BH1166:BJ1166)-(SUMIF($FK6:$FK1392,1,BH6:BH1392)+SUMIF($FK6:$FK1392,1,BI6:BI1392)+SUMIF($FK6:$FK1392,1,BJ6:BJ1392))),(SUM(BH1396:BK1396)-SUM(BH1166:BK1166)-(SUMIF($FK6:$FK1392,1,BH6:BH1392)+SUMIF($FK6:$FK1392,1,BI6:BI1392)+SUMIF($FK6:$FK1392,1,BJ6:BJ1392)+SUMIF($FK6:$FK1392,1,BK6:BK1392))))/BJ$3,0),0)","v":0},{"$f":"\"/\"","v":"/"},{"$f":"IF(BJ$3<>0,ROUND(IF(КСР=\"КСР\",(SUMIF($FK6:$FK1392,1,BH6:BH1392)+SUMIF($FK6:$FK1392,1,BI6:BI1392)+SUMIF($FK6:$FK1392,1,BJ6:BJ1392)),(SUMIF($FK6:$FK1392,1,BH6:BH1392)+SUMIF($FK6:$FK1392,1,BI6:BI1392)+SUMIF($FK6:$FK1392,1,BJ6:BJ1392)+SUMIF($FK6:$FK1392,1,BK6:BK1392)))/BJ$3,0),0)","v":0},null,{"$f":"IF(BN$3<>0,ROUND(IF(КСР=\"КСР\",(SUM(BL1396:BN1396)-SUM(BL1166:BN1166)-(SUMIF($FK6:$FK1392,1,BL6:BL1392)+SUMIF($FK6:$FK1392,1,BM6:BM1392)+SUMIF($FK6:$FK1392,1,BN6:BN1392))),(SUM(BL1396:BO1396)-SUM(BL1166:BO1166)-(SUMIF($FK6:$FK1392,1,BL6:BL1392)+SUMIF($FK6:$FK1392,1,BM6:BM1392)+SUMIF($FK6:$FK1392,1,BN6:BN1392)+SUMIF($FK6:$FK1392,1,BO6:BO1392))))/BN$3,0),0)","v":0},{"$f":"\"/\"","v":"/"},{"$f":"IF(BN$3<>0,ROUND(IF(КСР=\"КСР\",(SUMIF($FK6:$FK1392,1,BL6:BL1392)+SUMIF($FK6:$FK1392,1,BM6:BM1392)+SUMIF($FK6:$FK1392,1,BN6:BN1392)),(SUMIF($FK6:$FK1392,1,BL6:BL1392)+SUMIF($FK6:$FK1392,1,BM6:BM1392)+SUMIF($FK6:$FK1392,1,BN6:BN1392)+SUMIF($FK6:$FK1392,1,BO6:BO1392)))/BN$3,0),0)","v":0},null,null,null,null,null,null,null,null,null,null,null,null,2,null,1,null,null,null,null,null,null,null,null,null,null,null,null,null,null,null,null,null,null,null,null,null,null,null,null,null,null,null,null,null,null,null,null,null,null,null,null,null,null,null,null,null,null,null,null,null,null,null,null,null,null,null,null,null,null,null,null,null,null,null,null,null,null,null,null,null,null,null,null,null,null,null,null,null,null,null,null,null,null,null,null,null,null,null,0,0,null,null,null,null,null,null,null,null,null,null,null,null,null,{"$f":"IF(I232+I460+I688+I916>0,(FX232+FX460+FX688+FX916)/(I232+I460+I688+I916+IF(КСР=\"КСР\",0,J232+J460+J688+J916)),0)","v":0}]
[null,null,"Обязательных экзаменов",null,null,null,null,null,null,null,{"$f":"SUM(Экз1,Экз2,Экз3,Экз4,Экз5,Экз6,Экз7,Экз8,Экз9,Экз10,Экз11,Экз12,Экз13,Экз14)","v":38},{"$f":"IF(isFGOS,SUM(CL5:CL915),SUM(CL5:CL1144)+SUM(CL1169:CL1392))","v":4},null,{"$f":"IF(O1398<>0,\"Нед\",\"\")","v":"Нед"},{"$f":"Экз1Осень","v":2.9999999999999991},{"$f":"IF(isFGOS,SUM(CP5:CP915),SUM(CP5:CP1144)+SUM(CP1169:CP1392))","v":5},null,{"$f":"IF(S1398<>0,\"Нед\",\"\")","v":"Нед"},{"$f":"Экз1Весна","v":2.9999999999999991},{"$f":"IF(isFGOS,SUM(CT5:CT915),SUM(CT5:CT1144)+SUM(CT1169:CT1392))","v":5},null,{"$f":"IF(W1398<>0,\"Нед\",\"\")","v":"Нед"},{"$f":"Экз2Осень","v":2.9999999999999991},{"$f":"IF(isFGOS,SUM(CX5:CX915),SUM(CX5:CX1144)+SUM(CX1169:CX1392))","v":4},null,{"$f":"IF(AA1398<>0,\"Нед\",\"\")","v":"Нед"},{"$f":"Экз2Весна","v":2.9999999999999991},{"$f":"IF(isFGOS,SUM(DB5:DB915),SUM(DB5:DB1144)+SUM(DB1169:DB1392))","v":5},null,{"$f":"IF(AE1398<>0,\"Нед\",\"\")","v":"Нед"},{"$f":"Экз3Осень","v":2.9999999999999991},{"$f":"IF(isFGOS,SUM(DF5:DF915),SUM(DF5:DF1144)+SUM(DF1169:DF1392))","v":5},null,{"$f":"IF(AI1398<>0,\"Нед\",\"\")","v":"Нед"},{"$f":"Экз3Весна","v":2.9999999999999991},{"$f":"IF(isFGOS,SUM(DJ5:DJ915),SUM(DJ5:DJ1144)+SUM(DJ1169:DJ1392))","v":4},null,{"$f":"IF(AM1398<>0,\"Нед\",\"\")","v":"Нед"},{"$f":"Экз4Осень","v":2.9999999999999991},{"$f":"IF(isFGOS,SUM(DN5:DN915),SUM(DN5:DN1144)+SUM(DN1169:DN1392))","v":3},null,{"$f":"IF(AQ1398<>0,\"Нед\",\"\")","v":"Нед"},{"$f":"Экз4Весна","v":2},{"$f":"IF(isFGOS,SUM(DR5:DR915),SUM(DR5:DR1144)+SUM(DR1169:DR1392))","v":3},null,{"$f":"IF(AU1398<>0,\"Нед\",\"\")","v":"Нед"},{"$f":"Экз5Осень","v":2.9999999999999991},{"$f":"IF(isFGOS,SUM(DV5:DV915),SUM(DV5:DV1144)+SUM(DV1169:DV1392))","v":0},null,{"$f":"IF(AY1398<>0,\"Нед\",\"\")","v":""},{"$f":"Экз5Весна","v":0},{"$f":"IF(isFGOS,SUM(DZ5:DZ915),SUM(DZ5:DZ1144)+SUM(DZ1169:DZ1392))","v":0},null,{"$f":"IF(BC1398<>0,\"Нед\",\"\")","v":""},{"$f":"Экз6Осень","v":0},{"$f":"IF(isFGOS,SUM(ED5:ED915),SUM(ED5:ED1144)+SUM(ED1169:ED1392))","v":0},null,{"$f":"IF(BG1398<>0,\"Нед\",\"\")","v":""},{"$f":"Экз6Весна","v":0},{"$f":"IF(isFGOS,SUM(EH5:EH915),SUM(EH5:EH1144)+SUM(EH1169:EH1392))","v":0},null,{"$f":"IF(BK1398<>0,\"Нед\",\"\")","v":""},{"$f":"Экз7Осень","v":0},{"$f":"IF(isFGOS,SUM(EL5:EL915),SUM(EL5:EL1144)+SUM(EL1169:EL1392))","v":0},null,{"$f":"IF(BO1398<>0,\"Нед\",\"\")","v":""},{"$f":"Экз7Весна","v":0},null,null,null,null,null,null,null,null,null,null,null,2,null,1,null,null,null,null,null,null,null,null,null,null,null,null,null,null,null,null,null,null,null,null,null,null,null,null,null,null,null,null,null,null,null,null,null,null,null,null,null,null,null,null,null,null,null,null,null,null,null,null,null,null,null,null,null,null,null,null,null,null,null,null,null,null,null,null,null,null,null,null,null,null,null,null,null,null,null,null,null,null,null,null,null,null,null,0,0]
[null,null,"Обязательных зачетов",null,null,null,null,null,null,null,{"$f":"SUM(L1399:BO1399)","v":36},{"$f":"IF(isFGOS,SUM(CM5:CM915),SUM(CM5:CM1144)+SUM(CM1169:CM1392))","v":4},null,null,null,{"$f":"IF(isFGOS,SUM(CQ5:CQ915),SUM(CQ5:CQ1144)+SUM(CQ1169:CQ1392))","v":5},null,null,null,{"$f":"IF(isFGOS,SUM(CU5:CU915),SUM(CU5:CU1144)+SUM(CU1169:CU1392))","v":4},null,null,null,{"$f":"IF(isFGOS,SUM(CY5:CY915),SUM(CY5:CY1144)+SUM(CY1169:CY1392))","v":4},null,null,null,{"$f":"IF(isFGOS,SUM(DC5:DC915),SUM(DC5:DC1144)+SUM(DC1169:DC1392))","v":4},null,null,null,{"$f":"IF(isFGOS,SUM(DG5:DG915),SUM(DG5:DG1144)+SUM(DG1169:DG1392))","v":5},null,null,null,{"$f":"IF(isFGOS,SUM(DK5:DK915),SUM(DK5:DK1144)+SUM(DK1169:DK1392))","v":3},null,null,null,{"$f":"IF(isFGOS,SUM(DO5:DO915),SUM(DO5:DO1144)+SUM(DO1169:DO1392))","v":3},null,null,null,{"$f":"IF(isFGOS,SUM(DS5:DS915),SUM(DS5:DS1144)+SUM(DS1169:DS1392))","v":4},null,null,null,{"$f":"IF(isFGOS,SUM(DW5:DW915),SUM(DW5:DW1144)+SUM(DW1169:DW1392))","v":0},null,null,null,{"$f":"IF(isFGOS,SUM(EA5:EA915),SUM(EA5:EA1144)+SUM(EA1169:EA1392))","v":0},null,null,null,{"$f":"IF(isFGOS,SUM(EE5:EE915),SUM(EE5:EE1144)+SUM(EE1169:EE1392))","v":0},null,null,null,{"$f":"IF(isFGOS,SUM(EI5:EI915),SUM(EI5:EI1144)+SUM(EI1169:EI1392))","v":0},null,null,null,{"$f":"IF(isFGOS,SUM(EM5:EM915),SUM(EM5:EM1144)+SUM(EM1169:EM1392))","v":0},null,null,null,null,null,null,null,null,null,null,null,null,null,null,2,null,1,null,null,null,null,null,null,null,null,null,null,null,null,null,null,null,null,null,null,null,null,null,null,null,null,null,null,null,null,null,null,null,null,null,null,null,null,null,null,null,null,null,null,null,null,null,null,null,null,null,null,null,null,null,null,null,null,null,null,null,null,null,null,null,null,null,null,null,null,null,null,null,null,null,null,null,null,null,null,null,null,null,null,null,0,0]
[null,null,"Обязательных курсовых проектов, к, р, э, г, о",null,null,null,null,null,null,null,{"$f":"SUM(L1400:BO1400)","v":0},{"$f":"IF(isFGOS,SUM(CN5:CN915),SUM(CN5:CN1144)+SUM(CN1169:CN1392))","v":0},null,null,null,{"$f":"IF(isFGOS,SUM(CR5:CR915),SUM(CR5:CR1144)+SUM(CR1169:CR1392))","v":0},null,null,null,{"$f":"IF(isFGOS,SUM(CV5:CV915),SUM(CV5:CV1144)+SUM(CV1169:CV1392))","v":0},null,null,null,{"$f":"IF(isFGOS,SUM(CZ5:CZ915),SUM(CZ5:CZ1144)+SUM(CZ1169:CZ1392))","v":0},null,null,null,{"$f":"IF(isFGOS,SUM(DD5:DD915),SUM(DD5:DD1144)+SUM(DD1169:DD1392))","v":0},null,null,null,{"$f":"IF(isFGOS,SUM(DH5:DH915),SUM(DH5:DH1144)+SUM(DH1169:DH1392))","v":0},null,null,null,{"$f":"IF(isFGOS,SUM(DL5:DL915),SUM(DL5:DL1144)+SUM(DL1169:DL1392))","v":0},null,null,null,{"$f":"IF(isFGOS,SUM(DP5:DP915),SUM(DP5:DP1144)+SUM(DP1169:DP1392))","v":0},null,null,null,{"$f":"IF(isFGOS,SUM(DT5:DT915),SUM(DT5:DT1144)+SUM(DT1169:DT1392))","v":0},null,null,null,{"$f":"IF(isFGOS,SUM(DX5:DX915),SUM(DX5:DX1144)+SUM(DX1169:DX1392))","v":0},null,null,null,{"$f":"IF(isFGOS,SUM(EB5:EB915),SUM(EB5:EB1144)+SUM(EB1169:EB1392))","v":0},null,null,null,{"$f":"IF(isFGOS,SUM(EF5:EF915),SUM(EF5:EF1144)+SUM(EF1169:EF1392))","v":0},null,null,null,{"$f":"IF(isFGOS,SUM(EJ5:EJ915),SUM(EJ5:EJ1144)+SUM(EJ1169:EJ1392))","v":0},null,null,null,{"$f":"IF(isFGOS,SUM(EN5:EN915),SUM(EN5:EN1144)+SUM(EN1169:EN1392))","v":0},null,null,null,null,null,null,null,null,null,null,null,null,null,null,2,null,1,null,null,null,null,null,null,null,null,null,null,null,null,null,null,null,null,null,null,null,null,null,null,null,null,null,null,null,null,null,null,null,null,null,null,null,null,null,null,null,null,null,null,null,null,null,null,null,null,null,null,null,null,null,null,null,null,null,null,null,null,null,null,null,null,null,null,null,null,null,null,null,null,null,null,null,null,null,null,null,null,null,null,null,0,0]
[null,null,"Обязательных курсовых работ",null,null,null,null,null,null,null,{"$f":"SUM(L1401:BO1401)","v":7},{"$f":"IF(isFGOS,SUM(CO5:CO915),SUM(CO5:CO1141)+SUM(CO1169:CO1392))","v":0},null,null,null,{"$f":"IF(isFGOS,SUM(CS5:CS915),SUM(CS5:CS1141)+SUM(CS1169:CS1392))","v":0},null,null,null,{"$f":"IF(isFGOS,SUM(CW5:CW915),SUM(CW5:CW1141)+SUM(CW1169:CW1392))","v":1},null,null,null,{"$f":"IF(isFGOS,SUM(DA5:DA915),SUM(DA5:DA1141)+SUM(DA1169:DA1392))","v":1},null,null,null,{"$f":"IF(isFGOS,SUM(DE5:DE915),SUM(DE5:DE1141)+SUM(DE1169:DE1392))","v":1},null,null,null,{"$f":"IF(isFGOS,SUM(DI5:DI915),SUM(DI5:DI1141)+SUM(DI1169:DI1392))","v":1},null,null,null,{"$f":"IF(isFGOS,SUM(DM5:DM915),SUM(DM5:DM1141)+SUM(DM1169:DM1392))","v":1},null,null,null,{"$f":"IF(isFGOS,SUM(DQ5:DQ915),SUM(DQ5:DQ1141)+SUM(DQ1169:DQ1392))","v":1},null,null,null,{"$f":"IF(isFGOS,SUM(DU5:DU915),SUM(DU5:DU1141)+SUM(DU1169:DU1392))","v":1},null,null,null,{"$f":"IF(isFGOS,SUM(DY5:DY915),SUM(DY5:DY1141)+SUM(DY1169:DY1392))","v":0},null,null,null,{"$f":"IF(isFGOS,SUM(EC5:EC915),SUM(EC5:EC1141)+SUM(EC1169:EC1392))","v":0},null,null,null,{"$f":"IF(isFGOS,SUM(EG5:EG915),SUM(EG5:EG1141)+SUM(EG1169:EG1392))","v":0},null,null,null,{"$f":"IF(isFGOS,SUM(EK5:EK915),SUM(EK5:EK1141)+SUM(EK1169:EK1392))","v":0},null,null,null,{"$f":"IF(isFGOS,SUM(EO5:EO915),SUM(EO5:EO1141)+SUM(EO1169:EO1392))","v":0},null,null,null,null,null,null,null,null,null,null,null,null,null,null,2,null,1,null,null,null,null,null,null,null,null,null,null,null,null,null,null,null,null,null,null,null,null,null,null,null,null,null,null,null,null,null,null,null,null,null,null,null,null,null,null,null,null,null,null,null,null,null,null,null,null,null,null,null,null,null,null,null,null,null,null,null,null,null,null,null,null,null,null,null,null,null,null,null,null,null,null,null,null,null,null,null,null,null,null,null,0,0]
[null,null,null,null,null,null,null,null,null,null,null,null,null,null,null,null,null,null,null,null,null,null,null,null,null,null,null,null,null,null,null,null,null,null,null,null,null,null,null,null,null,null,null,null,null,null,null,null,null,null,null,null,null,null,null,null,null,null,null,null,null,null,null,null,null,null,null,null,null,null,null,null,null,null,null,null,null,null,{"$f":"IF(Рабочий!$C$13=1,2,0)","v":2},null,1,null,null,null,null,null,null,null,null,null,null,null,null,null,null,null,null,null,null,null,null,null,null,null,null,null,null,null,null,null,null,null,null,null,null,null,null,null,null,null,null,null,null,null,null,null,null,null,null,null,null,null,null,null,null,null,null,null,null,null,null,null,null,null,null,null,null,null,null,null,null,null,null,null,null,null,null,null,null,null,null,null,null,null,0,0]
[{"$f":"Рабочий!C112","v":"Проректор по учебной работе"},null,null,null,null,null,null,null,null,null,{"$f":"IF(TRIM(Рабочий!B112)<>\"\",\"_______________________________\"&\" / \"&Рабочий!B112&\" /\",\"\")","v":"_______________________________ / Пимерзин А.А. /"},null,null,null,null,null,null,null,null,null,null,null,null,null,null,null,null,null,null,null,null,null,null,null,null,null,null,null,null,null,null,null,null,{"$f":"IF(TRIM(Рабочий!C116)<>\"\",Рабочий!C116 &\" \"&IF(TRIM(Рабочий!B116)<>\"\",Рабочий!B116,\"_________________________\"),\"\")","v":""},null,null,null,null,null,null,null,null,null,null,null,null,null,null,null,{"$f":"IF(TRIM(Рабочий!C118)<>\"\",Рабочий!C118 &\" \"&IF(TRIM(Рабочий!B118)<>\"\",Рабочий!B118,\"_________________________\"),\"\")","v":""},null,null,null,null,null,null,null,null,null,null,null,null,null,null,null,null,null,null,{"$f":"IF(Рабочий!$C$13=1,2,0)","v":2},null,{"$f":"IF(OR(A1403<>\"\",K1403<>\"\"),1,0)","v":1},null,null,null,null,null,null,null,null,null,null,null,null,null,null,null,null,null,null,null,null,null,null,null,null,null,null,null,null,null,null,null,null,null,null,null,null,null,null,null,null,null,null,null,null,null,null,null,null,null,null,null,null,null,null,null,null,null,null,null,null,null,null,null,null,null,null,null,null,null,null,null,null,null,null,null,null,null,null,null,null,null,null,null,0,0]
[{"$f":"Рабочий!C113","v":"Начальник УУ"},null,null,null,null,null,null,null,null,null,{"$f":"IF(TRIM(Рабочий!B113)<>\"\",\"_______________________________\"&\" / \"&Рабочий!B113&\" /\",\"\")","v":"_______________________________ / Чертыковцева А.Н. /"},null,null,null,null,null,null,null,null,null,null,null,null,null,null,null,null,null,null,null,null,null,null,null,null,null,null,null,null,null,null,null,null,{"$f":"IF(TRIM(Рабочий!C117)<>\"\",Рабочий!C117 &\" \"&IF(TRIM(Рабочий!B117)<>\"\",Рабочий!B117,\"_________________________\"),\"\")","v":""},null,null,null,null,null,null,null,null,null,null,null,null,null,null,null,null,null,null,null,null,null,null,null,null,null,null,null,null,null,null,null,null,null,null,{"$f":"IF(Рабочий!$C$13=1,2,0)","v":2},null,{"$f":"IF(OR(A1404<>\"\",K1404<>\"\"),1,0)","v":1},null,null,null,null,null,null,null,null,null,null,null,null,null,null,null,null,null,null,null,null,null,null,null,null,null,null,null,null,null,null,null,null,null,null,null,null,null,null,null,null,null,null,null,null,null,null,null,null,null,null,null,null,null,null,null,null,null,null,null,null,null,null,null,null,null,null,null,null,null,null,null,null,null,null,null,null,null,null,null,null,null,null,null,0,0]
[{"$f":"Рабочий!C114","v":"Начальник отдела аспирантуры и докторантуры"},null,null,null,null,null,null,null,null,null,{"$f":"IF(TRIM(Рабочий!B114)<>\"\",\"_______________________________\"&\" / \"&Рабочий!B114&\" /\",\"\")","v":""},null,null,null,null,null,null,null,null,null,null,null,null,null,null,null,null,null,null,null,null,null,null,null,null,null,null,null,null,null,null,null,null,null,null,null,null,null,null,null,null,null,null,null,null,null,null,null,null,null,null,null,null,null,null,null,null,null,null,null,null,null,null,null,null,null,null,null,{"$f":"IF(Рабочий!$C$13=1,2,0)","v":2},null,1]
[{"$f":"Рабочий!C115","v":"Зва. кафедрой ПиП"},null,null,null,null,null,null,null,null,null,{"$f":"IF(TRIM(Рабочий!B115)<>\"\",\"_______________________________\"&\" / \"&Рабочий!B115&\" /\",\"\")","v":"_______________________________ / Нестеренко В.М. /"},null,null,null,null,null,null,null,null,null,null,null,null,null,null,null,null,null,null,null,null,null,null,null,null,null,null,null,null,null,null,null,null,null,null,null,null,null,null,null,null,null,null,null,null,null,null,null,null,null,null,null,null,null,null,null,null,null,null,null,null,null,null,null,null,null,null,null,{"$f":"IF(Рабочий!$C$13=1,2,0)","v":2},null,1]
[{"$f":"Рабочий!C116","v":""},null,null,null,null,null,null,null,null,null,{"$f":"IF(TRIM(Рабочий!B116)<>\"\",\"_______________________________\"&\" / \"&Рабочий!B116&\" /\",\"\")","v":""},null,null,null,null,null,null,null,null,null,null,null,null,null,null,null,null,null,null,null,null,null,null,null,null,null,null,null,null,null,null,null,null,null,null,null,null,null,null,null,null,null,null,null,null,null,null,null,null,null,null,null,null,null,null,null,null,null,null,null,null,null,null,null,null,null,null,null,{"$f":"IF(Рабочий!$C$13=1,2,0)","v":2},null,0]
[{"$f":"Рабочий!C117","v":""},null,null,null,null,null,null,null,null,null,{"$f":"IF(TRIM(Рабочий!B117)<>\"\",\"_______________________________\"&\" / \"&Рабочий!B117&\" /\",\"\")","v":""},null,null,null,null,null,null,null,null,null,null,null,null,null,null,null,null,null,null,null,null,null,null,null,null,null,null,null,null,null,null,null,null,null,null,null,null,null,null,null,null,null,null,null,null,null,null,null,null,null,null,null,null,null,null,null,null,null,null,null,null,null,null,null,null,null,null,null,{"$f":"IF(Рабочий!$C$13=1,2,0)","v":2},null,0]
[{"$f":"Рабочий!C118","v":""},null,null,null,null,null,null,null,null,null,{"$f":"IF(TRIM(Рабочий!B118)<>\"\",\"_______________________________\"&\" / \"&Рабочий!B118&\" /\",\"\")","v":""},null,null,null,null,null,null,null,null,null,null,null,null,null,null,null,null,null,null,null,null,null,null,null,null,null,null,null,null,null,null,null,null,null,null,null,null,null,null,null,null,null,null,null,null,null,null,null,null,null,null,null,null,null,null,null,null,null,null,null,null,null,null,null,null,null,null,null,{"$f":"IF(Рабочий!$C$13=1,2,0)","v":2},null,0]

{"sheet":"Спец.","index":2,"n_rows":106,"n_cols":27,"rows_kept":106,"cut":false,"hidden":false,"merged":[[44,5,44,6],[41,5,41,6],[39,5,39,6],[33,5,33,6],[34,5,34,6],[35,5,35,6],[37,5,37,6],[43,5,43,6],[42,5,42,6],[40,5,40,6],[38,5,38,6],[2,8,2,9],[2,0,2,4],[4,5,4,6],[5,5,5,6],[2,5,2,6],[3,5,3,6],[8,5,8,6],[30,0,30,3],[9,5,9,6],[17,5,17,6],[29,0,29,3],[20,0,20,3],[19,0,19,3],[21,0,21,3],[29,5,29,6],[30,5,30,6],[8,1,8,3],[3,0,3,3],[4,0,4,3],[7,1,7,3],[16,5,16,6],[14,5,14,6],[6,0,6,3],[13,5,13,6],[18,5,18,6],[19,5,19,6],[13,1,13,3],[9,1,9,3],[10,1,10,3],[11,5,11,6],[11,1,11,3],[10,5,10,6],[14,1,14,3],[12,1,12,3],[15,1,15,3],[15,5,15,6],[28,0,28,4],[23,0,23,3],[26,0,26,3],[5,0,5,3],[16,1,16,3],[17,0,17,3],[43,0,43,3],[42,0,42,3],[33,0,33,3],[34,0,34,3],[35,0,35,3],[36,0,36,3],[22,0,22,3],[18,0,18,3],[25,0,25,3],[24,0,24,3],[38,13,39,13],[41,0,41,3],[40,0,40,3],[39,0,39,3],[31,5,31,6],[32,5,32,6],[36,5,36,6],[32,0,32,3],[31,0,31,3],[20,15,21,15],[22,15,23,15],[24,15,25,15],[27,5,27,6],[22,5,22,6],[21,5,21,6],[32,13,33,13],[30,13,31,13],[23,5,23,6],[24,5,24,6],[26,5,26,6],[25,5,25,6],[28,5,28,6],[20,5,20,6],[8,15,9,15],[6,13,7,13],[10,15,11,15],[10,13,11,13],[12,5,12,6],[12,14,13,14],[12,15,13,15],[10,14,11,14],[12,13,13,13],[6,5,6,6],[7,5,7,6],[18,13,19,13],[44,15,45,15],[46,13,47,13],[46,14,47,14],[46,15,47,15],[44,13,45,13],[44,14,45,14],[42,13,43,13],[42,14,43,14],[42,15,43,15],[28,15,29,15],[28,13,29,13],[22,13,23,13],[24,13,25,13],[26,13,27,13],[18,14,19,14],[32,14,33,14],[30,14,31,14],[22,14,23,14],[24,14,25,14],[38,14,39,14],[38,15,39,15],[32,15,33,15],[20,13,21,13],[0,0,0,26],[40,13,41,13],[40,14,41,14],[40,15,41,15],[34,13,35,13],[34,14,35,14],[34,15,35,15],[36,13,37,13],[36,14,37,14],[36,15,37,15],[3,16,3,26],[2,13,2,26],[4,15,5,15],[4,13,5,13],[4,14,5,14],[6,14,7,14],[6,15,7,15],[14,15,15,15],[16,13,17,13],[16,14,17,14],[16,15,17,15],[18,15,19,15],[30,15,31,15],[26,15,27,15],[2,10,2,11],[14,13,15,13],[14,14,15,14],[8,13,9,13],[8,14,9,14],[58,0,58,6],[52,13,53,13],[52,14,53,14],[58,14,59,14],[54,13,55,13],[54,14,55,14],[56,13,57,13],[46,0,46,6],[47,0,47,6],[48,0,48,6],[49,0,49,6],[54,0,54,6],[55,0,55,6],[50,13,51,13],[20,14,21,14],[26,14,27,14],[28,14,29,14],[37,0,37,3],[38,0,38,3],[48,13,49,13],[48,14,49,14],[52,15,53,15],[58,15,59,15],[54,15,55,15],[50,15,51,15],[57,0,57,6],[56,0,56,6],[53,0,53,6],[50,0,50,6],[51,0,51,6],[48,15,49,15],[66,7,66,11],[67,7,67,11],[64,13,65,13],[64,14,65,14],[64,15,65,15],[66,13,67,13],[66,14,67,14],[66,15,67,15],[50,14,51,14],[62,15,63,15],[60,13,61,13],[60,14,61,14],[60,15,61,15],[56,14,57,14],[58,13,59,13],[56,15,57,15],[62,13,63,13],[62,14,63,14],[68,13,69,13],[68,14,69,14],[68,15,69,15],[70,13,71,13],[70,14,71,14],[70,15,71,15],[72,13,73,13],[72,14,73,14],[72,15,73,15],[74,13,75,13],[74,14,75,14],[74,15,75,15],[76,13,77,13],[76,14,77,14],[76,15,77,15],[78,13,79,13],[78,14,79,14],[78,15,79,15],[80,13,81,13],[80,14,81,14],[80,15,81,15],[82,13,83,13],[82,14,83,14],[82,15,83,15],[84,13,85,13],[84,14,85,14],[84,15,85,15],[86,13,87,13],[86,14,87,14],[86,15,87,15],[88,13,89,13],[88,14,89,14],[88,15,89,15],[90,13,91,13],[90,14,91,14],[90,15,91,15],[92,13,93,13],[92,14,93,14],[92,15,93,15],[94,13,95,13],[94,14,95,14],[94,15,95,15],[96,13,97,13],[96,14,97,14],[96,15,97,15],[104,13,105,13],[104,14,105,14],[104,15,105,15],[98,13,99,13],[98,14,99,14],[98,15,99,15],[100,13,101,13],[100,14,101,14],[100,15,101,15],[102,13,103,13],[102,14,103,14],[102,15,103,15]]}
["Специальные виды работ"]
[]
["Дипломники",null,null,null,null,{"$f":"PROPER(Студент)&\"ов\"","v":"Студентов"},null,{"$f":"IF(Титул!BM68>0,Титул!BM68,IF(Титул!BI62>0,Титул!BM62,IF(Титул!BI56>0,Титул!BM56,IF(Титул!BI50>0,Титул!BM50,Титул!BM44))))","v":99},{"$f":"A5","v":"Руководство"},null,{"$f":"A6","v":"Рецензирование"},null,null,"Курсовые работы и проекты"]
["Вид работы",null,null,null,{"$f":"\"Часов на \"&LEFT(Студент,4)&\".\"","v":"Часов на студ."},"Трудоемкость",null,"Каф.","Студ","Каф.","Студ","Каф.",null,"Дисциплина","Вид","Сем","Распределение студентов по кафедрам"]
["Руководство",null,null,null,22,{"$f":"$E5*$H$3","v":2178},null,4,{"$f":"H3-SUM(I6:I15)","v":99},{"$f":"РуковДипКаф","v":4},{"$f":"H3-SUM(K6:K15)","v":99},{"$f":"РецДипКаф","v":4},null,"Теория и практика связей с общественностью","КР",3,"Студ",{"$f":"IF(OR(P5=1,P5=2),Конт1,0)+IF(OR(P5=3,P5=4),Конт2,0)+IF(OR(P5=5,P5=6),Конт3,0)+IF(OR(P5=7,P5=8),Конт4,0)+IF(OR(P5=9,P5=10),Конт5,0)+IF(OR(P5=11,P5=12),Конт6,0)+IF(OR(P5=13,P5=14),Конт7,0)-SUM(S5:AA5)","v":43},0,0,0,0,0,0,0,0,0]
["Рецензирование",null,null,null,4,{"$f":"$E6*$H$3","v":396},null,4,0,0,0,0,null,null,null,null,"Каф.",4,0,0,0,0,0,0,0,0,0]
["Консультации по",null,null,null,null,null,null,null,0,0,0,0,null,"Теория и практика массовой информации","КР",4,"Студ",{"$f":"IF(OR(P7=1,P7=2),Конт1,0)+IF(OR(P7=3,P7=4),Конт2,0)+IF(OR(P7=5,P7=6),Конт3,0)+IF(OR(P7=7,P7=8),Конт4,0)+IF(OR(P7=9,P7=10),Конт5,0)+IF(OR(P7=11,P7=12),Конт6,0)+IF(OR(P7=13,P7=14),Конт7,0)-SUM(S7:AA7)","v":43},0,0,0,0,0,0,0,0,0]
[null,"Экономике",null,null,1.5,{"$f":"IF($H8>0,$E8*$H$3,0)","v":148.5},null,5,0,0,0,0,null,null,null,null,"Каф.",4,0,0,0,0,0,0,0,0,0]
[null,"Стандартизации",null,null,0.5,{"$f":"IF($H9>0,$E9*$H$3,0)","v":49.5},null,4,0,0,0,0,null,"Основы теории коммуникации","КР",6,"Студ",{"$f":"IF(OR(P9=1,P9=2),Конт1,0)+IF(OR(P9=3,P9=4),Конт2,0)+IF(OR(P9=5,P9=6),Конт3,0)+IF(OR(P9=7,P9=8),Конт4,0)+IF(OR(P9=9,P9=10),Конт5,0)+IF(OR(P9=11,P9=12),Конт6,0)+IF(OR(P9=13,P9=14),Конт7,0)-SUM(S9:AA9)","v":77},0,0,0,0,0,0,0,0,0]
[null,"Правоведению",null,null,1,99,null,1,0,0,0,0,null,null,null,null,"Каф.",4,0,0,0,0,0,0,0,0,0]
[null,"Экологии",null,null,1,99,null,32,0,0,0,0,null,"Коммуникационный менеджмент","КР",5,"Студ",{"$f":"IF(OR(P11=1,P11=2),Конт1,0)+IF(OR(P11=3,P11=4),Конт2,0)+IF(OR(P11=5,P11=6),Конт3,0)+IF(OR(P11=7,P11=8),Конт4,0)+IF(OR(P11=9,P11=10),Конт5,0)+IF(OR(P11=11,P11=12),Конт6,0)+IF(OR(P11=13,P11=14),Конт7,0)-SUM(S11:AA11)","v":77},0,0,0,0,0,0,0,0,0]
[null,"",null,null,0,0,null,0,0,0,0,0,null,null,null,null,"Каф.",4,0,0,0,0,0,0,0,0,0]
[null,"",null,null,0,0,null,0,0,0,0,0,null,"Маркетинговые исследования в связях с общественностью","КР",7,"Студ",{"$f":"IF(OR(P13=1,P13=2),Конт1,0)+IF(OR(P13=3,P13=4),Конт2,0)+IF(OR(P13=5,P13=6),Конт3,0)+IF(OR(P13=7,P13=8),Конт4,0)+IF(OR(P13=9,P13=10),Конт5,0)+IF(OR(P13=11,P13=12),Конт6,0)+IF(OR(P13=13,P13=14),Конт7,0)-SUM(S13:AA13)","v":85},0,0,0,0,0,0,0,0,0]
[null,"",null,null,0,0,null,0,0,0,0,0,null,null,null,null,"Каф.",4,0,0,0,0,0,0,0,0,0]
[null,"",null,null,0,0,null,0,0,0,0,0,null,"Реклама в коммуникационном процессе","КР",8,"Студ",{"$f":"IF(OR(P15=1,P15=2),Конт1,0)+IF(OR(P15=3,P15=4),Конт2,0)+IF(OR(P15=5,P15=6),Конт3,0)+IF(OR(P15=7,P15=8),Конт4,0)+IF(OR(P15=9,P15=10),Конт5,0)+IF(OR(P15=11,P15=12),Конт6,0)+IF(OR(P15=13,P15=14),Конт7,0)-SUM(S15:AA15)","v":85},0,0,0,0,0,0,0,0,0]
[null,"",null,null,0,0,null,0,null,null,null,null,null,null,null,null,"Каф.",4,0,0,0,0,0,0,0,0,0]
[null,"",null,null,0,0,null,0,"Каф.","Каф.","Каф.","Каф.",null,"Коммуникационные компании, телекоммуникации и компьютерные технологии","КР",9,"Студ",{"$f":"IF(OR(P17=1,P17=2),Конт1,0)+IF(OR(P17=3,P17=4),Конт2,0)+IF(OR(P17=5,P17=6),Конт3,0)+IF(OR(P17=7,P17=8),Конт4,0)+IF(OR(P17=9,P17=10),Конт5,0)+IF(OR(P17=11,P17=12),Конт6,0)+IF(OR(P17=13,P17=14),Конт7,0)-SUM(S17:AA17)","v":99},0,0,0,0,0,0,0,0,0]
["Председатель ГАК",null,null,null,{"$f":"ПредседательГАК","v":1},{"$f":"IF($H18>0,$E18*$H$3,0)","v":99},null,4,0,0,0,0,null,null,null,null,"Каф.",4,0,0,0,0,0,0,0,0,0]
["Члены ГАК",null,null,null,null,null,null,null,null,null,null,null,null,null,null,null,"Студ",{"$f":"IF(OR(P19=1,P19=2),Конт1,0)+IF(OR(P19=3,P19=4),Конт2,0)+IF(OR(P19=5,P19=6),Конт3,0)+IF(OR(P19=7,P19=8),Конт4,0)+IF(OR(P19=9,P19=10),Конт5,0)+IF(OR(P19=11,P19=12),Конт6,0)+IF(OR(P19=13,P19=14),Конт7,0)-SUM(S19:AA19)","v":0}]
[1,null,null,null,{"$f":"ЧленГАК","v":0.5},{"$f":"IF($H20>0,$E20*$H$3,0)","v":49.5},null,4,0,0,0,0,null,null,null,null,"Каф.",0]
[2,null,null,null,0.5,49.5,null,4,0,0,0,0,null,null,null,null,"Студ",{"$f":"IF(OR(P21=1,P21=2),Конт1,0)+IF(OR(P21=3,P21=4),Конт2,0)+IF(OR(P21=5,P21=6),Конт3,0)+IF(OR(P21=7,P21=8),Конт4,0)+IF(OR(P21=9,P21=10),Конт5,0)+IF(OR(P21=11,P21=12),Конт6,0)+IF(OR(P21=13,P21=14),Конт7,0)-SUM(S21:AA21)","v":0}]
[3,null,null,null,0.5,49.5,null,1,0,0,0,0,null,null,null,null,"Каф.",0]
[4,null,null,null,0.5,49.5,null,5,0,0,0,0,null,null,null,null,"Студ",{"$f":"IF(OR(P23=1,P23=2),Конт1,0)+IF(OR(P23=3,P23=4),Конт2,0)+IF(OR(P23=5,P23=6),Конт3,0)+IF(OR(P23=7,P23=8),Конт4,0)+IF(OR(P23=9,P23=10),Конт5,0)+IF(OR(P23=11,P23=12),Конт6,0)+IF(OR(P23=13,P23=14),Конт7,0)-SUM(S23:AA23)","v":0}]
[5,null,null,null,0.5,49.5,null,4,0,0,0,0,null,null,null,null,"Каф.",0]
[6,null,null,null,0.5,49.5,null,4,0,0,0,0,null,null,null,null,"Студ",{"$f":"IF(OR(P25=1,P25=2),Конт1,0)+IF(OR(P25=3,P25=4),Конт2,0)+IF(OR(P25=5,P25=6),Конт3,0)+IF(OR(P25=7,P25=8),Конт4,0)+IF(OR(P25=9,P25=10),Конт5,0)+IF(OR(P25=11,P25=12),Конт6,0)+IF(OR(P25=13,P25=14),Конт7,0)-SUM(S25:AA25)","v":0}]
[7,null,null,null,0.5,49.5,null,4,0,0,0,0,null,null,null,null,"Каф.",0]
[8,null,null,null,0.5,49.5,null,4,0,0,0,0,null,null,null,null,"Студ",{"$f":"IF(OR(P27=1,P27=2),Конт1,0)+IF(OR(P27=3,P27=4),Конт2,0)+IF(OR(P27=5,P27=6),Конт3,0)+IF(OR(P27=7,P27=8),Конт4,0)+IF(OR(P27=9,P27=10),Конт5,0)+IF(OR(P27=11,P27=12),Конт6,0)+IF(OR(P27=13,P27=14),Конт7,0)-SUM(S27:AA27)","v":0}]
["Итого",null,null,null,{"$f":"INT(SUMIF($H5:$H27,\">0\",E5:E27)*100)/100","v":35},{"$f":"SUMIF(H5:H27,\">0\",F5:F27)","v":3465},null,99,0,0,0,0,null,null,null,null,"Каф.",0]
["Итоговый междисц. экзамен по специальности",null,null,null,null,{"$f":"F3","v":"Студентов"},null,{"$f":"IF(Титул!BJ68>0,Титул!BM68,IF(Титул!BJ62>0,Титул!BM62,IF(Титул!BJ56>0,Титул!BM56,IF(Титул!BJ50>0,Титул!BM50,Титул!BM44))))","v":99},null,null,null,null,null,null,null,null,"Студ",{"$f":"IF(OR(P29=1,P29=2),Конт1,0)+IF(OR(P29=3,P29=4),Конт2,0)+IF(OR(P29=5,P29=6),Конт3,0)+IF(OR(P29=7,P29=8),Конт4,0)+IF(OR(P29=9,P29=10),Конт5,0)+IF(OR(P29=11,P29=12),Конт6,0)+IF(OR(P29=13,P29=14),Конт7,0)-SUM(S29:AA29)","v":0}]
["Вид работы",null,null,null,{"$f":"E4","v":"Часов на студ."},"Трудоемкость",null,"Каф.","Каф.","Каф.","Каф.","Каф.",null,null,null,null,"Каф.",0]
["Председатель",null,null,null,{"$f":"ПредседательГЭК","v":1},{"$f":"$H$29*$E31*IF(ИтоговыйМеждисцПредсКаф2>0,2,1)","v":99},null,4,0,0,0,0,null,null,null,null,"Студ",{"$f":"IF(OR(P31=1,P31=2),Конт1,0)+IF(OR(P31=3,P31=4),Конт2,0)+IF(OR(P31=5,P31=6),Конт3,0)+IF(OR(P31=7,P31=8),Конт4,0)+IF(OR(P31=9,P31=10),Конт5,0)+IF(OR(P31=11,P31=12),Конт6,0)+IF(OR(P31=13,P31=14),Конт7,0)-SUM(S31:AA31)","v":0}]
["Лекции",null,null,null,null,{"$f":"IF(AND(H29>0,НаПотоке>0),(INT((Спец.!H29-0.1)/НаПотоке)+1)*ОбзорныхЛ,0)*IF(ИтоговыйМеждисцЛекКаф2>0,2,1)","v":14},null,4,0,0,0,0,null,null,null,null,"Каф.",0]
["Члены ГЭК",null,null,null,null,null,null,null,null,null,null,null,null,null,null,null,"Студ",{"$f":"IF(OR(P33=1,P33=2),Конт1,0)+IF(OR(P33=3,P33=4),Конт2,0)+IF(OR(P33=5,P33=6),Конт3,0)+IF(OR(P33=7,P33=8),Конт4,0)+IF(OR(P33=9,P33=10),Конт5,0)+IF(OR(P33=11,P33=12),Конт6,0)+IF(OR(P33=13,P33=14),Конт7,0)-SUM(S33:AA33)","v":0}]
[1,null,null,null,{"$f":"ЧленГЭК","v":0.5},{"$f":"IF($H34>0,$H$29*$E34,0)+IF($I34>0,$H$29*$E34,0)","v":49.5},null,4,0,0,0,0,null,null,null,null,"Каф.",0]
[2,null,null,null,0.5,{"$f":"IF($H35>0,$H$29*$E35,0)+IF($I35>0,$H$29*$E35,0)","v":49.5},null,4,0,0,0,0,null,null,null,null,"Студ",{"$f":"IF(OR(P35=1,P35=2),Конт1,0)+IF(OR(P35=3,P35=4),Конт2,0)+IF(OR(P35=5,P35=6),Конт3,0)+IF(OR(P35=7,P35=8),Конт4,0)+IF(OR(P35=9,P35=10),Конт5,0)+IF(OR(P35=11,P35=12),Конт6,0)+IF(OR(P35=13,P35=14),Конт7,0)-SUM(S35:AA35)","v":0}]
[3,null,null,null,0.5,49.5,null,4,0,0,0,0,null,null,null,null,"Каф.",0]
[4,null,null,null,0.5,0,null,0,0,0,0,0,null,null,null,null,"Студ",{"$f":"IF(OR(P37=1,P37=2),Конт1,0)+IF(OR(P37=3,P37=4),Конт2,0)+IF(OR(P37=5,P37=6),Конт3,0)+IF(OR(P37=7,P37=8),Конт4,0)+IF(OR(P37=9,P37=10),Конт5,0)+IF(OR(P37=11,P37=12),Конт6,0)+IF(OR(P37=13,P37=14),Конт7,0)-SUM(S37:AA37)","v":0}]
[5,null,null,null,0.5,0,null,0,0,0,0,0,null,null,null,null,"Каф.",0]
[6,null,null,null,0.5,0,null,0,0,0,0,0,null,null,null,null,"Студ",{"$f":"IF(OR(P39=1,P39=2),Конт1,0)+IF(OR(P39=3,P39=4),Конт2,0)+IF(OR(P39=5,P39=6),Конт3,0)+IF(OR(P39=7,P39=8),Конт4,0)+IF(OR(P39=9,P39=10),Конт5,0)+IF(OR(P39=11,P39=12),Конт6,0)+IF(OR(P39=13,P39=14),Конт7,0)-SUM(S39:AA39)","v":0}]
[7,null,null,null,0.5,0,null,0,0,0,0,0,null,null,null,null,"Каф.",0]
[8,null,null,null,0.5,0,null,0,0,0,0,0,null,null,null,null,"Студ",{"$f":"IF(OR(P41=1,P41=2),Конт1,0)+IF(OR(P41=3,P41=4),Конт2,0)+IF(OR(P41=5,P41=6),Конт3,0)+IF(OR(P41=7,P41=8),Конт4,0)+IF(OR(P41=9,P41=10),Конт5,0)+IF(OR(P41=11,P41=12),Конт6,0)+IF(OR(P41=13,P41=14),Конт7,0)-SUM(S41:AA41)","v":0}]
["Дежурство",null,null,null,"Часов на гр.","Групп >>>>",null,{"$f":"IF(Титул!BJ68>0,Гр7,IF(Титул!BJ62>0,Гр6,IF(Титул!BJ56>0,Гр5,IF(Титул!BJ50>0,Гр4,Гр3))))","v":5},null,null,null,null,null,null,null,null,"Каф.",0]
[1,null,null,null,{"$f":"Дежурство","v":3},0,null,0,0,0,0,0,null,null,null,null,"Студ",{"$f":"IF(OR(P43=1,P43=2),Конт1,0)+IF(OR(P43=3,P43=4),Конт2,0)+IF(OR(P43=5,P43=6),Конт3,0)+IF(OR(P43=7,P43=8),Конт4,0)+IF(OR(P43=9,P43=10),Конт5,0)+IF(OR(P43=11,P43=12),Конт6,0)+IF(OR(P43=13,P43=14),Конт7,0)-SUM(S43:AA43)","v":0}]
[2,null,null,null,{"$f":"Дежурство","v":3},0,null,0,0,0,0,0,null,null,null,null,"Каф.",0]
[null,null,null,null,"Итого",{"$f":"SUMIF(H31:H44,\">0\",F31:F44)","v":261.5},null,99,0,0,0,0,null,null,null,null,"Студ",{"$f":"IF(OR(P45=1,P45=2),Конт1,0)+IF(OR(P45=3,P45=4),Конт2,0)+IF(OR(P45=5,P45=6),Конт3,0)+IF(OR(P45=7,P45=8),Конт4,0)+IF(OR(P45=9,P45=10),Конт5,0)+IF(OR(P45=11,P45=12),Конт6,0)+IF(OR(P45=13,P45=14),Конт7,0)-SUM(S45:AA45)","v":0}]
[null,null,null,null,null,null,null,null,null,null,null,null,null,null,null,null,"Каф.",0]
["Примечания к комиссиям ГАК",null,null,null,null,null,null,null,null,null,null,null,null,null,null,null,"Студ",{"$f":"IF(OR(P47=1,P47=2),Конт1,0)+IF(OR(P47=3,P47=4),Конт2,0)+IF(OR(P47=5,P47=6),Конт3,0)+IF(OR(P47=7,P47=8),Конт4,0)+IF(OR(P47=9,P47=10),Конт5,0)+IF(OR(P47=11,P47=12),Конт6,0)+IF(OR(P47=13,P47=14),Конт7,0)-SUM(S47:AA47)","v":0}]
["",null,null,null,null,null,null,null,null,null,null,null,null,null,null,null,"Каф.",0]
["",null,null,null,null,null,null,null,null,null,null,null,null,null,null,null,"Студ",{"$f":"IF(OR(P49=1,P49=2),Конт1,0)+IF(OR(P49=3,P49=4),Конт2,0)+IF(OR(P49=5,P49=6),Конт3,0)+IF(OR(P49=7,P49=8),Конт4,0)+IF(OR(P49=9,P49=10),Конт5,0)+IF(OR(P49=11,P49=12),Конт6,0)+IF(OR(P49=13,P49=14),Конт7,0)-SUM(S49:AA49)","v":0}]
["",null,null,null,null,null,null,null,null,null,null,null,null,null,null,null,"Каф.",0]
["",null,null,null,null,null,null,null,null,null,null,null,null,null,null,null,"Студ",{"$f":"IF(OR(P51=1,P51=2),Конт1,0)+IF(OR(P51=3,P51=4),Конт2,0)+IF(OR(P51=5,P51=6),Конт3,0)+IF(OR(P51=7,P51=8),Конт4,0)+IF(OR(P51=9,P51=10),Конт5,0)+IF(OR(P51=11,P51=12),Конт6,0)+IF(OR(P51=13,P51=14),Конт7,0)-SUM(S51:AA51)","v":0}]
["",null,null,null,null,null,null,null,null,null,null,null,null,null,null,null,"Каф.",0]
[null,null,null,null,null,null,null,null,null,null,null,null,null,null,null,null,"Студ",{"$f":"IF(OR(P53=1,P53=2),Конт1,0)+IF(OR(P53=3,P53=4),Конт2,0)+IF(OR(P53=5,P53=6),Конт3,0)+IF(OR(P53=7,P53=8),Конт4,0)+IF(OR(P53=9,P53=10),Конт5,0)+IF(OR(P53=11,P53=12),Конт6,0)+IF(OR(P53=13,P53=14),Конт7,0)-SUM(S53:AA53)","v":0}]
["Примечания к комиссиям ГЭК",null,null,null,null,null,null,null,null,null,null,null,null,null,null,null,"Каф.",0]
["",null,null,null,null,null,null,null,null,null,null,null,null,null,null,null,"Студ",{"$f":"IF(OR(P55=1,P55=2),Конт1,0)+IF(OR(P55=3,P55=4),Конт2,0)+IF(OR(P55=5,P55=6),Конт3,0)+IF(OR(P55=7,P55=8),Конт4,0)+IF(OR(P55=9,P55=10),Конт5,0)+IF(OR(P55=11,P55=12),Конт6,0)+IF(OR(P55=13,P55=14),Конт7,0)-SUM(S55:AA55)","v":0}]
["",null,null,null,null,null,null,null,null,null,null,null,null,null,null,null,"Каф.",0]
["",null,null,null,null,null,null,null,null,null,null,null,null,null,null,null,"Студ",{"$f":"IF(OR(P57=1,P57=2),Конт1,0)+IF(OR(P57=3,P57=4),Конт2,0)+IF(OR(P57=5,P57=6),Конт3,0)+IF(OR(P57=7,P57=8),Конт4,0)+IF(OR(P57=9,P57=10),Конт5,0)+IF(OR(P57=11,P57=12),Конт6,0)+IF(OR(P57=13,P57=14),Конт7,0)-SUM(S57:AA57)","v":0}]
["",null,null,null,null,null,null,null,null,null,null,null,null,null,null,null,"Каф.",0]
["",null,null,null,null,null,null,null,null,null,null,null,null,null,null,null,"Студ",{"$f":"IF(OR(P59=1,P59=2),Конт1,0)+IF(OR(P59=3,P59=4),Конт2,0)+IF(OR(P59=5,P59=6),Конт3,0)+IF(OR(P59=7,P59=8),Конт4,0)+IF(OR(P59=9,P59=10),Конт5,0)+IF(OR(P59=11,P59=12),Конт6,0)+IF(OR(P59=13,P59=14),Конт7,0)-SUM(S59:AA59)","v":0}]
[null,null,null,null,null,null,null,null,null,null,null,null,null,null,null,null,"Каф.",0]
[null,null,null,null,null,null,null,null,null,null,null,null,null,null,null,null,"Студ",{"$f":"IF(OR(P61=1,P61=2),Конт1,0)+IF(OR(P61=3,P61=4),Конт2,0)+IF(OR(P61=5,P61=6),Конт3,0)+IF(OR(P61=7,P61=8),Конт4,0)+IF(OR(P61=9,P61=10),Конт5,0)+IF(OR(P61=11,P61=12),Конт6,0)+IF(OR(P61=13,P61=14),Конт7,0)-SUM(S61:AA61)","v":0}]
[null,null,null,null,null,null,null,null,null,null,null,null,null,null,null,null,"Каф.",0]
[null,null,null,null,null,null,null,null,null,null,null,null,null,null,null,null,"Студ",{"$f":"IF(OR(P63=1,P63=2),Конт1,0)+IF(OR(P63=3,P63=4),Конт2,0)+IF(OR(P63=5,P63=6),Конт3,0)+IF(OR(P63=7,P63=8),Конт4,0)+IF(OR(P63=9,P63=10),Конт5,0)+IF(OR(P63=11,P63=12),Конт6,0)+IF(OR(P63=13,P63=14),Конт7,0)-SUM(S63:AA63)","v":0}]
[null,null,null,null,null,null,null,null,null,null,null,null,null,null,null,null,"Каф.",0]
[null,null,null,null,null,null,null,null,null,null,null,null,null,null,null,null,"Студ",{"$f":"IF(OR(P65=1,P65=2),Конт1,0)+IF(OR(P65=3,P65=4),Конт2,0)+IF(OR(P65=5,P65=6),Конт3,0)+IF(OR(P65=7,P65=8),Конт4,0)+IF(OR(P65=9,P65=10),Конт5,0)+IF(OR(P65=11,P65=12),Конт6,0)+IF(OR(P65=13,P65=14),Конт7,0)-SUM(S65:AA65)","v":0}]
["Компетенции, формируемые по:",null,null,null,null,null,null,null,null,null,null,null,null,null,null,null,"Каф.",0]
["Выпускной квалификационной работе",null,null,null,null,null,null,null,null,null,null,null,null,null,null,null,"Студ",{"$f":"IF(OR(P67=1,P67=2),Конт1,0)+IF(OR(P67=3,P67=4),Конт2,0)+IF(OR(P67=5,P67=6),Конт3,0)+IF(OR(P67=7,P67=8),Конт4,0)+IF(OR(P67=9,P67=10),Конт5,0)+IF(OR(P67=11,P67=12),Конт6,0)+IF(OR(P67=13,P67=14),Конт7,0)-SUM(S67:AA67)","v":0}]
["Государственному экзамену по специальности",null,null,null,null,null,null,null,null,null,null,null,null,null,null,null,"Каф.",0]
[null,null,null,null,null,null,null,null,null,null,null,null,null,null,null,null,"Студ",{"$f":"IF(OR(P69=1,P69=2),Конт1,0)+IF(OR(P69=3,P69=4),Конт2,0)+IF(OR(P69=5,P69=6),Конт3,0)+IF(OR(P69=7,P69=8),Конт4,0)+IF(OR(P69=9,P69=10),Конт5,0)+IF(OR(P69=11,P69=12),Конт6,0)+IF(OR(P69=13,P69=14),Конт7,0)-SUM(S69:AA69)","v":0}]
[null,null,null,null,null,null,null,null,null,null,null,null,null,null,null,null,"Каф.",0]
[null,null,null,null,null,null,null,null,null,null,null,null,null,null,null,null,"Студ",{"$f":"IF(OR(P71=1,P71=2),Конт1,0)+IF(OR(P71=3,P71=4),Конт2,0)+IF(OR(P71=5,P71=6),Конт3,0)+IF(OR(P71=7,P71=8),Конт4,0)+IF(OR(P71=9,P71=10),Конт5,0)+IF(OR(P71=11,P71=12),Конт6,0)+IF(OR(P71=13,P71=14),Конт7,0)-SUM(S71:AA71)","v":0}]
[null,null,null,null,null,null,null,null,null,null,null,null,null,null,null,null,"Каф.",0]
[null,null,null,null,null,null,null,null,null,null,null,null,null,null,null,null,"Студ",{"$f":"IF(OR(P73=1,P73=2),Конт1,0)+IF(OR(P73=3,P73=4),Конт2,0)+IF(OR(P73=5,P73=6),Конт3,0)+IF(OR(P73=7,P73=8),Конт4,0)+IF(OR(P73=9,P73=10),Конт5,0)+IF(OR(P73=11,P73=12),Конт6,0)+IF(OR(P73=13,P73=14),Конт7,0)-SUM(S73:AA73)","v":0}]
[null,null,null,null,null,null,null,null,null,null,null,null,null,null,null,null,"Каф.",0]
[null,null,null,null,null,null,null,null,null,null,null,null,null,null,null,null,"Студ",{"$f":"IF(OR(P75=1,P75=2),Конт1,0)+IF(OR(P75=3,P75=4),Конт2,0)+IF(OR(P75=5,P75=6),Конт3,0)+IF(OR(P75=7,P75=8),Конт4,0)+IF(OR(P75=9,P75=10),Конт5,0)+IF(OR(P75=11,P75=12),Конт6,0)+IF(OR(P75=13,P75=14),Конт7,0)-SUM(S75:AA75)","v":0}]
[null,null,null,null,null,null,null,null,null,null,null,null,null,null,null,null,"Каф.",0]
[null,null,null,null,null,null,null,null,null,null,null,null,null,null,null,null,"Студ",{"$f":"IF(OR(P77=1,P77=2),Конт1,0)+IF(OR(P77=3,P77=4),Конт2,0)+IF(OR(P77=5,P77=6),Конт3,0)+IF(OR(P77=7,P77=8),Конт4,0)+IF(OR(P77=9,P77=10),Конт5,0)+IF(OR(P77=11,P77=12),Конт6,0)+IF(OR(P77=13,P77=14),Конт7,0)-SUM(S77:AA77)","v":0}]
[null,null,null,null,null,null,null,null,null,null,null,null,null,null,null,null,"Каф.",0]
[null,null,null,null,null,null,null,null,null,null,null,null,null,null,null,null,"Студ",{"$f":"IF(OR(P79=1,P79=2),Конт1,0)+IF(OR(P79=3,P79=4),Конт2,0)+IF(OR(P79=5,P79=6),Конт3,0)+IF(OR(P79=7,P79=8),Конт4,0)+IF(OR(P79=9,P79=10),Конт5,0)+IF(OR(P79=11,P79=12),Конт6,0)+IF(OR(P79=13,P79=14),Конт7,0)-SUM(S79:AA79)","v":0}]
[null,null,null,null,null,null,null,null,null,null,null,null,null,null,null,null,"Каф.",0]
[null,null,null,null,null,null,null,null,null,null,null,null,null,null,null,null,"Студ",{"$f":"IF(OR(P81=1,P81=2),Конт1,0)+IF(OR(P81=3,P81=4),Конт2,0)+IF(OR(P81=5,P81=6),Конт3,0)+IF(OR(P81=7,P81=8),Конт4,0)+IF(OR(P81=9,P81=10),Конт5,0)+IF(OR(P81=11,P81=12),Конт6,0)+IF(OR(P81=13,P81=14),Конт7,0)-SUM(S81:AA81)","v":0}]
[null,null,null,null,null,null,null,null,null,null,null,null,null,null,null,null,"Каф.",0]
[null,null,null,null,null,null,null,null,null,null,null,null,null,null,null,null,"Студ",{"$f":"IF(OR(P83=1,P83=2),Конт1,0)+IF(OR(P83=3,P83=4),Конт2,0)+IF(OR(P83=5,P83=6),Конт3,0)+IF(OR(P83=7,P83=8),Конт4,0)+IF(OR(P83=9,P83=10),Конт5,0)+IF(OR(P83=11,P83=12),Конт6,0)+IF(OR(P83=13,P83=14),Конт7,0)-SUM(S83:AA83)","v":0}]
[null,null,null,null,null,null,null,null,null,null,null,null,null,null,null,null,"Каф.",0]
[null,null,null,null,null,null,null,null,null,null,null,null,null,null,null,null,"Студ",{"$f":"IF(OR(P85=1,P85=2),Конт1,0)+IF(OR(P85=3,P85=4),Конт2,0)+IF(OR(P85=5,P85=6),Конт3,0)+IF(OR(P85=7,P85=8),Конт4,0)+IF(OR(P85=9,P85=10),Конт5,0)+IF(OR(P85=11,P85=12),Конт6,0)+IF(OR(P85=13,P85=14),Конт7,0)-SUM(S85:AA85)","v":0}]
[null,null,null,null,null,null,null,null,null,null,null,null,null,null,null,null,"Каф.",0]
[null,null,null,null,null,null,null,null,null,null,null,null,null,null,null,null,"Студ",{"$f":"IF(OR(P87=1,P87=2),Конт1,0)+IF(OR(P87=3,P87=4),Конт2,0)+IF(OR(P87=5,P87=6),Конт3,0)+IF(OR(P87=7,P87=8),Конт4,0)+IF(OR(P87=9,P87=10),Конт5,0)+IF(OR(P87=11,P87=12),Конт6,0)+IF(OR(P87=13,P87=14),Конт7,0)-SUM(S87:AA87)","v":0}]
[null,null,null,null,null,null,null,null,null,null,null,null,null,null,null,null,"Каф.",0]
[null,null,null,null,null,null,null,null,null,null,null,null,null,null,null,null,"Студ",{"$f":"IF(OR(P89=1,P89=2),Конт1,0)+IF(OR(P89=3,P89=4),Конт2,0)+IF(OR(P89=5,P89=6),Конт3,0)+IF(OR(P89=7,P89=8),Конт4,0)+IF(OR(P89=9,P89=10),Конт5,0)+IF(OR(P89=11,P89=12),Конт6,0)+IF(OR(P89=13,P89=14),Конт7,0)-SUM(S89:AA89)","v":0}]
[null,null,null,null,null,null,null,null,null,null,null,null,null,null,null,null,"Каф.",0]
[null,null,null,null,null,null,null,null,null,null,null,null,null,null,null,null,"Студ",{"$f":"IF(OR(P91=1,P91=2),Конт1,0)+IF(OR(P91=3,P91=4),Конт2,0)+IF(OR(P91=5,P91=6),Конт3,0)+IF(OR(P91=7,P91=8),Конт4,0)+IF(OR(P91=9,P91=10),Конт5,0)+IF(OR(P91=11,P91=12),Конт6,0)+IF(OR(P91=13,P91=14),Конт7,0)-SUM(S91:AA91)","v":0}]
[null,null,null,null,null,null,null,null,null,null,null,null,null,null,null,null,"Каф.",0]
[null,null,null,null,null,null,null,null,null,null,null,null,null,null,null,null,"Студ",{"$f":"IF(OR(P93=1,P93=2),Конт1,0)+IF(OR(P93=3,P93=4),Конт2,0)+IF(OR(P93=5,P93=6),Конт3,0)+IF(OR(P93=7,P93=8),Конт4,0)+IF(OR(P93=9,P93=10),Конт5,0)+IF(OR(P93=11,P93=12),Конт6,0)+IF(OR(P93=13,P93=14),Конт7,0)-SUM(S93:AA93)","v":0}]
[null,null,null,null,null,null,null,null,null,null,null,null,null,null,null,null,"Каф.",0]
[null,null,null,null,null,null,null,null,null,null,null,null,null,null,null,null,"Студ",{"$f":"IF(OR(P95=1,P95=2),Конт1,0)+IF(OR(P95=3,P95=4),Конт2,0)+IF(OR(P95=5,P95=6),Конт3,0)+IF(OR(P95=7,P95=8),Конт4,0)+IF(OR(P95=9,P95=10),Конт5,0)+IF(OR(P95=11,P95=12),Конт6,0)+IF(OR(P95=13,P95=14),Конт7,0)-SUM(S95:AA95)","v":0}]
[null,null,null,null,null,null,null,null,null,null,null,null,null,null,null,null,"Каф.",0]
[null,null,null,null,null,null,null,null,null,null,null,null,null,null,null,null,"Студ",{"$f":"IF(OR(P97=1,P97=2),Конт1,0)+IF(OR(P97=3,P97=4),Конт2,0)+IF(OR(P97=5,P97=6),Конт3,0)+IF(OR(P97=7,P97=8),Конт4,0)+IF(OR(P97=9,P97=10),Конт5,0)+IF(OR(P97=11,P97=12),Конт6,0)+IF(OR(P97=13,P97=14),Конт7,0)-SUM(S97:AA97)","v":0}]
[null,null,null,null,null,null,null,null,null,null,null,null,null,null,null,null,"Каф.",0]
[null,null,null,null,null,null,null,null,null,null,null,null,null,null,null,null,"Студ",{"$f":"IF(OR(P99=1,P99=2),Конт1,0)+IF(OR(P99=3,P99=4),Конт2,0)+IF(OR(P99=5,P99=6),Конт3,0)+IF(OR(P99=7,P99=8),Конт4,0)+IF(OR(P99=9,P99=10),Конт5,0)+IF(OR(P99=11,P99=12),Конт6,0)+IF(OR(P99=13,P99=14),Конт7,0)-SUM(S99:AA99)","v":0}]
[null,null,null,null,null,null,null,null,null,null,null,null,null,null,null,null,"Каф.",0]
[null,null,null,null,null,null,null,null,null,null,null,null,null,null,null,null,"Студ",{"$f":"IF(OR(P101=1,P101=2),Конт1,0)+IF(OR(P101=3,P101=4),Конт2,0)+IF(OR(P101=5,P101=6),Конт3,0)+IF(OR(P101=7,P101=8),Конт4,0)+IF(OR(P101=9,P101=10),Конт5,0)+IF(OR(P101=11,P101=12),Конт6,0)+IF(OR(P101=13,P101=14),Конт7,0)-SUM(S101:AA101)","v":0}]
[null,null,null,null,null,null,null,null,null,null,null,null,null,null,null,null,"Каф.",0]
[null,null,null,null,null,null,null,null,null,null,null,null,null,null,null,null,"Студ",{"$f":"IF(OR(P103=1,P103=2),Конт1,0)+IF(OR(P103=3,P103=4),Конт2,0)+IF(OR(P103=5,P103=6),Конт3,0)+IF(OR(P103=7,P103=8),Конт4,0)+IF(OR(P103=9,P103=10),Конт5,0)+IF(OR(P103=11,P103=12),Конт6,0)+IF(OR(P103=13,P103=14),Конт7,0)-SUM(S103:AA103)","v":0}]
[null,null,null,null,null,null,null,null,null,null,null,null,null,null,null,null,"Каф.",0]
[null,null,null,null,null,null,null,null,null,null,null,null,null,null,null,null,"Студ",{"$f":"IF(OR(P105=1,P105=2),Конт1,0)+IF(OR(P105=3,P105=4),Конт2,0)+IF(OR(P105=5,P105=6),Конт3,0)+IF(OR(P105=7,P105=8),Конт4,0)+IF(OR(P105=9,P105=10),Конт5,0)+IF(OR(P105=11,P105=12),Конт6,0)+IF(OR(P105=13,P105=14),Конт7,0)-SUM(S105:AA105)","v":0}]
[null,null,null,null,null,null,null,null,null,null,null,null,null,null,null,null,"Каф.",0]

{"sheet":"Практики","index":3,"n_rows":68,"n_cols":53,"rows_kept":68,"cut":false,"hidden":false,"merged":[[0,52,1,52],[34,52,35,52],[0,0,0,10],[34,1,34,10],[0,14,1,14],[34,14,35,14],[0,16,0,17],[34,16,34,17]]}
["Учебная практика",null,null,null,null,null,null,null,null,null,null,null,"на студента",null,"Перечень реализуемых компетенций",null,"ЗЕТ",null,null,"активных ЗЕТ по курсам",null,null,null,null,null,null,null,"Переаттестованных ЗЕТ по курсам",null,null,null,null,null,null,null,"Активных Недель по курсам",null,null,null,null,null,null,null,"Переаттестованных недель",null,null,null,null,null,null,null,null,"Студентов"]
["Вид","Сем.","П/Г",{"$f":"Спец.!F3","v":"Студентов"},"Нед.","Закр.каф.","Трудоемкость","Норматив1","Часов","Норматив2","Часов",null,"на студента в неделю",null,null,null,"Эксперт","Расчет",null,1,2,3,4,5,6,7,null,1,2,3,4,5,6,7,null,1,2,3,4,5,6,7,null,1,2,3,4,5,6,7]
["Ознакомительная",6,{"$f":"INT(D3/ВПГПракт-0.01)+1","v":6},{"$f":"IF(OR($B3=1,$B3=2),Конт1,0)+IF(OR($B3=3,$B3=4),Конт2,0)+IF(OR($B3=5,$B3=6),Конт3,0)+IF(OR($B3=7,$B3=8),Конт4,0)+IF(OR($B3=9,$B3=10),Конт5,0)+IF(OR($B3=11,$B3=12),Конт6,0)+IF(OR($B3=13,$B3=14),Конт7,0)","v":77},4,4,{"$f":"IF(H3=Практики!$M$1,D3*I3,IF(H3=Практики!$M$2,D3*E3*I3,IF(H3=Практики!$M$3,C3*I3,IF(H3=Практики!$M$4,C3*E3*I3,0))))*(1-N3)","v":3840},"на (под)группу в неделю",160,null,0,1,"на (под)группу",0,"",null,0,{"$f":"IF(Q3>0,Q3,FLOOR(IF(КредитовВНеделе>0,КредитовВНеделе,1.5)*(E3+0.001),ТочностьН))","v":6},{"$f":"IF(AND(L3>0,N3=0),1,0)","v":1},{"$f":"IF($S3>0,IF(OR($B3=2*T$2-1,$B3=2*T$2),$R3,0),0)","v":0},{"$f":"IF($S3>0,IF(OR($B3=2*U$2-1,$B3=2*U$2),$R3,0),0)","v":0},6,0,0,0,0,null,{"$f":"IF($N3>0,IF(OR($B3=2*T$2-1,$B3=2*T$2),$R3,0),0)","v":0},{"$f":"IF($N3>0,IF(OR($B3=2*U$2-1,$B3=2*U$2),$R3,0),0)","v":0},0,0,0,0,0,null,{"$f":"IF($S3>0,IF(OR($B3=2*T$2-1,$B3=2*T$2),$E3,0),0)","v":0},{"$f":"IF($S3>0,IF(OR($B3=2*U$2-1,$B3=2*U$2),$E3,0),0)","v":0},4,0,0,0,0,null,{"$f":"IF($N3>0,IF(OR($B3=2*T$2-1,$B3=2*T$2),$E3,0),0)","v":0},{"$f":"IF($N3>0,IF(OR($B3=2*U$2-1,$B3=2*U$2),$E3,0),0)","v":0},0,0,0,0,0,null,null,77]
[null,null,0,0,null,null,{"$f":"IF(H4=Практики!$M$1,D4*I4,IF(H4=Практики!$M$2,D4*E4*I4,IF(H4=Практики!$M$3,C4*I4,IF(H4=Практики!$M$4,C4*E4*I4,0))))*(1-N4)","v":0},null,null,null,null,1,"на (под)группу в неделю",0,null,null,0,0,{"$f":"IF(AND(L4>0,N4=0),1,0)","v":1},{"$f":"IF($S4>0,IF(OR($B4=2*T$2-1,$B4=2*T$2),$R4,0),0)","v":0},0,0,0,0,0,0,null,{"$f":"IF($N4>0,IF(OR($B4=2*T$2-1,$B4=2*T$2),$R4,0),0)","v":0},0,0,0,0,0,0,null,{"$f":"IF($S4>0,IF(OR($B4=2*T$2-1,$B4=2*T$2),$E4,0),0)","v":0},0,0,0,0,0,0,null,{"$f":"IF($N4>0,IF(OR($B4=2*T$2-1,$B4=2*T$2),$E4,0),0)","v":0},0,0,0,0,0,0,null,null,0]
[null,null,0,0,null,null,{"$f":"IF(H5=Практики!$M$1,D5*I5,IF(H5=Практики!$M$2,D5*E5*I5,IF(H5=Практики!$M$3,C5*I5,IF(H5=Практики!$M$4,C5*E5*I5,0))))*(1-N5)","v":0},null,null,null,null,1,null,0,null,null,0,0,1,0,0,0,0,0,0,0,null,0,0,0,0,0,0,0,null,0,0,0,0,0,0,0,null,0,0,0,0,0,0,0,null,null,0]
[null,null,0,0,null,null,{"$f":"IF(H6=Практики!$M$1,D6*I6,IF(H6=Практики!$M$2,D6*E6*I6,IF(H6=Практики!$M$3,C6*I6,IF(H6=Практики!$M$4,C6*E6*I6,0))))*(1-N6)","v":0},null,null,null,null,1,null,0,null,null,0,0,1,0,0,0,0,0,0,0,null,0,0,0,0,0,0,0,null,0,0,0,0,0,0,0,null,0,0,0,0,0,0,0,null,null,0]
[null,null,0,0,null,null,{"$f":"IF(H7=Практики!$M$1,D7*I7,IF(H7=Практики!$M$2,D7*E7*I7,IF(H7=Практики!$M$3,C7*I7,IF(H7=Практики!$M$4,C7*E7*I7,0))))*(1-N7)","v":0},null,null,null,null,1,null,0,null,null,0,0,1,0,0,0,0,0,0,0,null,0,0,0,0,0,0,0,null,0,0,0,0,0,0,0,null,0,0,0,0,0,0,0,null,null,0]
[null,null,0,0,null,null,{"$f":"IF(H8=Практики!$M$1,D8*I8,IF(H8=Практики!$M$2,D8*E8*I8,IF(H8=Практики!$M$3,C8*I8,IF(H8=Практики!$M$4,C8*E8*I8,0))))*(1-N8)","v":0},null,null,null,null,1,null,0,null,null,0,0,1,0,0,0,0,0,0,0,null,0,0,0,0,0,0,0,null,0,0,0,0,0,0,0,null,0,0,0,0,0,0,0,null,null,0]
[null,null,0,0,null,null,{"$f":"IF(H9=Практики!$M$1,D9*I9,IF(H9=Практики!$M$2,D9*E9*I9,IF(H9=Практики!$M$3,C9*I9,IF(H9=Практики!$M$4,C9*E9*I9,0))))*(1-N9)","v":0},null,null,null,null,1,null,0,null,null,0,0,1,0,0,0,0,0,0,0,null,0,0,0,0,0,0,0,null,0,0,0,0,0,0,0,null,0,0,0,0,0,0,0,null,null,0]
[null,null,0,0,null,null,{"$f":"IF(H10=Практики!$M$1,D10*I10,IF(H10=Практики!$M$2,D10*E10*I10,IF(H10=Практики!$M$3,C10*I10,IF(H10=Практики!$M$4,C10*E10*I10,0))))*(1-N10)","v":0},null,null,null,null,1,null,0,null,null,0,0,1,0,0,0,0,0,0,0,null,0,0,0,0,0,0,0,null,0,0,0,0,0,0,0,null,0,0,0,0,0,0,0,null,null,0]
[null,null,0,0,null,null,{"$f":"IF(H11=Практики!$M$1,D11*I11,IF(H11=Практики!$M$2,D11*E11*I11,IF(H11=Практики!$M$3,C11*I11,IF(H11=Практики!$M$4,C11*E11*I11,0))))*(1-N11)","v":0},null,null,null,null,1,null,0,null,null,0,0,1,0,0,0,0,0,0,0,null,0,0,0,0,0,0,0,null,0,0,0,0,0,0,0,null,0,0,0,0,0,0,0,null,null,0]
[null,null,0,0,null,null,{"$f":"IF(H12=Практики!$M$1,D12*I12,IF(H12=Практики!$M$2,D12*E12*I12,IF(H12=Практики!$M$3,C12*I12,IF(H12=Практики!$M$4,C12*E12*I12,0))))*(1-N12)","v":0},null,null,null,null,1,null,0,null,null,0,0,1,0,0,0,0,0,0,0,null,0,0,0,0,0,0,0,null,0,0,0,0,0,0,0,null,0,0,0,0,0,0,0,null,null,0]
[null,null,0,0,null,null,{"$f":"IF(H13=Практики!$M$1,D13*I13,IF(H13=Практики!$M$2,D13*E13*I13,IF(H13=Практики!$M$3,C13*I13,IF(H13=Практики!$M$4,C13*E13*I13,0))))*(1-N13)","v":0},null,null,null,null,1,null,0,null,null,0,0,1,0,0,0,0,0,0,0,null,0,0,0,0,0,0,0,null,0,0,0,0,0,0,0,null,0,0,0,0,0,0,0,null,null,0]
[null,null,0,0,null,null,{"$f":"IF(H14=Практики!$M$1,D14*I14,IF(H14=Практики!$M$2,D14*E14*I14,IF(H14=Практики!$M$3,C14*I14,IF(H14=Практики!$M$4,C14*E14*I14,0))))*(1-N14)","v":0},null,null,null,null,1,null,0,null,null,0,0,1,0,0,0,0,0,0,0,null,0,0,0,0,0,0,0,null,0,0,0,0,0,0,0,null,0,0,0,0,0,0,0,null,null,0]
[null,null,{"$f":"INT(D15/ВПГПракт-0.01)+1","v":0},0,null,null,{"$f":"IF(H15=Практики!$M$1,D15*I15,IF(H15=Практики!$M$2,D15*E15*I15,IF(H15=Практики!$M$3,C15*I15,IF(H15=Практики!$M$4,C15*E15*I15,0))))*(1-N15)","v":0},null,null,null,null,1,null,0,null,null,0,0,1,0,0,0,0,0,0,0,null,0,0,0,0,0,0,0,null,0,0,0,0,0,0,0,null,0,0,0,0,0,0,0,null,null,0]
[null,null,0,0,null,null,{"$f":"IF(H16=Практики!$M$1,D16*I16,IF(H16=Практики!$M$2,D16*E16*I16,IF(H16=Практики!$M$3,C16*I16,IF(H16=Практики!$M$4,C16*E16*I16,0))))*(1-N16)","v":0},null,null,null,null,1,null,0,null,null,0,0,1,0,0,0,0,0,0,0,null,0,0,0,0,0,0,0,null,0,0,0,0,0,0,0,null,0,0,0,0,0,0,0,null,null,0]
[null,null,0,0,null,null,{"$f":"IF(H17=Практики!$M$1,D17*I17,IF(H17=Практики!$M$2,D17*E17*I17,IF(H17=Практики!$M$3,C17*I17,IF(H17=Практики!$M$4,C17*E17*I17,0))))*(1-N17)","v":0},null,null,null,null,1,null,0,null,null,0,0,1,0,0,0,0,0,0,0,null,0,0,0,0,0,0,0,null,0,0,0,0,0,0,0,null,0,0,0,0,0,0,0,null,null,0]
[null,null,0,0,null,null,{"$f":"IF(H18=Практики!$M$1,D18*I18,IF(H18=Практики!$M$2,D18*E18*I18,IF(H18=Практики!$M$3,C18*I18,IF(H18=Практики!$M$4,C18*E18*I18,0))))*(1-N18)","v":0},null,null,null,null,1,null,0,null,null,0,0,1,0,0,0,0,0,0,0,null,0,0,0,0,0,0,0,null,0,0,0,0,0,0,0,null,0,0,0,0,0,0,0,null,null,0]
[null,null,0,0,null,null,{"$f":"IF(H19=Практики!$M$1,D19*I19,IF(H19=Практики!$M$2,D19*E19*I19,IF(H19=Практики!$M$3,C19*I19,IF(H19=Практики!$M$4,C19*E19*I19,0))))*(1-N19)","v":0},null,null,null,null,1,null,0,null,null,0,0,1,0,0,0,0,0,0,0,null,0,0,0,0,0,0,0,null,0,0,0,0,0,0,0,null,0,0,0,0,0,0,0,null,null,0]
[null,null,0,0,null,null,{"$f":"IF(H20=Практики!$M$1,D20*I20,IF(H20=Практики!$M$2,D20*E20*I20,IF(H20=Практики!$M$3,C20*I20,IF(H20=Практики!$M$4,C20*E20*I20,0))))*(1-N20)","v":0},null,null,null,null,1,null,0,null,null,0,0,1,{"$f":"IF($S20>0,IF(OR($B20=2*T$2-1,$B20=2*T$2),$R20,0),0)","v":0},0,0,0,0,0,0,null,0,0,0,0,0,0,0,null,0,0,0,0,0,0,0,null,0,0,0,0,0,0,0,null,null,0]
[null,null,0,0,null,null,{"$f":"IF(H21=Практики!$M$1,D21*I21,IF(H21=Практики!$M$2,D21*E21*I21,IF(H21=Практики!$M$3,C21*I21,IF(H21=Практики!$M$4,C21*E21*I21,0))))*(1-N21)","v":0},null,null,null,null,1,null,0,null,null,0,0,1,0,0,0,0,0,0,0,null,0,0,0,0,0,0,0,null,0,0,0,0,0,0,0,null,0,0,0,0,0,0,0,null,null,0]
[null,null,0,0,null,null,{"$f":"IF(H22=Практики!$M$1,D22*I22,IF(H22=Практики!$M$2,D22*E22*I22,IF(H22=Практики!$M$3,C22*I22,IF(H22=Практики!$M$4,C22*E22*I22,0))))*(1-N22)","v":0},null,null,null,null,1,null,0,null,null,0,0,1,0,0,0,0,0,0,0,null,0,0,0,0,0,0,0,null,0,0,0,0,0,0,0,null,0,0,0,0,0,0,0,null,null,0]
[null,null,0,0,null,null,{"$f":"IF(H23=Практики!$M$1,D23*I23,IF(H23=Практики!$M$2,D23*E23*I23,IF(H23=Практики!$M$3,C23*I23,IF(H23=Практики!$M$4,C23*E23*I23,0))))*(1-N23)","v":0},null,null,null,null,1,null,0,null,null,0,0,1,0,0,0,0,0,0,0,null,0,0,0,0,0,0,0,null,0,0,0,0,0,0,0,null,0,0,0,0,0,0,0,null,null,0]
[null,null,0,0,null,null,{"$f":"IF(H24=Практики!$M$1,D24*I24,IF(H24=Практики!$M$2,D24*E24*I24,IF(H24=Практики!$M$3,C24*I24,IF(H24=Практики!$M$4,C24*E24*I24,0))))*(1-N24)","v":0},null,null,null,null,1,null,0,null,null,0,0,1,0,0,0,0,0,0,0,null,0,0,0,0,0,0,0,null,0,0,0,0,0,0,0,null,0,0,0,0,0,0,0,null,null,0]
[null,null,0,0,null,null,{"$f":"IF(H25=Практики!$M$1,D25*I25,IF(H25=Практики!$M$2,D25*E25*I25,IF(H25=Практики!$M$3,C25*I25,IF(H25=Практики!$M$4,C25*E25*I25,0))))*(1-N25)","v":0},null,null,null,null,1,null,0,null,null,0,0,1,0,0,0,0,0,0,0,null,0,0,0,0,0,0,0,null,0,0,0,0,0,0,0,null,0,0,0,0,0,0,0,null,null,0]
[null,null,0,0,null,null,{"$f":"IF(H26=Практики!$M$1,D26*I26,IF(H26=Практики!$M$2,D26*E26*I26,IF(H26=Практики!$M$3,C26*I26,IF(H26=Практики!$M$4,C26*E26*I26,0))))*(1-N26)","v":0},null,null,null,null,1,null,0,null,null,0,0,1,0,0,0,0,0,0,0,null,0,0,0,0,0,0,0,null,0,0,0,0,0,0,0,null,0,0,0,0,0,0,0,null,null,0]
[null,null,0,0,null,null,{"$f":"IF(H27=Практики!$M$1,D27*I27,IF(H27=Практики!$M$2,D27*E27*I27,IF(H27=Практики!$M$3,C27*I27,IF(H27=Практики!$M$4,C27*E27*I27,0))))*(1-N27)","v":0},null,null,null,null,1,null,0,null,null,0,0,1,0,0,0,0,0,0,0,null,0,0,0,0,0,0,0,null,0,0,0,0,0,0,0,null,0,0,0,0,0,0,0,null,null,0]
[null,null,0,0,null,null,{"$f":"IF(H28=Практики!$M$1,D28*I28,IF(H28=Практики!$M$2,D28*E28*I28,IF(H28=Практики!$M$3,C28*I28,IF(H28=Практики!$M$4,C28*E28*I28,0))))*(1-N28)","v":0},null,null,null,null,1,null,0,null,null,0,0,1,0,0,0,0,0,0,0,null,0,0,0,0,0,0,0,null,0,0,0,0,0,0,0,null,0,0,0,0,0,0,0,null,null,0]
[null,null,0,0,null,null,{"$f":"IF(H29=Практики!$M$1,D29*I29,IF(H29=Практики!$M$2,D29*E29*I29,IF(H29=Практики!$M$3,C29*I29,IF(H29=Практики!$M$4,C29*E29*I29,0))))*(1-N29)","v":0},null,null,null,null,1,null,0,null,null,0,0,1,0,0,0,0,0,0,0,null,0,0,0,0,0,0,0,null,0,0,0,0,0,0,0,null,0,0,0,0,0,0,0,null,null,0]
[null,null,0,0,null,null,{"$f":"IF(H30=Практики!$M$1,D30*I30,IF(H30=Практики!$M$2,D30*E30*I30,IF(H30=Практики!$M$3,C30*I30,IF(H30=Практики!$M$4,C30*E30*I30,0))))*(1-N30)","v":0},null,null,null,null,1,null,0,null,null,0,0,1,0,0,0,0,0,0,0,null,0,0,0,0,0,0,0,null,0,0,0,0,0,0,0,null,0,0,0,0,0,0,0,null,null,0]
[null,null,0,0,null,null,{"$f":"IF(H31=Практики!$M$1,D31*I31,IF(H31=Практики!$M$2,D31*E31*I31,IF(H31=Практики!$M$3,C31*I31,IF(H31=Практики!$M$4,C31*E31*I31,0))))*(1-N31)","v":0},null,null,null,null,1,null,0,null,null,0,0,1,0,0,0,0,0,0,0,null,0,0,0,0,0,0,0,null,0,0,0,0,0,0,0,null,0,0,0,0,0,0,0,null,null,0]
[null,null,0,0,null,null,{"$f":"IF(H32=Практики!$M$1,D32*I32,IF(H32=Практики!$M$2,D32*E32*I32,IF(H32=Практики!$M$3,C32*I32,IF(H32=Практики!$M$4,C32*E32*I32,0))))*(1-N32)","v":0},null,null,null,null,1,null,0,null,null,0,0,1,0,0,0,0,0,0,0,null,0,0,0,0,0,0,0,null,0,0,0,0,0,0,0,null,0,0,0,0,0,0,0,null,null,0]
[null,null,null,"Итого",{"$f":"SUMIF(L3:L32,\"=1\",E3:E32)","v":4},null,{"$f":"SUMIF(F3:F32,\">0\",G3:G32)","v":3840},null,null,null,null,null,null,null,null,null,{"$f":"SUMIF($S3:$S32,\"=1\",Q3:Q32)","v":0},{"$f":"SUMIF($S3:$S32,\"=1\",R3:R32)","v":6},null,{"$f":"SUM(T3:T32)","v":0},{"$f":"SUM(U3:U32)","v":0},6,0,0,0,0,{"$f":"SUM(T33:Z33)","v":6},{"$f":"SUM(AB3:AB32)","v":0},{"$f":"SUM(AC3:AC32)","v":0},0,0,0,0,0,{"$f":"SUM(AB33:AH33)","v":0},{"$f":"SUM(AJ3:AJ32)","v":0},{"$f":"SUM(AK3:AK32)","v":0},4,0,0,0,0,{"$f":"SUM(AJ33:AP33)","v":4},{"$f":"SUM(AR3:AR32)","v":0},{"$f":"SUM(AS3:AS32)","v":0},0,0,0,0,0,{"$f":"SUM(AR33:AX33)","v":0}]
[]
[{"$f":"Нормы!D6","v":16},"Другие виды (производственные, преддипломная) практик",null,null,null,null,null,null,null,null,null,null,null,null,"Перечень реализуемых компетенций",null,"ЗЕТ",null,null,null,null,null,null,null,null,null,null,null,null,null,null,null,null,null,null,null,null,null,null,null,null,null,null,null,null,null,null,null,null,null,null,null,"Студентов"]
["Вид","Сем.","П/Г",{"$f":"Спец.!F3","v":"Студентов"},"Нед.","Закр.каф.","Трудоемкость","Норматив1","Часов","Норматив2","Часов",null,null,null,null,null,"Эксперт","Расчет"]
["Учебно-производственная",8,{"$f":"INT(D37/ВПГПракт-0.01)+1","v":6},{"$f":"IF(OR($B37=1,$B37=2),Конт1,0)+IF(OR($B37=3,$B37=4),Конт2,0)+IF(OR($B37=5,$B37=6),Конт3,0)+IF(OR($B37=7,$B37=8),Конт4,0)+IF(OR($B37=9,$B37=10),Конт5,0)+IF(OR($B37=11,$B37=12),Конт6,0)+IF(OR($B37=13,$B37=14),Конт7,0)","v":85},4,4,{"$f":"IF(H37=Практики!$M$1,D37*I37,IF(H37=Практики!$M$2,D37*E37*I37,IF(H37=Практики!$M$3,C37*I37,IF(H37=Практики!$M$4,C37*E37*I37,0))))*(1-N37)","v":8640},"на (под)группу в неделю",360,null,0,1,null,0,"",0,0,{"$f":"IF(Q37>0,Q37,FLOOR(IF(КредитовВНеделе>0,КредитовВНеделе,1.5)*(E37+0.001),ТочностьН))","v":6},{"$f":"IF(AND(L37>0,N37=0),1,0)","v":1},{"$f":"IF($S37>0,IF(OR($B37=2*T$2-1,$B37=2*T$2),$R37,0),0)","v":0},{"$f":"IF($S37>0,IF(OR($B37=2*U$2-1,$B37=2*U$2),$R37,0),0)","v":0},0,6,0,0,0,null,{"$f":"IF($N37>0,IF(OR($B37=2*T$2-1,$B37=2*T$2),$R37,0),0)","v":0},{"$f":"IF($N37>0,IF(OR($B37=2*U$2-1,$B37=2*U$2),$R37,0),0)","v":0},0,0,0,0,0,null,{"$f":"IF($S37>0,IF(OR($B37=2*T$2-1,$B37=2*T$2),$E37,0),0)","v":0},{"$f":"IF($S37>0,IF(OR($B37=2*U$2-1,$B37=2*U$2),$E37,0),0)","v":0},0,4,0,0,0,null,{"$f":"IF($N37>0,IF(OR($B37=2*T$2-1,$B37=2*T$2),$E37,0),0)","v":0},{"$f":"IF($N37>0,IF(OR($B37=2*U$2-1,$B37=2*U$2),$E37,0),0)","v":0},0,0,0,0,0,null,null,85]
[null,null,0,0,null,null,{"$f":"IF(H38=Практики!$M$1,D38*I38,IF(H38=Практики!$M$2,D38*E38*I38,IF(H38=Практики!$M$3,C38*I38,IF(H38=Практики!$M$4,C38*E38*I38,0))))*(1-N38)","v":0},null,null,null,null,1,null,0,null,0,0,0,1,{"$f":"IF($S38>0,IF(OR($B38=2*T$2-1,$B38=2*T$2),$R38,0),0)","v":0},0,0,0,0,0,0,null,{"$f":"IF($N38>0,IF(OR($B38=2*T$2-1,$B38=2*T$2),$R38,0),0)","v":0},0,0,0,0,0,0,null,{"$f":"IF($S38>0,IF(OR($B38=2*T$2-1,$B38=2*T$2),$E38,0),0)","v":0},0,0,0,0,0,0,null,{"$f":"IF($N38>0,IF(OR($B38=2*T$2-1,$B38=2*T$2),$E38,0),0)","v":0},0,0,0,0,0,0,null,null,0]
[null,null,0,0,null,null,{"$f":"IF(H39=Практики!$M$1,D39*I39,IF(H39=Практики!$M$2,D39*E39*I39,IF(H39=Практики!$M$3,C39*I39,IF(H39=Практики!$M$4,C39*E39*I39,0))))*(1-N39)","v":0},null,null,null,null,1,null,0,null,0,0,0,1,0,0,0,0,0,0,0,null,0,0,0,0,0,0,0,null,0,0,0,0,0,0,0,null,0,0,0,0,0,0,0,null,null,0]
[null,null,0,0,null,null,{"$f":"IF(H40=Практики!$M$1,D40*I40,IF(H40=Практики!$M$2,D40*E40*I40,IF(H40=Практики!$M$3,C40*I40,IF(H40=Практики!$M$4,C40*E40*I40,0))))*(1-N40)","v":0},null,null,null,null,1,null,0,null,0,0,0,1,0,0,0,0,0,0,0,null,0,0,0,0,0,0,0,null,0,0,0,0,0,0,0,null,0,0,0,0,0,0,0,null,null,0]
[null,null,0,0,null,null,{"$f":"IF(H41=Практики!$M$1,D41*I41,IF(H41=Практики!$M$2,D41*E41*I41,IF(H41=Практики!$M$3,C41*I41,IF(H41=Практики!$M$4,C41*E41*I41,0))))*(1-N41)","v":0},null,null,null,null,1,null,0,null,0,0,0,1,0,0,0,0,0,0,0,null,0,0,0,0,0,0,0,null,0,0,0,0,0,0,0,null,0,0,0,0,0,0,0,null,null,0]
[null,null,0,0,null,null,{"$f":"IF(H42=Практики!$M$1,D42*I42,IF(H42=Практики!$M$2,D42*E42*I42,IF(H42=Практики!$M$3,C42*I42,IF(H42=Практики!$M$4,C42*E42*I42,0))))*(1-N42)","v":0},null,null,null,null,1,null,0,null,0,0,0,1,0,0,0,0,0,0,0,null,0,0,0,0,0,0,0,null,0,0,0,0,0,0,0,null,0,0,0,0,0,0,0,null,null,0]
[null,null,0,0,null,null,{"$f":"IF(H43=Практики!$M$1,D43*I43,IF(H43=Практики!$M$2,D43*E43*I43,IF(H43=Практики!$M$3,C43*I43,IF(H43=Практики!$M$4,C43*E43*I43,0))))*(1-N43)","v":0},null,null,null,null,1,null,0,null,0,0,0,1,0,0,0,0,0,0,0,null,0,0,0,0,0,0,0,null,0,0,0,0,0,0,0,null,0,0,0,0,0,0,0,null,null,0]
[null,null,0,0,null,null,{"$f":"IF(H44=Практики!$M$1,D44*I44,IF(H44=Практики!$M$2,D44*E44*I44,IF(H44=Практики!$M$3,C44*I44,IF(H44=Практики!$M$4,C44*E44*I44,0))))*(1-N44)","v":0},null,null,null,null,1,null,0,null,0,0,0,1,0,0,0,0,0,0,0,null,0,0,0,0,0,0,0,null,0,0,0,0,0,0,0,null,0,0,0,0,0,0,0,null,null,0]
[null,null,0,0,null,null,{"$f":"IF(H45=Практики!$M$1,D45*I45,IF(H45=Практики!$M$2,D45*E45*I45,IF(H45=Практики!$M$3,C45*I45,IF(H45=Практики!$M$4,C45*E45*I45,0))))*(1-N45)","v":0},null,null,null,null,1,null,0,null,0,0,0,1,0,0,0,0,0,0,0,null,0,0,0,0,0,0,0,null,0,0,0,0,0,0,0,null,0,0,0,0,0,0,0,null,null,0]
[null,null,0,0,null,null,{"$f":"IF(H46=Практики!$M$1,D46*I46,IF(H46=Практики!$M$2,D46*E46*I46,IF(H46=Практики!$M$3,C46*I46,IF(H46=Практики!$M$4,C46*E46*I46,0))))*(1-N46)","v":0},null,null,null,null,1,null,0,null,0,0,0,1,0,0,0,0,0,0,0,null,0,0,0,0,0,0,0,null,0,0,0,0,0,0,0,null,0,0,0,0,0,0,0,null,null,0]
[null,null,0,0,null,null,{"$f":"IF(H47=Практики!$M$1,D47*I47,IF(H47=Практики!$M$2,D47*E47*I47,IF(H47=Практики!$M$3,C47*I47,IF(H47=Практики!$M$4,C47*E47*I47,0))))*(1-N47)","v":0},null,null,null,null,1,null,0,null,0,0,0,1,0,0,0,0,0,0,0,null,0,0,0,0,0,0,0,null,0,0,0,0,0,0,0,null,0,0,0,0,0,0,0,null,null,0]
[null,null,0,0,null,null,{"$f":"IF(H48=Практики!$M$1,D48*I48,IF(H48=Практики!$M$2,D48*E48*I48,IF(H48=Практики!$M$3,C48*I48,IF(H48=Практики!$M$4,C48*E48*I48,0))))*(1-N48)","v":0},null,null,null,null,1,null,0,null,0,0,0,1,0,0,0,0,0,0,0,null,0,0,0,0,0,0,0,null,0,0,0,0,0,0,0,null,0,0,0,0,0,0,0,null,null,0]
[null,null,0,0,null,null,{"$f":"IF(H49=Практики!$M$1,D49*I49,IF(H49=Практики!$M$2,D49*E49*I49,IF(H49=Практики!$M$3,C49*I49,IF(H49=Практики!$M$4,C49*E49*I49,0))))*(1-N49)","v":0},null,null,null,null,1,null,0,null,0,0,0,1,0,0,0,0,0,0,0,null,0,0,0,0,0,0,0,null,0,0,0,0,0,0,0,null,0,0,0,0,0,0,0,null,null,0]
[null,null,0,0,null,null,{"$f":"IF(H50=Практики!$M$1,D50*I50,IF(H50=Практики!$M$2,D50*E50*I50,IF(H50=Практики!$M$3,C50*I50,IF(H50=Практики!$M$4,C50*E50*I50,0))))*(1-N50)","v":0},null,null,null,null,1,null,0,null,0,0,0,1,0,0,0,0,0,0,0,null,0,0,0,0,0,0,0,null,0,0,0,0,0,0,0,null,0,0,0,0,0,0,0,null,null,0]
[null,null,0,0,null,null,{"$f":"IF(H51=Практики!$M$1,D51*I51,IF(H51=Практики!$M$2,D51*E51*I51,IF(H51=Практики!$M$3,C51*I51,IF(H51=Практики!$M$4,C51*E51*I51,0))))*(1-N51)","v":0},null,null,null,null,1,null,0,null,0,0,0,1,0,0,0,0,0,0,0,null,0,0,0,0,0,0,0,null,0,0,0,0,0,0,0,null,0,0,0,0,0,0,0,null,null,0]
[null,null,0,0,null,null,{"$f":"IF(H52=Практики!$M$1,D52*I52,IF(H52=Практики!$M$2,D52*E52*I52,IF(H52=Практики!$M$3,C52*I52,IF(H52=Практики!$M$4,C52*E52*I52,0))))*(1-N52)","v":0},null,null,null,null,1,null,0,null,0,0,0,1,0,0,0,0,0,0,0,null,0,0,0,0,0,0,0,null,0,0,0,0,0,0,0,null,0,0,0,0,0,0,0,null,null,0]
[null,null,0,0,null,null,{"$f":"IF(H53=Практики!$M$1,D53*I53,IF(H53=Практики!$M$2,D53*E53*I53,IF(H53=Практики!$M$3,C53*I53,IF(H53=Практики!$M$4,C53*E53*I53,0))))*(1-N53)","v":0},null,null,null,null,1,null,0,null,0,0,0,1,0,0,0,0,0,0,0,null,0,0,0,0,0,0,0,null,0,0,0,0,0,0,0,null,0,0,0,0,0,0,0,null,null,0]
[null,null,0,0,null,null,{"$f":"IF(H54=Практики!$M$1,D54*I54,IF(H54=Практики!$M$2,D54*E54*I54,IF(H54=Практики!$M$3,C54*I54,IF(H54=Практики!$M$4,C54*E54*I54,0))))*(1-N54)","v":0},null,null,null,null,1,null,0,null,0,0,0,1,{"$f":"IF($S54>0,IF(OR($B54=2*T$2-1,$B54=2*T$2),$R54,0),0)","v":0},0,0,0,0,0,0,null,0,0,0,0,0,0,0,null,0,0,0,0,0,0,0,null,0,0,0,0,0,0,0,null,null,0]
[null,null,0,0,null,null,{"$f":"IF(H55=Практики!$M$1,D55*I55,IF(H55=Практики!$M$2,D55*E55*I55,IF(H55=Практики!$M$3,C55*I55,IF(H55=Практики!$M$4,C55*E55*I55,0))))*(1-N55)","v":0},null,null,null,null,1,null,0,null,0,0,0,1,0,0,0,0,0,0,0,null,0,0,0,0,0,0,0,null,0,0,0,0,0,0,0,null,0,0,0,0,0,0,0,null,null,0]
[null,null,0,0,null,null,{"$f":"IF(H56=Практики!$M$1,D56*I56,IF(H56=Практики!$M$2,D56*E56*I56,IF(H56=Практики!$M$3,C56*I56,IF(H56=Практики!$M$4,C56*E56*I56,0))))*(1-N56)","v":0},null,null,null,null,1,null,0,null,0,0,0,1,0,0,0,0,0,0,0,null,0,0,0,0,0,0,0,null,0,0,0,0,0,0,0,null,0,0,0,0,0,0,0,null,null,0]
["Преддипломная",10,7,99,8,4,{"$f":"IF(H57=Практики!$M$1,D57*I57,IF(H57=Практики!$M$2,D57*E57*I57,IF(H57=Практики!$M$3,C57*I57,IF(H57=Практики!$M$4,C57*E57*I57,0))))*(1-N57)","v":627264},"на студента в неделю",792,null,0,1,null,0,"",0,0,12,1,0,0,0,0,12,0,0,null,0,0,0,0,0,0,0,null,0,0,0,0,8,0,0,null,0,0,0,0,0,0,0,null,null,99]
[null,null,0,0,null,null,{"$f":"IF(H58=Практики!$M$1,D58*I58,IF(H58=Практики!$M$2,D58*E58*I58,IF(H58=Практики!$M$3,C58*I58,IF(H58=Практики!$M$4,C58*E58*I58,0))))*(1-N58)","v":0},null,null,null,null,1,null,0,null,0,0,0,1,0,0,0,0,0,0,0,null,0,0,0,0,0,0,0,null,0,0,0,0,0,0,0,null,0,0,0,0,0,0,0,null,null,0]
[null,null,0,0,null,null,{"$f":"IF(H59=Практики!$M$1,D59*I59,IF(H59=Практики!$M$2,D59*E59*I59,IF(H59=Практики!$M$3,C59*I59,IF(H59=Практики!$M$4,C59*E59*I59,0))))*(1-N59)","v":0},null,null,null,null,1,null,0,null,0,0,0,1,0,0,0,0,0,0,0,null,0,0,0,0,0,0,0,null,0,0,0,0,0,0,0,null,0,0,0,0,0,0,0,null,null,0]
[null,null,0,0,null,null,{"$f":"IF(H60=Практики!$M$1,D60*I60,IF(H60=Практики!$M$2,D60*E60*I60,IF(H60=Практики!$M$3,C60*I60,IF(H60=Практики!$M$4,C60*E60*I60,0))))*(1-N60)","v":0},null,null,null,null,1,null,0,null,0,0,0,1,0,0,0,0,0,0,0,null,0,0,0,0,0,0,0,null,0,0,0,0,0,0,0,null,0,0,0,0,0,0,0,null,null,0]
[null,null,0,0,null,null,{"$f":"IF(H61=Практики!$M$1,D61*I61,IF(H61=Практики!$M$2,D61*E61*I61,IF(H61=Практики!$M$3,C61*I61,IF(H61=Практики!$M$4,C61*E61*I61,0))))*(1-N61)","v":0},null,null,null,null,1,null,0,null,0,0,0,1,0,0,0,0,0,0,0,null,0,0,0,0,0,0,0,null,0,0,0,0,0,0,0,null,0,0,0,0,0,0,0,null,null,0]
[null,null,0,0,null,null,{"$f":"IF(H62=Практики!$M$1,D62*I62,IF(H62=Практики!$M$2,D62*E62*I62,IF(H62=Практики!$M$3,C62*I62,IF(H62=Практики!$M$4,C62*E62*I62,0))))*(1-N62)","v":0},null,null,null,null,1,null,0,null,0,0,0,1,0,0,0,0,0,0,0,null,0,0,0,0,0,0,0,null,0,0,0,0,0,0,0,null,0,0,0,0,0,0,0,null,null,0]
[null,null,0,0,null,null,{"$f":"IF(H63=Практики!$M$1,D63*I63,IF(H63=Практики!$M$2,D63*E63*I63,IF(H63=Практики!$M$3,C63*I63,IF(H63=Практики!$M$4,C63*E63*I63,0))))*(1-N63)","v":0},null,null,null,null,1,null,0,null,0,0,0,1,0,0,0,0,0,0,0,null,0,0,0,0,0,0,0,null,0,0,0,0,0,0,0,null,0,0,0,0,0,0,0,null,null,0]
[null,null,0,0,null,null,{"$f":"IF(H64=Практики!$M$1,D64*I64,IF(H64=Практики!$M$2,D64*E64*I64,IF(H64=Практики!$M$3,C64*I64,IF(H64=Практики!$M$4,C64*E64*I64,0))))*(1-N64)","v":0},null,null,null,null,1,null,0,null,0,0,0,1,0,0,0,0,0,0,0,null,0,0,0,0,0,0,0,null,0,0,0,0,0,0,0,null,0,0,0,0,0,0,0,null,null,0]
[null,null,0,0,null,null,{"$f":"IF(H65=Практики!$M$1,D65*I65,IF(H65=Практики!$M$2,D65*E65*I65,IF(H65=Практики!$M$3,C65*I65,IF(H65=Практики!$M$4,C65*E65*I65,0))))*(1-N65)","v":0},null,null,null,null,1,null,0,null,0,0,0,1,0,0,0,0,0,0,0,null,0,0,0,0,0,0,0,null,0,0,0,0,0,0,0,null,0,0,0,0,0,0,0,null,null,0]
[null,null,0,0,null,null,{"$f":"IF(H66=Практики!$M$1,D66*I66,IF(H66=Практики!$M$2,D66*E66*I66,IF(H66=Практики!$M$3,C66*I66,IF(H66=Практики!$M$4,C66*E66*I66,0))))*(1-N66)","v":0},null,null,null,null,1,null,0,null,0,0,0,1,0,0,0,0,0,0,0,null,0,0,0,0,0,0,0,null,0,0,0,0,0,0,0,null,0,0,0,0,0,0,0,null,null,0]
[null,null,null,"Итого",{"$f":"SUMIF(L37:L66,\"=1\",E37:E66)","v":12},{"$f":"IF(OR(ABS(E67+E33-(П+Свод!AA24*ЧасовВКредите/54))>0.001,ABS(П-(ТУ+ТП))>0.001),\"Неверно\",\"\")","v":""},{"$f":"SUMIF(F37:F66,\">0\",G37:G66)","v":635904},null,null,null,null,null,null,null,null,null,{"$f":"SUMIF($S37:$S66,\"=1\",Q37:Q66)","v":0},{"$f":"SUMIF($S37:$S66,\"=1\",R37:R66)","v":18},null,{"$f":"SUM(T37:T66)","v":0},{"$f":"SUM(U37:U66)","v":0},0,6,12,0,0,{"$f":"SUM(T67:Z67)","v":18},{"$f":"SUM(AB37:AB66)","v":0},{"$f":"SUM(AC37:AC66)","v":0},0,0,0,0,0,{"$f":"SUM(AB67:AH67)","v":0},{"$f":"SUM(AJ37:AJ66)","v":0},{"$f":"SUM(AK37:AK66)","v":0},0,4,8,0,0,{"$f":"SUM(AJ67:AP67)","v":12},{"$f":"SUM(AR37:AR66)","v":0},{"$f":"SUM(AS37:AS66)","v":0},0,0,0,0,0,{"$f":"SUM(AR67:AX67)","v":0}]
[null,null,null,null,null,null,null,null,null,null,null,null,null,null,null,null,null,null,null,{"$f":"T67+T33","v":0},{"$f":"U67+U33","v":0},6,6,12,0,0,{"$f":"SUM(T68:Z68)","v":24},{"$f":"AB67+AB33","v":0},{"$f":"AC67+AC33","v":0},0,0,0,0,0,{"$f":"SUM(AB68:AH68)","v":0},{"$f":"AJ67+AJ33","v":0},{"$f":"AK67+AK33","v":0},4,4,8,0,0,{"$f":"SUM(AJ68:AP68)","v":16},{"$f":"AR67+AR33","v":0},{"$f":"AS67+AS33","v":0},0,0,0,0,0,{"$f":"SUM(AR68:AX68)","v":0}]

{"sheet":"Нормы","index":4,"n_rows":51,"n_cols":7,"rows_kept":51,"cut":false,"hidden":false,"merged":[[49,0,49,4],[32,0,32,4],[50,0,50,4],[48,0,48,4],[39,0,39,4],[44,0,44,4],[45,0,45,4],[36,0,36,4],[47,0,47,5],[43,0,43,5],[41,1,41,4],[34,0,34,4],[33,0,33,4],[38,0,38,4],[35,0,35,4],[40,0,40,4],[0,0,0,1],[0,2,0,5],[31,0,31,4],[27,3,27,4],[27,0,27,1],[25,0,25,1],[26,0,26,1],[23,3,26,5],[30,0,30,4],[29,0,29,5],[23,0,23,1],[24,0,24,1],[22,0,22,5],[16,0,16,2],[17,0,17,2],[20,0,20,2],[18,0,18,2],[14,0,14,2],[15,0,15,2],[37,0,37,4],[2,5,3,5],[11,0,11,5],[12,0,12,2],[13,0,13,2],[19,0,19,2]]}
["Нормы часов (контроль)",null,"Нормы недель"]
["Вид работы",{"$f":"\"Часов на \"&Студент&\"а\"","v":"Часов на студента"},"Вид","Недель из ФГОС","Недель по Плану","ЗЕТ/КРЕДИТОВ",{"$f":"F3/(D3-IF(КредитФТД,НормаФ/54,0))","v":{"$error":"#VALUE!"}}]
["Экзамен",0.35,{"$f":"Титул!BB24","v":"Теоретическое обучение"},152,{"$f":"ТТ","v":151.99999999999986},{"$f":"(ЗЕТ_ТО1+ЗЕТ_ТО2+ЗЕТ_ТО3+ЗЕТ_ТО4+ЗЕТ_ТО5+ЗЕТ_ТО6+ЗЕТ_ТО7)&\"/\"&(ECTS_ТО1+ECTS_ТО2+ECTS_ТО3+ECTS_ТО4+ECTS_ТО5+ECTS_ТО6+ECTS_ТО7)","v":"266/287,5"},{"$f":"IF(D4>0,F4/D4,0)","v":0}]
["Зачет",0.25,{"$f":"Титул!BE24","v":"Экзаменационные сессии"},26,{"$f":"ТЭ","v":25.999999999999993},null,{"$f":"IF(D5>0,F5/D5,0)","v":0}]
["Диплом (max)",33,{"$f":"Титул!BF24","v":"Итоговая Аттестация"},0,{"$f":"ТА","v":0},{"$f":"(ЗЕТ_ИА1+ЗЕТ_ИА2+ЗЕТ_ИА3+ЗЕТ_ИА4+ЗЕТ_ИА5+ЗЕТ_ИА6+ЗЕТ_ИА7)&\"/\"&(CrECTS_ИА1+CrECTS_ИА2+CrECTS_ИА3+CrECTS_ИА4+CrECTS_ИА5+CrECTS_ИА6+CrECTS_ИА7)","v":"0/0"},0]
["Курсовой проект (+ к,р,э,г)",3,{"$f":"Титул!BG24&\", \"&Титул!BH24","v":"Учебная практика, Другие Практики, НИР"},16,{"$f":"ИтогоНедУП+Практики!E67","v":16},{"$f":"(ЗЕТ_ПР1+ЗЕТ_ПР2+ЗЕТ_ПР3+ЗЕТ_ПР4+ЗЕТ_ПР5+ЗЕТ_ПР6+ЗЕТ_ПР7)&\"/\"&(CrECTS_ПР1+CrECTS_ПР2+CrECTS_ПР3+CrECTS_ПР4+CrECTS_ПР5+CrECTS_ПР6+CrECTS_ПР7)","v":"24/24"},{"$f":"IF(D6>0,F6/D6,0)","v":{"$error":"#VALUE!"}}]
["Курсовая работа",2,{"$f":"Титул!BI24","v":"Дипломная работа (ВКР)"},14,{"$f":"ТД","v":13.999999999999984},{"$f":"(ЗЕТ_Д1+ЗЕТ_Д2+ЗЕТ_Д3+ЗЕТ_Д4+ЗЕТ_Д5+ЗЕТ_Д6+ЗЕТ_Д7)&\"/\"&(CrECTS_Д1+CrECTS_Д2+CrECTS_Д3+CrECTS_Д4+CrECTS_Д5+CrECTS_Д6+CrECTS_Д7)","v":"21/20,75"},{"$f":"IF(D7>0,F7/D7,0)","v":{"$error":"#VALUE!"}}]
["Итоговый междисциплинарный экзамен",2,{"$f":"Титул!BJ24","v":"Гос. Экзамены и защита"},2,{"$f":"ТГ","v":2},{"$f":"(ЗЕТ_Г1+ЗЕТ_Г2+ЗЕТ_Г3+ЗЕТ_Г4+ЗЕТ_Г5+ЗЕТ_Г6+ЗЕТ_Г7)&\"/\"&(CrECTS_Г1+CrECTS_Г2+CrECTS_Г3+CrECTS_Г4+CrECTS_Г5+CrECTS_Г6+CrECTS_Г7)","v":"3/3"},{"$f":"IF(D8>0,F8/D8,0)","v":20668}]
[{"$f":"\"Среднее по учебному заведению количество \"&Студент&\"ов в группе\"","v":"Среднее по учебному заведению количество студентов в группе"},21,{"$f":"Титул!BK24","v":"Каникулы"},50,{"$f":"ТК","v":49.999999999999993},null,{"$f":"F9/D9","v":0}]
["MAX средн. нед. загрузка (час)",27,"Итого",{"$f":"SUM(D3:D9)","v":260},{"$f":"SUM(E3:E9)","v":259.99999999999983},{"$f":"(ЗЕТ1+ЗЕТ2+ЗЕТ3+ЗЕТ4+ЗЕТ5+ЗЕТ6+ЗЕТ7)&\"/\"&(CrECTS1+CrECTS2+CrECTS3+CrECTS4+CrECTS5+CrECTS6+CrECTS7)","v":"290/301,75"}]
[]
["Нормы часов по циклам (теоретическое обучение без экзаменов)"]
["Цикл",null,null,{"$f":"IF(СЭкзаменами,\"Часов из ФГОС с Эк\",\"Часов из ФГОС \")","v":"Часов из ФГОС "},{"$f":"IF(СЭкзаменами,\"Часов по Плану с Эк\",\"Часов по Плану\")","v":"Часов по Плану"},"Отклонение, %"]
[{"$f":"Рабочий!C95","v":"Цикл общих гуманитарных и социально-экономических дисциплин"},null,null,1800,{"$f":"ПГСЭ","v":1800},{"$f":"IF(D14<>0,(E14-D14)/D14,0)","v":0}]
[{"$f":"Рабочий!C96","v":"Цикл общих математических и естественнонаучных дисциплин"},null,null,400,{"$f":"ПЕН","v":400},0]
[{"$f":"Рабочий!C97","v":"Цикл общепрофессиональных дисциплин"},null,null,5100,{"$f":"ПДН","v":5100},0]
[{"$f":"Рабочий!C98","v":"Цикл специальных дисциплин"},null,null,900,{"$f":"ПСД","v":900},0]
[{"$f":"Рабочий!C99","v":"Дисциплины специализации"},null,null,0,{"$f":"ПДС","v":0},0]
[{"$f":"Рабочий!C100","v":"Факультативы"},null,null,872,{"$f":"ПФ","v":872},0]
[{"$f":"Рабочий!C101","v":"Резерв"},null,null,0,{"$f":"ПРЕЗ","v":0}]
[{"$f":"\"Итого\"&IF(План!CJ1396>0,\" (с учетом переаттестованного)\",\"\")","v":"Итого"},null,null,{"$f":"SUM(D14:D20)-НормаДС-ПерезачтеноВсего","v":9072},{"$f":"SUM(E14:E20)-E18-ПерезачтеноВсего","v":9072},{"$f":"IF(D21<>0,(E21-D21)/D21,0)","v":0}]
[]
["Зачетных единиц трудоемкости (ЗЕТ)"]
["Часов в одной ЗЕТ",null,36,"ЗЕТ и КРЕДИТОВ на весь срок обучения вычисляются как суммы по листам Курс1-Курс7"]
["ЗЕТ в неделе",null,1.5]
["ЗЕТ на весь срок обучения",null,{"$f":"ЗЕТ1+ЗЕТ2+ЗЕТ3+ЗЕТ4+ЗЕТ5+ЗЕТ6+ЗЕТ7","v":290}]
["КРЕДИТОВ на год обучения (дисциплины)",null,60]
["КРЕДИТОВ на весь срок обучения",null,{"$f":"CrECTS1+CrECTS2+CrECTS3+CrECTS4+CrECTS5+CrECTS6+CrECTS7","v":301.75},"Сокращение для кредитов",null,"Cr ECTS"]
[]
["Проверка"]
[{"$f":"IF(ТеорОб<=ТТ,\"Теоретическое обучение в норме!\",\"Мало теоретического обучения!\")","v":"Теоретическое обучение в норме!"}]
[{"$f":"IF(F32>Загрузка,\"Перегрузка \"&Студент&\"ов недельными учебными занятиями!\",\"Средняя недельная загрузка \"&Студент&\"ов в пределах нормы!\")","v":"Средняя недельная загрузка студентов в пределах нормы!"},null,null,null,null,{"$f":"IF(Недель1+Недель2+Недель3+Недель4+Недель5+Недель6+Недель7+Недель8+Недель9+Недель10+Недель11+Недель12+Недель13+Недель14-НедРП1-НедРП2-НедРП3-НедРП4-НедРП5-НедРП6-НедРП7-НедРП8-НедРП9-НедРП10-НедРП11-НедРП12-НедРП13-НедРП14>0,((Недель1-НедРП1)*Нед1+(Недель2-НедРП2)*Нед2+(Недель3-НедРП3)*Нед3+(Недель4-НедРП4)*Нед4+(Недель5-НедРП5)*Нед5+(Недель6-НедРП6)*Нед6+(Недель7-НедРП7)*Нед7+(Недель8-НедРП8)*Нед8+(Недель9-НедРП9)*Нед9+(Недель10-НедРП10)*Нед10+(Недель11-НедРП11)*Нед11+(Недель12-НедРП12)*Нед12+(Недель13-НедРП13)*Нед13+(Недель14-НедРП14)*Нед14)/(Недель1+Недель2+Недель3+Недель4+Недель5+Недель6+Недель7+Недель8+Недель9+Недель10+Недель11+Недель12+Недель13+Недель14-НедРП1-НедРП2-НедРП3-НедРП4-НедРП5-НедРП6-НедРП7-НедРП8-НедРП9-НедРП10-НедРП11-НедРП12-НедРП13-НедРП14),0)","v":25.500000000000004}]
[{"$f":"IF(AND(OR(Кан1=0,Кан1>=7),OR(Кан2=0,Кан2>=7),OR(Кан3=0,Кан3>=7),OR(Кан4=0,Кан4>=7),OR(Кан5=0,Кан5>=7),OR(Кан6=0,Кан6>=7),OR(Кан7=0,Кан7>=7)),\"Каникулы в норме!\",\"Нестандартное количество недель каникул!\")","v":"Каникулы в норме!"}]
[{"$f":"IF(СТИтого=0,\"Стандарт ПУСТ!\",IF(OR(ABS(F14)>0.05,ABS(F15)>0.05,ABS(F15)>0.05,ABS(F16)>0.05,ABS(F17)>0.05,ABS(F19)>0.05,ABS(F20)>0.05),\"Недопустимое отклонение от стандарта по циклам!\",\"Отклонения от стандарта по циклам в пределах нормы!\"))","v":"Отклонения от стандарта по циклам в пределах нормы!"}]
[{"$f":"IF(Спец.!E28>Нормы!B5,\"Перебор часов по дипломникам!\",\"Часы по дипломникам в пределах нормы!\")","v":"Перебор часов по дипломникам!"},null,null,null,null,{"$f":"Спец.!E28-Диплом","v":2}]
[{"$f":"IF(ABS(F36)>1,\"Есть незакрепленные дисциплины или неверна трудоемкость!\",\"Закрепление дисциплин и трудоемкость в норме!\")","v":"Закрепление дисциплин и трудоемкость в норме!"},null,null,null,null,{"$f":"ABS(ОбшаяТрудоемкость-(SUMIF(План!$BP$5:$BP$1392,\"<>\",План!$BY$5:$BY$1392)+SUMIF(Практики!F3:F32,\"<>\",Практики!$G$3:$G$32)+SUMIF(Практики!F37:F66,\"<>\",Практики!$G$37:$G$66)+SUMIF(Спец.!H5:H27,\"<>\",Спец.!$F$5:$G$27)+SUMIF(Спец.!H31:H41,\"<>\",Спец.!$F$31:$G$41)+SUMIF(Спец.!H43:H44,\"<>\",Спец.!$F$43:$G$44)))","v":2.3283064365386963E-10}]
[{"$f":"IF(F37>22,\"Перегрузка \"&Студент&\"ов годовым контролем!\",\"Объем годового контроля в пределах нормы!\")","v":"Объем годового контроля в пределах нормы!"},null,null,null,null,{"$f":"MAX(Экз1+Зач1+Экз2+Зач2,Экз3+Зач3+Экз4+Зач4,Экз5+Зач5+Экз6+Зач6,Экз7+Зач7+Экз8+Зач8,Экз9+Зач9+Экз10+Зач10,Экз11+Зач11+Экз12+Зач12,Экз13+Зач13+Экз14+Зач14)","v":19}]
["Максимальное количество экзаменов в учебном году",null,null,null,null,{"$f":"MAX(Экз1+Экз2,Экз3+Экз4,Экз5+Экз6,Экз7+Экз8,Экз9+Экз10,Экз11+Экз12,Экз13+Экз14)","v":10}]
["Максимальное количество зачетов в учебном году",null,null,null,null,{"$f":"MAX(Зач1+Зач2,Зач3+Зач4,Зач5+Зач6,Зач7+Зач8,Зач9+Зач10,Зач11+Зач12,Зач13+Зач14)","v":9}]
["Максимальное количество курсовых проектов (+ к,р,э,г) в семестре",null,null,null,null,{"$f":"MAX(КП1,КП2,КП3,КП4,КП5,КП6,КП7,КП8,КП9,КП10,КП11,КП12,КП13,КП14)","v":0}]
["Максимальное количество курсовых работ в семестре",null,null,null,null,{"$f":"MAX(КР1,КР2,КР3,КР4,КР5,КР6,КР7,КР8,КР9,КР10,КР11,КР12,КР13,КР14)","v":1}]
["Несбалансированные циклы:",{"$f":"IF(НормаГСЭ<>ИтогоГСЭПоПлану,Рабочий!B95,\"-\")&IF(НормаЕН<>ИтогоЕНПоПлану,\" \"&Рабочий!B96,\"-\")&IF(НормаДН<>ИтогоДНПоПлану,\" \"&Рабочий!B97,\"-\")&IF(НормаСД<>ИтогоСДПоПлану,\" \"&Рабочий!B98,\"-\")&IF(НормаДС<>ИтогоДСПоПлану,\" \"&Рабочий!B99,\"-\")&IF(НормаФ<>ИтогоФПоПлану,\" \"&Рабочий!B100,\"-\")&IF(НормаРЕЗ<>ИтогоРЕЗПоПлану,\" \"&Рабочий!B101,\"-\")","v":"-------"},null,null,null,{"$f":"IF(B42<>\"-------\",\"Нет баланса\",\"OK\")","v":"OK"}]
[]
["Закрепление учебного плана"]
["Код основной закрепленной за специальностью кафедры",null,null,null,null,4]
["Специальность относится к факультету (аббревиатура)",null,null,null,null,"ФГО"]
[]
["Атрибуты учебного плана"]
["Дата утверждения ФГОС ВПО (минимум содержания)",null,null,null,null,"2000-03-14"]
["Год начала подготовки специалистов по этому учебному плану",null,null,null,null,2009]
["ФГОС ВПО (минимум содержания), на соответствие которому РУП проверен",null,null,null,null,""]

{"sheet":"Каф","index":5,"n_rows":502,"n_cols":4,"rows_kept":502,"cut":false,"hidden":false,"merged":[]}
[null,"Итого",{"$f":"SUM(C3:C202)","v":672063.28899295966},{"$f":"SUM(D3:D202)","v":0.99999999999999956}]
["Код","Наименование кафедры","Трудоемкость","В процентах"]
[1,"Социология, политология и история Отечества",{"$f":"SUMIF(План!$BP$5:$BP$1392,A3,План!$BY$5:$BY$1392)+SUMIF(Практики!$F$3:$F$32,A3,Практики!$G$3:$G$32)+SUMIF(Практики!$F$37:$F$66,A3,Практики!$G$37:$G$66)+SUMIF(Спец.!$H$5:$H$27,A3,Спец.!$F$5:$G$27)+SUMIF(Спец.!$H$31:$H$41,A3,Спец.!$F$31:$G$41)+SUMIF(Спец.!$H$43:$H$44,A3,Спец.!$F$43:$G$44)","v":4331.3543650793654},{"$f":"IF($C$1>0,C3/$C$1,0)","v":6.4448608278687564E-3}]
[2,"Философия",{"$f":"SUMIF(План!$BP$5:$BP$1392,A4,План!$BY$5:$BY$1392)+SUMIF(Практики!$F$3:$F$32,A4,Практики!$G$3:$G$32)+SUMIF(Практики!$F$37:$F$66,A4,Практики!$G$37:$G$66)+SUMIF(Спец.!$H$5:$H$27,A4,Спец.!$F$5:$G$27)+SUMIF(Спец.!$H$31:$H$41,A4,Спец.!$F$31:$G$41)+SUMIF(Спец.!$H$43:$H$44,A4,Спец.!$F$43:$G$44)","v":309.90714285714284},{"$f":"IF($C$1>0,C4/$C$1,0)","v":4.6112791448781152E-4}]
[3,"Иностранные языки",{"$f":"SUMIF(План!$BP$5:$BP$1392,A5,План!$BY$5:$BY$1392)+SUMIF(Практики!$F$3:$F$32,A5,Практики!$G$3:$G$32)+SUMIF(Практики!$F$37:$F$66,A5,Практики!$G$37:$G$66)+SUMIF(Спец.!$H$5:$H$27,A5,Спец.!$F$5:$G$27)+SUMIF(Спец.!$H$31:$H$41,A5,Спец.!$F$31:$G$41)+SUMIF(Спец.!$H$43:$H$44,A5,Спец.!$F$43:$G$44)","v":580.18095238095236},8.6328320841674508E-4]
[4,"Психология и педагогика",{"$f":"SUMIF(План!$BP$5:$BP$1392,A6,План!$BY$5:$BY$1392)+SUMIF(Практики!$F$3:$F$32,A6,Практики!$G$3:$G$32)+SUMIF(Практики!$F$37:$F$66,A6,Практики!$G$37:$G$66)+SUMIF(Спец.!$H$5:$H$27,A6,Спец.!$F$5:$G$27)+SUMIF(Спец.!$H$31:$H$41,A6,Спец.!$F$31:$G$41)+SUMIF(Спец.!$H$43:$H$44,A6,Спец.!$F$43:$G$44)","v":657692.45483545028},0.97861684398943571]
[5,"Экономика промышленности",{"$f":"SUMIF(План!$BP$5:$BP$1392,A7,План!$BY$5:$BY$1392)+SUMIF(Практики!$F$3:$F$32,A7,Практики!$G$3:$G$32)+SUMIF(Практики!$F$37:$F$66,A7,Практики!$G$37:$G$66)+SUMIF(Спец.!$H$5:$H$27,A7,Спец.!$F$5:$G$27)+SUMIF(Спец.!$H$31:$H$41,A7,Спец.!$F$31:$G$41)+SUMIF(Спец.!$H$43:$H$44,A7,Спец.!$F$43:$G$44)","v":1676.8214285714284},2.4950350004744781E-3]
[6,"Производственный менеджмент",{"$f":"SUMIF(План!$BP$5:$BP$1392,A8,План!$BY$5:$BY$1392)+SUMIF(Практики!$F$3:$F$32,A8,Практики!$G$3:$G$32)+SUMIF(Практики!$F$37:$F$66,A8,Практики!$G$37:$G$66)+SUMIF(Спец.!$H$5:$H$27,A8,Спец.!$F$5:$G$27)+SUMIF(Спец.!$H$31:$H$41,A8,Спец.!$F$31:$G$41)+SUMIF(Спец.!$H$43:$H$44,A8,Спец.!$F$43:$G$44)","v":0},0]
[7,"Экономика и управление организацией",{"$f":"SUMIF(План!$BP$5:$BP$1392,A9,План!$BY$5:$BY$1392)+SUMIF(Практики!$F$3:$F$32,A9,Практики!$G$3:$G$32)+SUMIF(Практики!$F$37:$F$66,A9,Практики!$G$37:$G$66)+SUMIF(Спец.!$H$5:$H$27,A9,Спец.!$F$5:$G$27)+SUMIF(Спец.!$H$31:$H$41,A9,Спец.!$F$31:$G$41)+SUMIF(Спец.!$H$43:$H$44,A9,Спец.!$F$43:$G$44)","v":2086.2571428571428},3.1042569606550816E-3]
[8,"Высшая математика и прикладная информатика",{"$f":"SUMIF(План!$BP$5:$BP$1392,A10,План!$BY$5:$BY$1392)+SUMIF(Практики!$F$3:$F$32,A10,Практики!$G$3:$G$32)+SUMIF(Практики!$F$37:$F$66,A10,Практики!$G$37:$G$66)+SUMIF(Спец.!$H$5:$H$27,A10,Спец.!$F$5:$G$27)+SUMIF(Спец.!$H$31:$H$41,A10,Спец.!$F$31:$G$41)+SUMIF(Спец.!$H$43:$H$44,A10,Спец.!$F$43:$G$44)","v":265.82857142857142},3.9554097922369356E-4]
[9,"Прикладная математика и информатика",{"$f":"SUMIF(План!$BP$5:$BP$1392,A11,План!$BY$5:$BY$1392)+SUMIF(Практики!$F$3:$F$32,A11,Практики!$G$3:$G$32)+SUMIF(Практики!$F$37:$F$66,A11,Практики!$G$37:$G$66)+SUMIF(Спец.!$H$5:$H$27,A11,Спец.!$F$5:$G$27)+SUMIF(Спец.!$H$31:$H$41,A11,Спец.!$F$31:$G$41)+SUMIF(Спец.!$H$43:$H$44,A11,Спец.!$F$43:$G$44)","v":0},0]
[10,"Мировая и национальная  экономика",{"$f":"SUMIF(План!$BP$5:$BP$1392,A12,План!$BY$5:$BY$1392)+SUMIF(Практики!$F$3:$F$32,A12,Практики!$G$3:$G$32)+SUMIF(Практики!$F$37:$F$66,A12,Практики!$G$37:$G$66)+SUMIF(Спец.!$H$5:$H$27,A12,Спец.!$F$5:$G$27)+SUMIF(Спец.!$H$31:$H$41,A12,Спец.!$F$31:$G$41)+SUMIF(Спец.!$H$43:$H$44,A12,Спец.!$F$43:$G$44)","v":1144.4761904761904},1.7029291872066228E-3]
[11,"Механика",{"$f":"SUMIF(План!$BP$5:$BP$1392,A13,План!$BY$5:$BY$1392)+SUMIF(Практики!$F$3:$F$32,A13,Практики!$G$3:$G$32)+SUMIF(Практики!$F$37:$F$66,A13,Практики!$G$37:$G$66)+SUMIF(Спец.!$H$5:$H$27,A13,Спец.!$F$5:$G$27)+SUMIF(Спец.!$H$31:$H$41,A13,Спец.!$F$31:$G$41)+SUMIF(Спец.!$H$43:$H$44,A13,Спец.!$F$43:$G$44)","v":0},0]
[12,"Инженерная графика",{"$f":"SUMIF(План!$BP$5:$BP$1392,A14,План!$BY$5:$BY$1392)+SUMIF(Практики!$F$3:$F$32,A14,Практики!$G$3:$G$32)+SUMIF(Практики!$F$37:$F$66,A14,Практики!$G$37:$G$66)+SUMIF(Спец.!$H$5:$H$27,A14,Спец.!$F$5:$G$27)+SUMIF(Спец.!$H$31:$H$41,A14,Спец.!$F$31:$G$41)+SUMIF(Спец.!$H$43:$H$44,A14,Спец.!$F$43:$G$44)","v":0},0]
[13,"Технология машиностроения",{"$f":"SUMIF(План!$BP$5:$BP$1392,A15,План!$BY$5:$BY$1392)+SUMIF(Практики!$F$3:$F$32,A15,Практики!$G$3:$G$32)+SUMIF(Практики!$F$37:$F$66,A15,Практики!$G$37:$G$66)+SUMIF(Спец.!$H$5:$H$27,A15,Спец.!$F$5:$G$27)+SUMIF(Спец.!$H$31:$H$41,A15,Спец.!$F$31:$G$41)+SUMIF(Спец.!$H$43:$H$44,A15,Спец.!$F$43:$G$44)","v":0},0]
[14,"Инструментальные системы и сервис автомобилей",{"$f":"SUMIF(План!$BP$5:$BP$1392,A16,План!$BY$5:$BY$1392)+SUMIF(Практики!$F$3:$F$32,A16,Практики!$G$3:$G$32)+SUMIF(Практики!$F$37:$F$66,A16,Практики!$G$37:$G$66)+SUMIF(Спец.!$H$5:$H$27,A16,Спец.!$F$5:$G$27)+SUMIF(Спец.!$H$31:$H$41,A16,Спец.!$F$31:$G$41)+SUMIF(Спец.!$H$43:$H$44,A16,Спец.!$F$43:$G$44)","v":0},0]
[15,"Автомобили и станочные комплексы",{"$f":"SUMIF(План!$BP$5:$BP$1392,A17,План!$BY$5:$BY$1392)+SUMIF(Практики!$F$3:$F$32,A17,Практики!$G$3:$G$32)+SUMIF(Практики!$F$37:$F$66,A17,Практики!$G$37:$G$66)+SUMIF(Спец.!$H$5:$H$27,A17,Спец.!$F$5:$G$27)+SUMIF(Спец.!$H$31:$H$41,A17,Спец.!$F$31:$G$41)+SUMIF(Спец.!$H$43:$H$44,A17,Спец.!$F$43:$G$44)","v":0},0]
[16,"Автоматизация производств и управления транспортными системами",{"$f":"SUMIF(План!$BP$5:$BP$1392,A18,План!$BY$5:$BY$1392)+SUMIF(Практики!$F$3:$F$32,A18,Практики!$G$3:$G$32)+SUMIF(Практики!$F$37:$F$66,A18,Практики!$G$37:$G$66)+SUMIF(Спец.!$H$5:$H$27,A18,Спец.!$F$5:$G$27)+SUMIF(Спец.!$H$31:$H$41,A18,Спец.!$F$31:$G$41)+SUMIF(Спец.!$H$43:$H$44,A18,Спец.!$F$43:$G$44)","v":0},0]
[17,"Нанотехнологии в машиностроении",{"$f":"SUMIF(План!$BP$5:$BP$1392,A19,План!$BY$5:$BY$1392)+SUMIF(Практики!$F$3:$F$32,A19,Практики!$G$3:$G$32)+SUMIF(Практики!$F$37:$F$66,A19,Практики!$G$37:$G$66)+SUMIF(Спец.!$H$5:$H$27,A19,Спец.!$F$5:$G$27)+SUMIF(Спец.!$H$31:$H$41,A19,Спец.!$F$31:$G$41)+SUMIF(Спец.!$H$43:$H$44,A19,Спец.!$F$43:$G$44)","v":0},0]
[18,"Металловедение, порошковая металлургия и наноматериалы",{"$f":"SUMIF(План!$BP$5:$BP$1392,A20,План!$BY$5:$BY$1392)+SUMIF(Практики!$F$3:$F$32,A20,Практики!$G$3:$G$32)+SUMIF(Практики!$F$37:$F$66,A20,Практики!$G$37:$G$66)+SUMIF(Спец.!$H$5:$H$27,A20,Спец.!$F$5:$G$27)+SUMIF(Спец.!$H$31:$H$41,A20,Спец.!$F$31:$G$41)+SUMIF(Спец.!$H$43:$H$44,A20,Спец.!$F$43:$G$44)","v":0},0]
[19,"Материаловедение и товарная экспертиза",{"$f":"SUMIF(План!$BP$5:$BP$1392,A21,План!$BY$5:$BY$1392)+SUMIF(Практики!$F$3:$F$32,A21,Практики!$G$3:$G$32)+SUMIF(Практики!$F$37:$F$66,A21,Практики!$G$37:$G$66)+SUMIF(Спец.!$H$5:$H$27,A21,Спец.!$F$5:$G$27)+SUMIF(Спец.!$H$31:$H$41,A21,Спец.!$F$31:$G$41)+SUMIF(Спец.!$H$43:$H$44,A21,Спец.!$F$43:$G$44)","v":0},0]
[20,"Литейные и высокоэффективные технологии",{"$f":"SUMIF(План!$BP$5:$BP$1392,A22,План!$BY$5:$BY$1392)+SUMIF(Практики!$F$3:$F$32,A22,Практики!$G$3:$G$32)+SUMIF(Практики!$F$37:$F$66,A22,Практики!$G$37:$G$66)+SUMIF(Спец.!$H$5:$H$27,A22,Спец.!$F$5:$G$27)+SUMIF(Спец.!$H$31:$H$41,A22,Спец.!$F$31:$G$41)+SUMIF(Спец.!$H$43:$H$44,A22,Спец.!$F$43:$G$44)","v":0},0]
[21,"Физвоспитание и спорт",{"$f":"SUMIF(План!$BP$5:$BP$1392,A23,План!$BY$5:$BY$1392)+SUMIF(Практики!$F$3:$F$32,A23,Практики!$G$3:$G$32)+SUMIF(Практики!$F$37:$F$66,A23,Практики!$G$37:$G$66)+SUMIF(Спец.!$H$5:$H$27,A23,Спец.!$F$5:$G$27)+SUMIF(Спец.!$H$31:$H$41,A23,Спец.!$F$31:$G$41)+SUMIF(Спец.!$H$43:$H$44,A23,Спец.!$F$43:$G$44)","v":1096.6349206349205},1.6317435256404974E-3]
[22,"Конверсионные и двойные технологии энергонасыщенных материалов и изделий",{"$f":"SUMIF(План!$BP$5:$BP$1392,A24,План!$BY$5:$BY$1392)+SUMIF(Практики!$F$3:$F$32,A24,Практики!$G$3:$G$32)+SUMIF(Практики!$F$37:$F$66,A24,Практики!$G$37:$G$66)+SUMIF(Спец.!$H$5:$H$27,A24,Спец.!$F$5:$G$27)+SUMIF(Спец.!$H$31:$H$41,A24,Спец.!$F$31:$G$41)+SUMIF(Спец.!$H$43:$H$44,A24,Спец.!$F$43:$G$44)","v":0},0]
[23,"Безопасность жизнедеятельности",{"$f":"SUMIF(План!$BP$5:$BP$1392,A25,План!$BY$5:$BY$1392)+SUMIF(Практики!$F$3:$F$32,A25,Практики!$G$3:$G$32)+SUMIF(Практики!$F$37:$F$66,A25,Практики!$G$37:$G$66)+SUMIF(Спец.!$H$5:$H$27,A25,Спец.!$F$5:$G$27)+SUMIF(Спец.!$H$31:$H$41,A25,Спец.!$F$31:$G$41)+SUMIF(Спец.!$H$43:$H$44,A25,Спец.!$F$43:$G$44)","v":518.57142857142856},7.7161100310726982E-4]
[24,"Автоматизация и управление технологическими процессами",{"$f":"SUMIF(План!$BP$5:$BP$1392,A26,План!$BY$5:$BY$1392)+SUMIF(Практики!$F$3:$F$32,A26,Практики!$G$3:$G$32)+SUMIF(Практики!$F$37:$F$66,A26,Практики!$G$37:$G$66)+SUMIF(Спец.!$H$5:$H$27,A26,Спец.!$F$5:$G$27)+SUMIF(Спец.!$H$31:$H$41,A26,Спец.!$F$31:$G$41)+SUMIF(Спец.!$H$43:$H$44,A26,Спец.!$F$43:$G$44)","v":0},0]
[25,"Бурение нефтяных и газовых скважин",{"$f":"SUMIF(План!$BP$5:$BP$1392,A27,План!$BY$5:$BY$1392)+SUMIF(Практики!$F$3:$F$32,A27,Практики!$G$3:$G$32)+SUMIF(Практики!$F$37:$F$66,A27,Практики!$G$37:$G$66)+SUMIF(Спец.!$H$5:$H$27,A27,Спец.!$F$5:$G$27)+SUMIF(Спец.!$H$31:$H$41,A27,Спец.!$F$31:$G$41)+SUMIF(Спец.!$H$43:$H$44,A27,Спец.!$F$43:$G$44)","v":0},0]
[26,"Геология и геофизика",{"$f":"SUMIF(План!$BP$5:$BP$1392,A28,План!$BY$5:$BY$1392)+SUMIF(Практики!$F$3:$F$32,A28,Практики!$G$3:$G$32)+SUMIF(Практики!$F$37:$F$66,A28,Практики!$G$37:$G$66)+SUMIF(Спец.!$H$5:$H$27,A28,Спец.!$F$5:$G$27)+SUMIF(Спец.!$H$31:$H$41,A28,Спец.!$F$31:$G$41)+SUMIF(Спец.!$H$43:$H$44,A28,Спец.!$F$43:$G$44)","v":0},0]
[27,"Разработка и эксплуатация нефтяных и газовых месторождений",{"$f":"SUMIF(План!$BP$5:$BP$1392,A29,План!$BY$5:$BY$1392)+SUMIF(Практики!$F$3:$F$32,A29,Практики!$G$3:$G$32)+SUMIF(Практики!$F$37:$F$66,A29,Практики!$G$37:$G$66)+SUMIF(Спец.!$H$5:$H$27,A29,Спец.!$F$5:$G$27)+SUMIF(Спец.!$H$31:$H$41,A29,Спец.!$F$31:$G$41)+SUMIF(Спец.!$H$43:$H$44,A29,Спец.!$F$43:$G$44)","v":0},0]
[28,"Машины и аппараты химической промышленности",{"$f":"SUMIF(План!$BP$5:$BP$1392,A30,План!$BY$5:$BY$1392)+SUMIF(Практики!$F$3:$F$32,A30,Практики!$G$3:$G$32)+SUMIF(Практики!$F$37:$F$66,A30,Практики!$G$37:$G$66)+SUMIF(Спец.!$H$5:$H$27,A30,Спец.!$F$5:$G$27)+SUMIF(Спец.!$H$31:$H$41,A30,Спец.!$F$31:$G$41)+SUMIF(Спец.!$H$43:$H$44,A30,Спец.!$F$43:$G$44)","v":0},0]
[29,"Машины и оборудование нефтяных и газовых промыслов",{"$f":"SUMIF(План!$BP$5:$BP$1392,A31,План!$BY$5:$BY$1392)+SUMIF(Практики!$F$3:$F$32,A31,Практики!$G$3:$G$32)+SUMIF(Практики!$F$37:$F$66,A31,Практики!$G$37:$G$66)+SUMIF(Спец.!$H$5:$H$27,A31,Спец.!$F$5:$G$27)+SUMIF(Спец.!$H$31:$H$41,A31,Спец.!$F$31:$G$41)+SUMIF(Спец.!$H$43:$H$44,A31,Спец.!$F$43:$G$44)","v":0},0]
[30,"Трубопроводный транспорт",{"$f":"SUMIF(План!$BP$5:$BP$1392,A32,План!$BY$5:$BY$1392)+SUMIF(Практики!$F$3:$F$32,A32,Практики!$G$3:$G$32)+SUMIF(Практики!$F$37:$F$66,A32,Практики!$G$37:$G$66)+SUMIF(Спец.!$H$5:$H$27,A32,Спец.!$F$5:$G$27)+SUMIF(Спец.!$H$31:$H$41,A32,Спец.!$F$31:$G$41)+SUMIF(Спец.!$H$43:$H$44,A32,Спец.!$F$43:$G$44)","v":0},0]
[31,"Общая физика и физика нефтегазового производства",{"$f":"SUMIF(План!$BP$5:$BP$1392,A33,План!$BY$5:$BY$1392)+SUMIF(Практики!$F$3:$F$32,A33,Практики!$G$3:$G$32)+SUMIF(Практики!$F$37:$F$66,A33,Практики!$G$37:$G$66)+SUMIF(Спец.!$H$5:$H$27,A33,Спец.!$F$5:$G$27)+SUMIF(Спец.!$H$31:$H$41,A33,Спец.!$F$31:$G$41)+SUMIF(Спец.!$H$43:$H$44,A33,Спец.!$F$43:$G$44)","v":0},0]
[32,"Химическая технология и промышленная экология",{"$f":"SUMIF(План!$BP$5:$BP$1392,A34,План!$BY$5:$BY$1392)+SUMIF(Практики!$F$3:$F$32,A34,Практики!$G$3:$G$32)+SUMIF(Практики!$F$37:$F$66,A34,Практики!$G$37:$G$66)+SUMIF(Спец.!$H$5:$H$27,A34,Спец.!$F$5:$G$27)+SUMIF(Спец.!$H$31:$H$41,A34,Спец.!$F$31:$G$41)+SUMIF(Спец.!$H$43:$H$44,A34,Спец.!$F$43:$G$44)","v":411.58333333333331},6.1241752090054262E-4]
[33,"Общая и неорганичесая химия",{"$f":"SUMIF(План!$BP$5:$BP$1392,A35,План!$BY$5:$BY$1392)+SUMIF(Практики!$F$3:$F$32,A35,Практики!$G$3:$G$32)+SUMIF(Практики!$F$37:$F$66,A35,Практики!$G$37:$G$66)+SUMIF(Спец.!$H$5:$H$27,A35,Спец.!$F$5:$G$27)+SUMIF(Спец.!$H$31:$H$41,A35,Спец.!$F$31:$G$41)+SUMIF(Спец.!$H$43:$H$44,A35,Спец.!$F$43:$G$44)","v":0},0]
[34,"Аналитическая и физическая химия",{"$f":"SUMIF(План!$BP$5:$BP$1392,A36,План!$BY$5:$BY$1392)+SUMIF(Практики!$F$3:$F$32,A36,Практики!$G$3:$G$32)+SUMIF(Практики!$F$37:$F$66,A36,Практики!$G$37:$G$66)+SUMIF(Спец.!$H$5:$H$27,A36,Спец.!$F$5:$G$27)+SUMIF(Спец.!$H$31:$H$41,A36,Спец.!$F$31:$G$41)+SUMIF(Спец.!$H$43:$H$44,A36,Спец.!$F$43:$G$44)","v":0},0]
[35,"Органическая химия",{"$f":"SUMIF(План!$BP$5:$BP$1392,A37,План!$BY$5:$BY$1392)+SUMIF(Практики!$F$3:$F$32,A37,Практики!$G$3:$G$32)+SUMIF(Практики!$F$37:$F$66,A37,Практики!$G$37:$G$66)+SUMIF(Спец.!$H$5:$H$27,A37,Спец.!$F$5:$G$27)+SUMIF(Спец.!$H$31:$H$41,A37,Спец.!$F$31:$G$41)+SUMIF(Спец.!$H$43:$H$44,A37,Спец.!$F$43:$G$44)","v":0},0]
[36,"Технология органического и нефтехимического синтеза",{"$f":"SUMIF(План!$BP$5:$BP$1392,A38,План!$BY$5:$BY$1392)+SUMIF(Практики!$F$3:$F$32,A38,Практики!$G$3:$G$32)+SUMIF(Практики!$F$37:$F$66,A38,Практики!$G$37:$G$66)+SUMIF(Спец.!$H$5:$H$27,A38,Спец.!$F$5:$G$27)+SUMIF(Спец.!$H$31:$H$41,A38,Спец.!$F$31:$G$41)+SUMIF(Спец.!$H$43:$H$44,A38,Спец.!$F$43:$G$44)","v":0},0]
[37,"Химическая технология переработки нефти и газа",{"$f":"SUMIF(План!$BP$5:$BP$1392,A39,План!$BY$5:$BY$1392)+SUMIF(Практики!$F$3:$F$32,A39,Практики!$G$3:$G$32)+SUMIF(Практики!$F$37:$F$66,A39,Практики!$G$37:$G$66)+SUMIF(Спец.!$H$5:$H$27,A39,Спец.!$F$5:$G$27)+SUMIF(Спец.!$H$31:$H$41,A39,Спец.!$F$31:$G$41)+SUMIF(Спец.!$H$43:$H$44,A39,Спец.!$F$43:$G$44)","v":0},0]
[38,"А",{"$f":"SUMIF(План!$BP$5:$BP$1392,A40,План!$BY$5:$BY$1392)+SUMIF(Практики!$F$3:$F$32,A40,Практики!$G$3:$G$32)+SUMIF(Практики!$F$37:$F$66,A40,Практики!$G$37:$G$66)+SUMIF(Спец.!$H$5:$H$27,A40,Спец.!$F$5:$G$27)+SUMIF(Спец.!$H$31:$H$41,A40,Спец.!$F$31:$G$41)+SUMIF(Спец.!$H$43:$H$44,A40,Спец.!$F$43:$G$44)","v":0},0]
[39,"Автоматика и управление в технических системах",{"$f":"SUMIF(План!$BP$5:$BP$1392,A41,План!$BY$5:$BY$1392)+SUMIF(Практики!$F$3:$F$32,A41,Практики!$G$3:$G$32)+SUMIF(Практики!$F$37:$F$66,A41,Практики!$G$37:$G$66)+SUMIF(Спец.!$H$5:$H$27,A41,Спец.!$F$5:$G$27)+SUMIF(Спец.!$H$31:$H$41,A41,Спец.!$F$31:$G$41)+SUMIF(Спец.!$H$43:$H$44,A41,Спец.!$F$43:$G$44)","v":0},0]
[40,"Информационно-измерительная техника",{"$f":"SUMIF(План!$BP$5:$BP$1392,A42,План!$BY$5:$BY$1392)+SUMIF(Практики!$F$3:$F$32,A42,Практики!$G$3:$G$32)+SUMIF(Практики!$F$37:$F$66,A42,Практики!$G$37:$G$66)+SUMIF(Спец.!$H$5:$H$27,A42,Спец.!$F$5:$G$27)+SUMIF(Спец.!$H$31:$H$41,A42,Спец.!$F$31:$G$41)+SUMIF(Спец.!$H$43:$H$44,A42,Спец.!$F$43:$G$44)","v":0},0]
[41,"Информационные технологии",{"$f":"SUMIF(План!$BP$5:$BP$1392,A43,План!$BY$5:$BY$1392)+SUMIF(Практики!$F$3:$F$32,A43,Практики!$G$3:$G$32)+SUMIF(Практики!$F$37:$F$66,A43,Практики!$G$37:$G$66)+SUMIF(Спец.!$H$5:$H$27,A43,Спец.!$F$5:$G$27)+SUMIF(Спец.!$H$31:$H$41,A43,Спец.!$F$31:$G$41)+SUMIF(Спец.!$H$43:$H$44,A43,Спец.!$F$43:$G$44)","v":122.68571428571428},1.8255083456433148E-4]
[42,"Вычислительная техника",{"$f":"SUMIF(План!$BP$5:$BP$1392,A44,План!$BY$5:$BY$1392)+SUMIF(Практики!$F$3:$F$32,A44,Практики!$G$3:$G$32)+SUMIF(Практики!$F$37:$F$66,A44,Практики!$G$37:$G$66)+SUMIF(Спец.!$H$5:$H$27,A44,Спец.!$F$5:$G$27)+SUMIF(Спец.!$H$31:$H$41,A44,Спец.!$F$31:$G$41)+SUMIF(Спец.!$H$43:$H$44,A44,Спец.!$F$43:$G$44)","v":0},0]
[43,"Электронные системы и информационная безопасность",{"$f":"SUMIF(План!$BP$5:$BP$1392,A45,План!$BY$5:$BY$1392)+SUMIF(Практики!$F$3:$F$32,A45,Практики!$G$3:$G$32)+SUMIF(Практики!$F$37:$F$66,A45,Практики!$G$37:$G$66)+SUMIF(Спец.!$H$5:$H$27,A45,Спец.!$F$5:$G$27)+SUMIF(Спец.!$H$31:$H$41,A45,Спец.!$F$31:$G$41)+SUMIF(Спец.!$H$43:$H$44,A45,Спец.!$F$43:$G$44)","v":0},0]
[44,"Промышленная теплоэнергетика",{"$f":"SUMIF(План!$BP$5:$BP$1392,A46,План!$BY$5:$BY$1392)+SUMIF(Практики!$F$3:$F$32,A46,Практики!$G$3:$G$32)+SUMIF(Практики!$F$37:$F$66,A46,Практики!$G$37:$G$66)+SUMIF(Спец.!$H$5:$H$27,A46,Спец.!$F$5:$G$27)+SUMIF(Спец.!$H$31:$H$41,A46,Спец.!$F$31:$G$41)+SUMIF(Спец.!$H$43:$H$44,A46,Спец.!$F$43:$G$44)","v":0},0]
[45,"Теоретические основы теплотехники и гидромеханика",{"$f":"SUMIF(План!$BP$5:$BP$1392,A47,План!$BY$5:$BY$1392)+SUMIF(Практики!$F$3:$F$32,A47,Практики!$G$3:$G$32)+SUMIF(Практики!$F$37:$F$66,A47,Практики!$G$37:$G$66)+SUMIF(Спец.!$H$5:$H$27,A47,Спец.!$F$5:$G$27)+SUMIF(Спец.!$H$31:$H$41,A47,Спец.!$F$31:$G$41)+SUMIF(Спец.!$H$43:$H$44,A47,Спец.!$F$43:$G$44)","v":0},0]
[46,"Тепловые электрические станции",{"$f":"SUMIF(План!$BP$5:$BP$1392,A48,План!$BY$5:$BY$1392)+SUMIF(Практики!$F$3:$F$32,A48,Практики!$G$3:$G$32)+SUMIF(Практики!$F$37:$F$66,A48,Практики!$G$37:$G$66)+SUMIF(Спец.!$H$5:$H$27,A48,Спец.!$F$5:$G$27)+SUMIF(Спец.!$H$31:$H$41,A48,Спец.!$F$31:$G$41)+SUMIF(Спец.!$H$43:$H$44,A48,Спец.!$F$43:$G$44)","v":0},0]
[47,"Управление и системный анализ в теплоэнергетике",{"$f":"SUMIF(План!$BP$5:$BP$1392,A49,План!$BY$5:$BY$1392)+SUMIF(Практики!$F$3:$F$32,A49,Практики!$G$3:$G$32)+SUMIF(Практики!$F$37:$F$66,A49,Практики!$G$37:$G$66)+SUMIF(Спец.!$H$5:$H$27,A49,Спец.!$F$5:$G$27)+SUMIF(Спец.!$H$31:$H$41,A49,Спец.!$F$31:$G$41)+SUMIF(Спец.!$H$43:$H$44,A49,Спец.!$F$43:$G$44)","v":0},0]
[48,"Теоретическая и общая электротехника",{"$f":"SUMIF(План!$BP$5:$BP$1392,A50,План!$BY$5:$BY$1392)+SUMIF(Практики!$F$3:$F$32,A50,Практики!$G$3:$G$32)+SUMIF(Практики!$F$37:$F$66,A50,Практики!$G$37:$G$66)+SUMIF(Спец.!$H$5:$H$27,A50,Спец.!$F$5:$G$27)+SUMIF(Спец.!$H$31:$H$41,A50,Спец.!$F$31:$G$41)+SUMIF(Спец.!$H$43:$H$44,A50,Спец.!$F$43:$G$44)","v":0},0]
[49,"Резерв",{"$f":"SUMIF(План!$BP$5:$BP$1392,A51,План!$BY$5:$BY$1392)+SUMIF(Практики!$F$3:$F$32,A51,Практики!$G$3:$G$32)+SUMIF(Практики!$F$37:$F$66,A51,Практики!$G$37:$G$66)+SUMIF(Спец.!$H$5:$H$27,A51,Спец.!$F$5:$G$27)+SUMIF(Спец.!$H$31:$H$41,A51,Спец.!$F$31:$G$41)+SUMIF(Спец.!$H$43:$H$44,A51,Спец.!$F$43:$G$44)","v":0},0]
[50,"Электроснабжение промышленных предприятий",{"$f":"SUMIF(План!$BP$5:$BP$1392,A52,План!$BY$5:$BY$1392)+SUMIF(Практики!$F$3:$F$32,A52,Практики!$G$3:$G$32)+SUMIF(Практики!$F$37:$F$66,A52,Практики!$G$37:$G$66)+SUMIF(Спец.!$H$5:$H$27,A52,Спец.!$F$5:$G$27)+SUMIF(Спец.!$H$31:$H$41,A52,Спец.!$F$31:$G$41)+SUMIF(Спец.!$H$43:$H$44,A52,Спец.!$F$43:$G$44)","v":0},0]
[51,"Электропривод и промышленная автоматика",{"$f":"SUMIF(План!$BP$5:$BP$1392,A53,План!$BY$5:$BY$1392)+SUMIF(Практики!$F$3:$F$32,A53,Практики!$G$3:$G$32)+SUMIF(Практики!$F$37:$F$66,A53,Практики!$G$37:$G$66)+SUMIF(Спец.!$H$5:$H$27,A53,Спец.!$F$5:$G$27)+SUMIF(Спец.!$H$31:$H$41,A53,Спец.!$F$31:$G$41)+SUMIF(Спец.!$H$43:$H$44,A53,Спец.!$F$43:$G$44)","v":0},0]
[52,"Электромеханика и автомобильное оборудование",{"$f":"SUMIF(План!$BP$5:$BP$1392,A54,План!$BY$5:$BY$1392)+SUMIF(Практики!$F$3:$F$32,A54,Практики!$G$3:$G$32)+SUMIF(Практики!$F$37:$F$66,A54,Практики!$G$37:$G$66)+SUMIF(Спец.!$H$5:$H$27,A54,Спец.!$F$5:$G$27)+SUMIF(Спец.!$H$31:$H$41,A54,Спец.!$F$31:$G$41)+SUMIF(Спец.!$H$43:$H$44,A54,Спец.!$F$43:$G$44)","v":0},0]
[53,"Электрические станции",{"$f":"SUMIF(План!$BP$5:$BP$1392,A55,План!$BY$5:$BY$1392)+SUMIF(Практики!$F$3:$F$32,A55,Практики!$G$3:$G$32)+SUMIF(Практики!$F$37:$F$66,A55,Практики!$G$37:$G$66)+SUMIF(Спец.!$H$5:$H$27,A55,Спец.!$F$5:$G$27)+SUMIF(Спец.!$H$31:$H$41,A55,Спец.!$F$31:$G$41)+SUMIF(Спец.!$H$43:$H$44,A55,Спец.!$F$43:$G$44)","v":0},0]
[54,"Автоматизированные электроэнергетические системы",{"$f":"SUMIF(План!$BP$5:$BP$1392,A56,План!$BY$5:$BY$1392)+SUMIF(Практики!$F$3:$F$32,A56,Практики!$G$3:$G$32)+SUMIF(Практики!$F$37:$F$66,A56,Практики!$G$37:$G$66)+SUMIF(Спец.!$H$5:$H$27,A56,Спец.!$F$5:$G$27)+SUMIF(Спец.!$H$31:$H$41,A56,Спец.!$F$31:$G$41)+SUMIF(Спец.!$H$43:$H$44,A56,Спец.!$F$43:$G$44)","v":0},0]
[55,"Технология твёрдых химических веществ",{"$f":"SUMIF(План!$BP$5:$BP$1392,A57,План!$BY$5:$BY$1392)+SUMIF(Практики!$F$3:$F$32,A57,Практики!$G$3:$G$32)+SUMIF(Практики!$F$37:$F$66,A57,Практики!$G$37:$G$66)+SUMIF(Спец.!$H$5:$H$27,A57,Спец.!$F$5:$G$27)+SUMIF(Спец.!$H$31:$H$41,A57,Спец.!$F$31:$G$41)+SUMIF(Спец.!$H$43:$H$44,A57,Спец.!$F$43:$G$44)","v":0},0]
[56,"Химия и технология органических соединений азота",{"$f":"SUMIF(План!$BP$5:$BP$1392,A58,План!$BY$5:$BY$1392)+SUMIF(Практики!$F$3:$F$32,A58,Практики!$G$3:$G$32)+SUMIF(Практики!$F$37:$F$66,A58,Практики!$G$37:$G$66)+SUMIF(Спец.!$H$5:$H$27,A58,Спец.!$F$5:$G$27)+SUMIF(Спец.!$H$31:$H$41,A58,Спец.!$F$31:$G$41)+SUMIF(Спец.!$H$43:$H$44,A58,Спец.!$F$43:$G$44)","v":0},0]
[57,"Химия и технология полимерных и композиционных материалов",{"$f":"SUMIF(План!$BP$5:$BP$1392,A59,План!$BY$5:$BY$1392)+SUMIF(Практики!$F$3:$F$32,A59,Практики!$G$3:$G$32)+SUMIF(Практики!$F$37:$F$66,A59,Практики!$G$37:$G$66)+SUMIF(Спец.!$H$5:$H$27,A59,Спец.!$F$5:$G$27)+SUMIF(Спец.!$H$31:$H$41,A59,Спец.!$F$31:$G$41)+SUMIF(Спец.!$H$43:$H$44,A59,Спец.!$F$43:$G$44)","v":0},0]
[58,"Сертификация энергонасыщенных производств",{"$f":"SUMIF(План!$BP$5:$BP$1392,A60,План!$BY$5:$BY$1392)+SUMIF(Практики!$F$3:$F$32,A60,Практики!$G$3:$G$32)+SUMIF(Практики!$F$37:$F$66,A60,Практики!$G$37:$G$66)+SUMIF(Спец.!$H$5:$H$27,A60,Спец.!$F$5:$G$27)+SUMIF(Спец.!$H$31:$H$41,A60,Спец.!$F$31:$G$41)+SUMIF(Спец.!$H$43:$H$44,A60,Спец.!$F$43:$G$44)","v":0},0]
[59,"Защита в чрезвычайных ситуациях",{"$f":"SUMIF(План!$BP$5:$BP$1392,A61,План!$BY$5:$BY$1392)+SUMIF(Практики!$F$3:$F$32,A61,Практики!$G$3:$G$32)+SUMIF(Практики!$F$37:$F$66,A61,Практики!$G$37:$G$66)+SUMIF(Спец.!$H$5:$H$27,A61,Спец.!$F$5:$G$27)+SUMIF(Спец.!$H$31:$H$41,A61,Спец.!$F$31:$G$41)+SUMIF(Спец.!$H$43:$H$44,A61,Спец.!$F$43:$G$44)","v":0},0]
[60,"Радиотехнические системы",{"$f":"SUMIF(План!$BP$5:$BP$1392,A62,План!$BY$5:$BY$1392)+SUMIF(Практики!$F$3:$F$32,A62,Практики!$G$3:$G$32)+SUMIF(Практики!$F$37:$F$66,A62,Практики!$G$37:$G$66)+SUMIF(Спец.!$H$5:$H$27,A62,Спец.!$F$5:$G$27)+SUMIF(Спец.!$H$31:$H$41,A62,Спец.!$F$31:$G$41)+SUMIF(Спец.!$H$43:$H$44,A62,Спец.!$F$43:$G$44)","v":0},0]
[61,"Технология пищевых производств и парфюмерно-косметических продуктов",{"$f":"SUMIF(План!$BP$5:$BP$1392,A63,План!$BY$5:$BY$1392)+SUMIF(Практики!$F$3:$F$32,A63,Практики!$G$3:$G$32)+SUMIF(Практики!$F$37:$F$66,A63,Практики!$G$37:$G$66)+SUMIF(Спец.!$H$5:$H$27,A63,Спец.!$F$5:$G$27)+SUMIF(Спец.!$H$31:$H$41,A63,Спец.!$F$31:$G$41)+SUMIF(Спец.!$H$43:$H$44,A63,Спец.!$F$43:$G$44)","v":0},0]
[62,"Военная подготовка",{"$f":"SUMIF(План!$BP$5:$BP$1392,A64,План!$BY$5:$BY$1392)+SUMIF(Практики!$F$3:$F$32,A64,Практики!$G$3:$G$32)+SUMIF(Практики!$F$37:$F$66,A64,Практики!$G$37:$G$66)+SUMIF(Спец.!$H$5:$H$27,A64,Спец.!$F$5:$G$27)+SUMIF(Спец.!$H$31:$H$41,A64,Спец.!$F$31:$G$41)+SUMIF(Спец.!$H$43:$H$44,A64,Спец.!$F$43:$G$44)","v":1826.532967032967},2.717799048018082E-3]
[63,"",{"$f":"SUMIF(План!$BP$5:$BP$1392,A65,План!$BY$5:$BY$1392)+SUMIF(Практики!$F$3:$F$32,A65,Практики!$G$3:$G$32)+SUMIF(Практики!$F$37:$F$66,A65,Практики!$G$37:$G$66)+SUMIF(Спец.!$H$5:$H$27,A65,Спец.!$F$5:$G$27)+SUMIF(Спец.!$H$31:$H$41,A65,Спец.!$F$31:$G$41)+SUMIF(Спец.!$H$43:$H$44,A65,Спец.!$F$43:$G$44)","v":0},0]
[64,null,{"$f":"SUMIF(План!$BP$5:$BP$1392,A66,План!$BY$5:$BY$1392)+SUMIF(Практики!$F$3:$F$32,A66,Практики!$G$3:$G$32)+SUMIF(Практики!$F$37:$F$66,A66,Практики!$G$37:$G$66)+SUMIF(Спец.!$H$5:$H$27,A66,Спец.!$F$5:$G$27)+SUMIF(Спец.!$H$31:$H$41,A66,Спец.!$F$31:$G$41)+SUMIF(Спец.!$H$43:$H$44,A66,Спец.!$F$43:$G$44)","v":0},0]
[65,null,{"$f":"SUMIF(План!$BP$5:$BP$1392,A67,План!$BY$5:$BY$1392)+SUMIF(Практики!$F$3:$F$32,A67,Практики!$G$3:$G$32)+SUMIF(Практики!$F$37:$F$66,A67,Практики!$G$37:$G$66)+SUMIF(Спец.!$H$5:$H$27,A67,Спец.!$F$5:$G$27)+SUMIF(Спец.!$H$31:$H$41,A67,Спец.!$F$31:$G$41)+SUMIF(Спец.!$H$43:$H$44,A67,Спец.!$F$43:$G$44)","v":0},0]
[66,null,{"$f":"SUMIF(План!$BP$5:$BP$1392,A68,План!$BY$5:$BY$1392)+SUMIF(Практики!$F$3:$F$32,A68,Практики!$G$3:$G$32)+SUMIF(Практики!$F$37:$F$66,A68,Практики!$G$37:$G$66)+SUMIF(Спец.!$H$5:$H$27,A68,Спец.!$F$5:$G$27)+SUMIF(Спец.!$H$31:$H$41,A68,Спец.!$F$31:$G$41)+SUMIF(Спец.!$H$43:$H$44,A68,Спец.!$F$43:$G$44)","v":0},{"$f":"IF($C$1>0,C68/$C$1,0)","v":0}]
[67,null,{"$f":"SUMIF(План!$BP$5:$BP$1392,A69,План!$BY$5:$BY$1392)+SUMIF(Практики!$F$3:$F$32,A69,Практики!$G$3:$G$32)+SUMIF(Практики!$F$37:$F$66,A69,Практики!$G$37:$G$66)+SUMIF(Спец.!$H$5:$H$27,A69,Спец.!$F$5:$G$27)+SUMIF(Спец.!$H$31:$H$41,A69,Спец.!$F$31:$G$41)+SUMIF(Спец.!$H$43:$H$44,A69,Спец.!$F$43:$G$44)","v":0},0]
[68,null,{"$f":"SUMIF(План!$BP$5:$BP$1392,A70,План!$BY$5:$BY$1392)+SUMIF(Практики!$F$3:$F$32,A70,Практики!$G$3:$G$32)+SUMIF(Практики!$F$37:$F$66,A70,Практики!$G$37:$G$66)+SUMIF(Спец.!$H$5:$H$27,A70,Спец.!$F$5:$G$27)+SUMIF(Спец.!$H$31:$H$41,A70,Спец.!$F$31:$G$41)+SUMIF(Спец.!$H$43:$H$44,A70,Спец.!$F$43:$G$44)","v":0},0]
[69,null,{"$f":"SUMIF(План!$BP$5:$BP$1392,A71,План!$BY$5:$BY$1392)+SUMIF(Практики!$F$3:$F$32,A71,Практики!$G$3:$G$32)+SUMIF(Практики!$F$37:$F$66,A71,Практики!$G$37:$G$66)+SUMIF(Спец.!$H$5:$H$27,A71,Спец.!$F$5:$G$27)+SUMIF(Спец.!$H$31:$H$41,A71,Спец.!$F$31:$G$41)+SUMIF(Спец.!$H$43:$H$44,A71,Спец.!$F$43:$G$44)","v":0},0]
[70,null,{"$f":"SUMIF(План!$BP$5:$BP$1392,A72,План!$BY$5:$BY$1392)+SUMIF(Практики!$F$3:$F$32,A72,Практики!$G$3:$G$32)+SUMIF(Практики!$F$37:$F$66,A72,Практики!$G$37:$G$66)+SUMIF(Спец.!$H$5:$H$27,A72,Спец.!$F$5:$G$27)+SUMIF(Спец.!$H$31:$H$41,A72,Спец.!$F$31:$G$41)+SUMIF(Спец.!$H$43:$H$44,A72,Спец.!$F$43:$G$44)","v":0},0]
[71,null,{"$f":"SUMIF(План!$BP$5:$BP$1392,A73,План!$BY$5:$BY$1392)+SUMIF(Практики!$F$3:$F$32,A73,Практики!$G$3:$G$32)+SUMIF(Практики!$F$37:$F$66,A73,Практики!$G$37:$G$66)+SUMIF(Спец.!$H$5:$H$27,A73,Спец.!$F$5:$G$27)+SUMIF(Спец.!$H$31:$H$41,A73,Спец.!$F$31:$G$41)+SUMIF(Спец.!$H$43:$H$44,A73,Спец.!$F$43:$G$44)","v":0},0]
[72,null,{"$f":"SUMIF(План!$BP$5:$BP$1392,A74,План!$BY$5:$BY$1392)+SUMIF(Практики!$F$3:$F$32,A74,Практики!$G$3:$G$32)+SUMIF(Практики!$F$37:$F$66,A74,Практики!$G$37:$G$66)+SUMIF(Спец.!$H$5:$H$27,A74,Спец.!$F$5:$G$27)+SUMIF(Спец.!$H$31:$H$41,A74,Спец.!$F$31:$G$41)+SUMIF(Спец.!$H$43:$H$44,A74,Спец.!$F$43:$G$44)","v":0},0]
[73,null,{"$f":"SUMIF(План!$BP$5:$BP$1392,A75,План!$BY$5:$BY$1392)+SUMIF(Практики!$F$3:$F$32,A75,Практики!$G$3:$G$32)+SUMIF(Практики!$F$37:$F$66,A75,Практики!$G$37:$G$66)+SUMIF(Спец.!$H$5:$H$27,A75,Спец.!$F$5:$G$27)+SUMIF(Спец.!$H$31:$H$41,A75,Спец.!$F$31:$G$41)+SUMIF(Спец.!$H$43:$H$44,A75,Спец.!$F$43:$G$44)","v":0},0]
[74,null,{"$f":"SUMIF(План!$BP$5:$BP$1392,A76,План!$BY$5:$BY$1392)+SUMIF(Практики!$F$3:$F$32,A76,Практики!$G$3:$G$32)+SUMIF(Практики!$F$37:$F$66,A76,Практики!$G$37:$G$66)+SUMIF(Спец.!$H$5:$H$27,A76,Спец.!$F$5:$G$27)+SUMIF(Спец.!$H$31:$H$41,A76,Спец.!$F$31:$G$41)+SUMIF(Спец.!$H$43:$H$44,A76,Спец.!$F$43:$G$44)","v":0},0]
[75,null,{"$f":"SUMIF(План!$BP$5:$BP$1392,A77,План!$BY$5:$BY$1392)+SUMIF(Практики!$F$3:$F$32,A77,Практики!$G$3:$G$32)+SUMIF(Практики!$F$37:$F$66,A77,Практики!$G$37:$G$66)+SUMIF(Спец.!$H$5:$H$27,A77,Спец.!$F$5:$G$27)+SUMIF(Спец.!$H$31:$H$41,A77,Спец.!$F$31:$G$41)+SUMIF(Спец.!$H$43:$H$44,A77,Спец.!$F$43:$G$44)","v":0},0]
[76,null,{"$f":"SUMIF(План!$BP$5:$BP$1392,A78,План!$BY$5:$BY$1392)+SUMIF(Практики!$F$3:$F$32,A78,Практики!$G$3:$G$32)+SUMIF(Практики!$F$37:$F$66,A78,Практики!$G$37:$G$66)+SUMIF(Спец.!$H$5:$H$27,A78,Спец.!$F$5:$G$27)+SUMIF(Спец.!$H$31:$H$41,A78,Спец.!$F$31:$G$41)+SUMIF(Спец.!$H$43:$H$44,A78,Спец.!$F$43:$G$44)","v":0},0]
[77,null,{"$f":"SUMIF(План!$BP$5:$BP$1392,A79,План!$BY$5:$BY$1392)+SUMIF(Практики!$F$3:$F$32,A79,Практики!$G$3:$G$32)+SUMIF(Практики!$F$37:$F$66,A79,Практики!$G$37:$G$66)+SUMIF(Спец.!$H$5:$H$27,A79,Спец.!$F$5:$G$27)+SUMIF(Спец.!$H$31:$H$41,A79,Спец.!$F$31:$G$41)+SUMIF(Спец.!$H$43:$H$44,A79,Спец.!$F$43:$G$44)","v":0},0]
[78,null,{"$f":"SUMIF(План!$BP$5:$BP$1392,A80,План!$BY$5:$BY$1392)+SUMIF(Практики!$F$3:$F$32,A80,Практики!$G$3:$G$32)+SUMIF(Практики!$F$37:$F$66,A80,Практики!$G$37:$G$66)+SUMIF(Спец.!$H$5:$H$27,A80,Спец.!$F$5:$G$27)+SUMIF(Спец.!$H$31:$H$41,A80,Спец.!$F$31:$G$41)+SUMIF(Спец.!$H$43:$H$44,A80,Спец.!$F$43:$G$44)","v":0},0]
[79,null,{"$f":"SUMIF(План!$BP$5:$BP$1392,A81,План!$BY$5:$BY$1392)+SUMIF(Практики!$F$3:$F$32,A81,Практики!$G$3:$G$32)+SUMIF(Практики!$F$37:$F$66,A81,Практики!$G$37:$G$66)+SUMIF(Спец.!$H$5:$H$27,A81,Спец.!$F$5:$G$27)+SUMIF(Спец.!$H$31:$H$41,A81,Спец.!$F$31:$G$41)+SUMIF(Спец.!$H$43:$H$44,A81,Спец.!$F$43:$G$44)","v":0},0]
[80,null,{"$f":"SUMIF(План!$BP$5:$BP$1392,A82,План!$BY$5:$BY$1392)+SUMIF(Практики!$F$3:$F$32,A82,Практики!$G$3:$G$32)+SUMIF(Практики!$F$37:$F$66,A82,Практики!$G$37:$G$66)+SUMIF(Спец.!$H$5:$H$27,A82,Спец.!$F$5:$G$27)+SUMIF(Спец.!$H$31:$H$41,A82,Спец.!$F$31:$G$41)+SUMIF(Спец.!$H$43:$H$44,A82,Спец.!$F$43:$G$44)","v":0},0]
[81,null,{"$f":"SUMIF(План!$BP$5:$BP$1392,A83,План!$BY$5:$BY$1392)+SUMIF(Практики!$F$3:$F$32,A83,Практики!$G$3:$G$32)+SUMIF(Практики!$F$37:$F$66,A83,Практики!$G$37:$G$66)+SUMIF(Спец.!$H$5:$H$27,A83,Спец.!$F$5:$G$27)+SUMIF(Спец.!$H$31:$H$41,A83,Спец.!$F$31:$G$41)+SUMIF(Спец.!$H$43:$H$44,A83,Спец.!$F$43:$G$44)","v":0},0]
[82,null,{"$f":"SUMIF(План!$BP$5:$BP$1392,A84,План!$BY$5:$BY$1392)+SUMIF(Практики!$F$3:$F$32,A84,Практики!$G$3:$G$32)+SUMIF(Практики!$F$37:$F$66,A84,Практики!$G$37:$G$66)+SUMIF(Спец.!$H$5:$H$27,A84,Спец.!$F$5:$G$27)+SUMIF(Спец.!$H$31:$H$41,A84,Спец.!$F$31:$G$41)+SUMIF(Спец.!$H$43:$H$44,A84,Спец.!$F$43:$G$44)","v":0},0]
[83,null,{"$f":"SUMIF(План!$BP$5:$BP$1392,A85,План!$BY$5:$BY$1392)+SUMIF(Практики!$F$3:$F$32,A85,Практики!$G$3:$G$32)+SUMIF(Практики!$F$37:$F$66,A85,Практики!$G$37:$G$66)+SUMIF(Спец.!$H$5:$H$27,A85,Спец.!$F$5:$G$27)+SUMIF(Спец.!$H$31:$H$41,A85,Спец.!$F$31:$G$41)+SUMIF(Спец.!$H$43:$H$44,A85,Спец.!$F$43:$G$44)","v":0},0]
[84,null,{"$f":"SUMIF(План!$BP$5:$BP$1392,A86,План!$BY$5:$BY$1392)+SUMIF(Практики!$F$3:$F$32,A86,Практики!$G$3:$G$32)+SUMIF(Практики!$F$37:$F$66,A86,Практики!$G$37:$G$66)+SUMIF(Спец.!$H$5:$H$27,A86,Спец.!$F$5:$G$27)+SUMIF(Спец.!$H$31:$H$41,A86,Спец.!$F$31:$G$41)+SUMIF(Спец.!$H$43:$H$44,A86,Спец.!$F$43:$G$44)","v":0},0]
[85,null,{"$f":"SUMIF(План!$BP$5:$BP$1392,A87,План!$BY$5:$BY$1392)+SUMIF(Практики!$F$3:$F$32,A87,Практики!$G$3:$G$32)+SUMIF(Практики!$F$37:$F$66,A87,Практики!$G$37:$G$66)+SUMIF(Спец.!$H$5:$H$27,A87,Спец.!$F$5:$G$27)+SUMIF(Спец.!$H$31:$H$41,A87,Спец.!$F$31:$G$41)+SUMIF(Спец.!$H$43:$H$44,A87,Спец.!$F$43:$G$44)","v":0},0]
[86,null,{"$f":"SUMIF(План!$BP$5:$BP$1392,A88,План!$BY$5:$BY$1392)+SUMIF(Практики!$F$3:$F$32,A88,Практики!$G$3:$G$32)+SUMIF(Практики!$F$37:$F$66,A88,Практики!$G$37:$G$66)+SUMIF(Спец.!$H$5:$H$27,A88,Спец.!$F$5:$G$27)+SUMIF(Спец.!$H$31:$H$41,A88,Спец.!$F$31:$G$41)+SUMIF(Спец.!$H$43:$H$44,A88,Спец.!$F$43:$G$44)","v":0},0]
[87,null,{"$f":"SUMIF(План!$BP$5:$BP$1392,A89,План!$BY$5:$BY$1392)+SUMIF(Практики!$F$3:$F$32,A89,Практики!$G$3:$G$32)+SUMIF(Практики!$F$37:$F$66,A89,Практики!$G$37:$G$66)+SUMIF(Спец.!$H$5:$H$27,A89,Спец.!$F$5:$G$27)+SUMIF(Спец.!$H$31:$H$41,A89,Спец.!$F$31:$G$41)+SUMIF(Спец.!$H$43:$H$44,A89,Спец.!$F$43:$G$44)","v":0},0]
[88,null,{"$f":"SUMIF(План!$BP$5:$BP$1392,A90,План!$BY$5:$BY$1392)+SUMIF(Практики!$F$3:$F$32,A90,Практики!$G$3:$G$32)+SUMIF(Практики!$F$37:$F$66,A90,Практики!$G$37:$G$66)+SUMIF(Спец.!$H$5:$H$27,A90,Спец.!$F$5:$G$27)+SUMIF(Спец.!$H$31:$H$41,A90,Спец.!$F$31:$G$41)+SUMIF(Спец.!$H$43:$H$44,A90,Спец.!$F$43:$G$44)","v":0},0]
[89,null,{"$f":"SUMIF(План!$BP$5:$BP$1392,A91,План!$BY$5:$BY$1392)+SUMIF(Практики!$F$3:$F$32,A91,Практики!$G$3:$G$32)+SUMIF(Практики!$F$37:$F$66,A91,Практики!$G$37:$G$66)+SUMIF(Спец.!$H$5:$H$27,A91,Спец.!$F$5:$G$27)+SUMIF(Спец.!$H$31:$H$41,A91,Спец.!$F$31:$G$41)+SUMIF(Спец.!$H$43:$H$44,A91,Спец.!$F$43:$G$44)","v":0},0]
[90,null,{"$f":"SUMIF(План!$BP$5:$BP$1392,A92,План!$BY$5:$BY$1392)+SUMIF(Практики!$F$3:$F$32,A92,Практики!$G$3:$G$32)+SUMIF(Практики!$F$37:$F$66,A92,Практики!$G$37:$G$66)+SUMIF(Спец.!$H$5:$H$27,A92,Спец.!$F$5:$G$27)+SUMIF(Спец.!$H$31:$H$41,A92,Спец.!$F$31:$G$41)+SUMIF(Спец.!$H$43:$H$44,A92,Спец.!$F$43:$G$44)","v":0},0]
[91,null,{"$f":"SUMIF(План!$BP$5:$BP$1392,A93,План!$BY$5:$BY$1392)+SUMIF(Практики!$F$3:$F$32,A93,Практики!$G$3:$G$32)+SUMIF(Практики!$F$37:$F$66,A93,Практики!$G$37:$G$66)+SUMIF(Спец.!$H$5:$H$27,A93,Спец.!$F$5:$G$27)+SUMIF(Спец.!$H$31:$H$41,A93,Спец.!$F$31:$G$41)+SUMIF(Спец.!$H$43:$H$44,A93,Спец.!$F$43:$G$44)","v":0},0]
[92,null,{"$f":"SUMIF(План!$BP$5:$BP$1392,A94,План!$BY$5:$BY$1392)+SUMIF(Практики!$F$3:$F$32,A94,Практики!$G$3:$G$32)+SUMIF(Практики!$F$37:$F$66,A94,Практики!$G$37:$G$66)+SUMIF(Спец.!$H$5:$H$27,A94,Спец.!$F$5:$G$27)+SUMIF(Спец.!$H$31:$H$41,A94,Спец.!$F$31:$G$41)+SUMIF(Спец.!$H$43:$H$44,A94,Спец.!$F$43:$G$44)","v":0},0]
[93,null,{"$f":"SUMIF(План!$BP$5:$BP$1392,A95,План!$BY$5:$BY$1392)+SUMIF(Практики!$F$3:$F$32,A95,Практики!$G$3:$G$32)+SUMIF(Практики!$F$37:$F$66,A95,Практики!$G$37:$G$66)+SUMIF(Спец.!$H$5:$H$27,A95,Спец.!$F$5:$G$27)+SUMIF(Спец.!$H$31:$H$41,A95,Спец.!$F$31:$G$41)+SUMIF(Спец.!$H$43:$H$44,A95,Спец.!$F$43:$G$44)","v":0},0]
[94,null,{"$f":"SUMIF(План!$BP$5:$BP$1392,A96,План!$BY$5:$BY$1392)+SUMIF(Практики!$F$3:$F$32,A96,Практики!$G$3:$G$32)+SUMIF(Практики!$F$37:$F$66,A96,Практики!$G$37:$G$66)+SUMIF(Спец.!$H$5:$H$27,A96,Спец.!$F$5:$G$27)+SUMIF(Спец.!$H$31:$H$41,A96,Спец.!$F$31:$G$41)+SUMIF(Спец.!$H$43:$H$44,A96,Спец.!$F$43:$G$44)","v":0},0]
[95,null,{"$f":"SUMIF(План!$BP$5:$BP$1392,A97,План!$BY$5:$BY$1392)+SUMIF(Практики!$F$3:$F$32,A97,Практики!$G$3:$G$32)+SUMIF(Практики!$F$37:$F$66,A97,Практики!$G$37:$G$66)+SUMIF(Спец.!$H$5:$H$27,A97,Спец.!$F$5:$G$27)+SUMIF(Спец.!$H$31:$H$41,A97,Спец.!$F$31:$G$41)+SUMIF(Спец.!$H$43:$H$44,A97,Спец.!$F$43:$G$44)","v":0},0]
[96,null,{"$f":"SUMIF(План!$BP$5:$BP$1392,A98,План!$BY$5:$BY$1392)+SUMIF(Практики!$F$3:$F$32,A98,Практики!$G$3:$G$32)+SUMIF(Практики!$F$37:$F$66,A98,Практики!$G$37:$G$66)+SUMIF(Спец.!$H$5:$H$27,A98,Спец.!$F$5:$G$27)+SUMIF(Спец.!$H$31:$H$41,A98,Спец.!$F$31:$G$41)+SUMIF(Спец.!$H$43:$H$44,A98,Спец.!$F$43:$G$44)","v":0},0]
[97,null,{"$f":"SUMIF(План!$BP$5:$BP$1392,A99,План!$BY$5:$BY$1392)+SUMIF(Практики!$F$3:$F$32,A99,Практики!$G$3:$G$32)+SUMIF(Практики!$F$37:$F$66,A99,Практики!$G$37:$G$66)+SUMIF(Спец.!$H$5:$H$27,A99,Спец.!$F$5:$G$27)+SUMIF(Спец.!$H$31:$H$41,A99,Спец.!$F$31:$G$41)+SUMIF(Спец.!$H$43:$H$44,A99,Спец.!$F$43:$G$44)","v":0},0]
[98,null,{"$f":"SUMIF(План!$BP$5:$BP$1392,A100,План!$BY$5:$BY$1392)+SUMIF(Практики!$F$3:$F$32,A100,Практики!$G$3:$G$32)+SUMIF(Практики!$F$37:$F$66,A100,Практики!$G$37:$G$66)+SUMIF(Спец.!$H$5:$H$27,A100,Спец.!$F$5:$G$27)+SUMIF(Спец.!$H$31:$H$41,A100,Спец.!$F$31:$G$41)+SUMIF(Спец.!$H$43:$H$44,A100,Спец.!$F$43:$G$44)","v":0},0]
[99,null,{"$f":"SUMIF(План!$BP$5:$BP$1392,A101,План!$BY$5:$BY$1392)+SUMIF(Практики!$F$3:$F$32,A101,Практики!$G$3:$G$32)+SUMIF(Практики!$F$37:$F$66,A101,Практики!$G$37:$G$66)+SUMIF(Спец.!$H$5:$H$27,A101,Спец.!$F$5:$G$27)+SUMIF(Спец.!$H$31:$H$41,A101,Спец.!$F$31:$G$41)+SUMIF(Спец.!$H$43:$H$44,A101,Спец.!$F$43:$G$44)","v":0},0]
[100,null,{"$f":"SUMIF(План!$BP$5:$BP$1392,A102,План!$BY$5:$BY$1392)+SUMIF(Практики!$F$3:$F$32,A102,Практики!$G$3:$G$32)+SUMIF(Практики!$F$37:$F$66,A102,Практики!$G$37:$G$66)+SUMIF(Спец.!$H$5:$H$27,A102,Спец.!$F$5:$G$27)+SUMIF(Спец.!$H$31:$H$41,A102,Спец.!$F$31:$G$41)+SUMIF(Спец.!$H$43:$H$44,A102,Спец.!$F$43:$G$44)","v":0},0]
[101,null,{"$f":"SUMIF(План!$BP$5:$BP$1392,A103,План!$BY$5:$BY$1392)+SUMIF(Практики!$F$3:$F$32,A103,Практики!$G$3:$G$32)+SUMIF(Практики!$F$37:$F$66,A103,Практики!$G$37:$G$66)+SUMIF(Спец.!$H$5:$H$27,A103,Спец.!$F$5:$G$27)+SUMIF(Спец.!$H$31:$H$41,A103,Спец.!$F$31:$G$41)+SUMIF(Спец.!$H$43:$H$44,A103,Спец.!$F$43:$G$44)","v":0},0]
[102,null,{"$f":"SUMIF(План!$BP$5:$BP$1392,A104,План!$BY$5:$BY$1392)+SUMIF(Практики!$F$3:$F$32,A104,Практики!$G$3:$G$32)+SUMIF(Практики!$F$37:$F$66,A104,Практики!$G$37:$G$66)+SUMIF(Спец.!$H$5:$H$27,A104,Спец.!$F$5:$G$27)+SUMIF(Спец.!$H$31:$H$41,A104,Спец.!$F$31:$G$41)+SUMIF(Спец.!$H$43:$H$44,A104,Спец.!$F$43:$G$44)","v":0},0]
[103,null,{"$f":"SUMIF(План!$BP$5:$BP$1392,A105,План!$BY$5:$BY$1392)+SUMIF(Практики!$F$3:$F$32,A105,Практики!$G$3:$G$32)+SUMIF(Практики!$F$37:$F$66,A105,Практики!$G$37:$G$66)+SUMIF(Спец.!$H$5:$H$27,A105,Спец.!$F$5:$G$27)+SUMIF(Спец.!$H$31:$H$41,A105,Спец.!$F$31:$G$41)+SUMIF(Спец.!$H$43:$H$44,A105,Спец.!$F$43:$G$44)","v":0},0]
[104,null,{"$f":"SUMIF(План!$BP$5:$BP$1392,A106,План!$BY$5:$BY$1392)+SUMIF(Практики!$F$3:$F$32,A106,Практики!$G$3:$G$32)+SUMIF(Практики!$F$37:$F$66,A106,Практики!$G$37:$G$66)+SUMIF(Спец.!$H$5:$H$27,A106,Спец.!$F$5:$G$27)+SUMIF(Спец.!$H$31:$H$41,A106,Спец.!$F$31:$G$41)+SUMIF(Спец.!$H$43:$H$44,A106,Спец.!$F$43:$G$44)","v":0},0]
[105,null,{"$f":"SUMIF(План!$BP$5:$BP$1392,A107,План!$BY$5:$BY$1392)+SUMIF(Практики!$F$3:$F$32,A107,Практики!$G$3:$G$32)+SUMIF(Практики!$F$37:$F$66,A107,Практики!$G$37:$G$66)+SUMIF(Спец.!$H$5:$H$27,A107,Спец.!$F$5:$G$27)+SUMIF(Спец.!$H$31:$H$41,A107,Спец.!$F$31:$G$41)+SUMIF(Спец.!$H$43:$H$44,A107,Спец.!$F$43:$G$44)","v":0},0]
[106,null,{"$f":"SUMIF(План!$BP$5:$BP$1392,A108,План!$BY$5:$BY$1392)+SUMIF(Практики!$F$3:$F$32,A108,Практики!$G$3:$G$32)+SUMIF(Практики!$F$37:$F$66,A108,Практики!$G$37:$G$66)+SUMIF(Спец.!$H$5:$H$27,A108,Спец.!$F$5:$G$27)+SUMIF(Спец.!$H$31:$H$41,A108,Спец.!$F$31:$G$41)+SUMIF(Спец.!$H$43:$H$44,A108,Спец.!$F$43:$G$44)","v":0},0]
[107,null,{"$f":"SUMIF(План!$BP$5:$BP$1392,A109,План!$BY$5:$BY$1392)+SUMIF(Практики!$F$3:$F$32,A109,Практики!$G$3:$G$32)+SUMIF(Практики!$F$37:$F$66,A109,Практики!$G$37:$G$66)+SUMIF(Спец.!$H$5:$H$27,A109,Спец.!$F$5:$G$27)+SUMIF(Спец.!$H$31:$H$41,A109,Спец.!$F$31:$G$41)+SUMIF(Спец.!$H$43:$H$44,A109,Спец.!$F$43:$G$44)","v":0},0]
[108,null,{"$f":"SUMIF(План!$BP$5:$BP$1392,A110,План!$BY$5:$BY$1392)+SUMIF(Практики!$F$3:$F$32,A110,Практики!$G$3:$G$32)+SUMIF(Практики!$F$37:$F$66,A110,Практики!$G$37:$G$66)+SUMIF(Спец.!$H$5:$H$27,A110,Спец.!$F$5:$G$27)+SUMIF(Спец.!$H$31:$H$41,A110,Спец.!$F$31:$G$41)+SUMIF(Спец.!$H$43:$H$44,A110,Спец.!$F$43:$G$44)","v":0},0]
[109,null,{"$f":"SUMIF(План!$BP$5:$BP$1392,A111,План!$BY$5:$BY$1392)+SUMIF(Практики!$F$3:$F$32,A111,Практики!$G$3:$G$32)+SUMIF(Практики!$F$37:$F$66,A111,Практики!$G$37:$G$66)+SUMIF(Спец.!$H$5:$H$27,A111,Спец.!$F$5:$G$27)+SUMIF(Спец.!$H$31:$H$41,A111,Спец.!$F$31:$G$41)+SUMIF(Спец.!$H$43:$H$44,A111,Спец.!$F$43:$G$44)","v":0},0]
[110,null,{"$f":"SUMIF(План!$BP$5:$BP$1392,A112,План!$BY$5:$BY$1392)+SUMIF(Практики!$F$3:$F$32,A112,Практики!$G$3:$G$32)+SUMIF(Практики!$F$37:$F$66,A112,Практики!$G$37:$G$66)+SUMIF(Спец.!$H$5:$H$27,A112,Спец.!$F$5:$G$27)+SUMIF(Спец.!$H$31:$H$41,A112,Спец.!$F$31:$G$41)+SUMIF(Спец.!$H$43:$H$44,A112,Спец.!$F$43:$G$44)","v":0},0]
[111,null,{"$f":"SUMIF(План!$BP$5:$BP$1392,A113,План!$BY$5:$BY$1392)+SUMIF(Практики!$F$3:$F$32,A113,Практики!$G$3:$G$32)+SUMIF(Практики!$F$37:$F$66,A113,Практики!$G$37:$G$66)+SUMIF(Спец.!$H$5:$H$27,A113,Спец.!$F$5:$G$27)+SUMIF(Спец.!$H$31:$H$41,A113,Спец.!$F$31:$G$41)+SUMIF(Спец.!$H$43:$H$44,A113,Спец.!$F$43:$G$44)","v":0},0]
[112,null,{"$f":"SUMIF(План!$BP$5:$BP$1392,A114,План!$BY$5:$BY$1392)+SUMIF(Практики!$F$3:$F$32,A114,Практики!$G$3:$G$32)+SUMIF(Практики!$F$37:$F$66,A114,Практики!$G$37:$G$66)+SUMIF(Спец.!$H$5:$H$27,A114,Спец.!$F$5:$G$27)+SUMIF(Спец.!$H$31:$H$41,A114,Спец.!$F$31:$G$41)+SUMIF(Спец.!$H$43:$H$44,A114,Спец.!$F$43:$G$44)","v":0},0]
[113,null,{"$f":"SUMIF(План!$BP$5:$BP$1392,A115,План!$BY$5:$BY$1392)+SUMIF(Практики!$F$3:$F$32,A115,Практики!$G$3:$G$32)+SUMIF(Практики!$F$37:$F$66,A115,Практики!$G$37:$G$66)+SUMIF(Спец.!$H$5:$H$27,A115,Спец.!$F$5:$G$27)+SUMIF(Спец.!$H$31:$H$41,A115,Спец.!$F$31:$G$41)+SUMIF(Спец.!$H$43:$H$44,A115,Спец.!$F$43:$G$44)","v":0},0]
[114,null,{"$f":"SUMIF(План!$BP$5:$BP$1392,A116,План!$BY$5:$BY$1392)+SUMIF(Практики!$F$3:$F$32,A116,Практики!$G$3:$G$32)+SUMIF(Практики!$F$37:$F$66,A116,Практики!$G$37:$G$66)+SUMIF(Спец.!$H$5:$H$27,A116,Спец.!$F$5:$G$27)+SUMIF(Спец.!$H$31:$H$41,A116,Спец.!$F$31:$G$41)+SUMIF(Спец.!$H$43:$H$44,A116,Спец.!$F$43:$G$44)","v":0},0]
[115,null,{"$f":"SUMIF(План!$BP$5:$BP$1392,A117,План!$BY$5:$BY$1392)+SUMIF(Практики!$F$3:$F$32,A117,Практики!$G$3:$G$32)+SUMIF(Практики!$F$37:$F$66,A117,Практики!$G$37:$G$66)+SUMIF(Спец.!$H$5:$H$27,A117,Спец.!$F$5:$G$27)+SUMIF(Спец.!$H$31:$H$41,A117,Спец.!$F$31:$G$41)+SUMIF(Спец.!$H$43:$H$44,A117,Спец.!$F$43:$G$44)","v":0},0]
[116,null,{"$f":"SUMIF(План!$BP$5:$BP$1392,A118,План!$BY$5:$BY$1392)+SUMIF(Практики!$F$3:$F$32,A118,Практики!$G$3:$G$32)+SUMIF(Практики!$F$37:$F$66,A118,Практики!$G$37:$G$66)+SUMIF(Спец.!$H$5:$H$27,A118,Спец.!$F$5:$G$27)+SUMIF(Спец.!$H$31:$H$41,A118,Спец.!$F$31:$G$41)+SUMIF(Спец.!$H$43:$H$44,A118,Спец.!$F$43:$G$44)","v":0},0]
[117,null,{"$f":"SUMIF(План!$BP$5:$BP$1392,A119,План!$BY$5:$BY$1392)+SUMIF(Практики!$F$3:$F$32,A119,Практики!$G$3:$G$32)+SUMIF(Практики!$F$37:$F$66,A119,Практики!$G$37:$G$66)+SUMIF(Спец.!$H$5:$H$27,A119,Спец.!$F$5:$G$27)+SUMIF(Спец.!$H$31:$H$41,A119,Спец.!$F$31:$G$41)+SUMIF(Спец.!$H$43:$H$44,A119,Спец.!$F$43:$G$44)","v":0},0]
[118,null,{"$f":"SUMIF(План!$BP$5:$BP$1392,A120,План!$BY$5:$BY$1392)+SUMIF(Практики!$F$3:$F$32,A120,Практики!$G$3:$G$32)+SUMIF(Практики!$F$37:$F$66,A120,Практики!$G$37:$G$66)+SUMIF(Спец.!$H$5:$H$27,A120,Спец.!$F$5:$G$27)+SUMIF(Спец.!$H$31:$H$41,A120,Спец.!$F$31:$G$41)+SUMIF(Спец.!$H$43:$H$44,A120,Спец.!$F$43:$G$44)","v":0},0]
[119,null,{"$f":"SUMIF(План!$BP$5:$BP$1392,A121,План!$BY$5:$BY$1392)+SUMIF(Практики!$F$3:$F$32,A121,Практики!$G$3:$G$32)+SUMIF(Практики!$F$37:$F$66,A121,Практики!$G$37:$G$66)+SUMIF(Спец.!$H$5:$H$27,A121,Спец.!$F$5:$G$27)+SUMIF(Спец.!$H$31:$H$41,A121,Спец.!$F$31:$G$41)+SUMIF(Спец.!$H$43:$H$44,A121,Спец.!$F$43:$G$44)","v":0},0]
[120,null,{"$f":"SUMIF(План!$BP$5:$BP$1392,A122,План!$BY$5:$BY$1392)+SUMIF(Практики!$F$3:$F$32,A122,Практики!$G$3:$G$32)+SUMIF(Практики!$F$37:$F$66,A122,Практики!$G$37:$G$66)+SUMIF(Спец.!$H$5:$H$27,A122,Спец.!$F$5:$G$27)+SUMIF(Спец.!$H$31:$H$41,A122,Спец.!$F$31:$G$41)+SUMIF(Спец.!$H$43:$H$44,A122,Спец.!$F$43:$G$44)","v":0},0]
[121,null,{"$f":"SUMIF(План!$BP$5:$BP$1392,A123,План!$BY$5:$BY$1392)+SUMIF(Практики!$F$3:$F$32,A123,Практики!$G$3:$G$32)+SUMIF(Практики!$F$37:$F$66,A123,Практики!$G$37:$G$66)+SUMIF(Спец.!$H$5:$H$27,A123,Спец.!$F$5:$G$27)+SUMIF(Спец.!$H$31:$H$41,A123,Спец.!$F$31:$G$41)+SUMIF(Спец.!$H$43:$H$44,A123,Спец.!$F$43:$G$44)","v":0},0]
[122,null,{"$f":"SUMIF(План!$BP$5:$BP$1392,A124,План!$BY$5:$BY$1392)+SUMIF(Практики!$F$3:$F$32,A124,Практики!$G$3:$G$32)+SUMIF(Практики!$F$37:$F$66,A124,Практики!$G$37:$G$66)+SUMIF(Спец.!$H$5:$H$27,A124,Спец.!$F$5:$G$27)+SUMIF(Спец.!$H$31:$H$41,A124,Спец.!$F$31:$G$41)+SUMIF(Спец.!$H$43:$H$44,A124,Спец.!$F$43:$G$44)","v":0},0]
[123,null,{"$f":"SUMIF(План!$BP$5:$BP$1392,A125,План!$BY$5:$BY$1392)+SUMIF(Практики!$F$3:$F$32,A125,Практики!$G$3:$G$32)+SUMIF(Практики!$F$37:$F$66,A125,Практики!$G$37:$G$66)+SUMIF(Спец.!$H$5:$H$27,A125,Спец.!$F$5:$G$27)+SUMIF(Спец.!$H$31:$H$41,A125,Спец.!$F$31:$G$41)+SUMIF(Спец.!$H$43:$H$44,A125,Спец.!$F$43:$G$44)","v":0},0]
[124,null,{"$f":"SUMIF(План!$BP$5:$BP$1392,A126,План!$BY$5:$BY$1392)+SUMIF(Практики!$F$3:$F$32,A126,Практики!$G$3:$G$32)+SUMIF(Практики!$F$37:$F$66,A126,Практики!$G$37:$G$66)+SUMIF(Спец.!$H$5:$H$27,A126,Спец.!$F$5:$G$27)+SUMIF(Спец.!$H$31:$H$41,A126,Спец.!$F$31:$G$41)+SUMIF(Спец.!$H$43:$H$44,A126,Спец.!$F$43:$G$44)","v":0},0]
[125,null,{"$f":"SUMIF(План!$BP$5:$BP$1392,A127,План!$BY$5:$BY$1392)+SUMIF(Практики!$F$3:$F$32,A127,Практики!$G$3:$G$32)+SUMIF(Практики!$F$37:$F$66,A127,Практики!$G$37:$G$66)+SUMIF(Спец.!$H$5:$H$27,A127,Спец.!$F$5:$G$27)+SUMIF(Спец.!$H$31:$H$41,A127,Спец.!$F$31:$G$41)+SUMIF(Спец.!$H$43:$H$44,A127,Спец.!$F$43:$G$44)","v":0},0]
[126,null,{"$f":"SUMIF(План!$BP$5:$BP$1392,A128,План!$BY$5:$BY$1392)+SUMIF(Практики!$F$3:$F$32,A128,Практики!$G$3:$G$32)+SUMIF(Практики!$F$37:$F$66,A128,Практики!$G$37:$G$66)+SUMIF(Спец.!$H$5:$H$27,A128,Спец.!$F$5:$G$27)+SUMIF(Спец.!$H$31:$H$41,A128,Спец.!$F$31:$G$41)+SUMIF(Спец.!$H$43:$H$44,A128,Спец.!$F$43:$G$44)","v":0},0]
[127,null,{"$f":"SUMIF(План!$BP$5:$BP$1392,A129,План!$BY$5:$BY$1392)+SUMIF(Практики!$F$3:$F$32,A129,Практики!$G$3:$G$32)+SUMIF(Практики!$F$37:$F$66,A129,Практики!$G$37:$G$66)+SUMIF(Спец.!$H$5:$H$27,A129,Спец.!$F$5:$G$27)+SUMIF(Спец.!$H$31:$H$41,A129,Спец.!$F$31:$G$41)+SUMIF(Спец.!$H$43:$H$44,A129,Спец.!$F$43:$G$44)","v":0},0]
[128,null,{"$f":"SUMIF(План!$BP$5:$BP$1392,A130,План!$BY$5:$BY$1392)+SUMIF(Практики!$F$3:$F$32,A130,Практики!$G$3:$G$32)+SUMIF(Практики!$F$37:$F$66,A130,Практики!$G$37:$G$66)+SUMIF(Спец.!$H$5:$H$27,A130,Спец.!$F$5:$G$27)+SUMIF(Спец.!$H$31:$H$41,A130,Спец.!$F$31:$G$41)+SUMIF(Спец.!$H$43:$H$44,A130,Спец.!$F$43:$G$44)","v":0},0]
[129,null,{"$f":"SUMIF(План!$BP$5:$BP$1392,A131,План!$BY$5:$BY$1392)+SUMIF(Практики!$F$3:$F$32,A131,Практики!$G$3:$G$32)+SUMIF(Практики!$F$37:$F$66,A131,Практики!$G$37:$G$66)+SUMIF(Спец.!$H$5:$H$27,A131,Спец.!$F$5:$G$27)+SUMIF(Спец.!$H$31:$H$41,A131,Спец.!$F$31:$G$41)+SUMIF(Спец.!$H$43:$H$44,A131,Спец.!$F$43:$G$44)","v":0},0]
[130,null,{"$f":"SUMIF(План!$BP$5:$BP$1392,A132,План!$BY$5:$BY$1392)+SUMIF(Практики!$F$3:$F$32,A132,Практики!$G$3:$G$32)+SUMIF(Практики!$F$37:$F$66,A132,Практики!$G$37:$G$66)+SUMIF(Спец.!$H$5:$H$27,A132,Спец.!$F$5:$G$27)+SUMIF(Спец.!$H$31:$H$41,A132,Спец.!$F$31:$G$41)+SUMIF(Спец.!$H$43:$H$44,A132,Спец.!$F$43:$G$44)","v":0},{"$f":"IF($C$1>0,C132/$C$1,0)","v":0}]
[131,null,{"$f":"SUMIF(План!$BP$5:$BP$1392,A133,План!$BY$5:$BY$1392)+SUMIF(Практики!$F$3:$F$32,A133,Практики!$G$3:$G$32)+SUMIF(Практики!$F$37:$F$66,A133,Практики!$G$37:$G$66)+SUMIF(Спец.!$H$5:$H$27,A133,Спец.!$F$5:$G$27)+SUMIF(Спец.!$H$31:$H$41,A133,Спец.!$F$31:$G$41)+SUMIF(Спец.!$H$43:$H$44,A133,Спец.!$F$43:$G$44)","v":0},0]
[132,null,{"$f":"SUMIF(План!$BP$5:$BP$1392,A134,План!$BY$5:$BY$1392)+SUMIF(Практики!$F$3:$F$32,A134,Практики!$G$3:$G$32)+SUMIF(Практики!$F$37:$F$66,A134,Практики!$G$37:$G$66)+SUMIF(Спец.!$H$5:$H$27,A134,Спец.!$F$5:$G$27)+SUMIF(Спец.!$H$31:$H$41,A134,Спец.!$F$31:$G$41)+SUMIF(Спец.!$H$43:$H$44,A134,Спец.!$F$43:$G$44)","v":0},0]
[133,null,{"$f":"SUMIF(План!$BP$5:$BP$1392,A135,План!$BY$5:$BY$1392)+SUMIF(Практики!$F$3:$F$32,A135,Практики!$G$3:$G$32)+SUMIF(Практики!$F$37:$F$66,A135,Практики!$G$37:$G$66)+SUMIF(Спец.!$H$5:$H$27,A135,Спец.!$F$5:$G$27)+SUMIF(Спец.!$H$31:$H$41,A135,Спец.!$F$31:$G$41)+SUMIF(Спец.!$H$43:$H$44,A135,Спец.!$F$43:$G$44)","v":0},0]
[134,null,{"$f":"SUMIF(План!$BP$5:$BP$1392,A136,План!$BY$5:$BY$1392)+SUMIF(Практики!$F$3:$F$32,A136,Практики!$G$3:$G$32)+SUMIF(Практики!$F$37:$F$66,A136,Практики!$G$37:$G$66)+SUMIF(Спец.!$H$5:$H$27,A136,Спец.!$F$5:$G$27)+SUMIF(Спец.!$H$31:$H$41,A136,Спец.!$F$31:$G$41)+SUMIF(Спец.!$H$43:$H$44,A136,Спец.!$F$43:$G$44)","v":0},0]
[135,null,{"$f":"SUMIF(План!$BP$5:$BP$1392,A137,План!$BY$5:$BY$1392)+SUMIF(Практики!$F$3:$F$32,A137,Практики!$G$3:$G$32)+SUMIF(Практики!$F$37:$F$66,A137,Практики!$G$37:$G$66)+SUMIF(Спец.!$H$5:$H$27,A137,Спец.!$F$5:$G$27)+SUMIF(Спец.!$H$31:$H$41,A137,Спец.!$F$31:$G$41)+SUMIF(Спец.!$H$43:$H$44,A137,Спец.!$F$43:$G$44)","v":0},0]
[136,null,{"$f":"SUMIF(План!$BP$5:$BP$1392,A138,План!$BY$5:$BY$1392)+SUMIF(Практики!$F$3:$F$32,A138,Практики!$G$3:$G$32)+SUMIF(Практики!$F$37:$F$66,A138,Практики!$G$37:$G$66)+SUMIF(Спец.!$H$5:$H$27,A138,Спец.!$F$5:$G$27)+SUMIF(Спец.!$H$31:$H$41,A138,Спец.!$F$31:$G$41)+SUMIF(Спец.!$H$43:$H$44,A138,Спец.!$F$43:$G$44)","v":0},0]
[137,null,{"$f":"SUMIF(План!$BP$5:$BP$1392,A139,План!$BY$5:$BY$1392)+SUMIF(Практики!$F$3:$F$32,A139,Практики!$G$3:$G$32)+SUMIF(Практики!$F$37:$F$66,A139,Практики!$G$37:$G$66)+SUMIF(Спец.!$H$5:$H$27,A139,Спец.!$F$5:$G$27)+SUMIF(Спец.!$H$31:$H$41,A139,Спец.!$F$31:$G$41)+SUMIF(Спец.!$H$43:$H$44,A139,Спец.!$F$43:$G$44)","v":0},0]
[138,null,{"$f":"SUMIF(План!$BP$5:$BP$1392,A140,План!$BY$5:$BY$1392)+SUMIF(Практики!$F$3:$F$32,A140,Практики!$G$3:$G$32)+SUMIF(Практики!$F$37:$F$66,A140,Практики!$G$37:$G$66)+SUMIF(Спец.!$H$5:$H$27,A140,Спец.!$F$5:$G$27)+SUMIF(Спец.!$H$31:$H$41,A140,Спец.!$F$31:$G$41)+SUMIF(Спец.!$H$43:$H$44,A140,Спец.!$F$43:$G$44)","v":0},0]
[139,null,{"$f":"SUMIF(План!$BP$5:$BP$1392,A141,План!$BY$5:$BY$1392)+SUMIF(Практики!$F$3:$F$32,A141,Практики!$G$3:$G$32)+SUMIF(Практики!$F$37:$F$66,A141,Практики!$G$37:$G$66)+SUMIF(Спец.!$H$5:$H$27,A141,Спец.!$F$5:$G$27)+SUMIF(Спец.!$H$31:$H$41,A141,Спец.!$F$31:$G$41)+SUMIF(Спец.!$H$43:$H$44,A141,Спец.!$F$43:$G$44)","v":0},0]
[140,null,{"$f":"SUMIF(План!$BP$5:$BP$1392,A142,План!$BY$5:$BY$1392)+SUMIF(Практики!$F$3:$F$32,A142,Практики!$G$3:$G$32)+SUMIF(Практики!$F$37:$F$66,A142,Практики!$G$37:$G$66)+SUMIF(Спец.!$H$5:$H$27,A142,Спец.!$F$5:$G$27)+SUMIF(Спец.!$H$31:$H$41,A142,Спец.!$F$31:$G$41)+SUMIF(Спец.!$H$43:$H$44,A142,Спец.!$F$43:$G$44)","v":0},0]
[141,null,{"$f":"SUMIF(План!$BP$5:$BP$1392,A143,План!$BY$5:$BY$1392)+SUMIF(Практики!$F$3:$F$32,A143,Практики!$G$3:$G$32)+SUMIF(Практики!$F$37:$F$66,A143,Практики!$G$37:$G$66)+SUMIF(Спец.!$H$5:$H$27,A143,Спец.!$F$5:$G$27)+SUMIF(Спец.!$H$31:$H$41,A143,Спец.!$F$31:$G$41)+SUMIF(Спец.!$H$43:$H$44,A143,Спец.!$F$43:$G$44)","v":0},0]
[142,null,{"$f":"SUMIF(План!$BP$5:$BP$1392,A144,План!$BY$5:$BY$1392)+SUMIF(Практики!$F$3:$F$32,A144,Практики!$G$3:$G$32)+SUMIF(Практики!$F$37:$F$66,A144,Практики!$G$37:$G$66)+SUMIF(Спец.!$H$5:$H$27,A144,Спец.!$F$5:$G$27)+SUMIF(Спец.!$H$31:$H$41,A144,Спец.!$F$31:$G$41)+SUMIF(Спец.!$H$43:$H$44,A144,Спец.!$F$43:$G$44)","v":0},0]
[143,null,{"$f":"SUMIF(План!$BP$5:$BP$1392,A145,План!$BY$5:$BY$1392)+SUMIF(Практики!$F$3:$F$32,A145,Практики!$G$3:$G$32)+SUMIF(Практики!$F$37:$F$66,A145,Практики!$G$37:$G$66)+SUMIF(Спец.!$H$5:$H$27,A145,Спец.!$F$5:$G$27)+SUMIF(Спец.!$H$31:$H$41,A145,Спец.!$F$31:$G$41)+SUMIF(Спец.!$H$43:$H$44,A145,Спец.!$F$43:$G$44)","v":0},0]
[144,null,{"$f":"SUMIF(План!$BP$5:$BP$1392,A146,План!$BY$5:$BY$1392)+SUMIF(Практики!$F$3:$F$32,A146,Практики!$G$3:$G$32)+SUMIF(Практики!$F$37:$F$66,A146,Практики!$G$37:$G$66)+SUMIF(Спец.!$H$5:$H$27,A146,Спец.!$F$5:$G$27)+SUMIF(Спец.!$H$31:$H$41,A146,Спец.!$F$31:$G$41)+SUMIF(Спец.!$H$43:$H$44,A146,Спец.!$F$43:$G$44)","v":0},0]
[145,null,{"$f":"SUMIF(План!$BP$5:$BP$1392,A147,План!$BY$5:$BY$1392)+SUMIF(Практики!$F$3:$F$32,A147,Практики!$G$3:$G$32)+SUMIF(Практики!$F$37:$F$66,A147,Практики!$G$37:$G$66)+SUMIF(Спец.!$H$5:$H$27,A147,Спец.!$F$5:$G$27)+SUMIF(Спец.!$H$31:$H$41,A147,Спец.!$F$31:$G$41)+SUMIF(Спец.!$H$43:$H$44,A147,Спец.!$F$43:$G$44)","v":0},0]
[146,null,{"$f":"SUMIF(План!$BP$5:$BP$1392,A148,План!$BY$5:$BY$1392)+SUMIF(Практики!$F$3:$F$32,A148,Практики!$G$3:$G$32)+SUMIF(Практики!$F$37:$F$66,A148,Практики!$G$37:$G$66)+SUMIF(Спец.!$H$5:$H$27,A148,Спец.!$F$5:$G$27)+SUMIF(Спец.!$H$31:$H$41,A148,Спец.!$F$31:$G$41)+SUMIF(Спец.!$H$43:$H$44,A148,Спец.!$F$43:$G$44)","v":0},0]
[147,null,{"$f":"SUMIF(План!$BP$5:$BP$1392,A149,План!$BY$5:$BY$1392)+SUMIF(Практики!$F$3:$F$32,A149,Практики!$G$3:$G$32)+SUMIF(Практики!$F$37:$F$66,A149,Практики!$G$37:$G$66)+SUMIF(Спец.!$H$5:$H$27,A149,Спец.!$F$5:$G$27)+SUMIF(Спец.!$H$31:$H$41,A149,Спец.!$F$31:$G$41)+SUMIF(Спец.!$H$43:$H$44,A149,Спец.!$F$43:$G$44)","v":0},0]
[148,null,{"$f":"SUMIF(План!$BP$5:$BP$1392,A150,План!$BY$5:$BY$1392)+SUMIF(Практики!$F$3:$F$32,A150,Практики!$G$3:$G$32)+SUMIF(Практики!$F$37:$F$66,A150,Практики!$G$37:$G$66)+SUMIF(Спец.!$H$5:$H$27,A150,Спец.!$F$5:$G$27)+SUMIF(Спец.!$H$31:$H$41,A150,Спец.!$F$31:$G$41)+SUMIF(Спец.!$H$43:$H$44,A150,Спец.!$F$43:$G$44)","v":0},0]
[149,null,{"$f":"SUMIF(План!$BP$5:$BP$1392,A151,План!$BY$5:$BY$1392)+SUMIF(Практики!$F$3:$F$32,A151,Практики!$G$3:$G$32)+SUMIF(Практики!$F$37:$F$66,A151,Практики!$G$37:$G$66)+SUMIF(Спец.!$H$5:$H$27,A151,Спец.!$F$5:$G$27)+SUMIF(Спец.!$H$31:$H$41,A151,Спец.!$F$31:$G$41)+SUMIF(Спец.!$H$43:$H$44,A151,Спец.!$F$43:$G$44)","v":0},0]
[150,null,{"$f":"SUMIF(План!$BP$5:$BP$1392,A152,План!$BY$5:$BY$1392)+SUMIF(Практики!$F$3:$F$32,A152,Практики!$G$3:$G$32)+SUMIF(Практики!$F$37:$F$66,A152,Практики!$G$37:$G$66)+SUMIF(Спец.!$H$5:$H$27,A152,Спец.!$F$5:$G$27)+SUMIF(Спец.!$H$31:$H$41,A152,Спец.!$F$31:$G$41)+SUMIF(Спец.!$H$43:$H$44,A152,Спец.!$F$43:$G$44)","v":0},0]
[151,null,{"$f":"SUMIF(План!$BP$5:$BP$1392,A153,План!$BY$5:$BY$1392)+SUMIF(Практики!$F$3:$F$32,A153,Практики!$G$3:$G$32)+SUMIF(Практики!$F$37:$F$66,A153,Практики!$G$37:$G$66)+SUMIF(Спец.!$H$5:$H$27,A153,Спец.!$F$5:$G$27)+SUMIF(Спец.!$H$31:$H$41,A153,Спец.!$F$31:$G$41)+SUMIF(Спец.!$H$43:$H$44,A153,Спец.!$F$43:$G$44)","v":0},0]
[152,null,{"$f":"SUMIF(План!$BP$5:$BP$1392,A154,План!$BY$5:$BY$1392)+SUMIF(Практики!$F$3:$F$32,A154,Практики!$G$3:$G$32)+SUMIF(Практики!$F$37:$F$66,A154,Практики!$G$37:$G$66)+SUMIF(Спец.!$H$5:$H$27,A154,Спец.!$F$5:$G$27)+SUMIF(Спец.!$H$31:$H$41,A154,Спец.!$F$31:$G$41)+SUMIF(Спец.!$H$43:$H$44,A154,Спец.!$F$43:$G$44)","v":0},0]
[153,null,{"$f":"SUMIF(План!$BP$5:$BP$1392,A155,План!$BY$5:$BY$1392)+SUMIF(Практики!$F$3:$F$32,A155,Практики!$G$3:$G$32)+SUMIF(Практики!$F$37:$F$66,A155,Практики!$G$37:$G$66)+SUMIF(Спец.!$H$5:$H$27,A155,Спец.!$F$5:$G$27)+SUMIF(Спец.!$H$31:$H$41,A155,Спец.!$F$31:$G$41)+SUMIF(Спец.!$H$43:$H$44,A155,Спец.!$F$43:$G$44)","v":0},0]
[154,null,{"$f":"SUMIF(План!$BP$5:$BP$1392,A156,План!$BY$5:$BY$1392)+SUMIF(Практики!$F$3:$F$32,A156,Практики!$G$3:$G$32)+SUMIF(Практики!$F$37:$F$66,A156,Практики!$G$37:$G$66)+SUMIF(Спец.!$H$5:$H$27,A156,Спец.!$F$5:$G$27)+SUMIF(Спец.!$H$31:$H$41,A156,Спец.!$F$31:$G$41)+SUMIF(Спец.!$H$43:$H$44,A156,Спец.!$F$43:$G$44)","v":0},0]
[155,null,{"$f":"SUMIF(План!$BP$5:$BP$1392,A157,План!$BY$5:$BY$1392)+SUMIF(Практики!$F$3:$F$32,A157,Практики!$G$3:$G$32)+SUMIF(Практики!$F$37:$F$66,A157,Практики!$G$37:$G$66)+SUMIF(Спец.!$H$5:$H$27,A157,Спец.!$F$5:$G$27)+SUMIF(Спец.!$H$31:$H$41,A157,Спец.!$F$31:$G$41)+SUMIF(Спец.!$H$43:$H$44,A157,Спец.!$F$43:$G$44)","v":0},0]
[156,null,{"$f":"SUMIF(План!$BP$5:$BP$1392,A158,План!$BY$5:$BY$1392)+SUMIF(Практики!$F$3:$F$32,A158,Практики!$G$3:$G$32)+SUMIF(Практики!$F$37:$F$66,A158,Практики!$G$37:$G$66)+SUMIF(Спец.!$H$5:$H$27,A158,Спец.!$F$5:$G$27)+SUMIF(Спец.!$H$31:$H$41,A158,Спец.!$F$31:$G$41)+SUMIF(Спец.!$H$43:$H$44,A158,Спец.!$F$43:$G$44)","v":0},0]
[157,null,{"$f":"SUMIF(План!$BP$5:$BP$1392,A159,План!$BY$5:$BY$1392)+SUMIF(Практики!$F$3:$F$32,A159,Практики!$G$3:$G$32)+SUMIF(Практики!$F$37:$F$66,A159,Практики!$G$37:$G$66)+SUMIF(Спец.!$H$5:$H$27,A159,Спец.!$F$5:$G$27)+SUMIF(Спец.!$H$31:$H$41,A159,Спец.!$F$31:$G$41)+SUMIF(Спец.!$H$43:$H$44,A159,Спец.!$F$43:$G$44)","v":0},0]
[158,null,{"$f":"SUMIF(План!$BP$5:$BP$1392,A160,План!$BY$5:$BY$1392)+SUMIF(Практики!$F$3:$F$32,A160,Практики!$G$3:$G$32)+SUMIF(Практики!$F$37:$F$66,A160,Практики!$G$37:$G$66)+SUMIF(Спец.!$H$5:$H$27,A160,Спец.!$F$5:$G$27)+SUMIF(Спец.!$H$31:$H$41,A160,Спец.!$F$31:$G$41)+SUMIF(Спец.!$H$43:$H$44,A160,Спец.!$F$43:$G$44)","v":0},0]
[159,null,{"$f":"SUMIF(План!$BP$5:$BP$1392,A161,План!$BY$5:$BY$1392)+SUMIF(Практики!$F$3:$F$32,A161,Практики!$G$3:$G$32)+SUMIF(Практики!$F$37:$F$66,A161,Практики!$G$37:$G$66)+SUMIF(Спец.!$H$5:$H$27,A161,Спец.!$F$5:$G$27)+SUMIF(Спец.!$H$31:$H$41,A161,Спец.!$F$31:$G$41)+SUMIF(Спец.!$H$43:$H$44,A161,Спец.!$F$43:$G$44)","v":0},0]
[160,null,{"$f":"SUMIF(План!$BP$5:$BP$1392,A162,План!$BY$5:$BY$1392)+SUMIF(Практики!$F$3:$F$32,A162,Практики!$G$3:$G$32)+SUMIF(Практики!$F$37:$F$66,A162,Практики!$G$37:$G$66)+SUMIF(Спец.!$H$5:$H$27,A162,Спец.!$F$5:$G$27)+SUMIF(Спец.!$H$31:$H$41,A162,Спец.!$F$31:$G$41)+SUMIF(Спец.!$H$43:$H$44,A162,Спец.!$F$43:$G$44)","v":0},0]
[161,null,{"$f":"SUMIF(План!$BP$5:$BP$1392,A163,План!$BY$5:$BY$1392)+SUMIF(Практики!$F$3:$F$32,A163,Практики!$G$3:$G$32)+SUMIF(Практики!$F$37:$F$66,A163,Практики!$G$37:$G$66)+SUMIF(Спец.!$H$5:$H$27,A163,Спец.!$F$5:$G$27)+SUMIF(Спец.!$H$31:$H$41,A163,Спец.!$F$31:$G$41)+SUMIF(Спец.!$H$43:$H$44,A163,Спец.!$F$43:$G$44)","v":0},0]
[162,null,{"$f":"SUMIF(План!$BP$5:$BP$1392,A164,План!$BY$5:$BY$1392)+SUMIF(Практики!$F$3:$F$32,A164,Практики!$G$3:$G$32)+SUMIF(Практики!$F$37:$F$66,A164,Практики!$G$37:$G$66)+SUMIF(Спец.!$H$5:$H$27,A164,Спец.!$F$5:$G$27)+SUMIF(Спец.!$H$31:$H$41,A164,Спец.!$F$31:$G$41)+SUMIF(Спец.!$H$43:$H$44,A164,Спец.!$F$43:$G$44)","v":0},0]
[163,null,{"$f":"SUMIF(План!$BP$5:$BP$1392,A165,План!$BY$5:$BY$1392)+SUMIF(Практики!$F$3:$F$32,A165,Практики!$G$3:$G$32)+SUMIF(Практики!$F$37:$F$66,A165,Практики!$G$37:$G$66)+SUMIF(Спец.!$H$5:$H$27,A165,Спец.!$F$5:$G$27)+SUMIF(Спец.!$H$31:$H$41,A165,Спец.!$F$31:$G$41)+SUMIF(Спец.!$H$43:$H$44,A165,Спец.!$F$43:$G$44)","v":0},0]
[164,null,{"$f":"SUMIF(План!$BP$5:$BP$1392,A166,План!$BY$5:$BY$1392)+SUMIF(Практики!$F$3:$F$32,A166,Практики!$G$3:$G$32)+SUMIF(Практики!$F$37:$F$66,A166,Практики!$G$37:$G$66)+SUMIF(Спец.!$H$5:$H$27,A166,Спец.!$F$5:$G$27)+SUMIF(Спец.!$H$31:$H$41,A166,Спец.!$F$31:$G$41)+SUMIF(Спец.!$H$43:$H$44,A166,Спец.!$F$43:$G$44)","v":0},0]
[165,null,{"$f":"SUMIF(План!$BP$5:$BP$1392,A167,План!$BY$5:$BY$1392)+SUMIF(Практики!$F$3:$F$32,A167,Практики!$G$3:$G$32)+SUMIF(Практики!$F$37:$F$66,A167,Практики!$G$37:$G$66)+SUMIF(Спец.!$H$5:$H$27,A167,Спец.!$F$5:$G$27)+SUMIF(Спец.!$H$31:$H$41,A167,Спец.!$F$31:$G$41)+SUMIF(Спец.!$H$43:$H$44,A167,Спец.!$F$43:$G$44)","v":0},0]
[166,null,{"$f":"SUMIF(План!$BP$5:$BP$1392,A168,План!$BY$5:$BY$1392)+SUMIF(Практики!$F$3:$F$32,A168,Практики!$G$3:$G$32)+SUMIF(Практики!$F$37:$F$66,A168,Практики!$G$37:$G$66)+SUMIF(Спец.!$H$5:$H$27,A168,Спец.!$F$5:$G$27)+SUMIF(Спец.!$H$31:$H$41,A168,Спец.!$F$31:$G$41)+SUMIF(Спец.!$H$43:$H$44,A168,Спец.!$F$43:$G$44)","v":0},0]
[167,null,{"$f":"SUMIF(План!$BP$5:$BP$1392,A169,План!$BY$5:$BY$1392)+SUMIF(Практики!$F$3:$F$32,A169,Практики!$G$3:$G$32)+SUMIF(Практики!$F$37:$F$66,A169,Практики!$G$37:$G$66)+SUMIF(Спец.!$H$5:$H$27,A169,Спец.!$F$5:$G$27)+SUMIF(Спец.!$H$31:$H$41,A169,Спец.!$F$31:$G$41)+SUMIF(Спец.!$H$43:$H$44,A169,Спец.!$F$43:$G$44)","v":0},0]
[168,null,{"$f":"SUMIF(План!$BP$5:$BP$1392,A170,План!$BY$5:$BY$1392)+SUMIF(Практики!$F$3:$F$32,A170,Практики!$G$3:$G$32)+SUMIF(Практики!$F$37:$F$66,A170,Практики!$G$37:$G$66)+SUMIF(Спец.!$H$5:$H$27,A170,Спец.!$F$5:$G$27)+SUMIF(Спец.!$H$31:$H$41,A170,Спец.!$F$31:$G$41)+SUMIF(Спец.!$H$43:$H$44,A170,Спец.!$F$43:$G$44)","v":0},0]
[169,null,{"$f":"SUMIF(План!$BP$5:$BP$1392,A171,План!$BY$5:$BY$1392)+SUMIF(Практики!$F$3:$F$32,A171,Практики!$G$3:$G$32)+SUMIF(Практики!$F$37:$F$66,A171,Практики!$G$37:$G$66)+SUMIF(Спец.!$H$5:$H$27,A171,Спец.!$F$5:$G$27)+SUMIF(Спец.!$H$31:$H$41,A171,Спец.!$F$31:$G$41)+SUMIF(Спец.!$H$43:$H$44,A171,Спец.!$F$43:$G$44)","v":0},0]
[170,null,{"$f":"SUMIF(План!$BP$5:$BP$1392,A172,План!$BY$5:$BY$1392)+SUMIF(Практики!$F$3:$F$32,A172,Практики!$G$3:$G$32)+SUMIF(Практики!$F$37:$F$66,A172,Практики!$G$37:$G$66)+SUMIF(Спец.!$H$5:$H$27,A172,Спец.!$F$5:$G$27)+SUMIF(Спец.!$H$31:$H$41,A172,Спец.!$F$31:$G$41)+SUMIF(Спец.!$H$43:$H$44,A172,Спец.!$F$43:$G$44)","v":0},0]
[171,null,{"$f":"SUMIF(План!$BP$5:$BP$1392,A173,План!$BY$5:$BY$1392)+SUMIF(Практики!$F$3:$F$32,A173,Практики!$G$3:$G$32)+SUMIF(Практики!$F$37:$F$66,A173,Практики!$G$37:$G$66)+SUMIF(Спец.!$H$5:$H$27,A173,Спец.!$F$5:$G$27)+SUMIF(Спец.!$H$31:$H$41,A173,Спец.!$F$31:$G$41)+SUMIF(Спец.!$H$43:$H$44,A173,Спец.!$F$43:$G$44)","v":0},0]
[172,null,{"$f":"SUMIF(План!$BP$5:$BP$1392,A174,План!$BY$5:$BY$1392)+SUMIF(Практики!$F$3:$F$32,A174,Практики!$G$3:$G$32)+SUMIF(Практики!$F$37:$F$66,A174,Практики!$G$37:$G$66)+SUMIF(Спец.!$H$5:$H$27,A174,Спец.!$F$5:$G$27)+SUMIF(Спец.!$H$31:$H$41,A174,Спец.!$F$31:$G$41)+SUMIF(Спец.!$H$43:$H$44,A174,Спец.!$F$43:$G$44)","v":0},0]
[173,null,{"$f":"SUMIF(План!$BP$5:$BP$1392,A175,План!$BY$5:$BY$1392)+SUMIF(Практики!$F$3:$F$32,A175,Практики!$G$3:$G$32)+SUMIF(Практики!$F$37:$F$66,A175,Практики!$G$37:$G$66)+SUMIF(Спец.!$H$5:$H$27,A175,Спец.!$F$5:$G$27)+SUMIF(Спец.!$H$31:$H$41,A175,Спец.!$F$31:$G$41)+SUMIF(Спец.!$H$43:$H$44,A175,Спец.!$F$43:$G$44)","v":0},0]
[174,null,{"$f":"SUMIF(План!$BP$5:$BP$1392,A176,План!$BY$5:$BY$1392)+SUMIF(Практики!$F$3:$F$32,A176,Практики!$G$3:$G$32)+SUMIF(Практики!$F$37:$F$66,A176,Практики!$G$37:$G$66)+SUMIF(Спец.!$H$5:$H$27,A176,Спец.!$F$5:$G$27)+SUMIF(Спец.!$H$31:$H$41,A176,Спец.!$F$31:$G$41)+SUMIF(Спец.!$H$43:$H$44,A176,Спец.!$F$43:$G$44)","v":0},0]
[175,null,{"$f":"SUMIF(План!$BP$5:$BP$1392,A177,План!$BY$5:$BY$1392)+SUMIF(Практики!$F$3:$F$32,A177,Практики!$G$3:$G$32)+SUMIF(Практики!$F$37:$F$66,A177,Практики!$G$37:$G$66)+SUMIF(Спец.!$H$5:$H$27,A177,Спец.!$F$5:$G$27)+SUMIF(Спец.!$H$31:$H$41,A177,Спец.!$F$31:$G$41)+SUMIF(Спец.!$H$43:$H$44,A177,Спец.!$F$43:$G$44)","v":0},0]
[176,null,{"$f":"SUMIF(План!$BP$5:$BP$1392,A178,План!$BY$5:$BY$1392)+SUMIF(Практики!$F$3:$F$32,A178,Практики!$G$3:$G$32)+SUMIF(Практики!$F$37:$F$66,A178,Практики!$G$37:$G$66)+SUMIF(Спец.!$H$5:$H$27,A178,Спец.!$F$5:$G$27)+SUMIF(Спец.!$H$31:$H$41,A178,Спец.!$F$31:$G$41)+SUMIF(Спец.!$H$43:$H$44,A178,Спец.!$F$43:$G$44)","v":0},0]
[177,null,{"$f":"SUMIF(План!$BP$5:$BP$1392,A179,План!$BY$5:$BY$1392)+SUMIF(Практики!$F$3:$F$32,A179,Практики!$G$3:$G$32)+SUMIF(Практики!$F$37:$F$66,A179,Практики!$G$37:$G$66)+SUMIF(Спец.!$H$5:$H$27,A179,Спец.!$F$5:$G$27)+SUMIF(Спец.!$H$31:$H$41,A179,Спец.!$F$31:$G$41)+SUMIF(Спец.!$H$43:$H$44,A179,Спец.!$F$43:$G$44)","v":0},0]
[178,null,{"$f":"SUMIF(План!$BP$5:$BP$1392,A180,План!$BY$5:$BY$1392)+SUMIF(Практики!$F$3:$F$32,A180,Практики!$G$3:$G$32)+SUMIF(Практики!$F$37:$F$66,A180,Практики!$G$37:$G$66)+SUMIF(Спец.!$H$5:$H$27,A180,Спец.!$F$5:$G$27)+SUMIF(Спец.!$H$31:$H$41,A180,Спец.!$F$31:$G$41)+SUMIF(Спец.!$H$43:$H$44,A180,Спец.!$F$43:$G$44)","v":0},0]
[179,null,{"$f":"SUMIF(План!$BP$5:$BP$1392,A181,План!$BY$5:$BY$1392)+SUMIF(Практики!$F$3:$F$32,A181,Практики!$G$3:$G$32)+SUMIF(Практики!$F$37:$F$66,A181,Практики!$G$37:$G$66)+SUMIF(Спец.!$H$5:$H$27,A181,Спец.!$F$5:$G$27)+SUMIF(Спец.!$H$31:$H$41,A181,Спец.!$F$31:$G$41)+SUMIF(Спец.!$H$43:$H$44,A181,Спец.!$F$43:$G$44)","v":0},0]
[180,null,{"$f":"SUMIF(План!$BP$5:$BP$1392,A182,План!$BY$5:$BY$1392)+SUMIF(Практики!$F$3:$F$32,A182,Практики!$G$3:$G$32)+SUMIF(Практики!$F$37:$F$66,A182,Практики!$G$37:$G$66)+SUMIF(Спец.!$H$5:$H$27,A182,Спец.!$F$5:$G$27)+SUMIF(Спец.!$H$31:$H$41,A182,Спец.!$F$31:$G$41)+SUMIF(Спец.!$H$43:$H$44,A182,Спец.!$F$43:$G$44)","v":0},0]
[181,null,{"$f":"SUMIF(План!$BP$5:$BP$1392,A183,План!$BY$5:$BY$1392)+SUMIF(Практики!$F$3:$F$32,A183,Практики!$G$3:$G$32)+SUMIF(Практики!$F$37:$F$66,A183,Практики!$G$37:$G$66)+SUMIF(Спец.!$H$5:$H$27,A183,Спец.!$F$5:$G$27)+SUMIF(Спец.!$H$31:$H$41,A183,Спец.!$F$31:$G$41)+SUMIF(Спец.!$H$43:$H$44,A183,Спец.!$F$43:$G$44)","v":0},0]
[182,null,{"$f":"SUMIF(План!$BP$5:$BP$1392,A184,План!$BY$5:$BY$1392)+SUMIF(Практики!$F$3:$F$32,A184,Практики!$G$3:$G$32)+SUMIF(Практики!$F$37:$F$66,A184,Практики!$G$37:$G$66)+SUMIF(Спец.!$H$5:$H$27,A184,Спец.!$F$5:$G$27)+SUMIF(Спец.!$H$31:$H$41,A184,Спец.!$F$31:$G$41)+SUMIF(Спец.!$H$43:$H$44,A184,Спец.!$F$43:$G$44)","v":0},0]
[183,null,{"$f":"SUMIF(План!$BP$5:$BP$1392,A185,План!$BY$5:$BY$1392)+SUMIF(Практики!$F$3:$F$32,A185,Практики!$G$3:$G$32)+SUMIF(Практики!$F$37:$F$66,A185,Практики!$G$37:$G$66)+SUMIF(Спец.!$H$5:$H$27,A185,Спец.!$F$5:$G$27)+SUMIF(Спец.!$H$31:$H$41,A185,Спец.!$F$31:$G$41)+SUMIF(Спец.!$H$43:$H$44,A185,Спец.!$F$43:$G$44)","v":0},0]
[184,null,{"$f":"SUMIF(План!$BP$5:$BP$1392,A186,План!$BY$5:$BY$1392)+SUMIF(Практики!$F$3:$F$32,A186,Практики!$G$3:$G$32)+SUMIF(Практики!$F$37:$F$66,A186,Практики!$G$37:$G$66)+SUMIF(Спец.!$H$5:$H$27,A186,Спец.!$F$5:$G$27)+SUMIF(Спец.!$H$31:$H$41,A186,Спец.!$F$31:$G$41)+SUMIF(Спец.!$H$43:$H$44,A186,Спец.!$F$43:$G$44)","v":0},0]
[185,null,{"$f":"SUMIF(План!$BP$5:$BP$1392,A187,План!$BY$5:$BY$1392)+SUMIF(Практики!$F$3:$F$32,A187,Практики!$G$3:$G$32)+SUMIF(Практики!$F$37:$F$66,A187,Практики!$G$37:$G$66)+SUMIF(Спец.!$H$5:$H$27,A187,Спец.!$F$5:$G$27)+SUMIF(Спец.!$H$31:$H$41,A187,Спец.!$F$31:$G$41)+SUMIF(Спец.!$H$43:$H$44,A187,Спец.!$F$43:$G$44)","v":0},0]
[186,null,{"$f":"SUMIF(План!$BP$5:$BP$1392,A188,План!$BY$5:$BY$1392)+SUMIF(Практики!$F$3:$F$32,A188,Практики!$G$3:$G$32)+SUMIF(Практики!$F$37:$F$66,A188,Практики!$G$37:$G$66)+SUMIF(Спец.!$H$5:$H$27,A188,Спец.!$F$5:$G$27)+SUMIF(Спец.!$H$31:$H$41,A188,Спец.!$F$31:$G$41)+SUMIF(Спец.!$H$43:$H$44,A188,Спец.!$F$43:$G$44)","v":0},0]
[187,null,{"$f":"SUMIF(План!$BP$5:$BP$1392,A189,План!$BY$5:$BY$1392)+SUMIF(Практики!$F$3:$F$32,A189,Практики!$G$3:$G$32)+SUMIF(Практики!$F$37:$F$66,A189,Практики!$G$37:$G$66)+SUMIF(Спец.!$H$5:$H$27,A189,Спец.!$F$5:$G$27)+SUMIF(Спец.!$H$31:$H$41,A189,Спец.!$F$31:$G$41)+SUMIF(Спец.!$H$43:$H$44,A189,Спец.!$F$43:$G$44)","v":0},0]
[188,null,{"$f":"SUMIF(План!$BP$5:$BP$1392,A190,План!$BY$5:$BY$1392)+SUMIF(Практики!$F$3:$F$32,A190,Практики!$G$3:$G$32)+SUMIF(Практики!$F$37:$F$66,A190,Практики!$G$37:$G$66)+SUMIF(Спец.!$H$5:$H$27,A190,Спец.!$F$5:$G$27)+SUMIF(Спец.!$H$31:$H$41,A190,Спец.!$F$31:$G$41)+SUMIF(Спец.!$H$43:$H$44,A190,Спец.!$F$43:$G$44)","v":0},0]
[189,null,{"$f":"SUMIF(План!$BP$5:$BP$1392,A191,План!$BY$5:$BY$1392)+SUMIF(Практики!$F$3:$F$32,A191,Практики!$G$3:$G$32)+SUMIF(Практики!$F$37:$F$66,A191,Практики!$G$37:$G$66)+SUMIF(Спец.!$H$5:$H$27,A191,Спец.!$F$5:$G$27)+SUMIF(Спец.!$H$31:$H$41,A191,Спец.!$F$31:$G$41)+SUMIF(Спец.!$H$43:$H$44,A191,Спец.!$F$43:$G$44)","v":0},0]
[190,null,{"$f":"SUMIF(План!$BP$5:$BP$1392,A192,План!$BY$5:$BY$1392)+SUMIF(Практики!$F$3:$F$32,A192,Практики!$G$3:$G$32)+SUMIF(Практики!$F$37:$F$66,A192,Практики!$G$37:$G$66)+SUMIF(Спец.!$H$5:$H$27,A192,Спец.!$F$5:$G$27)+SUMIF(Спец.!$H$31:$H$41,A192,Спец.!$F$31:$G$41)+SUMIF(Спец.!$H$43:$H$44,A192,Спец.!$F$43:$G$44)","v":0},0]
[191,null,{"$f":"SUMIF(План!$BP$5:$BP$1392,A193,План!$BY$5:$BY$1392)+SUMIF(Практики!$F$3:$F$32,A193,Практики!$G$3:$G$32)+SUMIF(Практики!$F$37:$F$66,A193,Практики!$G$37:$G$66)+SUMIF(Спец.!$H$5:$H$27,A193,Спец.!$F$5:$G$27)+SUMIF(Спец.!$H$31:$H$41,A193,Спец.!$F$31:$G$41)+SUMIF(Спец.!$H$43:$H$44,A193,Спец.!$F$43:$G$44)","v":0},0]
[192,null,{"$f":"SUMIF(План!$BP$5:$BP$1392,A194,План!$BY$5:$BY$1392)+SUMIF(Практики!$F$3:$F$32,A194,Практики!$G$3:$G$32)+SUMIF(Практики!$F$37:$F$66,A194,Практики!$G$37:$G$66)+SUMIF(Спец.!$H$5:$H$27,A194,Спец.!$F$5:$G$27)+SUMIF(Спец.!$H$31:$H$41,A194,Спец.!$F$31:$G$41)+SUMIF(Спец.!$H$43:$H$44,A194,Спец.!$F$43:$G$44)","v":0},0]
[193,null,{"$f":"SUMIF(План!$BP$5:$BP$1392,A195,План!$BY$5:$BY$1392)+SUMIF(Практики!$F$3:$F$32,A195,Практики!$G$3:$G$32)+SUMIF(Практики!$F$37:$F$66,A195,Практики!$G$37:$G$66)+SUMIF(Спец.!$H$5:$H$27,A195,Спец.!$F$5:$G$27)+SUMIF(Спец.!$H$31:$H$41,A195,Спец.!$F$31:$G$41)+SUMIF(Спец.!$H$43:$H$44,A195,Спец.!$F$43:$G$44)","v":0},0]
[194,null,{"$f":"SUMIF(План!$BP$5:$BP$1392,A196,План!$BY$5:$BY$1392)+SUMIF(Практики!$F$3:$F$32,A196,Практики!$G$3:$G$32)+SUMIF(Практики!$F$37:$F$66,A196,Практики!$G$37:$G$66)+SUMIF(Спец.!$H$5:$H$27,A196,Спец.!$F$5:$G$27)+SUMIF(Спец.!$H$31:$H$41,A196,Спец.!$F$31:$G$41)+SUMIF(Спец.!$H$43:$H$44,A196,Спец.!$F$43:$G$44)","v":0},{"$f":"IF($C$1>0,C196/$C$1,0)","v":0}]
[195,null,{"$f":"SUMIF(План!$BP$5:$BP$1392,A197,План!$BY$5:$BY$1392)+SUMIF(Практики!$F$3:$F$32,A197,Практики!$G$3:$G$32)+SUMIF(Практики!$F$37:$F$66,A197,Практики!$G$37:$G$66)+SUMIF(Спец.!$H$5:$H$27,A197,Спец.!$F$5:$G$27)+SUMIF(Спец.!$H$31:$H$41,A197,Спец.!$F$31:$G$41)+SUMIF(Спец.!$H$43:$H$44,A197,Спец.!$F$43:$G$44)","v":0},0]
[196,null,{"$f":"SUMIF(План!$BP$5:$BP$1392,A198,План!$BY$5:$BY$1392)+SUMIF(Практики!$F$3:$F$32,A198,Практики!$G$3:$G$32)+SUMIF(Практики!$F$37:$F$66,A198,Практики!$G$37:$G$66)+SUMIF(Спец.!$H$5:$H$27,A198,Спец.!$F$5:$G$27)+SUMIF(Спец.!$H$31:$H$41,A198,Спец.!$F$31:$G$41)+SUMIF(Спец.!$H$43:$H$44,A198,Спец.!$F$43:$G$44)","v":0},0]
[197,null,{"$f":"SUMIF(План!$BP$5:$BP$1392,A199,План!$BY$5:$BY$1392)+SUMIF(Практики!$F$3:$F$32,A199,Практики!$G$3:$G$32)+SUMIF(Практики!$F$37:$F$66,A199,Практики!$G$37:$G$66)+SUMIF(Спец.!$H$5:$H$27,A199,Спец.!$F$5:$G$27)+SUMIF(Спец.!$H$31:$H$41,A199,Спец.!$F$31:$G$41)+SUMIF(Спец.!$H$43:$H$44,A199,Спец.!$F$43:$G$44)","v":0},0]
[198,null,{"$f":"SUMIF(План!$BP$5:$BP$1392,A200,План!$BY$5:$BY$1392)+SUMIF(Практики!$F$3:$F$32,A200,Практики!$G$3:$G$32)+SUMIF(Практики!$F$37:$F$66,A200,Практики!$G$37:$G$66)+SUMIF(Спец.!$H$5:$H$27,A200,Спец.!$F$5:$G$27)+SUMIF(Спец.!$H$31:$H$41,A200,Спец.!$F$31:$G$41)+SUMIF(Спец.!$H$43:$H$44,A200,Спец.!$F$43:$G$44)","v":0},0]
[199,null,{"$f":"SUMIF(План!$BP$5:$BP$1392,A201,План!$BY$5:$BY$1392)+SUMIF(Практики!$F$3:$F$32,A201,Практики!$G$3:$G$32)+SUMIF(Практики!$F$37:$F$66,A201,Практики!$G$37:$G$66)+SUMIF(Спец.!$H$5:$H$27,A201,Спец.!$F$5:$G$27)+SUMIF(Спец.!$H$31:$H$41,A201,Спец.!$F$31:$G$41)+SUMIF(Спец.!$H$43:$H$44,A201,Спец.!$F$43:$G$44)","v":0},0]
[200,null,{"$f":"SUMIF(План!$BP$5:$BP$1392,A202,План!$BY$5:$BY$1392)+SUMIF(Практики!$F$3:$F$32,A202,Практики!$G$3:$G$32)+SUMIF(Практики!$F$37:$F$66,A202,Практики!$G$37:$G$66)+SUMIF(Спец.!$H$5:$H$27,A202,Спец.!$F$5:$G$27)+SUMIF(Спец.!$H$31:$H$41,A202,Спец.!$F$31:$G$41)+SUMIF(Спец.!$H$43:$H$44,A202,Спец.!$F$43:$G$44)","v":0},0]
[201,null,{"$f":"SUMIF(План!$BP$5:$BP$1392,A203,План!$BY$5:$BY$1392)+SUMIF(Практики!$F$3:$F$32,A203,Практики!$G$3:$G$32)+SUMIF(Практики!$F$37:$F$66,A203,Практики!$G$37:$G$66)+SUMIF(Спец.!$H$5:$H$27,A203,Спец.!$F$5:$G$27)+SUMIF(Спец.!$H$31:$H$41,A203,Спец.!$F$31:$G$41)+SUMIF(Спец.!$H$43:$H$44,A203,Спец.!$F$43:$G$44)","v":0},0]
[202,null,{"$f":"SUMIF(План!$BP$5:$BP$1392,A204,План!$BY$5:$BY$1392)+SUMIF(Практики!$F$3:$F$32,A204,Практики!$G$3:$G$32)+SUMIF(Практики!$F$37:$F$66,A204,Практики!$G$37:$G$66)+SUMIF(Спец.!$H$5:$H$27,A204,Спец.!$F$5:$G$27)+SUMIF(Спец.!$H$31:$H$41,A204,Спец.!$F$31:$G$41)+SUMIF(Спец.!$H$43:$H$44,A204,Спец.!$F$43:$G$44)","v":0},0]
[203,null,{"$f":"SUMIF(План!$BP$5:$BP$1392,A205,План!$BY$5:$BY$1392)+SUMIF(Практики!$F$3:$F$32,A205,Практики!$G$3:$G$32)+SUMIF(Практики!$F$37:$F$66,A205,Практики!$G$37:$G$66)+SUMIF(Спец.!$H$5:$H$27,A205,Спец.!$F$5:$G$27)+SUMIF(Спец.!$H$31:$H$41,A205,Спец.!$F$31:$G$41)+SUMIF(Спец.!$H$43:$H$44,A205,Спец.!$F$43:$G$44)","v":0},0]
[204,null,{"$f":"SUMIF(План!$BP$5:$BP$1392,A206,План!$BY$5:$BY$1392)+SUMIF(Практики!$F$3:$F$32,A206,Практики!$G$3:$G$32)+SUMIF(Практики!$F$37:$F$66,A206,Практики!$G$37:$G$66)+SUMIF(Спец.!$H$5:$H$27,A206,Спец.!$F$5:$G$27)+SUMIF(Спец.!$H$31:$H$41,A206,Спец.!$F$31:$G$41)+SUMIF(Спец.!$H$43:$H$44,A206,Спец.!$F$43:$G$44)","v":0},0]
[205,null,{"$f":"SUMIF(План!$BP$5:$BP$1392,A207,План!$BY$5:$BY$1392)+SUMIF(Практики!$F$3:$F$32,A207,Практики!$G$3:$G$32)+SUMIF(Практики!$F$37:$F$66,A207,Практики!$G$37:$G$66)+SUMIF(Спец.!$H$5:$H$27,A207,Спец.!$F$5:$G$27)+SUMIF(Спец.!$H$31:$H$41,A207,Спец.!$F$31:$G$41)+SUMIF(Спец.!$H$43:$H$44,A207,Спец.!$F$43:$G$44)","v":0},0]
[206,null,{"$f":"SUMIF(План!$BP$5:$BP$1392,A208,План!$BY$5:$BY$1392)+SUMIF(Практики!$F$3:$F$32,A208,Практики!$G$3:$G$32)+SUMIF(Практики!$F$37:$F$66,A208,Практики!$G$37:$G$66)+SUMIF(Спец.!$H$5:$H$27,A208,Спец.!$F$5:$G$27)+SUMIF(Спец.!$H$31:$H$41,A208,Спец.!$F$31:$G$41)+SUMIF(Спец.!$H$43:$H$44,A208,Спец.!$F$43:$G$44)","v":0},0]
[207,null,{"$f":"SUMIF(План!$BP$5:$BP$1392,A209,План!$BY$5:$BY$1392)+SUMIF(Практики!$F$3:$F$32,A209,Практики!$G$3:$G$32)+SUMIF(Практики!$F$37:$F$66,A209,Практики!$G$37:$G$66)+SUMIF(Спец.!$H$5:$H$27,A209,Спец.!$F$5:$G$27)+SUMIF(Спец.!$H$31:$H$41,A209,Спец.!$F$31:$G$41)+SUMIF(Спец.!$H$43:$H$44,A209,Спец.!$F$43:$G$44)","v":0},0]
[208,null,{"$f":"SUMIF(План!$BP$5:$BP$1392,A210,План!$BY$5:$BY$1392)+SUMIF(Практики!$F$3:$F$32,A210,Практики!$G$3:$G$32)+SUMIF(Практики!$F$37:$F$66,A210,Практики!$G$37:$G$66)+SUMIF(Спец.!$H$5:$H$27,A210,Спец.!$F$5:$G$27)+SUMIF(Спец.!$H$31:$H$41,A210,Спец.!$F$31:$G$41)+SUMIF(Спец.!$H$43:$H$44,A210,Спец.!$F$43:$G$44)","v":0},0]
[209,null,{"$f":"SUMIF(План!$BP$5:$BP$1392,A211,План!$BY$5:$BY$1392)+SUMIF(Практики!$F$3:$F$32,A211,Практики!$G$3:$G$32)+SUMIF(Практики!$F$37:$F$66,A211,Практики!$G$37:$G$66)+SUMIF(Спец.!$H$5:$H$27,A211,Спец.!$F$5:$G$27)+SUMIF(Спец.!$H$31:$H$41,A211,Спец.!$F$31:$G$41)+SUMIF(Спец.!$H$43:$H$44,A211,Спец.!$F$43:$G$44)","v":0},0]
[210,null,{"$f":"SUMIF(План!$BP$5:$BP$1392,A212,План!$BY$5:$BY$1392)+SUMIF(Практики!$F$3:$F$32,A212,Практики!$G$3:$G$32)+SUMIF(Практики!$F$37:$F$66,A212,Практики!$G$37:$G$66)+SUMIF(Спец.!$H$5:$H$27,A212,Спец.!$F$5:$G$27)+SUMIF(Спец.!$H$31:$H$41,A212,Спец.!$F$31:$G$41)+SUMIF(Спец.!$H$43:$H$44,A212,Спец.!$F$43:$G$44)","v":0},0]
[211,null,{"$f":"SUMIF(План!$BP$5:$BP$1392,A213,План!$BY$5:$BY$1392)+SUMIF(Практики!$F$3:$F$32,A213,Практики!$G$3:$G$32)+SUMIF(Практики!$F$37:$F$66,A213,Практики!$G$37:$G$66)+SUMIF(Спец.!$H$5:$H$27,A213,Спец.!$F$5:$G$27)+SUMIF(Спец.!$H$31:$H$41,A213,Спец.!$F$31:$G$41)+SUMIF(Спец.!$H$43:$H$44,A213,Спец.!$F$43:$G$44)","v":0},0]
[212,null,{"$f":"SUMIF(План!$BP$5:$BP$1392,A214,План!$BY$5:$BY$1392)+SUMIF(Практики!$F$3:$F$32,A214,Практики!$G$3:$G$32)+SUMIF(Практики!$F$37:$F$66,A214,Практики!$G$37:$G$66)+SUMIF(Спец.!$H$5:$H$27,A214,Спец.!$F$5:$G$27)+SUMIF(Спец.!$H$31:$H$41,A214,Спец.!$F$31:$G$41)+SUMIF(Спец.!$H$43:$H$44,A214,Спец.!$F$43:$G$44)","v":0},0]
[213,null,{"$f":"SUMIF(План!$BP$5:$BP$1392,A215,План!$BY$5:$BY$1392)+SUMIF(Практики!$F$3:$F$32,A215,Практики!$G$3:$G$32)+SUMIF(Практики!$F$37:$F$66,A215,Практики!$G$37:$G$66)+SUMIF(Спец.!$H$5:$H$27,A215,Спец.!$F$5:$G$27)+SUMIF(Спец.!$H$31:$H$41,A215,Спец.!$F$31:$G$41)+SUMIF(Спец.!$H$43:$H$44,A215,Спец.!$F$43:$G$44)","v":0},0]
[214,null,{"$f":"SUMIF(План!$BP$5:$BP$1392,A216,План!$BY$5:$BY$1392)+SUMIF(Практики!$F$3:$F$32,A216,Практики!$G$3:$G$32)+SUMIF(Практики!$F$37:$F$66,A216,Практики!$G$37:$G$66)+SUMIF(Спец.!$H$5:$H$27,A216,Спец.!$F$5:$G$27)+SUMIF(Спец.!$H$31:$H$41,A216,Спец.!$F$31:$G$41)+SUMIF(Спец.!$H$43:$H$44,A216,Спец.!$F$43:$G$44)","v":0},0]
[215,null,{"$f":"SUMIF(План!$BP$5:$BP$1392,A217,План!$BY$5:$BY$1392)+SUMIF(Практики!$F$3:$F$32,A217,Практики!$G$3:$G$32)+SUMIF(Практики!$F$37:$F$66,A217,Практики!$G$37:$G$66)+SUMIF(Спец.!$H$5:$H$27,A217,Спец.!$F$5:$G$27)+SUMIF(Спец.!$H$31:$H$41,A217,Спец.!$F$31:$G$41)+SUMIF(Спец.!$H$43:$H$44,A217,Спец.!$F$43:$G$44)","v":0},0]
[216,null,{"$f":"SUMIF(План!$BP$5:$BP$1392,A218,План!$BY$5:$BY$1392)+SUMIF(Практики!$F$3:$F$32,A218,Практики!$G$3:$G$32)+SUMIF(Практики!$F$37:$F$66,A218,Практики!$G$37:$G$66)+SUMIF(Спец.!$H$5:$H$27,A218,Спец.!$F$5:$G$27)+SUMIF(Спец.!$H$31:$H$41,A218,Спец.!$F$31:$G$41)+SUMIF(Спец.!$H$43:$H$44,A218,Спец.!$F$43:$G$44)","v":0},0]
[217,null,{"$f":"SUMIF(План!$BP$5:$BP$1392,A219,План!$BY$5:$BY$1392)+SUMIF(Практики!$F$3:$F$32,A219,Практики!$G$3:$G$32)+SUMIF(Практики!$F$37:$F$66,A219,Практики!$G$37:$G$66)+SUMIF(Спец.!$H$5:$H$27,A219,Спец.!$F$5:$G$27)+SUMIF(Спец.!$H$31:$H$41,A219,Спец.!$F$31:$G$41)+SUMIF(Спец.!$H$43:$H$44,A219,Спец.!$F$43:$G$44)","v":0},0]
[218,null,{"$f":"SUMIF(План!$BP$5:$BP$1392,A220,План!$BY$5:$BY$1392)+SUMIF(Практики!$F$3:$F$32,A220,Практики!$G$3:$G$32)+SUMIF(Практики!$F$37:$F$66,A220,Практики!$G$37:$G$66)+SUMIF(Спец.!$H$5:$H$27,A220,Спец.!$F$5:$G$27)+SUMIF(Спец.!$H$31:$H$41,A220,Спец.!$F$31:$G$41)+SUMIF(Спец.!$H$43:$H$44,A220,Спец.!$F$43:$G$44)","v":0},0]
[219,null,{"$f":"SUMIF(План!$BP$5:$BP$1392,A221,План!$BY$5:$BY$1392)+SUMIF(Практики!$F$3:$F$32,A221,Практики!$G$3:$G$32)+SUMIF(Практики!$F$37:$F$66,A221,Практики!$G$37:$G$66)+SUMIF(Спец.!$H$5:$H$27,A221,Спец.!$F$5:$G$27)+SUMIF(Спец.!$H$31:$H$41,A221,Спец.!$F$31:$G$41)+SUMIF(Спец.!$H$43:$H$44,A221,Спец.!$F$43:$G$44)","v":0},0]
[220,null,{"$f":"SUMIF(План!$BP$5:$BP$1392,A222,План!$BY$5:$BY$1392)+SUMIF(Практики!$F$3:$F$32,A222,Практики!$G$3:$G$32)+SUMIF(Практики!$F$37:$F$66,A222,Практики!$G$37:$G$66)+SUMIF(Спец.!$H$5:$H$27,A222,Спец.!$F$5:$G$27)+SUMIF(Спец.!$H$31:$H$41,A222,Спец.!$F$31:$G$41)+SUMIF(Спец.!$H$43:$H$44,A222,Спец.!$F$43:$G$44)","v":0},0]
[221,null,{"$f":"SUMIF(План!$BP$5:$BP$1392,A223,План!$BY$5:$BY$1392)+SUMIF(Практики!$F$3:$F$32,A223,Практики!$G$3:$G$32)+SUMIF(Практики!$F$37:$F$66,A223,Практики!$G$37:$G$66)+SUMIF(Спец.!$H$5:$H$27,A223,Спец.!$F$5:$G$27)+SUMIF(Спец.!$H$31:$H$41,A223,Спец.!$F$31:$G$41)+SUMIF(Спец.!$H$43:$H$44,A223,Спец.!$F$43:$G$44)","v":0},0]
[222,null,{"$f":"SUMIF(План!$BP$5:$BP$1392,A224,План!$BY$5:$BY$1392)+SUMIF(Практики!$F$3:$F$32,A224,Практики!$G$3:$G$32)+SUMIF(Практики!$F$37:$F$66,A224,Практики!$G$37:$G$66)+SUMIF(Спец.!$H$5:$H$27,A224,Спец.!$F$5:$G$27)+SUMIF(Спец.!$H$31:$H$41,A224,Спец.!$F$31:$G$41)+SUMIF(Спец.!$H$43:$H$44,A224,Спец.!$F$43:$G$44)","v":0},0]
[223,null,{"$f":"SUMIF(План!$BP$5:$BP$1392,A225,План!$BY$5:$BY$1392)+SUMIF(Практики!$F$3:$F$32,A225,Практики!$G$3:$G$32)+SUMIF(Практики!$F$37:$F$66,A225,Практики!$G$37:$G$66)+SUMIF(Спец.!$H$5:$H$27,A225,Спец.!$F$5:$G$27)+SUMIF(Спец.!$H$31:$H$41,A225,Спец.!$F$31:$G$41)+SUMIF(Спец.!$H$43:$H$44,A225,Спец.!$F$43:$G$44)","v":0},0]
[224,null,{"$f":"SUMIF(План!$BP$5:$BP$1392,A226,План!$BY$5:$BY$1392)+SUMIF(Практики!$F$3:$F$32,A226,Практики!$G$3:$G$32)+SUMIF(Практики!$F$37:$F$66,A226,Практики!$G$37:$G$66)+SUMIF(Спец.!$H$5:$H$27,A226,Спец.!$F$5:$G$27)+SUMIF(Спец.!$H$31:$H$41,A226,Спец.!$F$31:$G$41)+SUMIF(Спец.!$H$43:$H$44,A226,Спец.!$F$43:$G$44)","v":0},0]
[225,null,{"$f":"SUMIF(План!$BP$5:$BP$1392,A227,План!$BY$5:$BY$1392)+SUMIF(Практики!$F$3:$F$32,A227,Практики!$G$3:$G$32)+SUMIF(Практики!$F$37:$F$66,A227,Практики!$G$37:$G$66)+SUMIF(Спец.!$H$5:$H$27,A227,Спец.!$F$5:$G$27)+SUMIF(Спец.!$H$31:$H$41,A227,Спец.!$F$31:$G$41)+SUMIF(Спец.!$H$43:$H$44,A227,Спец.!$F$43:$G$44)","v":0},0]
[226,null,{"$f":"SUMIF(План!$BP$5:$BP$1392,A228,План!$BY$5:$BY$1392)+SUMIF(Практики!$F$3:$F$32,A228,Практики!$G$3:$G$32)+SUMIF(Практики!$F$37:$F$66,A228,Практики!$G$37:$G$66)+SUMIF(Спец.!$H$5:$H$27,A228,Спец.!$F$5:$G$27)+SUMIF(Спец.!$H$31:$H$41,A228,Спец.!$F$31:$G$41)+SUMIF(Спец.!$H$43:$H$44,A228,Спец.!$F$43:$G$44)","v":0},0]
[227,null,{"$f":"SUMIF(План!$BP$5:$BP$1392,A229,План!$BY$5:$BY$1392)+SUMIF(Практики!$F$3:$F$32,A229,Практики!$G$3:$G$32)+SUMIF(Практики!$F$37:$F$66,A229,Практики!$G$37:$G$66)+SUMIF(Спец.!$H$5:$H$27,A229,Спец.!$F$5:$G$27)+SUMIF(Спец.!$H$31:$H$41,A229,Спец.!$F$31:$G$41)+SUMIF(Спец.!$H$43:$H$44,A229,Спец.!$F$43:$G$44)","v":0},0]
[228,null,{"$f":"SUMIF(План!$BP$5:$BP$1392,A230,План!$BY$5:$BY$1392)+SUMIF(Практики!$F$3:$F$32,A230,Практики!$G$3:$G$32)+SUMIF(Практики!$F$37:$F$66,A230,Практики!$G$37:$G$66)+SUMIF(Спец.!$H$5:$H$27,A230,Спец.!$F$5:$G$27)+SUMIF(Спец.!$H$31:$H$41,A230,Спец.!$F$31:$G$41)+SUMIF(Спец.!$H$43:$H$44,A230,Спец.!$F$43:$G$44)","v":0},0]
[229,null,{"$f":"SUMIF(План!$BP$5:$BP$1392,A231,План!$BY$5:$BY$1392)+SUMIF(Практики!$F$3:$F$32,A231,Практики!$G$3:$G$32)+SUMIF(Практики!$F$37:$F$66,A231,Практики!$G$37:$G$66)+SUMIF(Спец.!$H$5:$H$27,A231,Спец.!$F$5:$G$27)+SUMIF(Спец.!$H$31:$H$41,A231,Спец.!$F$31:$G$41)+SUMIF(Спец.!$H$43:$H$44,A231,Спец.!$F$43:$G$44)","v":0},0]
[230,null,{"$f":"SUMIF(План!$BP$5:$BP$1392,A232,План!$BY$5:$BY$1392)+SUMIF(Практики!$F$3:$F$32,A232,Практики!$G$3:$G$32)+SUMIF(Практики!$F$37:$F$66,A232,Практики!$G$37:$G$66)+SUMIF(Спец.!$H$5:$H$27,A232,Спец.!$F$5:$G$27)+SUMIF(Спец.!$H$31:$H$41,A232,Спец.!$F$31:$G$41)+SUMIF(Спец.!$H$43:$H$44,A232,Спец.!$F$43:$G$44)","v":0},0]
[231,null,{"$f":"SUMIF(План!$BP$5:$BP$1392,A233,План!$BY$5:$BY$1392)+SUMIF(Практики!$F$3:$F$32,A233,Практики!$G$3:$G$32)+SUMIF(Практики!$F$37:$F$66,A233,Практики!$G$37:$G$66)+SUMIF(Спец.!$H$5:$H$27,A233,Спец.!$F$5:$G$27)+SUMIF(Спец.!$H$31:$H$41,A233,Спец.!$F$31:$G$41)+SUMIF(Спец.!$H$43:$H$44,A233,Спец.!$F$43:$G$44)","v":0},0]
[232,null,{"$f":"SUMIF(План!$BP$5:$BP$1392,A234,План!$BY$5:$BY$1392)+SUMIF(Практики!$F$3:$F$32,A234,Практики!$G$3:$G$32)+SUMIF(Практики!$F$37:$F$66,A234,Практики!$G$37:$G$66)+SUMIF(Спец.!$H$5:$H$27,A234,Спец.!$F$5:$G$27)+SUMIF(Спец.!$H$31:$H$41,A234,Спец.!$F$31:$G$41)+SUMIF(Спец.!$H$43:$H$44,A234,Спец.!$F$43:$G$44)","v":0},0]
[233,null,{"$f":"SUMIF(План!$BP$5:$BP$1392,A235,План!$BY$5:$BY$1392)+SUMIF(Практики!$F$3:$F$32,A235,Практики!$G$3:$G$32)+SUMIF(Практики!$F$37:$F$66,A235,Практики!$G$37:$G$66)+SUMIF(Спец.!$H$5:$H$27,A235,Спец.!$F$5:$G$27)+SUMIF(Спец.!$H$31:$H$41,A235,Спец.!$F$31:$G$41)+SUMIF(Спец.!$H$43:$H$44,A235,Спец.!$F$43:$G$44)","v":0},0]
[234,null,{"$f":"SUMIF(План!$BP$5:$BP$1392,A236,План!$BY$5:$BY$1392)+SUMIF(Практики!$F$3:$F$32,A236,Практики!$G$3:$G$32)+SUMIF(Практики!$F$37:$F$66,A236,Практики!$G$37:$G$66)+SUMIF(Спец.!$H$5:$H$27,A236,Спец.!$F$5:$G$27)+SUMIF(Спец.!$H$31:$H$41,A236,Спец.!$F$31:$G$41)+SUMIF(Спец.!$H$43:$H$44,A236,Спец.!$F$43:$G$44)","v":0},0]
[235,null,{"$f":"SUMIF(План!$BP$5:$BP$1392,A237,План!$BY$5:$BY$1392)+SUMIF(Практики!$F$3:$F$32,A237,Практики!$G$3:$G$32)+SUMIF(Практики!$F$37:$F$66,A237,Практики!$G$37:$G$66)+SUMIF(Спец.!$H$5:$H$27,A237,Спец.!$F$5:$G$27)+SUMIF(Спец.!$H$31:$H$41,A237,Спец.!$F$31:$G$41)+SUMIF(Спец.!$H$43:$H$44,A237,Спец.!$F$43:$G$44)","v":0},0]
[236,null,{"$f":"SUMIF(План!$BP$5:$BP$1392,A238,План!$BY$5:$BY$1392)+SUMIF(Практики!$F$3:$F$32,A238,Практики!$G$3:$G$32)+SUMIF(Практики!$F$37:$F$66,A238,Практики!$G$37:$G$66)+SUMIF(Спец.!$H$5:$H$27,A238,Спец.!$F$5:$G$27)+SUMIF(Спец.!$H$31:$H$41,A238,Спец.!$F$31:$G$41)+SUMIF(Спец.!$H$43:$H$44,A238,Спец.!$F$43:$G$44)","v":0},0]
[237,null,{"$f":"SUMIF(План!$BP$5:$BP$1392,A239,План!$BY$5:$BY$1392)+SUMIF(Практики!$F$3:$F$32,A239,Практики!$G$3:$G$32)+SUMIF(Практики!$F$37:$F$66,A239,Практики!$G$37:$G$66)+SUMIF(Спец.!$H$5:$H$27,A239,Спец.!$F$5:$G$27)+SUMIF(Спец.!$H$31:$H$41,A239,Спец.!$F$31:$G$41)+SUMIF(Спец.!$H$43:$H$44,A239,Спец.!$F$43:$G$44)","v":0},0]
[238,null,{"$f":"SUMIF(План!$BP$5:$BP$1392,A240,План!$BY$5:$BY$1392)+SUMIF(Практики!$F$3:$F$32,A240,Практики!$G$3:$G$32)+SUMIF(Практики!$F$37:$F$66,A240,Практики!$G$37:$G$66)+SUMIF(Спец.!$H$5:$H$27,A240,Спец.!$F$5:$G$27)+SUMIF(Спец.!$H$31:$H$41,A240,Спец.!$F$31:$G$41)+SUMIF(Спец.!$H$43:$H$44,A240,Спец.!$F$43:$G$44)","v":0},0]
[239,null,{"$f":"SUMIF(План!$BP$5:$BP$1392,A241,План!$BY$5:$BY$1392)+SUMIF(Практики!$F$3:$F$32,A241,Практики!$G$3:$G$32)+SUMIF(Практики!$F$37:$F$66,A241,Практики!$G$37:$G$66)+SUMIF(Спец.!$H$5:$H$27,A241,Спец.!$F$5:$G$27)+SUMIF(Спец.!$H$31:$H$41,A241,Спец.!$F$31:$G$41)+SUMIF(Спец.!$H$43:$H$44,A241,Спец.!$F$43:$G$44)","v":0},0]
[240,null,{"$f":"SUMIF(План!$BP$5:$BP$1392,A242,План!$BY$5:$BY$1392)+SUMIF(Практики!$F$3:$F$32,A242,Практики!$G$3:$G$32)+SUMIF(Практики!$F$37:$F$66,A242,Практики!$G$37:$G$66)+SUMIF(Спец.!$H$5:$H$27,A242,Спец.!$F$5:$G$27)+SUMIF(Спец.!$H$31:$H$41,A242,Спец.!$F$31:$G$41)+SUMIF(Спец.!$H$43:$H$44,A242,Спец.!$F$43:$G$44)","v":0},0]
[241,null,{"$f":"SUMIF(План!$BP$5:$BP$1392,A243,План!$BY$5:$BY$1392)+SUMIF(Практики!$F$3:$F$32,A243,Практики!$G$3:$G$32)+SUMIF(Практики!$F$37:$F$66,A243,Практики!$G$37:$G$66)+SUMIF(Спец.!$H$5:$H$27,A243,Спец.!$F$5:$G$27)+SUMIF(Спец.!$H$31:$H$41,A243,Спец.!$F$31:$G$41)+SUMIF(Спец.!$H$43:$H$44,A243,Спец.!$F$43:$G$44)","v":0},0]
[242,null,{"$f":"SUMIF(План!$BP$5:$BP$1392,A244,План!$BY$5:$BY$1392)+SUMIF(Практики!$F$3:$F$32,A244,Практики!$G$3:$G$32)+SUMIF(Практики!$F$37:$F$66,A244,Практики!$G$37:$G$66)+SUMIF(Спец.!$H$5:$H$27,A244,Спец.!$F$5:$G$27)+SUMIF(Спец.!$H$31:$H$41,A244,Спец.!$F$31:$G$41)+SUMIF(Спец.!$H$43:$H$44,A244,Спец.!$F$43:$G$44)","v":0},0]
[243,null,{"$f":"SUMIF(План!$BP$5:$BP$1392,A245,План!$BY$5:$BY$1392)+SUMIF(Практики!$F$3:$F$32,A245,Практики!$G$3:$G$32)+SUMIF(Практики!$F$37:$F$66,A245,Практики!$G$37:$G$66)+SUMIF(Спец.!$H$5:$H$27,A245,Спец.!$F$5:$G$27)+SUMIF(Спец.!$H$31:$H$41,A245,Спец.!$F$31:$G$41)+SUMIF(Спец.!$H$43:$H$44,A245,Спец.!$F$43:$G$44)","v":0},0]
[244,null,{"$f":"SUMIF(План!$BP$5:$BP$1392,A246,План!$BY$5:$BY$1392)+SUMIF(Практики!$F$3:$F$32,A246,Практики!$G$3:$G$32)+SUMIF(Практики!$F$37:$F$66,A246,Практики!$G$37:$G$66)+SUMIF(Спец.!$H$5:$H$27,A246,Спец.!$F$5:$G$27)+SUMIF(Спец.!$H$31:$H$41,A246,Спец.!$F$31:$G$41)+SUMIF(Спец.!$H$43:$H$44,A246,Спец.!$F$43:$G$44)","v":0},0]
[245,null,{"$f":"SUMIF(План!$BP$5:$BP$1392,A247,План!$BY$5:$BY$1392)+SUMIF(Практики!$F$3:$F$32,A247,Практики!$G$3:$G$32)+SUMIF(Практики!$F$37:$F$66,A247,Практики!$G$37:$G$66)+SUMIF(Спец.!$H$5:$H$27,A247,Спец.!$F$5:$G$27)+SUMIF(Спец.!$H$31:$H$41,A247,Спец.!$F$31:$G$41)+SUMIF(Спец.!$H$43:$H$44,A247,Спец.!$F$43:$G$44)","v":0},0]
[246,null,{"$f":"SUMIF(План!$BP$5:$BP$1392,A248,План!$BY$5:$BY$1392)+SUMIF(Практики!$F$3:$F$32,A248,Практики!$G$3:$G$32)+SUMIF(Практики!$F$37:$F$66,A248,Практики!$G$37:$G$66)+SUMIF(Спец.!$H$5:$H$27,A248,Спец.!$F$5:$G$27)+SUMIF(Спец.!$H$31:$H$41,A248,Спец.!$F$31:$G$41)+SUMIF(Спец.!$H$43:$H$44,A248,Спец.!$F$43:$G$44)","v":0},0]
[247,null,{"$f":"SUMIF(План!$BP$5:$BP$1392,A249,План!$BY$5:$BY$1392)+SUMIF(Практики!$F$3:$F$32,A249,Практики!$G$3:$G$32)+SUMIF(Практики!$F$37:$F$66,A249,Практики!$G$37:$G$66)+SUMIF(Спец.!$H$5:$H$27,A249,Спец.!$F$5:$G$27)+SUMIF(Спец.!$H$31:$H$41,A249,Спец.!$F$31:$G$41)+SUMIF(Спец.!$H$43:$H$44,A249,Спец.!$F$43:$G$44)","v":0},0]
[248,null,{"$f":"SUMIF(План!$BP$5:$BP$1392,A250,План!$BY$5:$BY$1392)+SUMIF(Практики!$F$3:$F$32,A250,Практики!$G$3:$G$32)+SUMIF(Практики!$F$37:$F$66,A250,Практики!$G$37:$G$66)+SUMIF(Спец.!$H$5:$H$27,A250,Спец.!$F$5:$G$27)+SUMIF(Спец.!$H$31:$H$41,A250,Спец.!$F$31:$G$41)+SUMIF(Спец.!$H$43:$H$44,A250,Спец.!$F$43:$G$44)","v":0},0]
[249,null,{"$f":"SUMIF(План!$BP$5:$BP$1392,A251,План!$BY$5:$BY$1392)+SUMIF(Практики!$F$3:$F$32,A251,Практики!$G$3:$G$32)+SUMIF(Практики!$F$37:$F$66,A251,Практики!$G$37:$G$66)+SUMIF(Спец.!$H$5:$H$27,A251,Спец.!$F$5:$G$27)+SUMIF(Спец.!$H$31:$H$41,A251,Спец.!$F$31:$G$41)+SUMIF(Спец.!$H$43:$H$44,A251,Спец.!$F$43:$G$44)","v":0},0]
[250,null,{"$f":"SUMIF(План!$BP$5:$BP$1392,A252,План!$BY$5:$BY$1392)+SUMIF(Практики!$F$3:$F$32,A252,Практики!$G$3:$G$32)+SUMIF(Практики!$F$37:$F$66,A252,Практики!$G$37:$G$66)+SUMIF(Спец.!$H$5:$H$27,A252,Спец.!$F$5:$G$27)+SUMIF(Спец.!$H$31:$H$41,A252,Спец.!$F$31:$G$41)+SUMIF(Спец.!$H$43:$H$44,A252,Спец.!$F$43:$G$44)","v":0},0]
[251,null,{"$f":"SUMIF(План!$BP$5:$BP$1392,A253,План!$BY$5:$BY$1392)+SUMIF(Практики!$F$3:$F$32,A253,Практики!$G$3:$G$32)+SUMIF(Практики!$F$37:$F$66,A253,Практики!$G$37:$G$66)+SUMIF(Спец.!$H$5:$H$27,A253,Спец.!$F$5:$G$27)+SUMIF(Спец.!$H$31:$H$41,A253,Спец.!$F$31:$G$41)+SUMIF(Спец.!$H$43:$H$44,A253,Спец.!$F$43:$G$44)","v":0},0]
[252,null,{"$f":"SUMIF(План!$BP$5:$BP$1392,A254,План!$BY$5:$BY$1392)+SUMIF(Практики!$F$3:$F$32,A254,Практики!$G$3:$G$32)+SUMIF(Практики!$F$37:$F$66,A254,Практики!$G$37:$G$66)+SUMIF(Спец.!$H$5:$H$27,A254,Спец.!$F$5:$G$27)+SUMIF(Спец.!$H$31:$H$41,A254,Спец.!$F$31:$G$41)+SUMIF(Спец.!$H$43:$H$44,A254,Спец.!$F$43:$G$44)","v":0},0]
[253,null,{"$f":"SUMIF(План!$BP$5:$BP$1392,A255,План!$BY$5:$BY$1392)+SUMIF(Практики!$F$3:$F$32,A255,Практики!$G$3:$G$32)+SUMIF(Практики!$F$37:$F$66,A255,Практики!$G$37:$G$66)+SUMIF(Спец.!$H$5:$H$27,A255,Спец.!$F$5:$G$27)+SUMIF(Спец.!$H$31:$H$41,A255,Спец.!$F$31:$G$41)+SUMIF(Спец.!$H$43:$H$44,A255,Спец.!$F$43:$G$44)","v":0},0]
[254,null,{"$f":"SUMIF(План!$BP$5:$BP$1392,A256,План!$BY$5:$BY$1392)+SUMIF(Практики!$F$3:$F$32,A256,Практики!$G$3:$G$32)+SUMIF(Практики!$F$37:$F$66,A256,Практики!$G$37:$G$66)+SUMIF(Спец.!$H$5:$H$27,A256,Спец.!$F$5:$G$27)+SUMIF(Спец.!$H$31:$H$41,A256,Спец.!$F$31:$G$41)+SUMIF(Спец.!$H$43:$H$44,A256,Спец.!$F$43:$G$44)","v":0},0]
[255,null,{"$f":"SUMIF(План!$BP$5:$BP$1392,A257,План!$BY$5:$BY$1392)+SUMIF(Практики!$F$3:$F$32,A257,Практики!$G$3:$G$32)+SUMIF(Практики!$F$37:$F$66,A257,Практики!$G$37:$G$66)+SUMIF(Спец.!$H$5:$H$27,A257,Спец.!$F$5:$G$27)+SUMIF(Спец.!$H$31:$H$41,A257,Спец.!$F$31:$G$41)+SUMIF(Спец.!$H$43:$H$44,A257,Спец.!$F$43:$G$44)","v":0},0]
[256,null,{"$f":"SUMIF(План!$BP$5:$BP$1392,A258,План!$BY$5:$BY$1392)+SUMIF(Практики!$F$3:$F$32,A258,Практики!$G$3:$G$32)+SUMIF(Практики!$F$37:$F$66,A258,Практики!$G$37:$G$66)+SUMIF(Спец.!$H$5:$H$27,A258,Спец.!$F$5:$G$27)+SUMIF(Спец.!$H$31:$H$41,A258,Спец.!$F$31:$G$41)+SUMIF(Спец.!$H$43:$H$44,A258,Спец.!$F$43:$G$44)","v":0},0]
[257,null,{"$f":"SUMIF(План!$BP$5:$BP$1392,A259,План!$BY$5:$BY$1392)+SUMIF(Практики!$F$3:$F$32,A259,Практики!$G$3:$G$32)+SUMIF(Практики!$F$37:$F$66,A259,Практики!$G$37:$G$66)+SUMIF(Спец.!$H$5:$H$27,A259,Спец.!$F$5:$G$27)+SUMIF(Спец.!$H$31:$H$41,A259,Спец.!$F$31:$G$41)+SUMIF(Спец.!$H$43:$H$44,A259,Спец.!$F$43:$G$44)","v":0},0]
[258,null,{"$f":"SUMIF(План!$BP$5:$BP$1392,A260,План!$BY$5:$BY$1392)+SUMIF(Практики!$F$3:$F$32,A260,Практики!$G$3:$G$32)+SUMIF(Практики!$F$37:$F$66,A260,Практики!$G$37:$G$66)+SUMIF(Спец.!$H$5:$H$27,A260,Спец.!$F$5:$G$27)+SUMIF(Спец.!$H$31:$H$41,A260,Спец.!$F$31:$G$41)+SUMIF(Спец.!$H$43:$H$44,A260,Спец.!$F$43:$G$44)","v":0},{"$f":"IF($C$1>0,C260/$C$1,0)","v":0}]
[259,null,{"$f":"SUMIF(План!$BP$5:$BP$1392,A261,План!$BY$5:$BY$1392)+SUMIF(Практики!$F$3:$F$32,A261,Практики!$G$3:$G$32)+SUMIF(Практики!$F$37:$F$66,A261,Практики!$G$37:$G$66)+SUMIF(Спец.!$H$5:$H$27,A261,Спец.!$F$5:$G$27)+SUMIF(Спец.!$H$31:$H$41,A261,Спец.!$F$31:$G$41)+SUMIF(Спец.!$H$43:$H$44,A261,Спец.!$F$43:$G$44)","v":0},0]
[260,null,{"$f":"SUMIF(План!$BP$5:$BP$1392,A262,План!$BY$5:$BY$1392)+SUMIF(Практики!$F$3:$F$32,A262,Практики!$G$3:$G$32)+SUMIF(Практики!$F$37:$F$66,A262,Практики!$G$37:$G$66)+SUMIF(Спец.!$H$5:$H$27,A262,Спец.!$F$5:$G$27)+SUMIF(Спец.!$H$31:$H$41,A262,Спец.!$F$31:$G$41)+SUMIF(Спец.!$H$43:$H$44,A262,Спец.!$F$43:$G$44)","v":0},0]
[261,null,{"$f":"SUMIF(План!$BP$5:$BP$1392,A263,План!$BY$5:$BY$1392)+SUMIF(Практики!$F$3:$F$32,A263,Практики!$G$3:$G$32)+SUMIF(Практики!$F$37:$F$66,A263,Практики!$G$37:$G$66)+SUMIF(Спец.!$H$5:$H$27,A263,Спец.!$F$5:$G$27)+SUMIF(Спец.!$H$31:$H$41,A263,Спец.!$F$31:$G$41)+SUMIF(Спец.!$H$43:$H$44,A263,Спец.!$F$43:$G$44)","v":0},0]
[262,null,{"$f":"SUMIF(План!$BP$5:$BP$1392,A264,План!$BY$5:$BY$1392)+SUMIF(Практики!$F$3:$F$32,A264,Практики!$G$3:$G$32)+SUMIF(Практики!$F$37:$F$66,A264,Практики!$G$37:$G$66)+SUMIF(Спец.!$H$5:$H$27,A264,Спец.!$F$5:$G$27)+SUMIF(Спец.!$H$31:$H$41,A264,Спец.!$F$31:$G$41)+SUMIF(Спец.!$H$43:$H$44,A264,Спец.!$F$43:$G$44)","v":0},0]
[263,null,{"$f":"SUMIF(План!$BP$5:$BP$1392,A265,План!$BY$5:$BY$1392)+SUMIF(Практики!$F$3:$F$32,A265,Практики!$G$3:$G$32)+SUMIF(Практики!$F$37:$F$66,A265,Практики!$G$37:$G$66)+SUMIF(Спец.!$H$5:$H$27,A265,Спец.!$F$5:$G$27)+SUMIF(Спец.!$H$31:$H$41,A265,Спец.!$F$31:$G$41)+SUMIF(Спец.!$H$43:$H$44,A265,Спец.!$F$43:$G$44)","v":0},0]
[264,null,{"$f":"SUMIF(План!$BP$5:$BP$1392,A266,План!$BY$5:$BY$1392)+SUMIF(Практики!$F$3:$F$32,A266,Практики!$G$3:$G$32)+SUMIF(Практики!$F$37:$F$66,A266,Практики!$G$37:$G$66)+SUMIF(Спец.!$H$5:$H$27,A266,Спец.!$F$5:$G$27)+SUMIF(Спец.!$H$31:$H$41,A266,Спец.!$F$31:$G$41)+SUMIF(Спец.!$H$43:$H$44,A266,Спец.!$F$43:$G$44)","v":0},0]
[265,null,{"$f":"SUMIF(План!$BP$5:$BP$1392,A267,План!$BY$5:$BY$1392)+SUMIF(Практики!$F$3:$F$32,A267,Практики!$G$3:$G$32)+SUMIF(Практики!$F$37:$F$66,A267,Практики!$G$37:$G$66)+SUMIF(Спец.!$H$5:$H$27,A267,Спец.!$F$5:$G$27)+SUMIF(Спец.!$H$31:$H$41,A267,Спец.!$F$31:$G$41)+SUMIF(Спец.!$H$43:$H$44,A267,Спец.!$F$43:$G$44)","v":0},0]
[266,null,{"$f":"SUMIF(План!$BP$5:$BP$1392,A268,План!$BY$5:$BY$1392)+SUMIF(Практики!$F$3:$F$32,A268,Практики!$G$3:$G$32)+SUMIF(Практики!$F$37:$F$66,A268,Практики!$G$37:$G$66)+SUMIF(Спец.!$H$5:$H$27,A268,Спец.!$F$5:$G$27)+SUMIF(Спец.!$H$31:$H$41,A268,Спец.!$F$31:$G$41)+SUMIF(Спец.!$H$43:$H$44,A268,Спец.!$F$43:$G$44)","v":0},0]
[267,null,{"$f":"SUMIF(План!$BP$5:$BP$1392,A269,План!$BY$5:$BY$1392)+SUMIF(Практики!$F$3:$F$32,A269,Практики!$G$3:$G$32)+SUMIF(Практики!$F$37:$F$66,A269,Практики!$G$37:$G$66)+SUMIF(Спец.!$H$5:$H$27,A269,Спец.!$F$5:$G$27)+SUMIF(Спец.!$H$31:$H$41,A269,Спец.!$F$31:$G$41)+SUMIF(Спец.!$H$43:$H$44,A269,Спец.!$F$43:$G$44)","v":0},0]
[268,null,{"$f":"SUMIF(План!$BP$5:$BP$1392,A270,План!$BY$5:$BY$1392)+SUMIF(Практики!$F$3:$F$32,A270,Практики!$G$3:$G$32)+SUMIF(Практики!$F$37:$F$66,A270,Практики!$G$37:$G$66)+SUMIF(Спец.!$H$5:$H$27,A270,Спец.!$F$5:$G$27)+SUMIF(Спец.!$H$31:$H$41,A270,Спец.!$F$31:$G$41)+SUMIF(Спец.!$H$43:$H$44,A270,Спец.!$F$43:$G$44)","v":0},0]
[269,null,{"$f":"SUMIF(План!$BP$5:$BP$1392,A271,План!$BY$5:$BY$1392)+SUMIF(Практики!$F$3:$F$32,A271,Практики!$G$3:$G$32)+SUMIF(Практики!$F$37:$F$66,A271,Практики!$G$37:$G$66)+SUMIF(Спец.!$H$5:$H$27,A271,Спец.!$F$5:$G$27)+SUMIF(Спец.!$H$31:$H$41,A271,Спец.!$F$31:$G$41)+SUMIF(Спец.!$H$43:$H$44,A271,Спец.!$F$43:$G$44)","v":0},0]
[270,null,{"$f":"SUMIF(План!$BP$5:$BP$1392,A272,План!$BY$5:$BY$1392)+SUMIF(Практики!$F$3:$F$32,A272,Практики!$G$3:$G$32)+SUMIF(Практики!$F$37:$F$66,A272,Практики!$G$37:$G$66)+SUMIF(Спец.!$H$5:$H$27,A272,Спец.!$F$5:$G$27)+SUMIF(Спец.!$H$31:$H$41,A272,Спец.!$F$31:$G$41)+SUMIF(Спец.!$H$43:$H$44,A272,Спец.!$F$43:$G$44)","v":0},0]
[271,null,{"$f":"SUMIF(План!$BP$5:$BP$1392,A273,План!$BY$5:$BY$1392)+SUMIF(Практики!$F$3:$F$32,A273,Практики!$G$3:$G$32)+SUMIF(Практики!$F$37:$F$66,A273,Практики!$G$37:$G$66)+SUMIF(Спец.!$H$5:$H$27,A273,Спец.!$F$5:$G$27)+SUMIF(Спец.!$H$31:$H$41,A273,Спец.!$F$31:$G$41)+SUMIF(Спец.!$H$43:$H$44,A273,Спец.!$F$43:$G$44)","v":0},0]
[272,null,{"$f":"SUMIF(План!$BP$5:$BP$1392,A274,План!$BY$5:$BY$1392)+SUMIF(Практики!$F$3:$F$32,A274,Практики!$G$3:$G$32)+SUMIF(Практики!$F$37:$F$66,A274,Практики!$G$37:$G$66)+SUMIF(Спец.!$H$5:$H$27,A274,Спец.!$F$5:$G$27)+SUMIF(Спец.!$H$31:$H$41,A274,Спец.!$F$31:$G$41)+SUMIF(Спец.!$H$43:$H$44,A274,Спец.!$F$43:$G$44)","v":0},0]
[273,null,{"$f":"SUMIF(План!$BP$5:$BP$1392,A275,План!$BY$5:$BY$1392)+SUMIF(Практики!$F$3:$F$32,A275,Практики!$G$3:$G$32)+SUMIF(Практики!$F$37:$F$66,A275,Практики!$G$37:$G$66)+SUMIF(Спец.!$H$5:$H$27,A275,Спец.!$F$5:$G$27)+SUMIF(Спец.!$H$31:$H$41,A275,Спец.!$F$31:$G$41)+SUMIF(Спец.!$H$43:$H$44,A275,Спец.!$F$43:$G$44)","v":0},0]
[274,null,{"$f":"SUMIF(План!$BP$5:$BP$1392,A276,План!$BY$5:$BY$1392)+SUMIF(Практики!$F$3:$F$32,A276,Практики!$G$3:$G$32)+SUMIF(Практики!$F$37:$F$66,A276,Практики!$G$37:$G$66)+SUMIF(Спец.!$H$5:$H$27,A276,Спец.!$F$5:$G$27)+SUMIF(Спец.!$H$31:$H$41,A276,Спец.!$F$31:$G$41)+SUMIF(Спец.!$H$43:$H$44,A276,Спец.!$F$43:$G$44)","v":0},0]
[275,null,{"$f":"SUMIF(План!$BP$5:$BP$1392,A277,План!$BY$5:$BY$1392)+SUMIF(Практики!$F$3:$F$32,A277,Практики!$G$3:$G$32)+SUMIF(Практики!$F$37:$F$66,A277,Практики!$G$37:$G$66)+SUMIF(Спец.!$H$5:$H$27,A277,Спец.!$F$5:$G$27)+SUMIF(Спец.!$H$31:$H$41,A277,Спец.!$F$31:$G$41)+SUMIF(Спец.!$H$43:$H$44,A277,Спец.!$F$43:$G$44)","v":0},0]
[276,null,{"$f":"SUMIF(План!$BP$5:$BP$1392,A278,План!$BY$5:$BY$1392)+SUMIF(Практики!$F$3:$F$32,A278,Практики!$G$3:$G$32)+SUMIF(Практики!$F$37:$F$66,A278,Практики!$G$37:$G$66)+SUMIF(Спец.!$H$5:$H$27,A278,Спец.!$F$5:$G$27)+SUMIF(Спец.!$H$31:$H$41,A278,Спец.!$F$31:$G$41)+SUMIF(Спец.!$H$43:$H$44,A278,Спец.!$F$43:$G$44)","v":0},0]
[277,null,{"$f":"SUMIF(План!$BP$5:$BP$1392,A279,План!$BY$5:$BY$1392)+SUMIF(Практики!$F$3:$F$32,A279,Практики!$G$3:$G$32)+SUMIF(Практики!$F$37:$F$66,A279,Практики!$G$37:$G$66)+SUMIF(Спец.!$H$5:$H$27,A279,Спец.!$F$5:$G$27)+SUMIF(Спец.!$H$31:$H$41,A279,Спец.!$F$31:$G$41)+SUMIF(Спец.!$H$43:$H$44,A279,Спец.!$F$43:$G$44)","v":0},0]
[278,null,{"$f":"SUMIF(План!$BP$5:$BP$1392,A280,План!$BY$5:$BY$1392)+SUMIF(Практики!$F$3:$F$32,A280,Практики!$G$3:$G$32)+SUMIF(Практики!$F$37:$F$66,A280,Практики!$G$37:$G$66)+SUMIF(Спец.!$H$5:$H$27,A280,Спец.!$F$5:$G$27)+SUMIF(Спец.!$H$31:$H$41,A280,Спец.!$F$31:$G$41)+SUMIF(Спец.!$H$43:$H$44,A280,Спец.!$F$43:$G$44)","v":0},0]
[279,null,{"$f":"SUMIF(План!$BP$5:$BP$1392,A281,План!$BY$5:$BY$1392)+SUMIF(Практики!$F$3:$F$32,A281,Практики!$G$3:$G$32)+SUMIF(Практики!$F$37:$F$66,A281,Практики!$G$37:$G$66)+SUMIF(Спец.!$H$5:$H$27,A281,Спец.!$F$5:$G$27)+SUMIF(Спец.!$H$31:$H$41,A281,Спец.!$F$31:$G$41)+SUMIF(Спец.!$H$43:$H$44,A281,Спец.!$F$43:$G$44)","v":0},0]
[280,null,{"$f":"SUMIF(План!$BP$5:$BP$1392,A282,План!$BY$5:$BY$1392)+SUMIF(Практики!$F$3:$F$32,A282,Практики!$G$3:$G$32)+SUMIF(Практики!$F$37:$F$66,A282,Практики!$G$37:$G$66)+SUMIF(Спец.!$H$5:$H$27,A282,Спец.!$F$5:$G$27)+SUMIF(Спец.!$H$31:$H$41,A282,Спец.!$F$31:$G$41)+SUMIF(Спец.!$H$43:$H$44,A282,Спец.!$F$43:$G$44)","v":0},0]
[281,null,{"$f":"SUMIF(План!$BP$5:$BP$1392,A283,План!$BY$5:$BY$1392)+SUMIF(Практики!$F$3:$F$32,A283,Практики!$G$3:$G$32)+SUMIF(Практики!$F$37:$F$66,A283,Практики!$G$37:$G$66)+SUMIF(Спец.!$H$5:$H$27,A283,Спец.!$F$5:$G$27)+SUMIF(Спец.!$H$31:$H$41,A283,Спец.!$F$31:$G$41)+SUMIF(Спец.!$H$43:$H$44,A283,Спец.!$F$43:$G$44)","v":0},0]
[282,null,{"$f":"SUMIF(План!$BP$5:$BP$1392,A284,План!$BY$5:$BY$1392)+SUMIF(Практики!$F$3:$F$32,A284,Практики!$G$3:$G$32)+SUMIF(Практики!$F$37:$F$66,A284,Практики!$G$37:$G$66)+SUMIF(Спец.!$H$5:$H$27,A284,Спец.!$F$5:$G$27)+SUMIF(Спец.!$H$31:$H$41,A284,Спец.!$F$31:$G$41)+SUMIF(Спец.!$H$43:$H$44,A284,Спец.!$F$43:$G$44)","v":0},0]
[283,null,{"$f":"SUMIF(План!$BP$5:$BP$1392,A285,План!$BY$5:$BY$1392)+SUMIF(Практики!$F$3:$F$32,A285,Практики!$G$3:$G$32)+SUMIF(Практики!$F$37:$F$66,A285,Практики!$G$37:$G$66)+SUMIF(Спец.!$H$5:$H$27,A285,Спец.!$F$5:$G$27)+SUMIF(Спец.!$H$31:$H$41,A285,Спец.!$F$31:$G$41)+SUMIF(Спец.!$H$43:$H$44,A285,Спец.!$F$43:$G$44)","v":0},0]
[284,null,{"$f":"SUMIF(План!$BP$5:$BP$1392,A286,План!$BY$5:$BY$1392)+SUMIF(Практики!$F$3:$F$32,A286,Практики!$G$3:$G$32)+SUMIF(Практики!$F$37:$F$66,A286,Практики!$G$37:$G$66)+SUMIF(Спец.!$H$5:$H$27,A286,Спец.!$F$5:$G$27)+SUMIF(Спец.!$H$31:$H$41,A286,Спец.!$F$31:$G$41)+SUMIF(Спец.!$H$43:$H$44,A286,Спец.!$F$43:$G$44)","v":0},0]
[285,null,{"$f":"SUMIF(План!$BP$5:$BP$1392,A287,План!$BY$5:$BY$1392)+SUMIF(Практики!$F$3:$F$32,A287,Практики!$G$3:$G$32)+SUMIF(Практики!$F$37:$F$66,A287,Практики!$G$37:$G$66)+SUMIF(Спец.!$H$5:$H$27,A287,Спец.!$F$5:$G$27)+SUMIF(Спец.!$H$31:$H$41,A287,Спец.!$F$31:$G$41)+SUMIF(Спец.!$H$43:$H$44,A287,Спец.!$F$43:$G$44)","v":0},0]
[286,null,{"$f":"SUMIF(План!$BP$5:$BP$1392,A288,План!$BY$5:$BY$1392)+SUMIF(Практики!$F$3:$F$32,A288,Практики!$G$3:$G$32)+SUMIF(Практики!$F$37:$F$66,A288,Практики!$G$37:$G$66)+SUMIF(Спец.!$H$5:$H$27,A288,Спец.!$F$5:$G$27)+SUMIF(Спец.!$H$31:$H$41,A288,Спец.!$F$31:$G$41)+SUMIF(Спец.!$H$43:$H$44,A288,Спец.!$F$43:$G$44)","v":0},0]
[287,null,{"$f":"SUMIF(План!$BP$5:$BP$1392,A289,План!$BY$5:$BY$1392)+SUMIF(Практики!$F$3:$F$32,A289,Практики!$G$3:$G$32)+SUMIF(Практики!$F$37:$F$66,A289,Практики!$G$37:$G$66)+SUMIF(Спец.!$H$5:$H$27,A289,Спец.!$F$5:$G$27)+SUMIF(Спец.!$H$31:$H$41,A289,Спец.!$F$31:$G$41)+SUMIF(Спец.!$H$43:$H$44,A289,Спец.!$F$43:$G$44)","v":0},0]
[288,null,{"$f":"SUMIF(План!$BP$5:$BP$1392,A290,План!$BY$5:$BY$1392)+SUMIF(Практики!$F$3:$F$32,A290,Практики!$G$3:$G$32)+SUMIF(Практики!$F$37:$F$66,A290,Практики!$G$37:$G$66)+SUMIF(Спец.!$H$5:$H$27,A290,Спец.!$F$5:$G$27)+SUMIF(Спец.!$H$31:$H$41,A290,Спец.!$F$31:$G$41)+SUMIF(Спец.!$H$43:$H$44,A290,Спец.!$F$43:$G$44)","v":0},0]
[289,null,{"$f":"SUMIF(План!$BP$5:$BP$1392,A291,План!$BY$5:$BY$1392)+SUMIF(Практики!$F$3:$F$32,A291,Практики!$G$3:$G$32)+SUMIF(Практики!$F$37:$F$66,A291,Практики!$G$37:$G$66)+SUMIF(Спец.!$H$5:$H$27,A291,Спец.!$F$5:$G$27)+SUMIF(Спец.!$H$31:$H$41,A291,Спец.!$F$31:$G$41)+SUMIF(Спец.!$H$43:$H$44,A291,Спец.!$F$43:$G$44)","v":0},0]
[290,null,{"$f":"SUMIF(План!$BP$5:$BP$1392,A292,План!$BY$5:$BY$1392)+SUMIF(Практики!$F$3:$F$32,A292,Практики!$G$3:$G$32)+SUMIF(Практики!$F$37:$F$66,A292,Практики!$G$37:$G$66)+SUMIF(Спец.!$H$5:$H$27,A292,Спец.!$F$5:$G$27)+SUMIF(Спец.!$H$31:$H$41,A292,Спец.!$F$31:$G$41)+SUMIF(Спец.!$H$43:$H$44,A292,Спец.!$F$43:$G$44)","v":0},0]
[291,null,{"$f":"SUMIF(План!$BP$5:$BP$1392,A293,План!$BY$5:$BY$1392)+SUMIF(Практики!$F$3:$F$32,A293,Практики!$G$3:$G$32)+SUMIF(Практики!$F$37:$F$66,A293,Практики!$G$37:$G$66)+SUMIF(Спец.!$H$5:$H$27,A293,Спец.!$F$5:$G$27)+SUMIF(Спец.!$H$31:$H$41,A293,Спец.!$F$31:$G$41)+SUMIF(Спец.!$H$43:$H$44,A293,Спец.!$F$43:$G$44)","v":0},0]
[292,null,{"$f":"SUMIF(План!$BP$5:$BP$1392,A294,План!$BY$5:$BY$1392)+SUMIF(Практики!$F$3:$F$32,A294,Практики!$G$3:$G$32)+SUMIF(Практики!$F$37:$F$66,A294,Практики!$G$37:$G$66)+SUMIF(Спец.!$H$5:$H$27,A294,Спец.!$F$5:$G$27)+SUMIF(Спец.!$H$31:$H$41,A294,Спец.!$F$31:$G$41)+SUMIF(Спец.!$H$43:$H$44,A294,Спец.!$F$43:$G$44)","v":0},0]
[293,null,{"$f":"SUMIF(План!$BP$5:$BP$1392,A295,План!$BY$5:$BY$1392)+SUMIF(Практики!$F$3:$F$32,A295,Практики!$G$3:$G$32)+SUMIF(Практики!$F$37:$F$66,A295,Практики!$G$37:$G$66)+SUMIF(Спец.!$H$5:$H$27,A295,Спец.!$F$5:$G$27)+SUMIF(Спец.!$H$31:$H$41,A295,Спец.!$F$31:$G$41)+SUMIF(Спец.!$H$43:$H$44,A295,Спец.!$F$43:$G$44)","v":0},0]
[294,null,{"$f":"SUMIF(План!$BP$5:$BP$1392,A296,План!$BY$5:$BY$1392)+SUMIF(Практики!$F$3:$F$32,A296,Практики!$G$3:$G$32)+SUMIF(Практики!$F$37:$F$66,A296,Практики!$G$37:$G$66)+SUMIF(Спец.!$H$5:$H$27,A296,Спец.!$F$5:$G$27)+SUMIF(Спец.!$H$31:$H$41,A296,Спец.!$F$31:$G$41)+SUMIF(Спец.!$H$43:$H$44,A296,Спец.!$F$43:$G$44)","v":0},0]
[295,null,{"$f":"SUMIF(План!$BP$5:$BP$1392,A297,План!$BY$5:$BY$1392)+SUMIF(Практики!$F$3:$F$32,A297,Практики!$G$3:$G$32)+SUMIF(Практики!$F$37:$F$66,A297,Практики!$G$37:$G$66)+SUMIF(Спец.!$H$5:$H$27,A297,Спец.!$F$5:$G$27)+SUMIF(Спец.!$H$31:$H$41,A297,Спец.!$F$31:$G$41)+SUMIF(Спец.!$H$43:$H$44,A297,Спец.!$F$43:$G$44)","v":0},0]
[296,null,{"$f":"SUMIF(План!$BP$5:$BP$1392,A298,План!$BY$5:$BY$1392)+SUMIF(Практики!$F$3:$F$32,A298,Практики!$G$3:$G$32)+SUMIF(Практики!$F$37:$F$66,A298,Практики!$G$37:$G$66)+SUMIF(Спец.!$H$5:$H$27,A298,Спец.!$F$5:$G$27)+SUMIF(Спец.!$H$31:$H$41,A298,Спец.!$F$31:$G$41)+SUMIF(Спец.!$H$43:$H$44,A298,Спец.!$F$43:$G$44)","v":0},0]
[297,null,{"$f":"SUMIF(План!$BP$5:$BP$1392,A299,План!$BY$5:$BY$1392)+SUMIF(Практики!$F$3:$F$32,A299,Практики!$G$3:$G$32)+SUMIF(Практики!$F$37:$F$66,A299,Практики!$G$37:$G$66)+SUMIF(Спец.!$H$5:$H$27,A299,Спец.!$F$5:$G$27)+SUMIF(Спец.!$H$31:$H$41,A299,Спец.!$F$31:$G$41)+SUMIF(Спец.!$H$43:$H$44,A299,Спец.!$F$43:$G$44)","v":0},0]
[298,null,{"$f":"SUMIF(План!$BP$5:$BP$1392,A300,План!$BY$5:$BY$1392)+SUMIF(Практики!$F$3:$F$32,A300,Практики!$G$3:$G$32)+SUMIF(Практики!$F$37:$F$66,A300,Практики!$G$37:$G$66)+SUMIF(Спец.!$H$5:$H$27,A300,Спец.!$F$5:$G$27)+SUMIF(Спец.!$H$31:$H$41,A300,Спец.!$F$31:$G$41)+SUMIF(Спец.!$H$43:$H$44,A300,Спец.!$F$43:$G$44)","v":0},0]
[299,null,{"$f":"SUMIF(План!$BP$5:$BP$1392,A301,План!$BY$5:$BY$1392)+SUMIF(Практики!$F$3:$F$32,A301,Практики!$G$3:$G$32)+SUMIF(Практики!$F$37:$F$66,A301,Практики!$G$37:$G$66)+SUMIF(Спец.!$H$5:$H$27,A301,Спец.!$F$5:$G$27)+SUMIF(Спец.!$H$31:$H$41,A301,Спец.!$F$31:$G$41)+SUMIF(Спец.!$H$43:$H$44,A301,Спец.!$F$43:$G$44)","v":0},0]
[300,null,{"$f":"SUMIF(План!$BP$5:$BP$1392,A302,План!$BY$5:$BY$1392)+SUMIF(Практики!$F$3:$F$32,A302,Практики!$G$3:$G$32)+SUMIF(Практики!$F$37:$F$66,A302,Практики!$G$37:$G$66)+SUMIF(Спец.!$H$5:$H$27,A302,Спец.!$F$5:$G$27)+SUMIF(Спец.!$H$31:$H$41,A302,Спец.!$F$31:$G$41)+SUMIF(Спец.!$H$43:$H$44,A302,Спец.!$F$43:$G$44)","v":0},0]
[301,null,{"$f":"SUMIF(План!$BP$5:$BP$1392,A303,План!$BY$5:$BY$1392)+SUMIF(Практики!$F$3:$F$32,A303,Практики!$G$3:$G$32)+SUMIF(Практики!$F$37:$F$66,A303,Практики!$G$37:$G$66)+SUMIF(Спец.!$H$5:$H$27,A303,Спец.!$F$5:$G$27)+SUMIF(Спец.!$H$31:$H$41,A303,Спец.!$F$31:$G$41)+SUMIF(Спец.!$H$43:$H$44,A303,Спец.!$F$43:$G$44)","v":0},0]
[302,null,{"$f":"SUMIF(План!$BP$5:$BP$1392,A304,План!$BY$5:$BY$1392)+SUMIF(Практики!$F$3:$F$32,A304,Практики!$G$3:$G$32)+SUMIF(Практики!$F$37:$F$66,A304,Практики!$G$37:$G$66)+SUMIF(Спец.!$H$5:$H$27,A304,Спец.!$F$5:$G$27)+SUMIF(Спец.!$H$31:$H$41,A304,Спец.!$F$31:$G$41)+SUMIF(Спец.!$H$43:$H$44,A304,Спец.!$F$43:$G$44)","v":0},0]
[303,null,{"$f":"SUMIF(План!$BP$5:$BP$1392,A305,План!$BY$5:$BY$1392)+SUMIF(Практики!$F$3:$F$32,A305,Практики!$G$3:$G$32)+SUMIF(Практики!$F$37:$F$66,A305,Практики!$G$37:$G$66)+SUMIF(Спец.!$H$5:$H$27,A305,Спец.!$F$5:$G$27)+SUMIF(Спец.!$H$31:$H$41,A305,Спец.!$F$31:$G$41)+SUMIF(Спец.!$H$43:$H$44,A305,Спец.!$F$43:$G$44)","v":0},0]
[304,null,{"$f":"SUMIF(План!$BP$5:$BP$1392,A306,План!$BY$5:$BY$1392)+SUMIF(Практики!$F$3:$F$32,A306,Практики!$G$3:$G$32)+SUMIF(Практики!$F$37:$F$66,A306,Практики!$G$37:$G$66)+SUMIF(Спец.!$H$5:$H$27,A306,Спец.!$F$5:$G$27)+SUMIF(Спец.!$H$31:$H$41,A306,Спец.!$F$31:$G$41)+SUMIF(Спец.!$H$43:$H$44,A306,Спец.!$F$43:$G$44)","v":0},0]
[305,null,{"$f":"SUMIF(План!$BP$5:$BP$1392,A307,План!$BY$5:$BY$1392)+SUMIF(Практики!$F$3:$F$32,A307,Практики!$G$3:$G$32)+SUMIF(Практики!$F$37:$F$66,A307,Практики!$G$37:$G$66)+SUMIF(Спец.!$H$5:$H$27,A307,Спец.!$F$5:$G$27)+SUMIF(Спец.!$H$31:$H$41,A307,Спец.!$F$31:$G$41)+SUMIF(Спец.!$H$43:$H$44,A307,Спец.!$F$43:$G$44)","v":0},0]
[306,null,{"$f":"SUMIF(План!$BP$5:$BP$1392,A308,План!$BY$5:$BY$1392)+SUMIF(Практики!$F$3:$F$32,A308,Практики!$G$3:$G$32)+SUMIF(Практики!$F$37:$F$66,A308,Практики!$G$37:$G$66)+SUMIF(Спец.!$H$5:$H$27,A308,Спец.!$F$5:$G$27)+SUMIF(Спец.!$H$31:$H$41,A308,Спец.!$F$31:$G$41)+SUMIF(Спец.!$H$43:$H$44,A308,Спец.!$F$43:$G$44)","v":0},0]
[307,null,{"$f":"SUMIF(План!$BP$5:$BP$1392,A309,План!$BY$5:$BY$1392)+SUMIF(Практики!$F$3:$F$32,A309,Практики!$G$3:$G$32)+SUMIF(Практики!$F$37:$F$66,A309,Практики!$G$37:$G$66)+SUMIF(Спец.!$H$5:$H$27,A309,Спец.!$F$5:$G$27)+SUMIF(Спец.!$H$31:$H$41,A309,Спец.!$F$31:$G$41)+SUMIF(Спец.!$H$43:$H$44,A309,Спец.!$F$43:$G$44)","v":0},0]
[308,null,{"$f":"SUMIF(План!$BP$5:$BP$1392,A310,План!$BY$5:$BY$1392)+SUMIF(Практики!$F$3:$F$32,A310,Практики!$G$3:$G$32)+SUMIF(Практики!$F$37:$F$66,A310,Практики!$G$37:$G$66)+SUMIF(Спец.!$H$5:$H$27,A310,Спец.!$F$5:$G$27)+SUMIF(Спец.!$H$31:$H$41,A310,Спец.!$F$31:$G$41)+SUMIF(Спец.!$H$43:$H$44,A310,Спец.!$F$43:$G$44)","v":0},0]
[309,null,{"$f":"SUMIF(План!$BP$5:$BP$1392,A311,План!$BY$5:$BY$1392)+SUMIF(Практики!$F$3:$F$32,A311,Практики!$G$3:$G$32)+SUMIF(Практики!$F$37:$F$66,A311,Практики!$G$37:$G$66)+SUMIF(Спец.!$H$5:$H$27,A311,Спец.!$F$5:$G$27)+SUMIF(Спец.!$H$31:$H$41,A311,Спец.!$F$31:$G$41)+SUMIF(Спец.!$H$43:$H$44,A311,Спец.!$F$43:$G$44)","v":0},0]
[310,null,{"$f":"SUMIF(План!$BP$5:$BP$1392,A312,План!$BY$5:$BY$1392)+SUMIF(Практики!$F$3:$F$32,A312,Практики!$G$3:$G$32)+SUMIF(Практики!$F$37:$F$66,A312,Практики!$G$37:$G$66)+SUMIF(Спец.!$H$5:$H$27,A312,Спец.!$F$5:$G$27)+SUMIF(Спец.!$H$31:$H$41,A312,Спец.!$F$31:$G$41)+SUMIF(Спец.!$H$43:$H$44,A312,Спец.!$F$43:$G$44)","v":0},0]
[311,null,{"$f":"SUMIF(План!$BP$5:$BP$1392,A313,План!$BY$5:$BY$1392)+SUMIF(Практики!$F$3:$F$32,A313,Практики!$G$3:$G$32)+SUMIF(Практики!$F$37:$F$66,A313,Практики!$G$37:$G$66)+SUMIF(Спец.!$H$5:$H$27,A313,Спец.!$F$5:$G$27)+SUMIF(Спец.!$H$31:$H$41,A313,Спец.!$F$31:$G$41)+SUMIF(Спец.!$H$43:$H$44,A313,Спец.!$F$43:$G$44)","v":0},0]
[312,null,{"$f":"SUMIF(План!$BP$5:$BP$1392,A314,План!$BY$5:$BY$1392)+SUMIF(Практики!$F$3:$F$32,A314,Практики!$G$3:$G$32)+SUMIF(Практики!$F$37:$F$66,A314,Практики!$G$37:$G$66)+SUMIF(Спец.!$H$5:$H$27,A314,Спец.!$F$5:$G$27)+SUMIF(Спец.!$H$31:$H$41,A314,Спец.!$F$31:$G$41)+SUMIF(Спец.!$H$43:$H$44,A314,Спец.!$F$43:$G$44)","v":0},0]
[313,null,{"$f":"SUMIF(План!$BP$5:$BP$1392,A315,План!$BY$5:$BY$1392)+SUMIF(Практики!$F$3:$F$32,A315,Практики!$G$3:$G$32)+SUMIF(Практики!$F$37:$F$66,A315,Практики!$G$37:$G$66)+SUMIF(Спец.!$H$5:$H$27,A315,Спец.!$F$5:$G$27)+SUMIF(Спец.!$H$31:$H$41,A315,Спец.!$F$31:$G$41)+SUMIF(Спец.!$H$43:$H$44,A315,Спец.!$F$43:$G$44)","v":0},0]
[314,null,{"$f":"SUMIF(План!$BP$5:$BP$1392,A316,План!$BY$5:$BY$1392)+SUMIF(Практики!$F$3:$F$32,A316,Практики!$G$3:$G$32)+SUMIF(Практики!$F$37:$F$66,A316,Практики!$G$37:$G$66)+SUMIF(Спец.!$H$5:$H$27,A316,Спец.!$F$5:$G$27)+SUMIF(Спец.!$H$31:$H$41,A316,Спец.!$F$31:$G$41)+SUMIF(Спец.!$H$43:$H$44,A316,Спец.!$F$43:$G$44)","v":0},0]
[315,null,{"$f":"SUMIF(План!$BP$5:$BP$1392,A317,План!$BY$5:$BY$1392)+SUMIF(Практики!$F$3:$F$32,A317,Практики!$G$3:$G$32)+SUMIF(Практики!$F$37:$F$66,A317,Практики!$G$37:$G$66)+SUMIF(Спец.!$H$5:$H$27,A317,Спец.!$F$5:$G$27)+SUMIF(Спец.!$H$31:$H$41,A317,Спец.!$F$31:$G$41)+SUMIF(Спец.!$H$43:$H$44,A317,Спец.!$F$43:$G$44)","v":0},0]
[316,null,{"$f":"SUMIF(План!$BP$5:$BP$1392,A318,План!$BY$5:$BY$1392)+SUMIF(Практики!$F$3:$F$32,A318,Практики!$G$3:$G$32)+SUMIF(Практики!$F$37:$F$66,A318,Практики!$G$37:$G$66)+SUMIF(Спец.!$H$5:$H$27,A318,Спец.!$F$5:$G$27)+SUMIF(Спец.!$H$31:$H$41,A318,Спец.!$F$31:$G$41)+SUMIF(Спец.!$H$43:$H$44,A318,Спец.!$F$43:$G$44)","v":0},0]
[317,null,{"$f":"SUMIF(План!$BP$5:$BP$1392,A319,План!$BY$5:$BY$1392)+SUMIF(Практики!$F$3:$F$32,A319,Практики!$G$3:$G$32)+SUMIF(Практики!$F$37:$F$66,A319,Практики!$G$37:$G$66)+SUMIF(Спец.!$H$5:$H$27,A319,Спец.!$F$5:$G$27)+SUMIF(Спец.!$H$31:$H$41,A319,Спец.!$F$31:$G$41)+SUMIF(Спец.!$H$43:$H$44,A319,Спец.!$F$43:$G$44)","v":0},0]
[318,null,{"$f":"SUMIF(План!$BP$5:$BP$1392,A320,План!$BY$5:$BY$1392)+SUMIF(Практики!$F$3:$F$32,A320,Практики!$G$3:$G$32)+SUMIF(Практики!$F$37:$F$66,A320,Практики!$G$37:$G$66)+SUMIF(Спец.!$H$5:$H$27,A320,Спец.!$F$5:$G$27)+SUMIF(Спец.!$H$31:$H$41,A320,Спец.!$F$31:$G$41)+SUMIF(Спец.!$H$43:$H$44,A320,Спец.!$F$43:$G$44)","v":0},0]
[319,null,{"$f":"SUMIF(План!$BP$5:$BP$1392,A321,План!$BY$5:$BY$1392)+SUMIF(Практики!$F$3:$F$32,A321,Практики!$G$3:$G$32)+SUMIF(Практики!$F$37:$F$66,A321,Практики!$G$37:$G$66)+SUMIF(Спец.!$H$5:$H$27,A321,Спец.!$F$5:$G$27)+SUMIF(Спец.!$H$31:$H$41,A321,Спец.!$F$31:$G$41)+SUMIF(Спец.!$H$43:$H$44,A321,Спец.!$F$43:$G$44)","v":0},0]
[320,null,{"$f":"SUMIF(План!$BP$5:$BP$1392,A322,План!$BY$5:$BY$1392)+SUMIF(Практики!$F$3:$F$32,A322,Практики!$G$3:$G$32)+SUMIF(Практики!$F$37:$F$66,A322,Практики!$G$37:$G$66)+SUMIF(Спец.!$H$5:$H$27,A322,Спец.!$F$5:$G$27)+SUMIF(Спец.!$H$31:$H$41,A322,Спец.!$F$31:$G$41)+SUMIF(Спец.!$H$43:$H$44,A322,Спец.!$F$43:$G$44)","v":0},0]
[321,null,{"$f":"SUMIF(План!$BP$5:$BP$1392,A323,План!$BY$5:$BY$1392)+SUMIF(Практики!$F$3:$F$32,A323,Практики!$G$3:$G$32)+SUMIF(Практики!$F$37:$F$66,A323,Практики!$G$37:$G$66)+SUMIF(Спец.!$H$5:$H$27,A323,Спец.!$F$5:$G$27)+SUMIF(Спец.!$H$31:$H$41,A323,Спец.!$F$31:$G$41)+SUMIF(Спец.!$H$43:$H$44,A323,Спец.!$F$43:$G$44)","v":0},0]
[322,null,{"$f":"SUMIF(План!$BP$5:$BP$1392,A324,План!$BY$5:$BY$1392)+SUMIF(Практики!$F$3:$F$32,A324,Практики!$G$3:$G$32)+SUMIF(Практики!$F$37:$F$66,A324,Практики!$G$37:$G$66)+SUMIF(Спец.!$H$5:$H$27,A324,Спец.!$F$5:$G$27)+SUMIF(Спец.!$H$31:$H$41,A324,Спец.!$F$31:$G$41)+SUMIF(Спец.!$H$43:$H$44,A324,Спец.!$F$43:$G$44)","v":0},{"$f":"IF($C$1>0,C324/$C$1,0)","v":0}]
[323,null,{"$f":"SUMIF(План!$BP$5:$BP$1392,A325,План!$BY$5:$BY$1392)+SUMIF(Практики!$F$3:$F$32,A325,Практики!$G$3:$G$32)+SUMIF(Практики!$F$37:$F$66,A325,Практики!$G$37:$G$66)+SUMIF(Спец.!$H$5:$H$27,A325,Спец.!$F$5:$G$27)+SUMIF(Спец.!$H$31:$H$41,A325,Спец.!$F$31:$G$41)+SUMIF(Спец.!$H$43:$H$44,A325,Спец.!$F$43:$G$44)","v":0},0]
[324,null,{"$f":"SUMIF(План!$BP$5:$BP$1392,A326,План!$BY$5:$BY$1392)+SUMIF(Практики!$F$3:$F$32,A326,Практики!$G$3:$G$32)+SUMIF(Практики!$F$37:$F$66,A326,Практики!$G$37:$G$66)+SUMIF(Спец.!$H$5:$H$27,A326,Спец.!$F$5:$G$27)+SUMIF(Спец.!$H$31:$H$41,A326,Спец.!$F$31:$G$41)+SUMIF(Спец.!$H$43:$H$44,A326,Спец.!$F$43:$G$44)","v":0},0]
[325,null,{"$f":"SUMIF(План!$BP$5:$BP$1392,A327,План!$BY$5:$BY$1392)+SUMIF(Практики!$F$3:$F$32,A327,Практики!$G$3:$G$32)+SUMIF(Практики!$F$37:$F$66,A327,Практики!$G$37:$G$66)+SUMIF(Спец.!$H$5:$H$27,A327,Спец.!$F$5:$G$27)+SUMIF(Спец.!$H$31:$H$41,A327,Спец.!$F$31:$G$41)+SUMIF(Спец.!$H$43:$H$44,A327,Спец.!$F$43:$G$44)","v":0},0]
[326,null,{"$f":"SUMIF(План!$BP$5:$BP$1392,A328,План!$BY$5:$BY$1392)+SUMIF(Практики!$F$3:$F$32,A328,Практики!$G$3:$G$32)+SUMIF(Практики!$F$37:$F$66,A328,Практики!$G$37:$G$66)+SUMIF(Спец.!$H$5:$H$27,A328,Спец.!$F$5:$G$27)+SUMIF(Спец.!$H$31:$H$41,A328,Спец.!$F$31:$G$41)+SUMIF(Спец.!$H$43:$H$44,A328,Спец.!$F$43:$G$44)","v":0},0]
[327,null,{"$f":"SUMIF(План!$BP$5:$BP$1392,A329,План!$BY$5:$BY$1392)+SUMIF(Практики!$F$3:$F$32,A329,Практики!$G$3:$G$32)+SUMIF(Практики!$F$37:$F$66,A329,Практики!$G$37:$G$66)+SUMIF(Спец.!$H$5:$H$27,A329,Спец.!$F$5:$G$27)+SUMIF(Спец.!$H$31:$H$41,A329,Спец.!$F$31:$G$41)+SUMIF(Спец.!$H$43:$H$44,A329,Спец.!$F$43:$G$44)","v":0},0]
[328,null,{"$f":"SUMIF(План!$BP$5:$BP$1392,A330,План!$BY$5:$BY$1392)+SUMIF(Практики!$F$3:$F$32,A330,Практики!$G$3:$G$32)+SUMIF(Практики!$F$37:$F$66,A330,Практики!$G$37:$G$66)+SUMIF(Спец.!$H$5:$H$27,A330,Спец.!$F$5:$G$27)+SUMIF(Спец.!$H$31:$H$41,A330,Спец.!$F$31:$G$41)+SUMIF(Спец.!$H$43:$H$44,A330,Спец.!$F$43:$G$44)","v":0},0]
[329,null,{"$f":"SUMIF(План!$BP$5:$BP$1392,A331,План!$BY$5:$BY$1392)+SUMIF(Практики!$F$3:$F$32,A331,Практики!$G$3:$G$32)+SUMIF(Практики!$F$37:$F$66,A331,Практики!$G$37:$G$66)+SUMIF(Спец.!$H$5:$H$27,A331,Спец.!$F$5:$G$27)+SUMIF(Спец.!$H$31:$H$41,A331,Спец.!$F$31:$G$41)+SUMIF(Спец.!$H$43:$H$44,A331,Спец.!$F$43:$G$44)","v":0},0]
[330,null,{"$f":"SUMIF(План!$BP$5:$BP$1392,A332,План!$BY$5:$BY$1392)+SUMIF(Практики!$F$3:$F$32,A332,Практики!$G$3:$G$32)+SUMIF(Практики!$F$37:$F$66,A332,Практики!$G$37:$G$66)+SUMIF(Спец.!$H$5:$H$27,A332,Спец.!$F$5:$G$27)+SUMIF(Спец.!$H$31:$H$41,A332,Спец.!$F$31:$G$41)+SUMIF(Спец.!$H$43:$H$44,A332,Спец.!$F$43:$G$44)","v":0},0]
[331,null,{"$f":"SUMIF(План!$BP$5:$BP$1392,A333,План!$BY$5:$BY$1392)+SUMIF(Практики!$F$3:$F$32,A333,Практики!$G$3:$G$32)+SUMIF(Практики!$F$37:$F$66,A333,Практики!$G$37:$G$66)+SUMIF(Спец.!$H$5:$H$27,A333,Спец.!$F$5:$G$27)+SUMIF(Спец.!$H$31:$H$41,A333,Спец.!$F$31:$G$41)+SUMIF(Спец.!$H$43:$H$44,A333,Спец.!$F$43:$G$44)","v":0},0]
[332,null,{"$f":"SUMIF(План!$BP$5:$BP$1392,A334,План!$BY$5:$BY$1392)+SUMIF(Практики!$F$3:$F$32,A334,Практики!$G$3:$G$32)+SUMIF(Практики!$F$37:$F$66,A334,Практики!$G$37:$G$66)+SUMIF(Спец.!$H$5:$H$27,A334,Спец.!$F$5:$G$27)+SUMIF(Спец.!$H$31:$H$41,A334,Спец.!$F$31:$G$41)+SUMIF(Спец.!$H$43:$H$44,A334,Спец.!$F$43:$G$44)","v":0},0]
[333,null,{"$f":"SUMIF(План!$BP$5:$BP$1392,A335,План!$BY$5:$BY$1392)+SUMIF(Практики!$F$3:$F$32,A335,Практики!$G$3:$G$32)+SUMIF(Практики!$F$37:$F$66,A335,Практики!$G$37:$G$66)+SUMIF(Спец.!$H$5:$H$27,A335,Спец.!$F$5:$G$27)+SUMIF(Спец.!$H$31:$H$41,A335,Спец.!$F$31:$G$41)+SUMIF(Спец.!$H$43:$H$44,A335,Спец.!$F$43:$G$44)","v":0},0]
[334,null,{"$f":"SUMIF(План!$BP$5:$BP$1392,A336,План!$BY$5:$BY$1392)+SUMIF(Практики!$F$3:$F$32,A336,Практики!$G$3:$G$32)+SUMIF(Практики!$F$37:$F$66,A336,Практики!$G$37:$G$66)+SUMIF(Спец.!$H$5:$H$27,A336,Спец.!$F$5:$G$27)+SUMIF(Спец.!$H$31:$H$41,A336,Спец.!$F$31:$G$41)+SUMIF(Спец.!$H$43:$H$44,A336,Спец.!$F$43:$G$44)","v":0},0]
[335,null,{"$f":"SUMIF(План!$BP$5:$BP$1392,A337,План!$BY$5:$BY$1392)+SUMIF(Практики!$F$3:$F$32,A337,Практики!$G$3:$G$32)+SUMIF(Практики!$F$37:$F$66,A337,Практики!$G$37:$G$66)+SUMIF(Спец.!$H$5:$H$27,A337,Спец.!$F$5:$G$27)+SUMIF(Спец.!$H$31:$H$41,A337,Спец.!$F$31:$G$41)+SUMIF(Спец.!$H$43:$H$44,A337,Спец.!$F$43:$G$44)","v":0},0]
[336,null,{"$f":"SUMIF(План!$BP$5:$BP$1392,A338,План!$BY$5:$BY$1392)+SUMIF(Практики!$F$3:$F$32,A338,Практики!$G$3:$G$32)+SUMIF(Практики!$F$37:$F$66,A338,Практики!$G$37:$G$66)+SUMIF(Спец.!$H$5:$H$27,A338,Спец.!$F$5:$G$27)+SUMIF(Спец.!$H$31:$H$41,A338,Спец.!$F$31:$G$41)+SUMIF(Спец.!$H$43:$H$44,A338,Спец.!$F$43:$G$44)","v":0},0]
[337,null,{"$f":"SUMIF(План!$BP$5:$BP$1392,A339,План!$BY$5:$BY$1392)+SUMIF(Практики!$F$3:$F$32,A339,Практики!$G$3:$G$32)+SUMIF(Практики!$F$37:$F$66,A339,Практики!$G$37:$G$66)+SUMIF(Спец.!$H$5:$H$27,A339,Спец.!$F$5:$G$27)+SUMIF(Спец.!$H$31:$H$41,A339,Спец.!$F$31:$G$41)+SUMIF(Спец.!$H$43:$H$44,A339,Спец.!$F$43:$G$44)","v":0},0]
[338,null,{"$f":"SUMIF(План!$BP$5:$BP$1392,A340,План!$BY$5:$BY$1392)+SUMIF(Практики!$F$3:$F$32,A340,Практики!$G$3:$G$32)+SUMIF(Практики!$F$37:$F$66,A340,Практики!$G$37:$G$66)+SUMIF(Спец.!$H$5:$H$27,A340,Спец.!$F$5:$G$27)+SUMIF(Спец.!$H$31:$H$41,A340,Спец.!$F$31:$G$41)+SUMIF(Спец.!$H$43:$H$44,A340,Спец.!$F$43:$G$44)","v":0},0]
[339,null,{"$f":"SUMIF(План!$BP$5:$BP$1392,A341,План!$BY$5:$BY$1392)+SUMIF(Практики!$F$3:$F$32,A341,Практики!$G$3:$G$32)+SUMIF(Практики!$F$37:$F$66,A341,Практики!$G$37:$G$66)+SUMIF(Спец.!$H$5:$H$27,A341,Спец.!$F$5:$G$27)+SUMIF(Спец.!$H$31:$H$41,A341,Спец.!$F$31:$G$41)+SUMIF(Спец.!$H$43:$H$44,A341,Спец.!$F$43:$G$44)","v":0},0]
[340,null,{"$f":"SUMIF(План!$BP$5:$BP$1392,A342,План!$BY$5:$BY$1392)+SUMIF(Практики!$F$3:$F$32,A342,Практики!$G$3:$G$32)+SUMIF(Практики!$F$37:$F$66,A342,Практики!$G$37:$G$66)+SUMIF(Спец.!$H$5:$H$27,A342,Спец.!$F$5:$G$27)+SUMIF(Спец.!$H$31:$H$41,A342,Спец.!$F$31:$G$41)+SUMIF(Спец.!$H$43:$H$44,A342,Спец.!$F$43:$G$44)","v":0},0]
[341,null,{"$f":"SUMIF(План!$BP$5:$BP$1392,A343,План!$BY$5:$BY$1392)+SUMIF(Практики!$F$3:$F$32,A343,Практики!$G$3:$G$32)+SUMIF(Практики!$F$37:$F$66,A343,Практики!$G$37:$G$66)+SUMIF(Спец.!$H$5:$H$27,A343,Спец.!$F$5:$G$27)+SUMIF(Спец.!$H$31:$H$41,A343,Спец.!$F$31:$G$41)+SUMIF(Спец.!$H$43:$H$44,A343,Спец.!$F$43:$G$44)","v":0},0]
[342,null,{"$f":"SUMIF(План!$BP$5:$BP$1392,A344,План!$BY$5:$BY$1392)+SUMIF(Практики!$F$3:$F$32,A344,Практики!$G$3:$G$32)+SUMIF(Практики!$F$37:$F$66,A344,Практики!$G$37:$G$66)+SUMIF(Спец.!$H$5:$H$27,A344,Спец.!$F$5:$G$27)+SUMIF(Спец.!$H$31:$H$41,A344,Спец.!$F$31:$G$41)+SUMIF(Спец.!$H$43:$H$44,A344,Спец.!$F$43:$G$44)","v":0},0]
[343,null,{"$f":"SUMIF(План!$BP$5:$BP$1392,A345,План!$BY$5:$BY$1392)+SUMIF(Практики!$F$3:$F$32,A345,Практики!$G$3:$G$32)+SUMIF(Практики!$F$37:$F$66,A345,Практики!$G$37:$G$66)+SUMIF(Спец.!$H$5:$H$27,A345,Спец.!$F$5:$G$27)+SUMIF(Спец.!$H$31:$H$41,A345,Спец.!$F$31:$G$41)+SUMIF(Спец.!$H$43:$H$44,A345,Спец.!$F$43:$G$44)","v":0},0]
[344,null,{"$f":"SUMIF(План!$BP$5:$BP$1392,A346,План!$BY$5:$BY$1392)+SUMIF(Практики!$F$3:$F$32,A346,Практики!$G$3:$G$32)+SUMIF(Практики!$F$37:$F$66,A346,Практики!$G$37:$G$66)+SUMIF(Спец.!$H$5:$H$27,A346,Спец.!$F$5:$G$27)+SUMIF(Спец.!$H$31:$H$41,A346,Спец.!$F$31:$G$41)+SUMIF(Спец.!$H$43:$H$44,A346,Спец.!$F$43:$G$44)","v":0},0]
[345,null,{"$f":"SUMIF(План!$BP$5:$BP$1392,A347,План!$BY$5:$BY$1392)+SUMIF(Практики!$F$3:$F$32,A347,Практики!$G$3:$G$32)+SUMIF(Практики!$F$37:$F$66,A347,Практики!$G$37:$G$66)+SUMIF(Спец.!$H$5:$H$27,A347,Спец.!$F$5:$G$27)+SUMIF(Спец.!$H$31:$H$41,A347,Спец.!$F$31:$G$41)+SUMIF(Спец.!$H$43:$H$44,A347,Спец.!$F$43:$G$44)","v":0},0]
[346,null,{"$f":"SUMIF(План!$BP$5:$BP$1392,A348,План!$BY$5:$BY$1392)+SUMIF(Практики!$F$3:$F$32,A348,Практики!$G$3:$G$32)+SUMIF(Практики!$F$37:$F$66,A348,Практики!$G$37:$G$66)+SUMIF(Спец.!$H$5:$H$27,A348,Спец.!$F$5:$G$27)+SUMIF(Спец.!$H$31:$H$41,A348,Спец.!$F$31:$G$41)+SUMIF(Спец.!$H$43:$H$44,A348,Спец.!$F$43:$G$44)","v":0},0]
[347,null,{"$f":"SUMIF(План!$BP$5:$BP$1392,A349,План!$BY$5:$BY$1392)+SUMIF(Практики!$F$3:$F$32,A349,Практики!$G$3:$G$32)+SUMIF(Практики!$F$37:$F$66,A349,Практики!$G$37:$G$66)+SUMIF(Спец.!$H$5:$H$27,A349,Спец.!$F$5:$G$27)+SUMIF(Спец.!$H$31:$H$41,A349,Спец.!$F$31:$G$41)+SUMIF(Спец.!$H$43:$H$44,A349,Спец.!$F$43:$G$44)","v":0},0]
[348,null,{"$f":"SUMIF(План!$BP$5:$BP$1392,A350,План!$BY$5:$BY$1392)+SUMIF(Практики!$F$3:$F$32,A350,Практики!$G$3:$G$32)+SUMIF(Практики!$F$37:$F$66,A350,Практики!$G$37:$G$66)+SUMIF(Спец.!$H$5:$H$27,A350,Спец.!$F$5:$G$27)+SUMIF(Спец.!$H$31:$H$41,A350,Спец.!$F$31:$G$41)+SUMIF(Спец.!$H$43:$H$44,A350,Спец.!$F$43:$G$44)","v":0},0]
[349,null,{"$f":"SUMIF(План!$BP$5:$BP$1392,A351,План!$BY$5:$BY$1392)+SUMIF(Практики!$F$3:$F$32,A351,Практики!$G$3:$G$32)+SUMIF(Практики!$F$37:$F$66,A351,Практики!$G$37:$G$66)+SUMIF(Спец.!$H$5:$H$27,A351,Спец.!$F$5:$G$27)+SUMIF(Спец.!$H$31:$H$41,A351,Спец.!$F$31:$G$41)+SUMIF(Спец.!$H$43:$H$44,A351,Спец.!$F$43:$G$44)","v":0},0]
[350,null,{"$f":"SUMIF(План!$BP$5:$BP$1392,A352,План!$BY$5:$BY$1392)+SUMIF(Практики!$F$3:$F$32,A352,Практики!$G$3:$G$32)+SUMIF(Практики!$F$37:$F$66,A352,Практики!$G$37:$G$66)+SUMIF(Спец.!$H$5:$H$27,A352,Спец.!$F$5:$G$27)+SUMIF(Спец.!$H$31:$H$41,A352,Спец.!$F$31:$G$41)+SUMIF(Спец.!$H$43:$H$44,A352,Спец.!$F$43:$G$44)","v":0},0]
[351,null,{"$f":"SUMIF(План!$BP$5:$BP$1392,A353,План!$BY$5:$BY$1392)+SUMIF(Практики!$F$3:$F$32,A353,Практики!$G$3:$G$32)+SUMIF(Практики!$F$37:$F$66,A353,Практики!$G$37:$G$66)+SUMIF(Спец.!$H$5:$H$27,A353,Спец.!$F$5:$G$27)+SUMIF(Спец.!$H$31:$H$41,A353,Спец.!$F$31:$G$41)+SUMIF(Спец.!$H$43:$H$44,A353,Спец.!$F$43:$G$44)","v":0},0]
[352,null,{"$f":"SUMIF(План!$BP$5:$BP$1392,A354,План!$BY$5:$BY$1392)+SUMIF(Практики!$F$3:$F$32,A354,Практики!$G$3:$G$32)+SUMIF(Практики!$F$37:$F$66,A354,Практики!$G$37:$G$66)+SUMIF(Спец.!$H$5:$H$27,A354,Спец.!$F$5:$G$27)+SUMIF(Спец.!$H$31:$H$41,A354,Спец.!$F$31:$G$41)+SUMIF(Спец.!$H$43:$H$44,A354,Спец.!$F$43:$G$44)","v":0},0]
[353,null,{"$f":"SUMIF(План!$BP$5:$BP$1392,A355,План!$BY$5:$BY$1392)+SUMIF(Практики!$F$3:$F$32,A355,Практики!$G$3:$G$32)+SUMIF(Практики!$F$37:$F$66,A355,Практики!$G$37:$G$66)+SUMIF(Спец.!$H$5:$H$27,A355,Спец.!$F$5:$G$27)+SUMIF(Спец.!$H$31:$H$41,A355,Спец.!$F$31:$G$41)+SUMIF(Спец.!$H$43:$H$44,A355,Спец.!$F$43:$G$44)","v":0},0]
[354,null,{"$f":"SUMIF(План!$BP$5:$BP$1392,A356,План!$BY$5:$BY$1392)+SUMIF(Практики!$F$3:$F$32,A356,Практики!$G$3:$G$32)+SUMIF(Практики!$F$37:$F$66,A356,Практики!$G$37:$G$66)+SUMIF(Спец.!$H$5:$H$27,A356,Спец.!$F$5:$G$27)+SUMIF(Спец.!$H$31:$H$41,A356,Спец.!$F$31:$G$41)+SUMIF(Спец.!$H$43:$H$44,A356,Спец.!$F$43:$G$44)","v":0},0]
[355,null,{"$f":"SUMIF(План!$BP$5:$BP$1392,A357,План!$BY$5:$BY$1392)+SUMIF(Практики!$F$3:$F$32,A357,Практики!$G$3:$G$32)+SUMIF(Практики!$F$37:$F$66,A357,Практики!$G$37:$G$66)+SUMIF(Спец.!$H$5:$H$27,A357,Спец.!$F$5:$G$27)+SUMIF(Спец.!$H$31:$H$41,A357,Спец.!$F$31:$G$41)+SUMIF(Спец.!$H$43:$H$44,A357,Спец.!$F$43:$G$44)","v":0},0]
[356,null,{"$f":"SUMIF(План!$BP$5:$BP$1392,A358,План!$BY$5:$BY$1392)+SUMIF(Практики!$F$3:$F$32,A358,Практики!$G$3:$G$32)+SUMIF(Практики!$F$37:$F$66,A358,Практики!$G$37:$G$66)+SUMIF(Спец.!$H$5:$H$27,A358,Спец.!$F$5:$G$27)+SUMIF(Спец.!$H$31:$H$41,A358,Спец.!$F$31:$G$41)+SUMIF(Спец.!$H$43:$H$44,A358,Спец.!$F$43:$G$44)","v":0},0]
[357,null,{"$f":"SUMIF(План!$BP$5:$BP$1392,A359,План!$BY$5:$BY$1392)+SUMIF(Практики!$F$3:$F$32,A359,Практики!$G$3:$G$32)+SUMIF(Практики!$F$37:$F$66,A359,Практики!$G$37:$G$66)+SUMIF(Спец.!$H$5:$H$27,A359,Спец.!$F$5:$G$27)+SUMIF(Спец.!$H$31:$H$41,A359,Спец.!$F$31:$G$41)+SUMIF(Спец.!$H$43:$H$44,A359,Спец.!$F$43:$G$44)","v":0},0]
[358,null,{"$f":"SUMIF(План!$BP$5:$BP$1392,A360,План!$BY$5:$BY$1392)+SUMIF(Практики!$F$3:$F$32,A360,Практики!$G$3:$G$32)+SUMIF(Практики!$F$37:$F$66,A360,Практики!$G$37:$G$66)+SUMIF(Спец.!$H$5:$H$27,A360,Спец.!$F$5:$G$27)+SUMIF(Спец.!$H$31:$H$41,A360,Спец.!$F$31:$G$41)+SUMIF(Спец.!$H$43:$H$44,A360,Спец.!$F$43:$G$44)","v":0},0]
[359,null,{"$f":"SUMIF(План!$BP$5:$BP$1392,A361,План!$BY$5:$BY$1392)+SUMIF(Практики!$F$3:$F$32,A361,Практики!$G$3:$G$32)+SUMIF(Практики!$F$37:$F$66,A361,Практики!$G$37:$G$66)+SUMIF(Спец.!$H$5:$H$27,A361,Спец.!$F$5:$G$27)+SUMIF(Спец.!$H$31:$H$41,A361,Спец.!$F$31:$G$41)+SUMIF(Спец.!$H$43:$H$44,A361,Спец.!$F$43:$G$44)","v":0},0]
[360,null,{"$f":"SUMIF(План!$BP$5:$BP$1392,A362,План!$BY$5:$BY$1392)+SUMIF(Практики!$F$3:$F$32,A362,Практики!$G$3:$G$32)+SUMIF(Практики!$F$37:$F$66,A362,Практики!$G$37:$G$66)+SUMIF(Спец.!$H$5:$H$27,A362,Спец.!$F$5:$G$27)+SUMIF(Спец.!$H$31:$H$41,A362,Спец.!$F$31:$G$41)+SUMIF(Спец.!$H$43:$H$44,A362,Спец.!$F$43:$G$44)","v":0},0]
[361,null,{"$f":"SUMIF(План!$BP$5:$BP$1392,A363,План!$BY$5:$BY$1392)+SUMIF(Практики!$F$3:$F$32,A363,Практики!$G$3:$G$32)+SUMIF(Практики!$F$37:$F$66,A363,Практики!$G$37:$G$66)+SUMIF(Спец.!$H$5:$H$27,A363,Спец.!$F$5:$G$27)+SUMIF(Спец.!$H$31:$H$41,A363,Спец.!$F$31:$G$41)+SUMIF(Спец.!$H$43:$H$44,A363,Спец.!$F$43:$G$44)","v":0},0]
[362,null,{"$f":"SUMIF(План!$BP$5:$BP$1392,A364,План!$BY$5:$BY$1392)+SUMIF(Практики!$F$3:$F$32,A364,Практики!$G$3:$G$32)+SUMIF(Практики!$F$37:$F$66,A364,Практики!$G$37:$G$66)+SUMIF(Спец.!$H$5:$H$27,A364,Спец.!$F$5:$G$27)+SUMIF(Спец.!$H$31:$H$41,A364,Спец.!$F$31:$G$41)+SUMIF(Спец.!$H$43:$H$44,A364,Спец.!$F$43:$G$44)","v":0},0]
[363,null,{"$f":"SUMIF(План!$BP$5:$BP$1392,A365,План!$BY$5:$BY$1392)+SUMIF(Практики!$F$3:$F$32,A365,Практики!$G$3:$G$32)+SUMIF(Практики!$F$37:$F$66,A365,Практики!$G$37:$G$66)+SUMIF(Спец.!$H$5:$H$27,A365,Спец.!$F$5:$G$27)+SUMIF(Спец.!$H$31:$H$41,A365,Спец.!$F$31:$G$41)+SUMIF(Спец.!$H$43:$H$44,A365,Спец.!$F$43:$G$44)","v":0},0]
[364,null,{"$f":"SUMIF(План!$BP$5:$BP$1392,A366,План!$BY$5:$BY$1392)+SUMIF(Практики!$F$3:$F$32,A366,Практики!$G$3:$G$32)+SUMIF(Практики!$F$37:$F$66,A366,Практики!$G$37:$G$66)+SUMIF(Спец.!$H$5:$H$27,A366,Спец.!$F$5:$G$27)+SUMIF(Спец.!$H$31:$H$41,A366,Спец.!$F$31:$G$41)+SUMIF(Спец.!$H$43:$H$44,A366,Спец.!$F$43:$G$44)","v":0},0]
[365,null,{"$f":"SUMIF(План!$BP$5:$BP$1392,A367,План!$BY$5:$BY$1392)+SUMIF(Практики!$F$3:$F$32,A367,Практики!$G$3:$G$32)+SUMIF(Практики!$F$37:$F$66,A367,Практики!$G$37:$G$66)+SUMIF(Спец.!$H$5:$H$27,A367,Спец.!$F$5:$G$27)+SUMIF(Спец.!$H$31:$H$41,A367,Спец.!$F$31:$G$41)+SUMIF(Спец.!$H$43:$H$44,A367,Спец.!$F$43:$G$44)","v":0},0]
[366,null,{"$f":"SUMIF(План!$BP$5:$BP$1392,A368,План!$BY$5:$BY$1392)+SUMIF(Практики!$F$3:$F$32,A368,Практики!$G$3:$G$32)+SUMIF(Практики!$F$37:$F$66,A368,Практики!$G$37:$G$66)+SUMIF(Спец.!$H$5:$H$27,A368,Спец.!$F$5:$G$27)+SUMIF(Спец.!$H$31:$H$41,A368,Спец.!$F$31:$G$41)+SUMIF(Спец.!$H$43:$H$44,A368,Спец.!$F$43:$G$44)","v":0},0]
[367,null,{"$f":"SUMIF(План!$BP$5:$BP$1392,A369,План!$BY$5:$BY$1392)+SUMIF(Практики!$F$3:$F$32,A369,Практики!$G$3:$G$32)+SUMIF(Практики!$F$37:$F$66,A369,Практики!$G$37:$G$66)+SUMIF(Спец.!$H$5:$H$27,A369,Спец.!$F$5:$G$27)+SUMIF(Спец.!$H$31:$H$41,A369,Спец.!$F$31:$G$41)+SUMIF(Спец.!$H$43:$H$44,A369,Спец.!$F$43:$G$44)","v":0},0]
[368,null,{"$f":"SUMIF(План!$BP$5:$BP$1392,A370,План!$BY$5:$BY$1392)+SUMIF(Практики!$F$3:$F$32,A370,Практики!$G$3:$G$32)+SUMIF(Практики!$F$37:$F$66,A370,Практики!$G$37:$G$66)+SUMIF(Спец.!$H$5:$H$27,A370,Спец.!$F$5:$G$27)+SUMIF(Спец.!$H$31:$H$41,A370,Спец.!$F$31:$G$41)+SUMIF(Спец.!$H$43:$H$44,A370,Спец.!$F$43:$G$44)","v":0},0]
[369,null,{"$f":"SUMIF(План!$BP$5:$BP$1392,A371,План!$BY$5:$BY$1392)+SUMIF(Практики!$F$3:$F$32,A371,Практики!$G$3:$G$32)+SUMIF(Практики!$F$37:$F$66,A371,Практики!$G$37:$G$66)+SUMIF(Спец.!$H$5:$H$27,A371,Спец.!$F$5:$G$27)+SUMIF(Спец.!$H$31:$H$41,A371,Спец.!$F$31:$G$41)+SUMIF(Спец.!$H$43:$H$44,A371,Спец.!$F$43:$G$44)","v":0},0]
[370,null,{"$f":"SUMIF(План!$BP$5:$BP$1392,A372,План!$BY$5:$BY$1392)+SUMIF(Практики!$F$3:$F$32,A372,Практики!$G$3:$G$32)+SUMIF(Практики!$F$37:$F$66,A372,Практики!$G$37:$G$66)+SUMIF(Спец.!$H$5:$H$27,A372,Спец.!$F$5:$G$27)+SUMIF(Спец.!$H$31:$H$41,A372,Спец.!$F$31:$G$41)+SUMIF(Спец.!$H$43:$H$44,A372,Спец.!$F$43:$G$44)","v":0},0]
[371,null,{"$f":"SUMIF(План!$BP$5:$BP$1392,A373,План!$BY$5:$BY$1392)+SUMIF(Практики!$F$3:$F$32,A373,Практики!$G$3:$G$32)+SUMIF(Практики!$F$37:$F$66,A373,Практики!$G$37:$G$66)+SUMIF(Спец.!$H$5:$H$27,A373,Спец.!$F$5:$G$27)+SUMIF(Спец.!$H$31:$H$41,A373,Спец.!$F$31:$G$41)+SUMIF(Спец.!$H$43:$H$44,A373,Спец.!$F$43:$G$44)","v":0},0]
[372,null,{"$f":"SUMIF(План!$BP$5:$BP$1392,A374,План!$BY$5:$BY$1392)+SUMIF(Практики!$F$3:$F$32,A374,Практики!$G$3:$G$32)+SUMIF(Практики!$F$37:$F$66,A374,Практики!$G$37:$G$66)+SUMIF(Спец.!$H$5:$H$27,A374,Спец.!$F$5:$G$27)+SUMIF(Спец.!$H$31:$H$41,A374,Спец.!$F$31:$G$41)+SUMIF(Спец.!$H$43:$H$44,A374,Спец.!$F$43:$G$44)","v":0},0]
[373,null,{"$f":"SUMIF(План!$BP$5:$BP$1392,A375,План!$BY$5:$BY$1392)+SUMIF(Практики!$F$3:$F$32,A375,Практики!$G$3:$G$32)+SUMIF(Практики!$F$37:$F$66,A375,Практики!$G$37:$G$66)+SUMIF(Спец.!$H$5:$H$27,A375,Спец.!$F$5:$G$27)+SUMIF(Спец.!$H$31:$H$41,A375,Спец.!$F$31:$G$41)+SUMIF(Спец.!$H$43:$H$44,A375,Спец.!$F$43:$G$44)","v":0},0]
[374,null,{"$f":"SUMIF(План!$BP$5:$BP$1392,A376,План!$BY$5:$BY$1392)+SUMIF(Практики!$F$3:$F$32,A376,Практики!$G$3:$G$32)+SUMIF(Практики!$F$37:$F$66,A376,Практики!$G$37:$G$66)+SUMIF(Спец.!$H$5:$H$27,A376,Спец.!$F$5:$G$27)+SUMIF(Спец.!$H$31:$H$41,A376,Спец.!$F$31:$G$41)+SUMIF(Спец.!$H$43:$H$44,A376,Спец.!$F$43:$G$44)","v":0},0]
[375,null,{"$f":"SUMIF(План!$BP$5:$BP$1392,A377,План!$BY$5:$BY$1392)+SUMIF(Практики!$F$3:$F$32,A377,Практики!$G$3:$G$32)+SUMIF(Практики!$F$37:$F$66,A377,Практики!$G$37:$G$66)+SUMIF(Спец.!$H$5:$H$27,A377,Спец.!$F$5:$G$27)+SUMIF(Спец.!$H$31:$H$41,A377,Спец.!$F$31:$G$41)+SUMIF(Спец.!$H$43:$H$44,A377,Спец.!$F$43:$G$44)","v":0},0]
[376,null,{"$f":"SUMIF(План!$BP$5:$BP$1392,A378,План!$BY$5:$BY$1392)+SUMIF(Практики!$F$3:$F$32,A378,Практики!$G$3:$G$32)+SUMIF(Практики!$F$37:$F$66,A378,Практики!$G$37:$G$66)+SUMIF(Спец.!$H$5:$H$27,A378,Спец.!$F$5:$G$27)+SUMIF(Спец.!$H$31:$H$41,A378,Спец.!$F$31:$G$41)+SUMIF(Спец.!$H$43:$H$44,A378,Спец.!$F$43:$G$44)","v":0},0]
[377,null,{"$f":"SUMIF(План!$BP$5:$BP$1392,A379,План!$BY$5:$BY$1392)+SUMIF(Практики!$F$3:$F$32,A379,Практики!$G$3:$G$32)+SUMIF(Практики!$F$37:$F$66,A379,Практики!$G$37:$G$66)+SUMIF(Спец.!$H$5:$H$27,A379,Спец.!$F$5:$G$27)+SUMIF(Спец.!$H$31:$H$41,A379,Спец.!$F$31:$G$41)+SUMIF(Спец.!$H$43:$H$44,A379,Спец.!$F$43:$G$44)","v":0},0]
[378,null,{"$f":"SUMIF(План!$BP$5:$BP$1392,A380,План!$BY$5:$BY$1392)+SUMIF(Практики!$F$3:$F$32,A380,Практики!$G$3:$G$32)+SUMIF(Практики!$F$37:$F$66,A380,Практики!$G$37:$G$66)+SUMIF(Спец.!$H$5:$H$27,A380,Спец.!$F$5:$G$27)+SUMIF(Спец.!$H$31:$H$41,A380,Спец.!$F$31:$G$41)+SUMIF(Спец.!$H$43:$H$44,A380,Спец.!$F$43:$G$44)","v":0},0]
[379,null,{"$f":"SUMIF(План!$BP$5:$BP$1392,A381,План!$BY$5:$BY$1392)+SUMIF(Практики!$F$3:$F$32,A381,Практики!$G$3:$G$32)+SUMIF(Практики!$F$37:$F$66,A381,Практики!$G$37:$G$66)+SUMIF(Спец.!$H$5:$H$27,A381,Спец.!$F$5:$G$27)+SUMIF(Спец.!$H$31:$H$41,A381,Спец.!$F$31:$G$41)+SUMIF(Спец.!$H$43:$H$44,A381,Спец.!$F$43:$G$44)","v":0},0]
[380,null,{"$f":"SUMIF(План!$BP$5:$BP$1392,A382,План!$BY$5:$BY$1392)+SUMIF(Практики!$F$3:$F$32,A382,Практики!$G$3:$G$32)+SUMIF(Практики!$F$37:$F$66,A382,Практики!$G$37:$G$66)+SUMIF(Спец.!$H$5:$H$27,A382,Спец.!$F$5:$G$27)+SUMIF(Спец.!$H$31:$H$41,A382,Спец.!$F$31:$G$41)+SUMIF(Спец.!$H$43:$H$44,A382,Спец.!$F$43:$G$44)","v":0},0]
[381,null,{"$f":"SUMIF(План!$BP$5:$BP$1392,A383,План!$BY$5:$BY$1392)+SUMIF(Практики!$F$3:$F$32,A383,Практики!$G$3:$G$32)+SUMIF(Практики!$F$37:$F$66,A383,Практики!$G$37:$G$66)+SUMIF(Спец.!$H$5:$H$27,A383,Спец.!$F$5:$G$27)+SUMIF(Спец.!$H$31:$H$41,A383,Спец.!$F$31:$G$41)+SUMIF(Спец.!$H$43:$H$44,A383,Спец.!$F$43:$G$44)","v":0},0]
[382,null,{"$f":"SUMIF(План!$BP$5:$BP$1392,A384,План!$BY$5:$BY$1392)+SUMIF(Практики!$F$3:$F$32,A384,Практики!$G$3:$G$32)+SUMIF(Практики!$F$37:$F$66,A384,Практики!$G$37:$G$66)+SUMIF(Спец.!$H$5:$H$27,A384,Спец.!$F$5:$G$27)+SUMIF(Спец.!$H$31:$H$41,A384,Спец.!$F$31:$G$41)+SUMIF(Спец.!$H$43:$H$44,A384,Спец.!$F$43:$G$44)","v":0},0]
[383,null,{"$f":"SUMIF(План!$BP$5:$BP$1392,A385,План!$BY$5:$BY$1392)+SUMIF(Практики!$F$3:$F$32,A385,Практики!$G$3:$G$32)+SUMIF(Практики!$F$37:$F$66,A385,Практики!$G$37:$G$66)+SUMIF(Спец.!$H$5:$H$27,A385,Спец.!$F$5:$G$27)+SUMIF(Спец.!$H$31:$H$41,A385,Спец.!$F$31:$G$41)+SUMIF(Спец.!$H$43:$H$44,A385,Спец.!$F$43:$G$44)","v":0},0]
[384,null,{"$f":"SUMIF(План!$BP$5:$BP$1392,A386,План!$BY$5:$BY$1392)+SUMIF(Практики!$F$3:$F$32,A386,Практики!$G$3:$G$32)+SUMIF(Практики!$F$37:$F$66,A386,Практики!$G$37:$G$66)+SUMIF(Спец.!$H$5:$H$27,A386,Спец.!$F$5:$G$27)+SUMIF(Спец.!$H$31:$H$41,A386,Спец.!$F$31:$G$41)+SUMIF(Спец.!$H$43:$H$44,A386,Спец.!$F$43:$G$44)","v":0},0]
[385,null,{"$f":"SUMIF(План!$BP$5:$BP$1392,A387,План!$BY$5:$BY$1392)+SUMIF(Практики!$F$3:$F$32,A387,Практики!$G$3:$G$32)+SUMIF(Практики!$F$37:$F$66,A387,Практики!$G$37:$G$66)+SUMIF(Спец.!$H$5:$H$27,A387,Спец.!$F$5:$G$27)+SUMIF(Спец.!$H$31:$H$41,A387,Спец.!$F$31:$G$41)+SUMIF(Спец.!$H$43:$H$44,A387,Спец.!$F$43:$G$44)","v":0},0]
[386,null,{"$f":"SUMIF(План!$BP$5:$BP$1392,A388,План!$BY$5:$BY$1392)+SUMIF(Практики!$F$3:$F$32,A388,Практики!$G$3:$G$32)+SUMIF(Практики!$F$37:$F$66,A388,Практики!$G$37:$G$66)+SUMIF(Спец.!$H$5:$H$27,A388,Спец.!$F$5:$G$27)+SUMIF(Спец.!$H$31:$H$41,A388,Спец.!$F$31:$G$41)+SUMIF(Спец.!$H$43:$H$44,A388,Спец.!$F$43:$G$44)","v":0},{"$f":"IF($C$1>0,C388/$C$1,0)","v":0}]
[387,null,{"$f":"SUMIF(План!$BP$5:$BP$1392,A389,План!$BY$5:$BY$1392)+SUMIF(Практики!$F$3:$F$32,A389,Практики!$G$3:$G$32)+SUMIF(Практики!$F$37:$F$66,A389,Практики!$G$37:$G$66)+SUMIF(Спец.!$H$5:$H$27,A389,Спец.!$F$5:$G$27)+SUMIF(Спец.!$H$31:$H$41,A389,Спец.!$F$31:$G$41)+SUMIF(Спец.!$H$43:$H$44,A389,Спец.!$F$43:$G$44)","v":0},0]
[388,null,{"$f":"SUMIF(План!$BP$5:$BP$1392,A390,План!$BY$5:$BY$1392)+SUMIF(Практики!$F$3:$F$32,A390,Практики!$G$3:$G$32)+SUMIF(Практики!$F$37:$F$66,A390,Практики!$G$37:$G$66)+SUMIF(Спец.!$H$5:$H$27,A390,Спец.!$F$5:$G$27)+SUMIF(Спец.!$H$31:$H$41,A390,Спец.!$F$31:$G$41)+SUMIF(Спец.!$H$43:$H$44,A390,Спец.!$F$43:$G$44)","v":0},0]
[389,null,{"$f":"SUMIF(План!$BP$5:$BP$1392,A391,План!$BY$5:$BY$1392)+SUMIF(Практики!$F$3:$F$32,A391,Практики!$G$3:$G$32)+SUMIF(Практики!$F$37:$F$66,A391,Практики!$G$37:$G$66)+SUMIF(Спец.!$H$5:$H$27,A391,Спец.!$F$5:$G$27)+SUMIF(Спец.!$H$31:$H$41,A391,Спец.!$F$31:$G$41)+SUMIF(Спец.!$H$43:$H$44,A391,Спец.!$F$43:$G$44)","v":0},0]
[390,null,{"$f":"SUMIF(План!$BP$5:$BP$1392,A392,План!$BY$5:$BY$1392)+SUMIF(Практики!$F$3:$F$32,A392,Практики!$G$3:$G$32)+SUMIF(Практики!$F$37:$F$66,A392,Практики!$G$37:$G$66)+SUMIF(Спец.!$H$5:$H$27,A392,Спец.!$F$5:$G$27)+SUMIF(Спец.!$H$31:$H$41,A392,Спец.!$F$31:$G$41)+SUMIF(Спец.!$H$43:$H$44,A392,Спец.!$F$43:$G$44)","v":0},0]
[391,null,{"$f":"SUMIF(План!$BP$5:$BP$1392,A393,План!$BY$5:$BY$1392)+SUMIF(Практики!$F$3:$F$32,A393,Практики!$G$3:$G$32)+SUMIF(Практики!$F$37:$F$66,A393,Практики!$G$37:$G$66)+SUMIF(Спец.!$H$5:$H$27,A393,Спец.!$F$5:$G$27)+SUMIF(Спец.!$H$31:$H$41,A393,Спец.!$F$31:$G$41)+SUMIF(Спец.!$H$43:$H$44,A393,Спец.!$F$43:$G$44)","v":0},0]
[392,null,{"$f":"SUMIF(План!$BP$5:$BP$1392,A394,План!$BY$5:$BY$1392)+SUMIF(Практики!$F$3:$F$32,A394,Практики!$G$3:$G$32)+SUMIF(Практики!$F$37:$F$66,A394,Практики!$G$37:$G$66)+SUMIF(Спец.!$H$5:$H$27,A394,Спец.!$F$5:$G$27)+SUMIF(Спец.!$H$31:$H$41,A394,Спец.!$F$31:$G$41)+SUMIF(Спец.!$H$43:$H$44,A394,Спец.!$F$43:$G$44)","v":0},0]
[393,null,{"$f":"SUMIF(План!$BP$5:$BP$1392,A395,План!$BY$5:$BY$1392)+SUMIF(Практики!$F$3:$F$32,A395,Практики!$G$3:$G$32)+SUMIF(Практики!$F$37:$F$66,A395,Практики!$G$37:$G$66)+SUMIF(Спец.!$H$5:$H$27,A395,Спец.!$F$5:$G$27)+SUMIF(Спец.!$H$31:$H$41,A395,Спец.!$F$31:$G$41)+SUMIF(Спец.!$H$43:$H$44,A395,Спец.!$F$43:$G$44)","v":0},0]
[394,null,{"$f":"SUMIF(План!$BP$5:$BP$1392,A396,План!$BY$5:$BY$1392)+SUMIF(Практики!$F$3:$F$32,A396,Практики!$G$3:$G$32)+SUMIF(Практики!$F$37:$F$66,A396,Практики!$G$37:$G$66)+SUMIF(Спец.!$H$5:$H$27,A396,Спец.!$F$5:$G$27)+SUMIF(Спец.!$H$31:$H$41,A396,Спец.!$F$31:$G$41)+SUMIF(Спец.!$H$43:$H$44,A396,Спец.!$F$43:$G$44)","v":0},0]
[395,null,{"$f":"SUMIF(План!$BP$5:$BP$1392,A397,План!$BY$5:$BY$1392)+SUMIF(Практики!$F$3:$F$32,A397,Практики!$G$3:$G$32)+SUMIF(Практики!$F$37:$F$66,A397,Практики!$G$37:$G$66)+SUMIF(Спец.!$H$5:$H$27,A397,Спец.!$F$5:$G$27)+SUMIF(Спец.!$H$31:$H$41,A397,Спец.!$F$31:$G$41)+SUMIF(Спец.!$H$43:$H$44,A397,Спец.!$F$43:$G$44)","v":0},0]
[396,null,{"$f":"SUMIF(План!$BP$5:$BP$1392,A398,План!$BY$5:$BY$1392)+SUMIF(Практики!$F$3:$F$32,A398,Практики!$G$3:$G$32)+SUMIF(Практики!$F$37:$F$66,A398,Практики!$G$37:$G$66)+SUMIF(Спец.!$H$5:$H$27,A398,Спец.!$F$5:$G$27)+SUMIF(Спец.!$H$31:$H$41,A398,Спец.!$F$31:$G$41)+SUMIF(Спец.!$H$43:$H$44,A398,Спец.!$F$43:$G$44)","v":0},0]
[397,null,{"$f":"SUMIF(План!$BP$5:$BP$1392,A399,План!$BY$5:$BY$1392)+SUMIF(Практики!$F$3:$F$32,A399,Практики!$G$3:$G$32)+SUMIF(Практики!$F$37:$F$66,A399,Практики!$G$37:$G$66)+SUMIF(Спец.!$H$5:$H$27,A399,Спец.!$F$5:$G$27)+SUMIF(Спец.!$H$31:$H$41,A399,Спец.!$F$31:$G$41)+SUMIF(Спец.!$H$43:$H$44,A399,Спец.!$F$43:$G$44)","v":0},0]
[398,null,{"$f":"SUMIF(План!$BP$5:$BP$1392,A400,План!$BY$5:$BY$1392)+SUMIF(Практики!$F$3:$F$32,A400,Практики!$G$3:$G$32)+SUMIF(Практики!$F$37:$F$66,A400,Практики!$G$37:$G$66)+SUMIF(Спец.!$H$5:$H$27,A400,Спец.!$F$5:$G$27)+SUMIF(Спец.!$H$31:$H$41,A400,Спец.!$F$31:$G$41)+SUMIF(Спец.!$H$43:$H$44,A400,Спец.!$F$43:$G$44)","v":0},0]
[399,null,{"$f":"SUMIF(План!$BP$5:$BP$1392,A401,План!$BY$5:$BY$1392)+SUMIF(Практики!$F$3:$F$32,A401,Практики!$G$3:$G$32)+SUMIF(Практики!$F$37:$F$66,A401,Практики!$G$37:$G$66)+SUMIF(Спец.!$H$5:$H$27,A401,Спец.!$F$5:$G$27)+SUMIF(Спец.!$H$31:$H$41,A401,Спец.!$F$31:$G$41)+SUMIF(Спец.!$H$43:$H$44,A401,Спец.!$F$43:$G$44)","v":0},0]
[400,null,{"$f":"SUMIF(План!$BP$5:$BP$1392,A402,План!$BY$5:$BY$1392)+SUMIF(Практики!$F$3:$F$32,A402,Практики!$G$3:$G$32)+SUMIF(Практики!$F$37:$F$66,A402,Практики!$G$37:$G$66)+SUMIF(Спец.!$H$5:$H$27,A402,Спец.!$F$5:$G$27)+SUMIF(Спец.!$H$31:$H$41,A402,Спец.!$F$31:$G$41)+SUMIF(Спец.!$H$43:$H$44,A402,Спец.!$F$43:$G$44)","v":0},0]
[401,null,{"$f":"SUMIF(План!$BP$5:$BP$1392,A403,План!$BY$5:$BY$1392)+SUMIF(Практики!$F$3:$F$32,A403,Практики!$G$3:$G$32)+SUMIF(Практики!$F$37:$F$66,A403,Практики!$G$37:$G$66)+SUMIF(Спец.!$H$5:$H$27,A403,Спец.!$F$5:$G$27)+SUMIF(Спец.!$H$31:$H$41,A403,Спец.!$F$31:$G$41)+SUMIF(Спец.!$H$43:$H$44,A403,Спец.!$F$43:$G$44)","v":0},0]
[402,null,{"$f":"SUMIF(План!$BP$5:$BP$1392,A404,План!$BY$5:$BY$1392)+SUMIF(Практики!$F$3:$F$32,A404,Практики!$G$3:$G$32)+SUMIF(Практики!$F$37:$F$66,A404,Практики!$G$37:$G$66)+SUMIF(Спец.!$H$5:$H$27,A404,Спец.!$F$5:$G$27)+SUMIF(Спец.!$H$31:$H$41,A404,Спец.!$F$31:$G$41)+SUMIF(Спец.!$H$43:$H$44,A404,Спец.!$F$43:$G$44)","v":0},0]
[403,null,{"$f":"SUMIF(План!$BP$5:$BP$1392,A405,План!$BY$5:$BY$1392)+SUMIF(Практики!$F$3:$F$32,A405,Практики!$G$3:$G$32)+SUMIF(Практики!$F$37:$F$66,A405,Практики!$G$37:$G$66)+SUMIF(Спец.!$H$5:$H$27,A405,Спец.!$F$5:$G$27)+SUMIF(Спец.!$H$31:$H$41,A405,Спец.!$F$31:$G$41)+SUMIF(Спец.!$H$43:$H$44,A405,Спец.!$F$43:$G$44)","v":0},0]
[404,null,{"$f":"SUMIF(План!$BP$5:$BP$1392,A406,План!$BY$5:$BY$1392)+SUMIF(Практики!$F$3:$F$32,A406,Практики!$G$3:$G$32)+SUMIF(Практики!$F$37:$F$66,A406,Практики!$G$37:$G$66)+SUMIF(Спец.!$H$5:$H$27,A406,Спец.!$F$5:$G$27)+SUMIF(Спец.!$H$31:$H$41,A406,Спец.!$F$31:$G$41)+SUMIF(Спец.!$H$43:$H$44,A406,Спец.!$F$43:$G$44)","v":0},0]
[405,null,{"$f":"SUMIF(План!$BP$5:$BP$1392,A407,План!$BY$5:$BY$1392)+SUMIF(Практики!$F$3:$F$32,A407,Практики!$G$3:$G$32)+SUMIF(Практики!$F$37:$F$66,A407,Практики!$G$37:$G$66)+SUMIF(Спец.!$H$5:$H$27,A407,Спец.!$F$5:$G$27)+SUMIF(Спец.!$H$31:$H$41,A407,Спец.!$F$31:$G$41)+SUMIF(Спец.!$H$43:$H$44,A407,Спец.!$F$43:$G$44)","v":0},0]
[406,null,{"$f":"SUMIF(План!$BP$5:$BP$1392,A408,План!$BY$5:$BY$1392)+SUMIF(Практики!$F$3:$F$32,A408,Практики!$G$3:$G$32)+SUMIF(Практики!$F$37:$F$66,A408,Практики!$G$37:$G$66)+SUMIF(Спец.!$H$5:$H$27,A408,Спец.!$F$5:$G$27)+SUMIF(Спец.!$H$31:$H$41,A408,Спец.!$F$31:$G$41)+SUMIF(Спец.!$H$43:$H$44,A408,Спец.!$F$43:$G$44)","v":0},0]
[407,null,{"$f":"SUMIF(План!$BP$5:$BP$1392,A409,План!$BY$5:$BY$1392)+SUMIF(Практики!$F$3:$F$32,A409,Практики!$G$3:$G$32)+SUMIF(Практики!$F$37:$F$66,A409,Практики!$G$37:$G$66)+SUMIF(Спец.!$H$5:$H$27,A409,Спец.!$F$5:$G$27)+SUMIF(Спец.!$H$31:$H$41,A409,Спец.!$F$31:$G$41)+SUMIF(Спец.!$H$43:$H$44,A409,Спец.!$F$43:$G$44)","v":0},0]
[408,null,{"$f":"SUMIF(План!$BP$5:$BP$1392,A410,План!$BY$5:$BY$1392)+SUMIF(Практики!$F$3:$F$32,A410,Практики!$G$3:$G$32)+SUMIF(Практики!$F$37:$F$66,A410,Практики!$G$37:$G$66)+SUMIF(Спец.!$H$5:$H$27,A410,Спец.!$F$5:$G$27)+SUMIF(Спец.!$H$31:$H$41,A410,Спец.!$F$31:$G$41)+SUMIF(Спец.!$H$43:$H$44,A410,Спец.!$F$43:$G$44)","v":0},0]
[409,null,{"$f":"SUMIF(План!$BP$5:$BP$1392,A411,План!$BY$5:$BY$1392)+SUMIF(Практики!$F$3:$F$32,A411,Практики!$G$3:$G$32)+SUMIF(Практики!$F$37:$F$66,A411,Практики!$G$37:$G$66)+SUMIF(Спец.!$H$5:$H$27,A411,Спец.!$F$5:$G$27)+SUMIF(Спец.!$H$31:$H$41,A411,Спец.!$F$31:$G$41)+SUMIF(Спец.!$H$43:$H$44,A411,Спец.!$F$43:$G$44)","v":0},0]
[410,null,{"$f":"SUMIF(План!$BP$5:$BP$1392,A412,План!$BY$5:$BY$1392)+SUMIF(Практики!$F$3:$F$32,A412,Практики!$G$3:$G$32)+SUMIF(Практики!$F$37:$F$66,A412,Практики!$G$37:$G$66)+SUMIF(Спец.!$H$5:$H$27,A412,Спец.!$F$5:$G$27)+SUMIF(Спец.!$H$31:$H$41,A412,Спец.!$F$31:$G$41)+SUMIF(Спец.!$H$43:$H$44,A412,Спец.!$F$43:$G$44)","v":0},0]
[411,null,{"$f":"SUMIF(План!$BP$5:$BP$1392,A413,План!$BY$5:$BY$1392)+SUMIF(Практики!$F$3:$F$32,A413,Практики!$G$3:$G$32)+SUMIF(Практики!$F$37:$F$66,A413,Практики!$G$37:$G$66)+SUMIF(Спец.!$H$5:$H$27,A413,Спец.!$F$5:$G$27)+SUMIF(Спец.!$H$31:$H$41,A413,Спец.!$F$31:$G$41)+SUMIF(Спец.!$H$43:$H$44,A413,Спец.!$F$43:$G$44)","v":0},0]
[412,null,{"$f":"SUMIF(План!$BP$5:$BP$1392,A414,План!$BY$5:$BY$1392)+SUMIF(Практики!$F$3:$F$32,A414,Практики!$G$3:$G$32)+SUMIF(Практики!$F$37:$F$66,A414,Практики!$G$37:$G$66)+SUMIF(Спец.!$H$5:$H$27,A414,Спец.!$F$5:$G$27)+SUMIF(Спец.!$H$31:$H$41,A414,Спец.!$F$31:$G$41)+SUMIF(Спец.!$H$43:$H$44,A414,Спец.!$F$43:$G$44)","v":0},0]
[413,null,{"$f":"SUMIF(План!$BP$5:$BP$1392,A415,План!$BY$5:$BY$1392)+SUMIF(Практики!$F$3:$F$32,A415,Практики!$G$3:$G$32)+SUMIF(Практики!$F$37:$F$66,A415,Практики!$G$37:$G$66)+SUMIF(Спец.!$H$5:$H$27,A415,Спец.!$F$5:$G$27)+SUMIF(Спец.!$H$31:$H$41,A415,Спец.!$F$31:$G$41)+SUMIF(Спец.!$H$43:$H$44,A415,Спец.!$F$43:$G$44)","v":0},0]
[414,null,{"$f":"SUMIF(План!$BP$5:$BP$1392,A416,План!$BY$5:$BY$1392)+SUMIF(Практики!$F$3:$F$32,A416,Практики!$G$3:$G$32)+SUMIF(Практики!$F$37:$F$66,A416,Практики!$G$37:$G$66)+SUMIF(Спец.!$H$5:$H$27,A416,Спец.!$F$5:$G$27)+SUMIF(Спец.!$H$31:$H$41,A416,Спец.!$F$31:$G$41)+SUMIF(Спец.!$H$43:$H$44,A416,Спец.!$F$43:$G$44)","v":0},0]
[415,null,{"$f":"SUMIF(План!$BP$5:$BP$1392,A417,План!$BY$5:$BY$1392)+SUMIF(Практики!$F$3:$F$32,A417,Практики!$G$3:$G$32)+SUMIF(Практики!$F$37:$F$66,A417,Практики!$G$37:$G$66)+SUMIF(Спец.!$H$5:$H$27,A417,Спец.!$F$5:$G$27)+SUMIF(Спец.!$H$31:$H$41,A417,Спец.!$F$31:$G$41)+SUMIF(Спец.!$H$43:$H$44,A417,Спец.!$F$43:$G$44)","v":0},0]
[416,null,{"$f":"SUMIF(План!$BP$5:$BP$1392,A418,План!$BY$5:$BY$1392)+SUMIF(Практики!$F$3:$F$32,A418,Практики!$G$3:$G$32)+SUMIF(Практики!$F$37:$F$66,A418,Практики!$G$37:$G$66)+SUMIF(Спец.!$H$5:$H$27,A418,Спец.!$F$5:$G$27)+SUMIF(Спец.!$H$31:$H$41,A418,Спец.!$F$31:$G$41)+SUMIF(Спец.!$H$43:$H$44,A418,Спец.!$F$43:$G$44)","v":0},0]
[417,null,{"$f":"SUMIF(План!$BP$5:$BP$1392,A419,План!$BY$5:$BY$1392)+SUMIF(Практики!$F$3:$F$32,A419,Практики!$G$3:$G$32)+SUMIF(Практики!$F$37:$F$66,A419,Практики!$G$37:$G$66)+SUMIF(Спец.!$H$5:$H$27,A419,Спец.!$F$5:$G$27)+SUMIF(Спец.!$H$31:$H$41,A419,Спец.!$F$31:$G$41)+SUMIF(Спец.!$H$43:$H$44,A419,Спец.!$F$43:$G$44)","v":0},0]
[418,null,{"$f":"SUMIF(План!$BP$5:$BP$1392,A420,План!$BY$5:$BY$1392)+SUMIF(Практики!$F$3:$F$32,A420,Практики!$G$3:$G$32)+SUMIF(Практики!$F$37:$F$66,A420,Практики!$G$37:$G$66)+SUMIF(Спец.!$H$5:$H$27,A420,Спец.!$F$5:$G$27)+SUMIF(Спец.!$H$31:$H$41,A420,Спец.!$F$31:$G$41)+SUMIF(Спец.!$H$43:$H$44,A420,Спец.!$F$43:$G$44)","v":0},0]
[419,null,{"$f":"SUMIF(План!$BP$5:$BP$1392,A421,План!$BY$5:$BY$1392)+SUMIF(Практики!$F$3:$F$32,A421,Практики!$G$3:$G$32)+SUMIF(Практики!$F$37:$F$66,A421,Практики!$G$37:$G$66)+SUMIF(Спец.!$H$5:$H$27,A421,Спец.!$F$5:$G$27)+SUMIF(Спец.!$H$31:$H$41,A421,Спец.!$F$31:$G$41)+SUMIF(Спец.!$H$43:$H$44,A421,Спец.!$F$43:$G$44)","v":0},0]
[420,null,{"$f":"SUMIF(План!$BP$5:$BP$1392,A422,План!$BY$5:$BY$1392)+SUMIF(Практики!$F$3:$F$32,A422,Практики!$G$3:$G$32)+SUMIF(Практики!$F$37:$F$66,A422,Практики!$G$37:$G$66)+SUMIF(Спец.!$H$5:$H$27,A422,Спец.!$F$5:$G$27)+SUMIF(Спец.!$H$31:$H$41,A422,Спец.!$F$31:$G$41)+SUMIF(Спец.!$H$43:$H$44,A422,Спец.!$F$43:$G$44)","v":0},0]
[421,null,{"$f":"SUMIF(План!$BP$5:$BP$1392,A423,План!$BY$5:$BY$1392)+SUMIF(Практики!$F$3:$F$32,A423,Практики!$G$3:$G$32)+SUMIF(Практики!$F$37:$F$66,A423,Практики!$G$37:$G$66)+SUMIF(Спец.!$H$5:$H$27,A423,Спец.!$F$5:$G$27)+SUMIF(Спец.!$H$31:$H$41,A423,Спец.!$F$31:$G$41)+SUMIF(Спец.!$H$43:$H$44,A423,Спец.!$F$43:$G$44)","v":0},0]
[422,null,{"$f":"SUMIF(План!$BP$5:$BP$1392,A424,План!$BY$5:$BY$1392)+SUMIF(Практики!$F$3:$F$32,A424,Практики!$G$3:$G$32)+SUMIF(Практики!$F$37:$F$66,A424,Практики!$G$37:$G$66)+SUMIF(Спец.!$H$5:$H$27,A424,Спец.!$F$5:$G$27)+SUMIF(Спец.!$H$31:$H$41,A424,Спец.!$F$31:$G$41)+SUMIF(Спец.!$H$43:$H$44,A424,Спец.!$F$43:$G$44)","v":0},0]
[423,null,{"$f":"SUMIF(План!$BP$5:$BP$1392,A425,План!$BY$5:$BY$1392)+SUMIF(Практики!$F$3:$F$32,A425,Практики!$G$3:$G$32)+SUMIF(Практики!$F$37:$F$66,A425,Практики!$G$37:$G$66)+SUMIF(Спец.!$H$5:$H$27,A425,Спец.!$F$5:$G$27)+SUMIF(Спец.!$H$31:$H$41,A425,Спец.!$F$31:$G$41)+SUMIF(Спец.!$H$43:$H$44,A425,Спец.!$F$43:$G$44)","v":0},0]
[424,null,{"$f":"SUMIF(План!$BP$5:$BP$1392,A426,План!$BY$5:$BY$1392)+SUMIF(Практики!$F$3:$F$32,A426,Практики!$G$3:$G$32)+SUMIF(Практики!$F$37:$F$66,A426,Практики!$G$37:$G$66)+SUMIF(Спец.!$H$5:$H$27,A426,Спец.!$F$5:$G$27)+SUMIF(Спец.!$H$31:$H$41,A426,Спец.!$F$31:$G$41)+SUMIF(Спец.!$H$43:$H$44,A426,Спец.!$F$43:$G$44)","v":0},0]
[425,null,{"$f":"SUMIF(План!$BP$5:$BP$1392,A427,План!$BY$5:$BY$1392)+SUMIF(Практики!$F$3:$F$32,A427,Практики!$G$3:$G$32)+SUMIF(Практики!$F$37:$F$66,A427,Практики!$G$37:$G$66)+SUMIF(Спец.!$H$5:$H$27,A427,Спец.!$F$5:$G$27)+SUMIF(Спец.!$H$31:$H$41,A427,Спец.!$F$31:$G$41)+SUMIF(Спец.!$H$43:$H$44,A427,Спец.!$F$43:$G$44)","v":0},0]
[426,null,{"$f":"SUMIF(План!$BP$5:$BP$1392,A428,План!$BY$5:$BY$1392)+SUMIF(Практики!$F$3:$F$32,A428,Практики!$G$3:$G$32)+SUMIF(Практики!$F$37:$F$66,A428,Практики!$G$37:$G$66)+SUMIF(Спец.!$H$5:$H$27,A428,Спец.!$F$5:$G$27)+SUMIF(Спец.!$H$31:$H$41,A428,Спец.!$F$31:$G$41)+SUMIF(Спец.!$H$43:$H$44,A428,Спец.!$F$43:$G$44)","v":0},0]
[427,null,{"$f":"SUMIF(План!$BP$5:$BP$1392,A429,План!$BY$5:$BY$1392)+SUMIF(Практики!$F$3:$F$32,A429,Практики!$G$3:$G$32)+SUMIF(Практики!$F$37:$F$66,A429,Практики!$G$37:$G$66)+SUMIF(Спец.!$H$5:$H$27,A429,Спец.!$F$5:$G$27)+SUMIF(Спец.!$H$31:$H$41,A429,Спец.!$F$31:$G$41)+SUMIF(Спец.!$H$43:$H$44,A429,Спец.!$F$43:$G$44)","v":0},0]
[428,null,{"$f":"SUMIF(План!$BP$5:$BP$1392,A430,План!$BY$5:$BY$1392)+SUMIF(Практики!$F$3:$F$32,A430,Практики!$G$3:$G$32)+SUMIF(Практики!$F$37:$F$66,A430,Практики!$G$37:$G$66)+SUMIF(Спец.!$H$5:$H$27,A430,Спец.!$F$5:$G$27)+SUMIF(Спец.!$H$31:$H$41,A430,Спец.!$F$31:$G$41)+SUMIF(Спец.!$H$43:$H$44,A430,Спец.!$F$43:$G$44)","v":0},0]
[429,null,{"$f":"SUMIF(План!$BP$5:$BP$1392,A431,План!$BY$5:$BY$1392)+SUMIF(Практики!$F$3:$F$32,A431,Практики!$G$3:$G$32)+SUMIF(Практики!$F$37:$F$66,A431,Практики!$G$37:$G$66)+SUMIF(Спец.!$H$5:$H$27,A431,Спец.!$F$5:$G$27)+SUMIF(Спец.!$H$31:$H$41,A431,Спец.!$F$31:$G$41)+SUMIF(Спец.!$H$43:$H$44,A431,Спец.!$F$43:$G$44)","v":0},0]
[430,null,{"$f":"SUMIF(План!$BP$5:$BP$1392,A432,План!$BY$5:$BY$1392)+SUMIF(Практики!$F$3:$F$32,A432,Практики!$G$3:$G$32)+SUMIF(Практики!$F$37:$F$66,A432,Практики!$G$37:$G$66)+SUMIF(Спец.!$H$5:$H$27,A432,Спец.!$F$5:$G$27)+SUMIF(Спец.!$H$31:$H$41,A432,Спец.!$F$31:$G$41)+SUMIF(Спец.!$H$43:$H$44,A432,Спец.!$F$43:$G$44)","v":0},0]
[431,null,{"$f":"SUMIF(План!$BP$5:$BP$1392,A433,План!$BY$5:$BY$1392)+SUMIF(Практики!$F$3:$F$32,A433,Практики!$G$3:$G$32)+SUMIF(Практики!$F$37:$F$66,A433,Практики!$G$37:$G$66)+SUMIF(Спец.!$H$5:$H$27,A433,Спец.!$F$5:$G$27)+SUMIF(Спец.!$H$31:$H$41,A433,Спец.!$F$31:$G$41)+SUMIF(Спец.!$H$43:$H$44,A433,Спец.!$F$43:$G$44)","v":0},0]
[432,null,{"$f":"SUMIF(План!$BP$5:$BP$1392,A434,План!$BY$5:$BY$1392)+SUMIF(Практики!$F$3:$F$32,A434,Практики!$G$3:$G$32)+SUMIF(Практики!$F$37:$F$66,A434,Практики!$G$37:$G$66)+SUMIF(Спец.!$H$5:$H$27,A434,Спец.!$F$5:$G$27)+SUMIF(Спец.!$H$31:$H$41,A434,Спец.!$F$31:$G$41)+SUMIF(Спец.!$H$43:$H$44,A434,Спец.!$F$43:$G$44)","v":0},0]
[433,null,{"$f":"SUMIF(План!$BP$5:$BP$1392,A435,План!$BY$5:$BY$1392)+SUMIF(Практики!$F$3:$F$32,A435,Практики!$G$3:$G$32)+SUMIF(Практики!$F$37:$F$66,A435,Практики!$G$37:$G$66)+SUMIF(Спец.!$H$5:$H$27,A435,Спец.!$F$5:$G$27)+SUMIF(Спец.!$H$31:$H$41,A435,Спец.!$F$31:$G$41)+SUMIF(Спец.!$H$43:$H$44,A435,Спец.!$F$43:$G$44)","v":0},0]
[434,null,{"$f":"SUMIF(План!$BP$5:$BP$1392,A436,План!$BY$5:$BY$1392)+SUMIF(Практики!$F$3:$F$32,A436,Практики!$G$3:$G$32)+SUMIF(Практики!$F$37:$F$66,A436,Практики!$G$37:$G$66)+SUMIF(Спец.!$H$5:$H$27,A436,Спец.!$F$5:$G$27)+SUMIF(Спец.!$H$31:$H$41,A436,Спец.!$F$31:$G$41)+SUMIF(Спец.!$H$43:$H$44,A436,Спец.!$F$43:$G$44)","v":0},0]
[435,null,{"$f":"SUMIF(План!$BP$5:$BP$1392,A437,План!$BY$5:$BY$1392)+SUMIF(Практики!$F$3:$F$32,A437,Практики!$G$3:$G$32)+SUMIF(Практики!$F$37:$F$66,A437,Практики!$G$37:$G$66)+SUMIF(Спец.!$H$5:$H$27,A437,Спец.!$F$5:$G$27)+SUMIF(Спец.!$H$31:$H$41,A437,Спец.!$F$31:$G$41)+SUMIF(Спец.!$H$43:$H$44,A437,Спец.!$F$43:$G$44)","v":0},0]
[436,null,{"$f":"SUMIF(План!$BP$5:$BP$1392,A438,План!$BY$5:$BY$1392)+SUMIF(Практики!$F$3:$F$32,A438,Практики!$G$3:$G$32)+SUMIF(Практики!$F$37:$F$66,A438,Практики!$G$37:$G$66)+SUMIF(Спец.!$H$5:$H$27,A438,Спец.!$F$5:$G$27)+SUMIF(Спец.!$H$31:$H$41,A438,Спец.!$F$31:$G$41)+SUMIF(Спец.!$H$43:$H$44,A438,Спец.!$F$43:$G$44)","v":0},0]
[437,null,{"$f":"SUMIF(План!$BP$5:$BP$1392,A439,План!$BY$5:$BY$1392)+SUMIF(Практики!$F$3:$F$32,A439,Практики!$G$3:$G$32)+SUMIF(Практики!$F$37:$F$66,A439,Практики!$G$37:$G$66)+SUMIF(Спец.!$H$5:$H$27,A439,Спец.!$F$5:$G$27)+SUMIF(Спец.!$H$31:$H$41,A439,Спец.!$F$31:$G$41)+SUMIF(Спец.!$H$43:$H$44,A439,Спец.!$F$43:$G$44)","v":0},0]
[438,null,{"$f":"SUMIF(План!$BP$5:$BP$1392,A440,План!$BY$5:$BY$1392)+SUMIF(Практики!$F$3:$F$32,A440,Практики!$G$3:$G$32)+SUMIF(Практики!$F$37:$F$66,A440,Практики!$G$37:$G$66)+SUMIF(Спец.!$H$5:$H$27,A440,Спец.!$F$5:$G$27)+SUMIF(Спец.!$H$31:$H$41,A440,Спец.!$F$31:$G$41)+SUMIF(Спец.!$H$43:$H$44,A440,Спец.!$F$43:$G$44)","v":0},0]
[439,null,{"$f":"SUMIF(План!$BP$5:$BP$1392,A441,План!$BY$5:$BY$1392)+SUMIF(Практики!$F$3:$F$32,A441,Практики!$G$3:$G$32)+SUMIF(Практики!$F$37:$F$66,A441,Практики!$G$37:$G$66)+SUMIF(Спец.!$H$5:$H$27,A441,Спец.!$F$5:$G$27)+SUMIF(Спец.!$H$31:$H$41,A441,Спец.!$F$31:$G$41)+SUMIF(Спец.!$H$43:$H$44,A441,Спец.!$F$43:$G$44)","v":0},0]
[440,null,{"$f":"SUMIF(План!$BP$5:$BP$1392,A442,План!$BY$5:$BY$1392)+SUMIF(Практики!$F$3:$F$32,A442,Практики!$G$3:$G$32)+SUMIF(Практики!$F$37:$F$66,A442,Практики!$G$37:$G$66)+SUMIF(Спец.!$H$5:$H$27,A442,Спец.!$F$5:$G$27)+SUMIF(Спец.!$H$31:$H$41,A442,Спец.!$F$31:$G$41)+SUMIF(Спец.!$H$43:$H$44,A442,Спец.!$F$43:$G$44)","v":0},0]
[441,null,{"$f":"SUMIF(План!$BP$5:$BP$1392,A443,План!$BY$5:$BY$1392)+SUMIF(Практики!$F$3:$F$32,A443,Практики!$G$3:$G$32)+SUMIF(Практики!$F$37:$F$66,A443,Практики!$G$37:$G$66)+SUMIF(Спец.!$H$5:$H$27,A443,Спец.!$F$5:$G$27)+SUMIF(Спец.!$H$31:$H$41,A443,Спец.!$F$31:$G$41)+SUMIF(Спец.!$H$43:$H$44,A443,Спец.!$F$43:$G$44)","v":0},0]
[442,null,{"$f":"SUMIF(План!$BP$5:$BP$1392,A444,План!$BY$5:$BY$1392)+SUMIF(Практики!$F$3:$F$32,A444,Практики!$G$3:$G$32)+SUMIF(Практики!$F$37:$F$66,A444,Практики!$G$37:$G$66)+SUMIF(Спец.!$H$5:$H$27,A444,Спец.!$F$5:$G$27)+SUMIF(Спец.!$H$31:$H$41,A444,Спец.!$F$31:$G$41)+SUMIF(Спец.!$H$43:$H$44,A444,Спец.!$F$43:$G$44)","v":0},0]
[443,null,{"$f":"SUMIF(План!$BP$5:$BP$1392,A445,План!$BY$5:$BY$1392)+SUMIF(Практики!$F$3:$F$32,A445,Практики!$G$3:$G$32)+SUMIF(Практики!$F$37:$F$66,A445,Практики!$G$37:$G$66)+SUMIF(Спец.!$H$5:$H$27,A445,Спец.!$F$5:$G$27)+SUMIF(Спец.!$H$31:$H$41,A445,Спец.!$F$31:$G$41)+SUMIF(Спец.!$H$43:$H$44,A445,Спец.!$F$43:$G$44)","v":0},0]
[444,null,{"$f":"SUMIF(План!$BP$5:$BP$1392,A446,План!$BY$5:$BY$1392)+SUMIF(Практики!$F$3:$F$32,A446,Практики!$G$3:$G$32)+SUMIF(Практики!$F$37:$F$66,A446,Практики!$G$37:$G$66)+SUMIF(Спец.!$H$5:$H$27,A446,Спец.!$F$5:$G$27)+SUMIF(Спец.!$H$31:$H$41,A446,Спец.!$F$31:$G$41)+SUMIF(Спец.!$H$43:$H$44,A446,Спец.!$F$43:$G$44)","v":0},0]
[445,null,{"$f":"SUMIF(План!$BP$5:$BP$1392,A447,План!$BY$5:$BY$1392)+SUMIF(Практики!$F$3:$F$32,A447,Практики!$G$3:$G$32)+SUMIF(Практики!$F$37:$F$66,A447,Практики!$G$37:$G$66)+SUMIF(Спец.!$H$5:$H$27,A447,Спец.!$F$5:$G$27)+SUMIF(Спец.!$H$31:$H$41,A447,Спец.!$F$31:$G$41)+SUMIF(Спец.!$H$43:$H$44,A447,Спец.!$F$43:$G$44)","v":0},0]
[446,null,{"$f":"SUMIF(План!$BP$5:$BP$1392,A448,План!$BY$5:$BY$1392)+SUMIF(Практики!$F$3:$F$32,A448,Практики!$G$3:$G$32)+SUMIF(Практики!$F$37:$F$66,A448,Практики!$G$37:$G$66)+SUMIF(Спец.!$H$5:$H$27,A448,Спец.!$F$5:$G$27)+SUMIF(Спец.!$H$31:$H$41,A448,Спец.!$F$31:$G$41)+SUMIF(Спец.!$H$43:$H$44,A448,Спец.!$F$43:$G$44)","v":0},0]
[447,null,{"$f":"SUMIF(План!$BP$5:$BP$1392,A449,План!$BY$5:$BY$1392)+SUMIF(Практики!$F$3:$F$32,A449,Практики!$G$3:$G$32)+SUMIF(Практики!$F$37:$F$66,A449,Практики!$G$37:$G$66)+SUMIF(Спец.!$H$5:$H$27,A449,Спец.!$F$5:$G$27)+SUMIF(Спец.!$H$31:$H$41,A449,Спец.!$F$31:$G$41)+SUMIF(Спец.!$H$43:$H$44,A449,Спец.!$F$43:$G$44)","v":0},0]
[448,null,{"$f":"SUMIF(План!$BP$5:$BP$1392,A450,План!$BY$5:$BY$1392)+SUMIF(Практики!$F$3:$F$32,A450,Практики!$G$3:$G$32)+SUMIF(Практики!$F$37:$F$66,A450,Практики!$G$37:$G$66)+SUMIF(Спец.!$H$5:$H$27,A450,Спец.!$F$5:$G$27)+SUMIF(Спец.!$H$31:$H$41,A450,Спец.!$F$31:$G$41)+SUMIF(Спец.!$H$43:$H$44,A450,Спец.!$F$43:$G$44)","v":0},0]
[449,null,{"$f":"SUMIF(План!$BP$5:$BP$1392,A451,План!$BY$5:$BY$1392)+SUMIF(Практики!$F$3:$F$32,A451,Практики!$G$3:$G$32)+SUMIF(Практики!$F$37:$F$66,A451,Практики!$G$37:$G$66)+SUMIF(Спец.!$H$5:$H$27,A451,Спец.!$F$5:$G$27)+SUMIF(Спец.!$H$31:$H$41,A451,Спец.!$F$31:$G$41)+SUMIF(Спец.!$H$43:$H$44,A451,Спец.!$F$43:$G$44)","v":0},0]
[450,null,{"$f":"SUMIF(План!$BP$5:$BP$1392,A452,План!$BY$5:$BY$1392)+SUMIF(Практики!$F$3:$F$32,A452,Практики!$G$3:$G$32)+SUMIF(Практики!$F$37:$F$66,A452,Практики!$G$37:$G$66)+SUMIF(Спец.!$H$5:$H$27,A452,Спец.!$F$5:$G$27)+SUMIF(Спец.!$H$31:$H$41,A452,Спец.!$F$31:$G$41)+SUMIF(Спец.!$H$43:$H$44,A452,Спец.!$F$43:$G$44)","v":0},{"$f":"IF($C$1>0,C452/$C$1,0)","v":0}]
[451,null,{"$f":"SUMIF(План!$BP$5:$BP$1392,A453,План!$BY$5:$BY$1392)+SUMIF(Практики!$F$3:$F$32,A453,Практики!$G$3:$G$32)+SUMIF(Практики!$F$37:$F$66,A453,Практики!$G$37:$G$66)+SUMIF(Спец.!$H$5:$H$27,A453,Спец.!$F$5:$G$27)+SUMIF(Спец.!$H$31:$H$41,A453,Спец.!$F$31:$G$41)+SUMIF(Спец.!$H$43:$H$44,A453,Спец.!$F$43:$G$44)","v":0},0]
[452,null,{"$f":"SUMIF(План!$BP$5:$BP$1392,A454,План!$BY$5:$BY$1392)+SUMIF(Практики!$F$3:$F$32,A454,Практики!$G$3:$G$32)+SUMIF(Практики!$F$37:$F$66,A454,Практики!$G$37:$G$66)+SUMIF(Спец.!$H$5:$H$27,A454,Спец.!$F$5:$G$27)+SUMIF(Спец.!$H$31:$H$41,A454,Спец.!$F$31:$G$41)+SUMIF(Спец.!$H$43:$H$44,A454,Спец.!$F$43:$G$44)","v":0},0]
[453,null,{"$f":"SUMIF(План!$BP$5:$BP$1392,A455,План!$BY$5:$BY$1392)+SUMIF(Практики!$F$3:$F$32,A455,Практики!$G$3:$G$32)+SUMIF(Практики!$F$37:$F$66,A455,Практики!$G$37:$G$66)+SUMIF(Спец.!$H$5:$H$27,A455,Спец.!$F$5:$G$27)+SUMIF(Спец.!$H$31:$H$41,A455,Спец.!$F$31:$G$41)+SUMIF(Спец.!$H$43:$H$44,A455,Спец.!$F$43:$G$44)","v":0},0]
[454,null,{"$f":"SUMIF(План!$BP$5:$BP$1392,A456,План!$BY$5:$BY$1392)+SUMIF(Практики!$F$3:$F$32,A456,Практики!$G$3:$G$32)+SUMIF(Практики!$F$37:$F$66,A456,Практики!$G$37:$G$66)+SUMIF(Спец.!$H$5:$H$27,A456,Спец.!$F$5:$G$27)+SUMIF(Спец.!$H$31:$H$41,A456,Спец.!$F$31:$G$41)+SUMIF(Спец.!$H$43:$H$44,A456,Спец.!$F$43:$G$44)","v":0},0]
[455,null,{"$f":"SUMIF(План!$BP$5:$BP$1392,A457,План!$BY$5:$BY$1392)+SUMIF(Практики!$F$3:$F$32,A457,Практики!$G$3:$G$32)+SUMIF(Практики!$F$37:$F$66,A457,Практики!$G$37:$G$66)+SUMIF(Спец.!$H$5:$H$27,A457,Спец.!$F$5:$G$27)+SUMIF(Спец.!$H$31:$H$41,A457,Спец.!$F$31:$G$41)+SUMIF(Спец.!$H$43:$H$44,A457,Спец.!$F$43:$G$44)","v":0},0]
[456,null,{"$f":"SUMIF(План!$BP$5:$BP$1392,A458,План!$BY$5:$BY$1392)+SUMIF(Практики!$F$3:$F$32,A458,Практики!$G$3:$G$32)+SUMIF(Практики!$F$37:$F$66,A458,Практики!$G$37:$G$66)+SUMIF(Спец.!$H$5:$H$27,A458,Спец.!$F$5:$G$27)+SUMIF(Спец.!$H$31:$H$41,A458,Спец.!$F$31:$G$41)+SUMIF(Спец.!$H$43:$H$44,A458,Спец.!$F$43:$G$44)","v":0},0]
[457,null,{"$f":"SUMIF(План!$BP$5:$BP$1392,A459,План!$BY$5:$BY$1392)+SUMIF(Практики!$F$3:$F$32,A459,Практики!$G$3:$G$32)+SUMIF(Практики!$F$37:$F$66,A459,Практики!$G$37:$G$66)+SUMIF(Спец.!$H$5:$H$27,A459,Спец.!$F$5:$G$27)+SUMIF(Спец.!$H$31:$H$41,A459,Спец.!$F$31:$G$41)+SUMIF(Спец.!$H$43:$H$44,A459,Спец.!$F$43:$G$44)","v":0},0]
[458,null,{"$f":"SUMIF(План!$BP$5:$BP$1392,A460,План!$BY$5:$BY$1392)+SUMIF(Практики!$F$3:$F$32,A460,Практики!$G$3:$G$32)+SUMIF(Практики!$F$37:$F$66,A460,Практики!$G$37:$G$66)+SUMIF(Спец.!$H$5:$H$27,A460,Спец.!$F$5:$G$27)+SUMIF(Спец.!$H$31:$H$41,A460,Спец.!$F$31:$G$41)+SUMIF(Спец.!$H$43:$H$44,A460,Спец.!$F$43:$G$44)","v":0},0]
[459,null,{"$f":"SUMIF(План!$BP$5:$BP$1392,A461,План!$BY$5:$BY$1392)+SUMIF(Практики!$F$3:$F$32,A461,Практики!$G$3:$G$32)+SUMIF(Практики!$F$37:$F$66,A461,Практики!$G$37:$G$66)+SUMIF(Спец.!$H$5:$H$27,A461,Спец.!$F$5:$G$27)+SUMIF(Спец.!$H$31:$H$41,A461,Спец.!$F$31:$G$41)+SUMIF(Спец.!$H$43:$H$44,A461,Спец.!$F$43:$G$44)","v":0},0]
[460,null,{"$f":"SUMIF(План!$BP$5:$BP$1392,A462,План!$BY$5:$BY$1392)+SUMIF(Практики!$F$3:$F$32,A462,Практики!$G$3:$G$32)+SUMIF(Практики!$F$37:$F$66,A462,Практики!$G$37:$G$66)+SUMIF(Спец.!$H$5:$H$27,A462,Спец.!$F$5:$G$27)+SUMIF(Спец.!$H$31:$H$41,A462,Спец.!$F$31:$G$41)+SUMIF(Спец.!$H$43:$H$44,A462,Спец.!$F$43:$G$44)","v":0},0]
[461,null,{"$f":"SUMIF(План!$BP$5:$BP$1392,A463,План!$BY$5:$BY$1392)+SUMIF(Практики!$F$3:$F$32,A463,Практики!$G$3:$G$32)+SUMIF(Практики!$F$37:$F$66,A463,Практики!$G$37:$G$66)+SUMIF(Спец.!$H$5:$H$27,A463,Спец.!$F$5:$G$27)+SUMIF(Спец.!$H$31:$H$41,A463,Спец.!$F$31:$G$41)+SUMIF(Спец.!$H$43:$H$44,A463,Спец.!$F$43:$G$44)","v":0},0]
[462,null,{"$f":"SUMIF(План!$BP$5:$BP$1392,A464,План!$BY$5:$BY$1392)+SUMIF(Практики!$F$3:$F$32,A464,Практики!$G$3:$G$32)+SUMIF(Практики!$F$37:$F$66,A464,Практики!$G$37:$G$66)+SUMIF(Спец.!$H$5:$H$27,A464,Спец.!$F$5:$G$27)+SUMIF(Спец.!$H$31:$H$41,A464,Спец.!$F$31:$G$41)+SUMIF(Спец.!$H$43:$H$44,A464,Спец.!$F$43:$G$44)","v":0},0]
[463,null,{"$f":"SUMIF(План!$BP$5:$BP$1392,A465,План!$BY$5:$BY$1392)+SUMIF(Практики!$F$3:$F$32,A465,Практики!$G$3:$G$32)+SUMIF(Практики!$F$37:$F$66,A465,Практики!$G$37:$G$66)+SUMIF(Спец.!$H$5:$H$27,A465,Спец.!$F$5:$G$27)+SUMIF(Спец.!$H$31:$H$41,A465,Спец.!$F$31:$G$41)+SUMIF(Спец.!$H$43:$H$44,A465,Спец.!$F$43:$G$44)","v":0},0]
[464,null,{"$f":"SUMIF(План!$BP$5:$BP$1392,A466,План!$BY$5:$BY$1392)+SUMIF(Практики!$F$3:$F$32,A466,Практики!$G$3:$G$32)+SUMIF(Практики!$F$37:$F$66,A466,Практики!$G$37:$G$66)+SUMIF(Спец.!$H$5:$H$27,A466,Спец.!$F$5:$G$27)+SUMIF(Спец.!$H$31:$H$41,A466,Спец.!$F$31:$G$41)+SUMIF(Спец.!$H$43:$H$44,A466,Спец.!$F$43:$G$44)","v":0},0]
[465,null,{"$f":"SUMIF(План!$BP$5:$BP$1392,A467,План!$BY$5:$BY$1392)+SUMIF(Практики!$F$3:$F$32,A467,Практики!$G$3:$G$32)+SUMIF(Практики!$F$37:$F$66,A467,Практики!$G$37:$G$66)+SUMIF(Спец.!$H$5:$H$27,A467,Спец.!$F$5:$G$27)+SUMIF(Спец.!$H$31:$H$41,A467,Спец.!$F$31:$G$41)+SUMIF(Спец.!$H$43:$H$44,A467,Спец.!$F$43:$G$44)","v":0},0]
[466,null,{"$f":"SUMIF(План!$BP$5:$BP$1392,A468,План!$BY$5:$BY$1392)+SUMIF(Практики!$F$3:$F$32,A468,Практики!$G$3:$G$32)+SUMIF(Практики!$F$37:$F$66,A468,Практики!$G$37:$G$66)+SUMIF(Спец.!$H$5:$H$27,A468,Спец.!$F$5:$G$27)+SUMIF(Спец.!$H$31:$H$41,A468,Спец.!$F$31:$G$41)+SUMIF(Спец.!$H$43:$H$44,A468,Спец.!$F$43:$G$44)","v":0},0]
[467,null,{"$f":"SUMIF(План!$BP$5:$BP$1392,A469,План!$BY$5:$BY$1392)+SUMIF(Практики!$F$3:$F$32,A469,Практики!$G$3:$G$32)+SUMIF(Практики!$F$37:$F$66,A469,Практики!$G$37:$G$66)+SUMIF(Спец.!$H$5:$H$27,A469,Спец.!$F$5:$G$27)+SUMIF(Спец.!$H$31:$H$41,A469,Спец.!$F$31:$G$41)+SUMIF(Спец.!$H$43:$H$44,A469,Спец.!$F$43:$G$44)","v":0},0]
[468,null,{"$f":"SUMIF(План!$BP$5:$BP$1392,A470,План!$BY$5:$BY$1392)+SUMIF(Практики!$F$3:$F$32,A470,Практики!$G$3:$G$32)+SUMIF(Практики!$F$37:$F$66,A470,Практики!$G$37:$G$66)+SUMIF(Спец.!$H$5:$H$27,A470,Спец.!$F$5:$G$27)+SUMIF(Спец.!$H$31:$H$41,A470,Спец.!$F$31:$G$41)+SUMIF(Спец.!$H$43:$H$44,A470,Спец.!$F$43:$G$44)","v":0},0]
[469,null,{"$f":"SUMIF(План!$BP$5:$BP$1392,A471,План!$BY$5:$BY$1392)+SUMIF(Практики!$F$3:$F$32,A471,Практики!$G$3:$G$32)+SUMIF(Практики!$F$37:$F$66,A471,Практики!$G$37:$G$66)+SUMIF(Спец.!$H$5:$H$27,A471,Спец.!$F$5:$G$27)+SUMIF(Спец.!$H$31:$H$41,A471,Спец.!$F$31:$G$41)+SUMIF(Спец.!$H$43:$H$44,A471,Спец.!$F$43:$G$44)","v":0},0]
[470,null,{"$f":"SUMIF(План!$BP$5:$BP$1392,A472,План!$BY$5:$BY$1392)+SUMIF(Практики!$F$3:$F$32,A472,Практики!$G$3:$G$32)+SUMIF(Практики!$F$37:$F$66,A472,Практики!$G$37:$G$66)+SUMIF(Спец.!$H$5:$H$27,A472,Спец.!$F$5:$G$27)+SUMIF(Спец.!$H$31:$H$41,A472,Спец.!$F$31:$G$41)+SUMIF(Спец.!$H$43:$H$44,A472,Спец.!$F$43:$G$44)","v":0},0]
[471,null,{"$f":"SUMIF(План!$BP$5:$BP$1392,A473,План!$BY$5:$BY$1392)+SUMIF(Практики!$F$3:$F$32,A473,Практики!$G$3:$G$32)+SUMIF(Практики!$F$37:$F$66,A473,Практики!$G$37:$G$66)+SUMIF(Спец.!$H$5:$H$27,A473,Спец.!$F$5:$G$27)+SUMIF(Спец.!$H$31:$H$41,A473,Спец.!$F$31:$G$41)+SUMIF(Спец.!$H$43:$H$44,A473,Спец.!$F$43:$G$44)","v":0},0]
[472,null,{"$f":"SUMIF(План!$BP$5:$BP$1392,A474,План!$BY$5:$BY$1392)+SUMIF(Практики!$F$3:$F$32,A474,Практики!$G$3:$G$32)+SUMIF(Практики!$F$37:$F$66,A474,Практики!$G$37:$G$66)+SUMIF(Спец.!$H$5:$H$27,A474,Спец.!$F$5:$G$27)+SUMIF(Спец.!$H$31:$H$41,A474,Спец.!$F$31:$G$41)+SUMIF(Спец.!$H$43:$H$44,A474,Спец.!$F$43:$G$44)","v":0},0]
[473,null,{"$f":"SUMIF(План!$BP$5:$BP$1392,A475,План!$BY$5:$BY$1392)+SUMIF(Практики!$F$3:$F$32,A475,Практики!$G$3:$G$32)+SUMIF(Практики!$F$37:$F$66,A475,Практики!$G$37:$G$66)+SUMIF(Спец.!$H$5:$H$27,A475,Спец.!$F$5:$G$27)+SUMIF(Спец.!$H$31:$H$41,A475,Спец.!$F$31:$G$41)+SUMIF(Спец.!$H$43:$H$44,A475,Спец.!$F$43:$G$44)","v":0},0]
[474,null,{"$f":"SUMIF(План!$BP$5:$BP$1392,A476,План!$BY$5:$BY$1392)+SUMIF(Практики!$F$3:$F$32,A476,Практики!$G$3:$G$32)+SUMIF(Практики!$F$37:$F$66,A476,Практики!$G$37:$G$66)+SUMIF(Спец.!$H$5:$H$27,A476,Спец.!$F$5:$G$27)+SUMIF(Спец.!$H$31:$H$41,A476,Спец.!$F$31:$G$41)+SUMIF(Спец.!$H$43:$H$44,A476,Спец.!$F$43:$G$44)","v":0},0]
[475,null,{"$f":"SUMIF(План!$BP$5:$BP$1392,A477,План!$BY$5:$BY$1392)+SUMIF(Практики!$F$3:$F$32,A477,Практики!$G$3:$G$32)+SUMIF(Практики!$F$37:$F$66,A477,Практики!$G$37:$G$66)+SUMIF(Спец.!$H$5:$H$27,A477,Спец.!$F$5:$G$27)+SUMIF(Спец.!$H$31:$H$41,A477,Спец.!$F$31:$G$41)+SUMIF(Спец.!$H$43:$H$44,A477,Спец.!$F$43:$G$44)","v":0},0]
[476,null,{"$f":"SUMIF(План!$BP$5:$BP$1392,A478,План!$BY$5:$BY$1392)+SUMIF(Практики!$F$3:$F$32,A478,Практики!$G$3:$G$32)+SUMIF(Практики!$F$37:$F$66,A478,Практики!$G$37:$G$66)+SUMIF(Спец.!$H$5:$H$27,A478,Спец.!$F$5:$G$27)+SUMIF(Спец.!$H$31:$H$41,A478,Спец.!$F$31:$G$41)+SUMIF(Спец.!$H$43:$H$44,A478,Спец.!$F$43:$G$44)","v":0},0]
[477,null,{"$f":"SUMIF(План!$BP$5:$BP$1392,A479,План!$BY$5:$BY$1392)+SUMIF(Практики!$F$3:$F$32,A479,Практики!$G$3:$G$32)+SUMIF(Практики!$F$37:$F$66,A479,Практики!$G$37:$G$66)+SUMIF(Спец.!$H$5:$H$27,A479,Спец.!$F$5:$G$27)+SUMIF(Спец.!$H$31:$H$41,A479,Спец.!$F$31:$G$41)+SUMIF(Спец.!$H$43:$H$44,A479,Спец.!$F$43:$G$44)","v":0},0]
[478,null,{"$f":"SUMIF(План!$BP$5:$BP$1392,A480,План!$BY$5:$BY$1392)+SUMIF(Практики!$F$3:$F$32,A480,Практики!$G$3:$G$32)+SUMIF(Практики!$F$37:$F$66,A480,Практики!$G$37:$G$66)+SUMIF(Спец.!$H$5:$H$27,A480,Спец.!$F$5:$G$27)+SUMIF(Спец.!$H$31:$H$41,A480,Спец.!$F$31:$G$41)+SUMIF(Спец.!$H$43:$H$44,A480,Спец.!$F$43:$G$44)","v":0},0]
[479,null,{"$f":"SUMIF(План!$BP$5:$BP$1392,A481,План!$BY$5:$BY$1392)+SUMIF(Практики!$F$3:$F$32,A481,Практики!$G$3:$G$32)+SUMIF(Практики!$F$37:$F$66,A481,Практики!$G$37:$G$66)+SUMIF(Спец.!$H$5:$H$27,A481,Спец.!$F$5:$G$27)+SUMIF(Спец.!$H$31:$H$41,A481,Спец.!$F$31:$G$41)+SUMIF(Спец.!$H$43:$H$44,A481,Спец.!$F$43:$G$44)","v":0},0]
[480,null,{"$f":"SUMIF(План!$BP$5:$BP$1392,A482,План!$BY$5:$BY$1392)+SUMIF(Практики!$F$3:$F$32,A482,Практики!$G$3:$G$32)+SUMIF(Практики!$F$37:$F$66,A482,Практики!$G$37:$G$66)+SUMIF(Спец.!$H$5:$H$27,A482,Спец.!$F$5:$G$27)+SUMIF(Спец.!$H$31:$H$41,A482,Спец.!$F$31:$G$41)+SUMIF(Спец.!$H$43:$H$44,A482,Спец.!$F$43:$G$44)","v":0},0]
[481,null,{"$f":"SUMIF(План!$BP$5:$BP$1392,A483,План!$BY$5:$BY$1392)+SUMIF(Практики!$F$3:$F$32,A483,Практики!$G$3:$G$32)+SUMIF(Практики!$F$37:$F$66,A483,Практики!$G$37:$G$66)+SUMIF(Спец.!$H$5:$H$27,A483,Спец.!$F$5:$G$27)+SUMIF(Спец.!$H$31:$H$41,A483,Спец.!$F$31:$G$41)+SUMIF(Спец.!$H$43:$H$44,A483,Спец.!$F$43:$G$44)","v":0},0]
[482,null,{"$f":"SUMIF(План!$BP$5:$BP$1392,A484,План!$BY$5:$BY$1392)+SUMIF(Практики!$F$3:$F$32,A484,Практики!$G$3:$G$32)+SUMIF(Практики!$F$37:$F$66,A484,Практики!$G$37:$G$66)+SUMIF(Спец.!$H$5:$H$27,A484,Спец.!$F$5:$G$27)+SUMIF(Спец.!$H$31:$H$41,A484,Спец.!$F$31:$G$41)+SUMIF(Спец.!$H$43:$H$44,A484,Спец.!$F$43:$G$44)","v":0},0]
[483,null,{"$f":"SUMIF(План!$BP$5:$BP$1392,A485,План!$BY$5:$BY$1392)+SUMIF(Практики!$F$3:$F$32,A485,Практики!$G$3:$G$32)+SUMIF(Практики!$F$37:$F$66,A485,Практики!$G$37:$G$66)+SUMIF(Спец.!$H$5:$H$27,A485,Спец.!$F$5:$G$27)+SUMIF(Спец.!$H$31:$H$41,A485,Спец.!$F$31:$G$41)+SUMIF(Спец.!$H$43:$H$44,A485,Спец.!$F$43:$G$44)","v":0},0]
[484,null,{"$f":"SUMIF(План!$BP$5:$BP$1392,A486,План!$BY$5:$BY$1392)+SUMIF(Практики!$F$3:$F$32,A486,Практики!$G$3:$G$32)+SUMIF(Практики!$F$37:$F$66,A486,Практики!$G$37:$G$66)+SUMIF(Спец.!$H$5:$H$27,A486,Спец.!$F$5:$G$27)+SUMIF(Спец.!$H$31:$H$41,A486,Спец.!$F$31:$G$41)+SUMIF(Спец.!$H$43:$H$44,A486,Спец.!$F$43:$G$44)","v":0},0]
[485,null,{"$f":"SUMIF(План!$BP$5:$BP$1392,A487,План!$BY$5:$BY$1392)+SUMIF(Практики!$F$3:$F$32,A487,Практики!$G$3:$G$32)+SUMIF(Практики!$F$37:$F$66,A487,Практики!$G$37:$G$66)+SUMIF(Спец.!$H$5:$H$27,A487,Спец.!$F$5:$G$27)+SUMIF(Спец.!$H$31:$H$41,A487,Спец.!$F$31:$G$41)+SUMIF(Спец.!$H$43:$H$44,A487,Спец.!$F$43:$G$44)","v":0},0]
[486,null,{"$f":"SUMIF(План!$BP$5:$BP$1392,A488,План!$BY$5:$BY$1392)+SUMIF(Практики!$F$3:$F$32,A488,Практики!$G$3:$G$32)+SUMIF(Практики!$F$37:$F$66,A488,Практики!$G$37:$G$66)+SUMIF(Спец.!$H$5:$H$27,A488,Спец.!$F$5:$G$27)+SUMIF(Спец.!$H$31:$H$41,A488,Спец.!$F$31:$G$41)+SUMIF(Спец.!$H$43:$H$44,A488,Спец.!$F$43:$G$44)","v":0},0]
[487,null,{"$f":"SUMIF(План!$BP$5:$BP$1392,A489,План!$BY$5:$BY$1392)+SUMIF(Практики!$F$3:$F$32,A489,Практики!$G$3:$G$32)+SUMIF(Практики!$F$37:$F$66,A489,Практики!$G$37:$G$66)+SUMIF(Спец.!$H$5:$H$27,A489,Спец.!$F$5:$G$27)+SUMIF(Спец.!$H$31:$H$41,A489,Спец.!$F$31:$G$41)+SUMIF(Спец.!$H$43:$H$44,A489,Спец.!$F$43:$G$44)","v":0},0]
[488,null,{"$f":"SUMIF(План!$BP$5:$BP$1392,A490,План!$BY$5:$BY$1392)+SUMIF(Практики!$F$3:$F$32,A490,Практики!$G$3:$G$32)+SUMIF(Практики!$F$37:$F$66,A490,Практики!$G$37:$G$66)+SUMIF(Спец.!$H$5:$H$27,A490,Спец.!$F$5:$G$27)+SUMIF(Спец.!$H$31:$H$41,A490,Спец.!$F$31:$G$41)+SUMIF(Спец.!$H$43:$H$44,A490,Спец.!$F$43:$G$44)","v":0},0]
[489,null,{"$f":"SUMIF(План!$BP$5:$BP$1392,A491,План!$BY$5:$BY$1392)+SUMIF(Практики!$F$3:$F$32,A491,Практики!$G$3:$G$32)+SUMIF(Практики!$F$37:$F$66,A491,Практики!$G$37:$G$66)+SUMIF(Спец.!$H$5:$H$27,A491,Спец.!$F$5:$G$27)+SUMIF(Спец.!$H$31:$H$41,A491,Спец.!$F$31:$G$41)+SUMIF(Спец.!$H$43:$H$44,A491,Спец.!$F$43:$G$44)","v":0},0]
[490,null,{"$f":"SUMIF(План!$BP$5:$BP$1392,A492,План!$BY$5:$BY$1392)+SUMIF(Практики!$F$3:$F$32,A492,Практики!$G$3:$G$32)+SUMIF(Практики!$F$37:$F$66,A492,Практики!$G$37:$G$66)+SUMIF(Спец.!$H$5:$H$27,A492,Спец.!$F$5:$G$27)+SUMIF(Спец.!$H$31:$H$41,A492,Спец.!$F$31:$G$41)+SUMIF(Спец.!$H$43:$H$44,A492,Спец.!$F$43:$G$44)","v":0},0]
[491,null,{"$f":"SUMIF(План!$BP$5:$BP$1392,A493,План!$BY$5:$BY$1392)+SUMIF(Практики!$F$3:$F$32,A493,Практики!$G$3:$G$32)+SUMIF(Практики!$F$37:$F$66,A493,Практики!$G$37:$G$66)+SUMIF(Спец.!$H$5:$H$27,A493,Спец.!$F$5:$G$27)+SUMIF(Спец.!$H$31:$H$41,A493,Спец.!$F$31:$G$41)+SUMIF(Спец.!$H$43:$H$44,A493,Спец.!$F$43:$G$44)","v":0},0]
[492,null,{"$f":"SUMIF(План!$BP$5:$BP$1392,A494,План!$BY$5:$BY$1392)+SUMIF(Практики!$F$3:$F$32,A494,Практики!$G$3:$G$32)+SUMIF(Практики!$F$37:$F$66,A494,Практики!$G$37:$G$66)+SUMIF(Спец.!$H$5:$H$27,A494,Спец.!$F$5:$G$27)+SUMIF(Спец.!$H$31:$H$41,A494,Спец.!$F$31:$G$41)+SUMIF(Спец.!$H$43:$H$44,A494,Спец.!$F$43:$G$44)","v":0},0]
[493,null,{"$f":"SUMIF(План!$BP$5:$BP$1392,A495,План!$BY$5:$BY$1392)+SUMIF(Практики!$F$3:$F$32,A495,Практики!$G$3:$G$32)+SUMIF(Практики!$F$37:$F$66,A495,Практики!$G$37:$G$66)+SUMIF(Спец.!$H$5:$H$27,A495,Спец.!$F$5:$G$27)+SUMIF(Спец.!$H$31:$H$41,A495,Спец.!$F$31:$G$41)+SUMIF(Спец.!$H$43:$H$44,A495,Спец.!$F$43:$G$44)","v":0},0]
[494,null,{"$f":"SUMIF(План!$BP$5:$BP$1392,A496,План!$BY$5:$BY$1392)+SUMIF(Практики!$F$3:$F$32,A496,Практики!$G$3:$G$32)+SUMIF(Практики!$F$37:$F$66,A496,Практики!$G$37:$G$66)+SUMIF(Спец.!$H$5:$H$27,A496,Спец.!$F$5:$G$27)+SUMIF(Спец.!$H$31:$H$41,A496,Спец.!$F$31:$G$41)+SUMIF(Спец.!$H$43:$H$44,A496,Спец.!$F$43:$G$44)","v":0},0]
[495,null,{"$f":"SUMIF(План!$BP$5:$BP$1392,A497,План!$BY$5:$BY$1392)+SUMIF(Практики!$F$3:$F$32,A497,Практики!$G$3:$G$32)+SUMIF(Практики!$F$37:$F$66,A497,Практики!$G$37:$G$66)+SUMIF(Спец.!$H$5:$H$27,A497,Спец.!$F$5:$G$27)+SUMIF(Спец.!$H$31:$H$41,A497,Спец.!$F$31:$G$41)+SUMIF(Спец.!$H$43:$H$44,A497,Спец.!$F$43:$G$44)","v":0},0]
[496,null,{"$f":"SUMIF(План!$BP$5:$BP$1392,A498,План!$BY$5:$BY$1392)+SUMIF(Практики!$F$3:$F$32,A498,Практики!$G$3:$G$32)+SUMIF(Практики!$F$37:$F$66,A498,Практики!$G$37:$G$66)+SUMIF(Спец.!$H$5:$H$27,A498,Спец.!$F$5:$G$27)+SUMIF(Спец.!$H$31:$H$41,A498,Спец.!$F$31:$G$41)+SUMIF(Спец.!$H$43:$H$44,A498,Спец.!$F$43:$G$44)","v":0},0]
[497,null,{"$f":"SUMIF(План!$BP$5:$BP$1392,A499,План!$BY$5:$BY$1392)+SUMIF(Практики!$F$3:$F$32,A499,Практики!$G$3:$G$32)+SUMIF(Практики!$F$37:$F$66,A499,Практики!$G$37:$G$66)+SUMIF(Спец.!$H$5:$H$27,A499,Спец.!$F$5:$G$27)+SUMIF(Спец.!$H$31:$H$41,A499,Спец.!$F$31:$G$41)+SUMIF(Спец.!$H$43:$H$44,A499,Спец.!$F$43:$G$44)","v":0},0]
[498,null,{"$f":"SUMIF(План!$BP$5:$BP$1392,A500,План!$BY$5:$BY$1392)+SUMIF(Практики!$F$3:$F$32,A500,Практики!$G$3:$G$32)+SUMIF(Практики!$F$37:$F$66,A500,Практики!$G$37:$G$66)+SUMIF(Спец.!$H$5:$H$27,A500,Спец.!$F$5:$G$27)+SUMIF(Спец.!$H$31:$H$41,A500,Спец.!$F$31:$G$41)+SUMIF(Спец.!$H$43:$H$44,A500,Спец.!$F$43:$G$44)","v":0},0]
[499,null,{"$f":"SUMIF(План!$BP$5:$BP$1392,A501,План!$BY$5:$BY$1392)+SUMIF(Практики!$F$3:$F$32,A501,Практики!$G$3:$G$32)+SUMIF(Практики!$F$37:$F$66,A501,Практики!$G$37:$G$66)+SUMIF(Спец.!$H$5:$H$27,A501,Спец.!$F$5:$G$27)+SUMIF(Спец.!$H$31:$H$41,A501,Спец.!$F$31:$G$41)+SUMIF(Спец.!$H$43:$H$44,A501,Спец.!$F$43:$G$44)","v":0},0]
[500,null,{"$f":"SUMIF(План!$BP$5:$BP$1392,A502,План!$BY$5:$BY$1392)+SUMIF(Практики!$F$3:$F$32,A502,Практики!$G$3:$G$32)+SUMIF(Практики!$F$37:$F$66,A502,Практики!$G$37:$G$66)+SUMIF(Спец.!$H$5:$H$27,A502,Спец.!$F$5:$G$27)+SUMIF(Спец.!$H$31:$H$41,A502,Спец.!$F$31:$G$41)+SUMIF(Спец.!$H$43:$H$44,A502,Спец.!$F$43:$G$44)","v":0},0]

{"sheet":"Курс1","index":6,"n_rows":92,"n_cols":46,"rows_kept":92,"cut":false,"hidden":false,"merged":[[0,0,0,30],[1,0,1,30],[3,1,5,1],[3,30,5,30],[3,0,5,0],[3,28,5,28],[3,12,5,12],[4,3,4,11],[3,3,3,4],[3,29,5,29],[3,22,5,22],[4,13,4,21],[3,23,4,27],[84,23,84,29],[84,13,84,21],[80,0,80,2],[84,3,84,11],[82,13,82,21],[84,0,84,2],[83,3,83,11],[83,0,83,2],[83,23,83,29],[81,13,81,21],[83,13,83,21],[81,3,81,11],[3,42,5,42],[82,0,82,2],[3,13,3,14],[3,41,5,41],[3,40,5,40],[3,31,5,31],[77,0,77,2],[3,2,5,2],[82,3,82,11],[79,0,79,2],[81,0,81,2],[78,0,78,2],[75,0,75,2],[76,0,76,2],[78,23,78,25],[90,24,90,25],[89,18,89,25],[88,18,88,25],[85,0,85,2],[86,18,86,25],[88,0,90,2],[87,18,87,25],[87,0,87,2],[86,0,86,2]]}
[{"$f":"Титул!W2","v":"ГОУ ВПО \"Самарский государственный технический университет\""}]
[{"$f":"TRIM(\"Рабочий учебный план: \" &Титул!A12 &\" \"&Титул!A13&\" \"&Титул!A14&\" \"&Титул!A15&\" \"&Титул!A16&\" \"&Титул!A17&\" \"&Титул!A18&\" \"&Титул!A19)","v":"Рабочий учебный план: Направления 030600 \"Журналистика\" специальности 030602 \"Связи с общественностью\""}]
["Курс 1",null,{"$f":"\"Утвержден: \" &Титул!BC3&\"  \"&Титул!BD4","v":"Утвержден: Ректор  ____________  / Калашников В.В. /  \"___\"__________20___ г."},null,null,null,null,null,null,null,null,null,null,null,null,null,null,null,null,null,null,null,null,{"$f":"ТекущийПлан&\".pli\"","v":"030602_65-00-12345-2979.pli"}]
["№","Блок","Дисциплина","Осень(1)",null,"Нед. ТО+, Экз, РП :",null,null,null,{"$f":"Недель1","v":17.999999999999989},{"$f":"Экз1Осень","v":2.9999999999999991},{"$f":"IF(isFGOS,CEILING((SUMIF($AT$7:$AT$75,\">0\",L7:L75))/54,1/6),0)","v":0},"Контроль","Весна(2)",null,"Нед. ТО+, Экз, РП :",null,null,null,{"$f":"Недель2","v":17.999999999999989},{"$f":"Экз1Весна","v":2.9999999999999991},{"$f":"IF(isFGOS,CEILING((SUMIF($AT$7:$AT$75,\">0\",V7:V75))/54,1/6),0)","v":0},"Контроль","Итого АЧ за год",null,null,null,null,"ЗЕТ",{"$f":"СокрКРЕТИТОВ","v":"Cr ECTS"},"Каф","СРС ID",null,null,null,null,null,null,null,null,"Сем-Сем","ЗЕТ",{"$f":"AD4","v":"Cr ECTS"}]
[null,null,null,{"$f":"\"Объем работы \"&Студент&\"а в АЧ в семестре\"","v":"Объем работы студента в АЧ в семестре"},null,null,null,null,null,null,null,null,null,{"$f":"ЗаголовокОбъемаРаботы","v":"Объем работы студента в АЧ в семестре"}]
[null,null,null,"Лек","Лаб","Пр",{"$f":"КСР","v":"КСР"},"Ауд","СРС","Изуч","Экз","Всего",null,"Лек","Лаб","Пр",{"$f":"КСР","v":"КСР"},"Ауд","СРС","Изуч","Экз","Всего",null,"Ауд","СРС","Изуч","Экз","Всего",null,null,null,null,"Физра","Дис","Разд","Считать","Последний семестр","Строка в План",null,null,null,null,null,null,"Фак"]
[1,{"$f":"План!$A$6","v":"ГСЭ.Ф.1"},"Иностранный язык",{"$f":"План!$L$6","v":0},{"$f":"План!$M$6","v":0},{"$f":"План!$N$6","v":54},{"$f":"План!$O$6","v":0},{"$f":"SUM(D7:G7)","v":54},0,{"$f":"SUM(H7:I7)","v":54},null,{"$f":"SUM(J7:K7)","v":54},"З",{"$f":"План!$P$6","v":0},{"$f":"План!$Q$6","v":0},{"$f":"План!$R$6","v":36},{"$f":"План!$S$6","v":0},{"$f":"SUM(N7:Q7)","v":36},0,{"$f":"SUM(R7:S7)","v":36},null,{"$f":"SUM(T7:U7)","v":36},"З",{"$f":"H7+R7","v":90},{"$f":"I7+S7","v":0},{"$f":"J7+T7","v":90},{"$f":"K7+U7","v":0},{"$f":"V7+L7","v":90},{"$f":"FLOOR($AB7/IF($AP7>0,$AP7,ЧасовВКредите)+0.001,Точность)","v":2.5},{"$f":"FLOOR($AQ7,Точность)","v":3},{"$f":"План!$BP$6","v":3},{"$f":"160-ABS(Курс1!$I$7)-ABS(Курс1!$S$7)-ABS(Курс2!$I$7)-ABS(Курс2!$S$7)","v":0},0,0,0,1,4,6,1,null,{"$f":"$AM7&\"-\"&$AK7","v":"1-4"},{"$f":"IF($AL7>0,IF(INDIRECT(\"План!FT\"&$AL7)>0,FLOOR(INDIRECT(\"План!H\"&$AL7)/INDIRECT(\"План!FT\"&$AL7),Точность),IF(ЧасовВКредите>0,ЧасовВКредите,36)),0)","v":36},{"$f":"IF($AB$76>0,AB7/$AB$76*$AD$78,0)","v":3.005008347245409},{"$f":"IF(AND($AQ7>0,$AJ7>0),1,0)","v":1},{"$f":"IF(AND(AL7>1145,AL7<1166),1,0)","v":0},{"$f":"IF(AND(AJ7>0,AL7<1144,AL7>917),IF(isFGOS,AB7,0),0)","v":0}]
[2,{"$f":"План!$A$7","v":"ГСЭ.Ф.2"},"Физическая культура",{"$f":"План!$L$7","v":8},{"$f":"План!$M$7","v":0},{"$f":"План!$N$7","v":28},{"$f":"План!$O$7","v":0},{"$f":"SUM(D8:G8)","v":36},0,36,null,{"$f":"SUM(J8:K8)","v":36},"З",{"$f":"План!$P$7","v":6},{"$f":"План!$Q$7","v":0},{"$f":"План!$R$7","v":48},{"$f":"План!$S$7","v":0},{"$f":"SUM(N8:Q8)","v":54},0,54,null,{"$f":"SUM(T8:U8)","v":54},"З",{"$f":"H8+R8","v":90},{"$f":"I8+S8","v":0},{"$f":"J8+T8","v":90},{"$f":"K8+U8","v":0},{"$f":"V8+L8","v":90},{"$f":"Рабочий!$E$1+Рабочий!$E$2","v":2.5},3,{"$f":"План!$BP$7","v":21},{"$f":"30-ABS(Курс1!$I$8)-ABS(Курс1!$S$8)-ABS(Курс2!$I$8)-ABS(Курс2!$S$8)-ABS(Курс3!$I$7)-ABS(Курс3!$S$7)-ABS(Курс4!$I$7)-ABS(Курс4!$S$7)","v":0},1,0,0,1,8,7,1,null,{"$f":"$AM8&\"-\"&$AK8","v":"1-8"},36,3.005008347245409,{"$f":"IF(AND($AQ8>0,$AJ8>0),1,0)","v":1},{"$f":"IF(AND(AL8>1145,AL8<1166),1,0)","v":0},0]
[3,{"$f":"План!$A$8","v":"ГСЭ.Ф.3"},"Отечественная история",{"$f":"План!$L$8","v":0},{"$f":"План!$M$8","v":0},{"$f":"План!$N$8","v":0},{"$f":"План!$O$8","v":0},0,null,0,null,0,"",{"$f":"План!$P$8","v":36},{"$f":"План!$Q$8","v":0},{"$f":"План!$R$8","v":36},{"$f":"План!$S$8","v":0},72,{"$f":"План!$K$8","v":64},136,27,163,"Э",72,64,136,27,163,{"$f":"FLOOR($AB9/IF($AP9>0,$AP9,ЧасовВКредите)+0.001,Точность)","v":4.5},5,{"$f":"План!$BP$8","v":1},{"$f":"64-ABS(Курс1!$I$9)-ABS(Курс1!$S$9)","v":0},0,0,0,1,2,8,2,null,"2-2",36,5.4424040066777968,1,0,0]
[4,{"$f":"План!$A$10","v":"ГСЭ.Ф.5"},"Психология и педагогика",{"$f":"План!$L$10","v":0},{"$f":"План!$M$10","v":0},{"$f":"План!$N$10","v":0},{"$f":"План!$O$10","v":0},0,null,0,null,0,"",{"$f":"План!$P$10","v":36},{"$f":"План!$Q$10","v":0},{"$f":"План!$R$10","v":18},{"$f":"План!$S$10","v":0},54,{"$f":"План!$K$10","v":54},108,27,135,"Э",54,54,108,27,135,{"$f":"FLOOR($AB10/IF($AP10>0,$AP10,ЧасовВКредите)+0.001,Точность)","v":3.5},4.5,{"$f":"План!$BP$10","v":4},{"$f":"54-ABS(Курс1!$I$10)-ABS(Курс1!$S$10)","v":0},0,0,0,1,2,10,2,null,"2-2",36,4.5075125208681142,1,0,0]
[5,{"$f":"План!$A$66","v":"ГСЭ.Р.1"},"Политология, культурология, социология",{"$f":"План!$L$66","v":0},{"$f":"План!$M$66","v":0},{"$f":"План!$N$66","v":0},{"$f":"План!$O$66","v":0},0,null,0,null,0,"",{"$f":"План!$P$66","v":18},{"$f":"План!$Q$66","v":0},{"$f":"План!$R$66","v":18},{"$f":"План!$S$66","v":0},36,0,36,null,36,"З",36,0,36,0,36,{"$f":"FLOOR($AB11/IF($AP11>0,$AP11,ЧасовВКредите)+0.001,Точность)","v":1},1,{"$f":"План!$BP$66","v":1},{"$f":"106-ABS(Курс1!$I$11)-ABS(Курс1!$S$11)-ABS(Курс2!$I$11)-ABS(Курс2!$S$11)","v":0},0,0,0,1,4,66,2,null,"2-4",36,1.2020033388981637,1,0,0]
[6,"ГСЭ.B1","Русский язык и культура речи",{"$f":"План!$L$103","v":18},{"$f":"План!$M$103","v":0},{"$f":"План!$N$103","v":18},{"$f":"План!$O$103","v":0},36,{"$f":"План!$K$103","v":32},68,null,68,"З",{"$f":"План!$P$103","v":0},{"$f":"План!$Q$103","v":0},{"$f":"План!$R$103","v":0},{"$f":"План!$S$103","v":0},0,null,0,null,0,"",36,32,68,0,68,{"$f":"FLOOR($AB12/IF($AP12>0,$AP12,ЧасовВКредите)+0.001,Точность)","v":1.5},2,{"$f":"План!$BP$103","v":4},{"$f":"32-ABS(Курс1!$I$12)-ABS(Курс1!$S$12)","v":0},null,null,null,1,1,103,1,null,"1-1",36,2.2704507512520866,1,0,0]
[7,"ГСЭ.B1","История Поволжья и Самарской области",{"$f":"План!$L$104","v":18},{"$f":"План!$M$104","v":0},{"$f":"План!$N$104","v":18},{"$f":"План!$O$104","v":0},36,{"$f":"План!$K$104","v":32},68,null,68,"З",{"$f":"План!$P$104","v":0},{"$f":"План!$Q$104","v":0},{"$f":"План!$R$104","v":0},{"$f":"План!$S$104","v":0},0,null,0,null,0,"",36,32,68,0,68,{"$f":"FLOOR($AB13/IF($AP13>0,$AP13,ЧасовВКредите)+0.001,Точность)","v":1.5},2,{"$f":"План!$BP$104","v":1},{"$f":"32-ABS(Курс1!$I$13)-ABS(Курс1!$S$13)","v":0},null,null,null,0,1,104,1,null,"1-1",36,2.2704507512520866,0,0,0]
[8,"ГСЭ.B2","Технические средства массовой информации",{"$f":"План!$L$113","v":0},{"$f":"План!$M$113","v":0},{"$f":"План!$N$113","v":0},{"$f":"План!$O$113","v":0},0,null,0,null,0,"",{"$f":"План!$P$113","v":18},{"$f":"План!$Q$113","v":0},{"$f":"План!$R$113","v":18},{"$f":"План!$S$113","v":0},36,{"$f":"План!$K$113","v":36},72,null,72,"З",36,36,72,0,72,{"$f":"FLOOR($AB14/IF($AP14>0,$AP14,ЧасовВКредите)+0.001,Точность)","v":2},2,{"$f":"План!$BP$113","v":4},{"$f":"36-ABS(Курс1!$I$14)-ABS(Курс1!$S$14)","v":0},null,null,null,1,2,113,2,null,"2-2",36,2.4040066777963274,1,0,0]
[9,"ГСЭ.B2","Памятники изобразительного искусства",{"$f":"План!$L$114","v":0},{"$f":"План!$M$114","v":0},{"$f":"План!$N$114","v":0},{"$f":"План!$O$114","v":0},0,null,0,null,0,"",{"$f":"План!$P$114","v":18},{"$f":"План!$Q$114","v":0},{"$f":"План!$R$114","v":18},{"$f":"План!$S$114","v":0},36,{"$f":"План!$K$114","v":36},72,null,72,"З",36,36,72,0,72,{"$f":"FLOOR($AB15/IF($AP15>0,$AP15,ЧасовВКредите)+0.001,Точность)","v":2},2,{"$f":"План!$BP$114","v":4},{"$f":"36-ABS(Курс1!$I$15)-ABS(Курс1!$S$15)","v":0},null,null,null,0,2,114,2,null,"2-2",36,2.4040066777963274,0,0,0]
[10,{"$f":"План!$A$234","v":"ЕН.Ф.1"},"Математика",{"$f":"План!$L$234","v":36},{"$f":"План!$M$234","v":0},{"$f":"План!$N$234","v":18},{"$f":"План!$O$234","v":0},54,{"$f":"План!$K$234","v":49},103,27,130,"Э",{"$f":"План!$P$234","v":0},{"$f":"План!$Q$234","v":0},{"$f":"План!$R$234","v":0},{"$f":"План!$S$234","v":0},0,null,0,null,0,"",54,49,103,27,130,{"$f":"FLOOR($AB16/IF($AP16>0,$AP16,ЧасовВКредите)+0.001,Точность)","v":3.5},4,{"$f":"План!$BP$234","v":8},{"$f":"49-ABS(Курс1!$I$16)-ABS(Курс1!$S$16)","v":0},0,0,0,1,1,234,1,null,"1-1",36,4.3405676126878134,1,0,0]
[11,{"$f":"План!$A$235","v":"ЕН.Ф.2"},"Информатика",{"$f":"План!$L$235","v":18},{"$f":"План!$M$235","v":36},{"$f":"План!$N$235","v":0},{"$f":"План!$O$235","v":0},54,{"$f":"План!$K$235","v":63},117,null,117,"З",{"$f":"План!$P$235","v":0},{"$f":"План!$Q$235","v":0},{"$f":"План!$R$235","v":0},{"$f":"План!$S$235","v":0},0,null,0,null,0,"",54,63,117,0,117,{"$f":"FLOOR($AB17/IF($AP17>0,$AP17,ЧасовВКредите)+0.001,Точность)","v":3},3.5,{"$f":"План!$BP$235","v":8},{"$f":"63-ABS(Курс1!$I$17)-ABS(Курс1!$S$17)","v":0},0,0,0,1,1,235,1,null,"1-1",36,3.9065108514190321,1,0,0]
[12,{"$f":"План!$A$236","v":"ЕН.Ф.3"},"Концепции современного естествознания",{"$f":"План!$L$236","v":36},{"$f":"План!$M$236","v":0},{"$f":"План!$N$236","v":18},{"$f":"План!$O$236","v":0},54,{"$f":"План!$K$236","v":46},100,27,127,"Э",{"$f":"План!$P$236","v":0},{"$f":"План!$Q$236","v":0},{"$f":"План!$R$236","v":0},{"$f":"План!$S$236","v":0},0,null,0,null,0,"",54,46,100,27,127,{"$f":"FLOOR($AB18/IF($AP18>0,$AP18,ЧасовВКредите)+0.001,Точность)","v":3.5},4,{"$f":"План!$BP$236","v":41},{"$f":"46-ABS(Курс1!$I$18)-ABS(Курс1!$S$18)","v":0},0,0,0,1,1,236,1,null,"1-1",36,4.2404006677796326,1,0,0]
[13,{"$f":"План!$A$462","v":"ОПД.Ф.1"},"Теория и практика связей с общественностью",{"$f":"План!$L$462","v":36},{"$f":"План!$M$462","v":0},{"$f":"План!$N$462","v":36},{"$f":"План!$O$462","v":0},72,0,72,27,99,"Э",{"$f":"План!$P$462","v":36},{"$f":"План!$Q$462","v":36},{"$f":"План!$R$462","v":0},{"$f":"План!$S$462","v":0},72,0,72,27,99,"Э",144,0,144,54,198,{"$f":"FLOOR($AB19/IF($AP19>0,$AP19,ЧасовВКредите)+0.001,Точность)","v":5.5},6.5,{"$f":"План!$BP$462","v":4},{"$f":"280-ABS(Курс1!$I$19)-ABS(Курс1!$S$19)-ABS(Курс2!$I$15)-ABS(Курс2!$S$15)-ABS(Курс3!$I$11)-ABS(Курс3!$S$11)","v":0},0,0,0,1,6,462,1,null,"1-6",36,6.6110183639399001,1,0,0]
[14,{"$f":"План!$A$463","v":"ОПД.Ф.2"},"История мировой литературы и искусства",{"$f":"План!$L$463","v":36},{"$f":"План!$M$463","v":0},{"$f":"План!$N$463","v":18},{"$f":"План!$O$463","v":0},54,0,54,27,81,"Э",{"$f":"План!$P$463","v":18},{"$f":"План!$Q$463","v":0},{"$f":"План!$R$463","v":18},{"$f":"План!$S$463","v":0},36,0,36,null,36,"З",90,0,90,27,117,{"$f":"FLOOR($AB20/IF($AP20>0,$AP20,ЧасовВКредите)+0.001,Точность)","v":3},3.5,{"$f":"План!$BP$463","v":4},{"$f":"132-ABS(Курс1!$I$20)-ABS(Курс1!$S$20)-ABS(Курс2!$I$16)-ABS(Курс2!$S$16)","v":0},0,0,0,1,3,463,1,null,"1-3",36,3.9065108514190321,1,0,0]
[15,{"$f":"План!$A$464","v":"ОПД.Ф.3"},"Логика и теория аргументации",{"$f":"План!$L$464","v":0},{"$f":"План!$M$464","v":0},{"$f":"План!$N$464","v":0},{"$f":"План!$O$464","v":0},0,null,0,null,0,"",{"$f":"План!$P$464","v":18},{"$f":"План!$Q$464","v":0},{"$f":"План!$R$464","v":18},{"$f":"План!$S$464","v":0},36,{"$f":"План!$K$464","v":36},72,27,99,"Э",36,36,72,27,99,{"$f":"FLOOR($AB21/IF($AP21>0,$AP21,ЧасовВКредите)+0.001,Точность)","v":2.5},3,{"$f":"План!$BP$464","v":4},{"$f":"36-ABS(Курс1!$I$21)-ABS(Курс1!$S$21)","v":0},0,0,0,1,2,464,2,null,"2-2",36,3.30550918196995,1,0,0]
[16,{"$f":"План!$A$470","v":"ОПД.Ф.9"},"Теория и практика массовой информации",{"$f":"План!$L$470","v":36},{"$f":"План!$M$470","v":0},{"$f":"План!$N$470","v":36},{"$f":"План!$O$470","v":0},72,0,72,null,72,"З",{"$f":"План!$P$470","v":18},{"$f":"План!$Q$470","v":18},{"$f":"План!$R$470","v":0},{"$f":"План!$S$470","v":0},36,0,36,27,63,"Э",108,0,108,27,135,{"$f":"FLOOR($AB22/IF($AP22>0,$AP22,ЧасовВКредите)+0.001,Точность)","v":3.5},4.5,{"$f":"План!$BP$470","v":4},{"$f":"236-ABS(Курс1!$I$22)-ABS(Курс1!$S$22)-ABS(Курс2!$I$17)-ABS(Курс2!$S$17)-ABS(Курс3!$I$13)-ABS(Курс3!$S$13)","v":0},0,0,0,1,6,470,1,null,"1-6",36,4.5075125208681142,1,0,0]
[17,"ОПД.B1","Риторика и культура общения",{"$f":"План!$L$559","v":0},{"$f":"План!$M$559","v":0},{"$f":"План!$N$559","v":0},{"$f":"План!$O$559","v":0},0,null,0,null,0,"",{"$f":"План!$P$559","v":36},{"$f":"План!$Q$559","v":0},{"$f":"План!$R$559","v":36},{"$f":"План!$S$559","v":0},72,{"$f":"План!$K$559","v":76},148,null,148,"З",72,76,148,0,148,{"$f":"FLOOR($AB23/IF($AP23>0,$AP23,ЧасовВКредите)+0.001,Точность)","v":4},4.5,{"$f":"План!$BP$559","v":4},{"$f":"76-ABS(Курс1!$I$23)-ABS(Курс1!$S$23)","v":0},null,null,null,1,2,559,2,null,"2-2",36,4.9415692821368946,1,0,0]
[18,"ОПД.B1","Современный русский язык",{"$f":"План!$L$560","v":0},{"$f":"План!$M$560","v":0},{"$f":"План!$N$560","v":0},{"$f":"План!$O$560","v":0},0,null,0,null,0,"",{"$f":"План!$P$560","v":36},{"$f":"План!$Q$560","v":0},{"$f":"План!$R$560","v":36},{"$f":"План!$S$560","v":0},72,{"$f":"План!$K$560","v":76},148,null,148,"З",72,76,148,0,148,{"$f":"FLOOR($AB24/IF($AP24>0,$AP24,ЧасовВКредите)+0.001,Точность)","v":4},4.5,{"$f":"План!$BP$560","v":4},{"$f":"76-ABS(Курс1!$I$24)-ABS(Курс1!$S$24)","v":0},null,null,null,0,2,560,2,null,"2-2",36,4.9415692821368946,0,0,0]
[19,{"$f":"План!$A$1147","v":"ФТД.2"},"Деловой иностранный язык",{"$f":"План!$L$1147","v":0},{"$f":"План!$M$1147","v":0},{"$f":"План!$N$1147","v":36},{"$f":"План!$O$1147","v":0},36,0,36,null,36,"З",{"$f":"План!$P$1147","v":0},{"$f":"План!$Q$1147","v":0},{"$f":"План!$R$1147","v":36},{"$f":"План!$S$1147","v":0},36,0,36,null,36,"З",72,0,72,0,72,{"$f":"FLOOR($AB25/IF($AP25>0,$AP25,ЧасовВКредите)+0.001,Точность)","v":2},2,{"$f":"План!$BP$1147","v":4},{"$f":"168-ABS(Курс1!$I$25)-ABS(Курс1!$S$25)-ABS(Курс2!$I$22)-ABS(Курс2!$S$22)","v":0},0,0,0,1,4,1147,1,null,"1-4",36,2.4040066777963274,1,1,0]
[null,null,null,null,null,null,null,0,null,0,null,0,null,null,null,null,null,0,null,0,null,0,null,0,0,0,0,0,{"$f":"FLOOR($AB26/IF($AP26>0,$AP26,ЧасовВКредите)+0.001,Точность)","v":0},0,null,null,null,null,null,null,null,null,null,null,"-",0,0,0,0,0]
[null,null,null,null,null,null,null,0,null,0,null,0,null,null,null,null,null,0,null,0,null,0,null,0,0,0,0,0,{"$f":"FLOOR($AB27/IF($AP27>0,$AP27,ЧасовВКредите)+0.001,Точность)","v":0},0,null,null,null,null,null,null,null,null,null,null,"-",0,0,0,0,0]
[null,null,null,null,null,null,null,0,null,0,null,0,null,null,null,null,null,0,null,0,null,0,null,0,0,0,0,0,{"$f":"FLOOR($AB28/IF($AP28>0,$AP28,ЧасовВКредите)+0.001,Точность)","v":0},0,null,null,null,null,null,null,null,null,null,null,"-",0,0,0,0,0]
[null,null,null,null,null,null,null,0,null,0,null,0,null,null,null,null,null,0,null,0,null,0,null,0,0,0,0,0,{"$f":"FLOOR($AB29/IF($AP29>0,$AP29,ЧасовВКредите)+0.001,Точность)","v":0},0,null,null,null,null,null,null,null,null,null,null,"-",0,0,0,0,0]
[null,null,null,null,null,null,null,0,null,0,null,0,null,null,null,null,null,0,null,0,null,0,null,0,0,0,0,0,{"$f":"FLOOR($AB30/IF($AP30>0,$AP30,ЧасовВКредите)+0.001,Точность)","v":0},0,null,null,null,null,null,null,null,null,null,null,"-",0,0,0,0,0]
[null,null,null,null,null,null,null,0,null,0,null,0,null,null,null,null,null,0,null,0,null,0,null,0,0,0,0,0,{"$f":"FLOOR($AB31/IF($AP31>0,$AP31,ЧасовВКредите)+0.001,Точность)","v":0},0,null,null,null,null,null,null,null,null,null,null,"-",0,0,0,0,0]
[null,null,null,null,null,null,null,0,null,0,null,0,null,null,null,null,null,0,null,0,null,0,null,0,0,0,0,0,{"$f":"FLOOR($AB32/IF($AP32>0,$AP32,ЧасовВКредите)+0.001,Точность)","v":0},0,null,null,null,null,null,null,null,null,null,null,"-",0,0,0,0,0]
[null,null,null,null,null,null,null,0,null,0,null,0,null,null,null,null,null,0,null,0,null,0,null,0,0,0,0,0,{"$f":"FLOOR($AB33/IF($AP33>0,$AP33,ЧасовВКредите)+0.001,Точность)","v":0},0,null,null,null,null,null,null,null,null,null,null,"-",0,0,0,0,0]
[null,null,null,null,null,null,null,0,null,0,null,0,null,null,null,null,null,0,null,0,null,0,null,0,0,0,0,0,{"$f":"FLOOR($AB34/IF($AP34>0,$AP34,ЧасовВКредите)+0.001,Точность)","v":0},0,null,null,null,null,null,null,null,null,null,null,"-",0,0,0,0,0]
[null,null,null,null,null,null,null,0,null,0,null,0,null,null,null,null,null,0,null,0,null,0,null,0,0,0,0,0,{"$f":"FLOOR($AB35/IF($AP35>0,$AP35,ЧасовВКредите)+0.001,Точность)","v":0},0,null,null,null,null,null,null,null,null,null,null,"-",0,0,0,0,0]
[null,null,null,null,null,null,null,0,null,0,null,0,null,null,null,null,null,0,null,0,null,0,null,0,0,0,0,0,{"$f":"FLOOR($AB36/IF($AP36>0,$AP36,ЧасовВКредите)+0.001,Точность)","v":0},0,null,null,null,null,null,null,null,null,null,null,"-",0,0,0,0,0]
[null,null,null,null,null,null,null,0,null,0,null,0,null,null,null,null,null,0,null,0,null,0,null,0,0,0,0,0,{"$f":"FLOOR($AB37/IF($AP37>0,$AP37,ЧасовВКредите)+0.001,Точность)","v":0},0,null,null,null,null,null,null,null,null,null,null,"-",0,0,0,0,0]
[null,null,null,null,null,null,null,0,null,0,null,0,null,null,null,null,null,0,null,0,null,0,null,0,0,0,0,0,{"$f":"FLOOR($AB38/IF($AP38>0,$AP38,ЧасовВКредите)+0.001,Точность)","v":0},0,null,null,null,null,null,null,null,null,null,null,"-",0,0,0,0,0]
[null,null,null,null,null,null,null,0,null,0,null,0,null,null,null,null,null,0,null,0,null,0,null,0,0,0,0,0,{"$f":"FLOOR($AB39/IF($AP39>0,$AP39,ЧасовВКредите)+0.001,Точность)","v":0},{"$f":"FLOOR($AQ39,Точность)","v":0},null,null,null,null,null,null,null,null,null,null,"-",{"$f":"IF($AL39>0,IF(INDIRECT(\"План!FT\"&$AL39)>0,FLOOR(INDIRECT(\"План!H\"&$AL39)/INDIRECT(\"План!FT\"&$AL39),Точность),IF(ЧасовВКредите>0,ЧасовВКредите,36)),0)","v":0},{"$f":"IF($AB$76>0,AB39/$AB$76*$AD$78,0)","v":0},0,0,{"$f":"IF(AND(AJ39>0,AL39<1144,AL39>917),IF(isFGOS,AB39,0),0)","v":0}]
[null,null,null,null,null,null,null,0,null,0,null,0,null,null,null,null,null,0,null,0,null,0,null,0,0,0,0,0,{"$f":"FLOOR($AB40/IF($AP40>0,$AP40,ЧасовВКредите)+0.001,Точность)","v":0},0,null,null,null,null,null,null,null,null,null,null,"-",0,0,0,0,0]
[null,null,null,null,null,null,null,0,null,0,null,0,null,null,null,null,null,0,null,0,null,0,null,0,0,0,0,0,{"$f":"FLOOR($AB41/IF($AP41>0,$AP41,ЧасовВКредите)+0.001,Точность)","v":0},0,null,null,null,null,null,null,null,null,null,null,"-",0,0,0,0,0]
[null,null,null,null,null,null,null,0,null,0,null,0,null,null,null,null,null,0,null,0,null,0,null,0,0,0,0,0,{"$f":"FLOOR($AB42/IF($AP42>0,$AP42,ЧасовВКредите)+0.001,Точность)","v":0},0,null,null,null,null,null,null,null,null,null,null,"-",0,0,0,0,0]
[null,null,null,null,null,null,null,0,null,0,null,0,null,null,null,null,null,0,null,0,null,0,null,0,0,0,0,0,{"$f":"FLOOR($AB43/IF($AP43>0,$AP43,ЧасовВКредите)+0.001,Точность)","v":0},0,null,null,null,null,null,null,null,null,null,null,"-",0,0,0,0,0]
[null,null,null,null,null,null,null,0,null,0,null,0,null,null,null,null,null,0,null,0,null,0,null,0,0,0,0,0,{"$f":"FLOOR($AB44/IF($AP44>0,$AP44,ЧасовВКредите)+0.001,Точность)","v":0},0,null,null,null,null,null,null,null,null,null,null,"-",0,0,0,0,0]
[null,null,null,null,null,null,null,0,null,0,null,0,null,null,null,null,null,0,null,0,null,0,null,0,0,0,0,0,{"$f":"FLOOR($AB45/IF($AP45>0,$AP45,ЧасовВКредите)+0.001,Точность)","v":0},0,null,null,null,null,null,null,null,null,null,null,"-",0,0,0,0,0]
[null,null,null,null,null,null,null,0,null,0,null,0,null,null,null,null,null,0,null,0,null,0,null,0,0,0,0,0,{"$f":"FLOOR($AB46/IF($AP46>0,$AP46,ЧасовВКредите)+0.001,Точность)","v":0},0,null,null,null,null,null,null,null,null,null,null,"-",0,0,0,0,0]
[null,null,null,null,null,null,null,0,null,0,null,0,null,null,null,null,null,0,null,0,null,0,null,0,0,0,0,0,{"$f":"FLOOR($AB47/IF($AP47>0,$AP47,ЧасовВКредите)+0.001,Точность)","v":0},0,null,null,null,null,null,null,null,null,null,null,"-",0,0,0,0,0]
[null,null,null,null,null,null,null,0,null,0,null,0,null,null,null,null,null,0,null,0,null,0,null,0,0,0,0,0,{"$f":"FLOOR($AB48/IF($AP48>0,$AP48,ЧасовВКредите)+0.001,Точность)","v":0},0,null,null,null,null,null,null,null,null,null,null,"-",0,0,0,0,0]
[null,null,null,null,null,null,null,0,null,0,null,0,null,null,null,null,null,0,null,0,null,0,null,0,0,0,0,0,{"$f":"FLOOR($AB49/IF($AP49>0,$AP49,ЧасовВКредите)+0.001,Точность)","v":0},0,null,null,null,null,null,null,null,null,null,null,"-",0,0,0,0,0]
[null,null,null,null,null,null,null,0,null,0,null,0,null,null,null,null,null,0,null,0,null,0,null,0,0,0,0,0,{"$f":"FLOOR($AB50/IF($AP50>0,$AP50,ЧасовВКредите)+0.001,Точность)","v":0},0,null,null,null,null,null,null,null,null,null,null,"-",0,0,0,0,0]
[null,null,null,null,null,null,null,0,null,0,null,0,null,null,null,null,null,0,null,0,null,0,null,0,0,0,0,0,{"$f":"FLOOR($AB51/IF($AP51>0,$AP51,ЧасовВКредите)+0.001,Точность)","v":0},0,null,null,null,null,null,null,null,null,null,null,"-",0,0,0,0,0]
[null,null,null,null,null,null,null,0,null,0,null,0,null,null,null,null,null,0,null,0,null,0,null,0,0,0,0,0,{"$f":"FLOOR($AB52/IF($AP52>0,$AP52,ЧасовВКредите)+0.001,Точность)","v":0},0,null,null,null,null,null,null,null,null,null,null,"-",0,0,0,0,0]
[null,null,null,null,null,null,null,{"$f":"SUM(D53:G53)","v":0},null,{"$f":"SUM(H53:I53)","v":0},null,{"$f":"SUM(J53:K53)","v":0},null,null,null,null,null,{"$f":"SUM(N53:Q53)","v":0},null,{"$f":"SUM(R53:S53)","v":0},null,{"$f":"SUM(T53:U53)","v":0},null,{"$f":"H53+R53","v":0},{"$f":"I53+S53","v":0},{"$f":"J53+T53","v":0},{"$f":"K53+U53","v":0},{"$f":"V53+L53","v":0},{"$f":"FLOOR($AB53/IF($AP53>0,$AP53,ЧасовВКредите)+0.001,Точность)","v":0},0,null,null,null,null,null,null,null,null,null,null,"-",0,0,0,0,0]
[null,null,null,null,null,null,null,0,null,0,null,0,null,null,null,null,null,0,null,0,null,0,null,0,0,0,0,0,{"$f":"FLOOR($AB54/IF($AP54>0,$AP54,ЧасовВКредите)+0.001,Точность)","v":0},0,null,null,null,null,null,null,null,null,null,null,"-",0,0,0,0,0]
[null,null,null,null,null,null,null,0,null,0,null,0,null,null,null,null,null,0,null,0,null,0,null,0,0,0,0,0,{"$f":"FLOOR($AB55/IF($AP55>0,$AP55,ЧасовВКредите)+0.001,Точность)","v":0},0,null,null,null,null,null,null,null,null,null,null,"-",0,0,0,0,0]
[null,null,null,null,null,null,null,0,null,0,null,0,null,null,null,null,null,0,null,0,null,0,null,0,0,0,0,0,{"$f":"FLOOR($AB56/IF($AP56>0,$AP56,ЧасовВКредите)+0.001,Точность)","v":0},0,null,null,null,null,null,null,null,null,null,null,"-",0,0,0,0,0]
[null,null,null,null,null,null,null,0,null,0,null,0,null,null,null,null,null,0,null,0,null,0,null,0,0,0,0,0,{"$f":"FLOOR($AB57/IF($AP57>0,$AP57,ЧасовВКредите)+0.001,Точность)","v":0},0,null,null,null,null,null,null,null,null,null,null,"-",0,0,0,0,0]
[null,null,null,null,null,null,null,0,null,0,null,0,null,null,null,null,null,0,null,0,null,0,null,0,0,0,0,0,{"$f":"FLOOR($AB58/IF($AP58>0,$AP58,ЧасовВКредите)+0.001,Точность)","v":0},0,null,null,null,null,null,null,null,null,null,null,"-",0,0,0,0,0]
[null,null,null,null,null,null,null,0,null,0,null,0,null,null,null,null,null,0,null,0,null,0,null,0,0,0,0,0,{"$f":"FLOOR($AB59/IF($AP59>0,$AP59,ЧасовВКредите)+0.001,Точность)","v":0},0,null,null,null,null,null,null,null,null,null,null,"-",0,0,0,0,0]
[null,null,null,null,null,null,null,0,null,0,null,0,null,null,null,null,null,0,null,0,null,0,null,0,0,0,0,0,{"$f":"FLOOR($AB60/IF($AP60>0,$AP60,ЧасовВКредите)+0.001,Точность)","v":0},0,null,null,null,null,null,null,null,null,null,null,"-",0,0,0,0,0]
[null,null,null,null,null,null,null,0,null,0,null,0,null,null,null,null,null,0,null,0,null,0,null,0,0,0,0,0,{"$f":"FLOOR($AB61/IF($AP61>0,$AP61,ЧасовВКредите)+0.001,Точность)","v":0},0,null,null,null,null,null,null,null,null,null,null,"-",0,0,0,0,0]
[null,null,null,null,null,null,null,0,null,0,null,0,null,null,null,null,null,0,null,0,null,0,null,0,0,0,0,0,{"$f":"FLOOR($AB62/IF($AP62>0,$AP62,ЧасовВКредите)+0.001,Точность)","v":0},0,null,null,null,null,null,null,null,null,null,null,"-",0,0,0,0,0]
[null,null,null,null,null,null,null,0,null,0,null,0,null,null,null,null,null,0,null,0,null,0,null,0,0,0,0,0,{"$f":"FLOOR($AB63/IF($AP63>0,$AP63,ЧасовВКредите)+0.001,Точность)","v":0},0,null,null,null,null,null,null,null,null,null,null,"-",0,0,0,0,0]
[null,null,null,null,null,null,null,0,null,0,null,0,null,null,null,null,null,0,null,0,null,0,null,0,0,0,0,0,{"$f":"FLOOR($AB64/IF($AP64>0,$AP64,ЧасовВКредите)+0.001,Точность)","v":0},0,null,null,null,null,null,null,null,null,null,null,"-",0,0,0,0,0]
[null,null,null,null,null,null,null,0,null,0,null,0,null,null,null,null,null,0,null,0,null,0,null,0,0,0,0,0,{"$f":"FLOOR($AB65/IF($AP65>0,$AP65,ЧасовВКредите)+0.001,Точность)","v":0},0,null,null,null,null,null,null,null,null,null,null,"-",0,0,0,0,0]
[null,null,null,null,null,null,null,0,null,0,null,0,null,null,null,null,null,0,null,0,null,0,null,0,0,0,0,0,{"$f":"FLOOR($AB66/IF($AP66>0,$AP66,ЧасовВКредите)+0.001,Точность)","v":0},0,null,null,null,null,null,null,null,null,null,null,"-",0,0,0,0,0]
[null,null,null,null,null,null,null,0,null,0,null,0,null,null,null,null,null,0,null,0,null,0,null,0,0,0,0,0,{"$f":"FLOOR($AB67/IF($AP67>0,$AP67,ЧасовВКредите)+0.001,Точность)","v":0},0,null,null,null,null,null,null,null,null,null,null,"-",0,0,0,0,0]
[null,null,null,null,null,null,null,0,null,0,null,0,null,null,null,null,null,0,null,0,null,0,null,0,0,0,0,0,{"$f":"FLOOR($AB68/IF($AP68>0,$AP68,ЧасовВКредите)+0.001,Точность)","v":0},0,null,null,null,null,null,null,null,null,null,null,"-",0,0,0,0,0]
[null,null,null,null,null,null,null,0,null,0,null,0,null,null,null,null,null,0,null,0,null,0,null,0,0,0,0,0,{"$f":"FLOOR($AB69/IF($AP69>0,$AP69,ЧасовВКредите)+0.001,Точность)","v":0},0,null,null,null,null,null,null,null,null,null,null,"-",0,0,0,0,0]
[null,null,null,null,null,null,null,0,null,0,null,0,null,null,null,null,null,0,null,0,null,0,null,0,0,0,0,0,{"$f":"FLOOR($AB70/IF($AP70>0,$AP70,ЧасовВКредите)+0.001,Точность)","v":0},0,null,null,null,null,null,null,null,null,null,null,"-",0,0,0,0,0]
[null,null,null,null,null,null,null,0,null,0,null,0,null,null,null,null,null,0,null,0,null,0,null,0,0,0,0,0,{"$f":"FLOOR($AB71/IF($AP71>0,$AP71,ЧасовВКредите)+0.001,Точность)","v":0},0,null,null,null,null,null,null,null,null,null,null,"-",0,0,0,0,0]
[null,null,null,null,null,null,null,0,null,0,null,0,null,null,null,null,null,0,null,0,null,0,null,0,0,0,0,0,{"$f":"FLOOR($AB72/IF($AP72>0,$AP72,ЧасовВКредите)+0.001,Точность)","v":0},0,null,null,null,null,null,null,null,null,null,null,"-",0,0,0,{"$f":"IF(AND(AL72>1145,AL72<1166),1,0)","v":0},0]
[null,null,null,null,null,null,null,0,null,0,null,0,null,null,null,null,null,0,null,0,null,0,null,0,0,0,0,0,{"$f":"FLOOR($AB73/IF($AP73>0,$AP73,ЧасовВКредите)+0.001,Точность)","v":0},0,null,null,null,null,null,null,null,null,null,null,"-",0,0,0,0,0]
[null,null,null,null,null,null,null,0,null,0,null,0,null,null,null,null,null,0,null,0,null,0,null,0,0,0,0,0,{"$f":"FLOOR($AB74/IF($AP74>0,$AP74,ЧасовВКредите)+0.001,Точность)","v":0},0,null,null,null,null,null,null,null,null,null,null,"-",0,0,0,0,0]
[null,null,null,null,null,null,null,0,null,0,null,0,null,null,null,null,null,0,null,0,null,0,null,0,0,0,0,0,{"$f":"FLOOR($AB75/IF($AP75>0,$AP75,ЧасовВКредите)+0.001,Точность)","v":0},0,null,null,null,null,null,null,null,null,null,null,"-",0,0,0,0,0]
["Всего АЧ",null,null,{"$f":"SUMIF($AJ$7:$AJ$75,\"=1\",D7:D75)-SUMIF($AT$7:$AT$75,\">0\",D7:D75)","v":224},36,262,0,522,190,{"$f":"SUMIF($AJ$7:$AJ$75,\"=1\",J7:J75)-SUMIF($AT$7:$AT$75,\">0\",J7:J75)","v":712},108,820,null,{"$f":"SUMIF($AJ$7:$AJ$75,\"=1\",N7:N75)-SUMIF($AT$7:$AT$75,\">0\",N7:N75)","v":240},54,282,0,576,266,842,135,977,null,{"$f":"SUMIF($AJ$7:$AJ$75,\"=1\",X7:X75)-SUMIF($AT$7:$AT$75,\">0\",X7:X75)","v":1098},{"$f":"SUMIF($AJ$7:$AJ$75,\"=1\",Y7:Y75)-SUMIF($AT$7:$AT$75,\">0\",Y7:Y75)","v":456},{"$f":"SUMIF($AJ$7:$AJ$75,\"=1\",Z7:Z75)-SUMIF($AT$7:$AT$75,\">0\",Z7:Z75)","v":1554},{"$f":"SUMIF($AJ$7:$AJ$75,\"=1\",AA7:AA75)-SUMIF($AT$7:$AT$75,\">0\",AA7:AA75)","v":243},{"$f":"SUMIF($AJ$7:$AJ$75,\"=1\",AB7:AB75)-SUMIF($AT$7:$AT$75,\">0\",AB7:AB75)","v":1797},{"$f":"SUMIF($AJ$7:$AJ$75,\"=1\",AC7:AC75)-SUMIF($AT$7:$AT$75,\">0\",AC7:AC75)","v":48},{"$f":"SUMIF($AJ$7:$AJ$75,\"=1\",AD7:AD75)-SUMIF($AT$7:$AT$75,\">0\",AD7:AD75)","v":56},null,0,null,null,null,null,null,null,null,null,0,null,{"$f":"SUMIF($AJ$7:$AJ$75,\"=1\",AQ7:AQ75)","v":60},null,null,{"$f":"SUM(AT7:AT75)","v":0}]
["АЧ/Нед",null,null,{"$f":"IF(ABS($J$4-$L$4)>0.1,ROUND(D76/($J$4-$L$4),0),0)","v":12},2,15,0,29,11,{"$f":"IF(ABS($J$4-$L$4)>0.1,CEILING(J76/($J$4-$L$4)-0.001,0.1),0)","v":39.6},{"$f":"IF(ABS(K76-K78)<0.01,\"=\",IF(K76<K78,\"<\",\">\"))","v":"<"},{"$f":"IF(ABS(L76-L78)<0.01,\"=\",IF(L76<L78,\"<\",\">\"))","v":"<"},null,{"$f":"IF(ABS($T$4-$V$4)>0.1,ROUND(N76/($T$4-$V$4),0),0)","v":13},3,16,0,32,15,{"$f":"IF(ABS($T$4-$V$4)>0.1,CEILING(T76/($T$4-$V$4)-0.001,0.1),0)","v":46.800000000000004},{"$f":"IF(ABS(U76-U78)<0.01,\"=\",IF(U76<U78,\"<\",\">\"))","v":"<"},"<",null,null,null,{"$f":"IF(ABS(Z76-Z78)<0.01,\"=\",IF(Z76<Z78,\"<\",\">\"))","v":"<"},"<","<","<","<",null,0,null,null,null,null,null,null,null,null,0]
["Всего АЧ/Нед /в том числе физической культуры",null,null,{"$f":"SUM(D77:F77)","v":29},{"$f":"\"/\"","v":"/"},{"$f":"IF($J$4-$L$4>0,(SUMIF(AG7:AG75,\"=1\",D7:D75)+SUMIF(AG7:AG75,\"=1\",E7:E75)+SUMIF(AG7:AG75,\"=1\",F7:F75)+SUMIF(AG7:AG75,\"=1\",G7:G75))/($J$4-$L$4),0)","v":2.0000000000000013},null,{"$f":"IF(I78<>0,\"D=\",\"\")","v":"D="},{"$f":"IF(J78*($J$4-$L$4)-J76<0.001,0,J78*($J$4-$L$4)-J76)","v":259.99999999999943},{"$f":"IF($J$4-$L$4>0,54,0)","v":54},{"$f":"K4*54","v":161.99999999999994},{"$f":"J78*($J$4-$L$4)+K78","v":1133.9999999999993},null,{"$f":"SUM(N77:P77)","v":32},{"$f":"\"/\"","v":"/"},{"$f":"IF($T$4-$V$4>0,(SUMIF(AG7:AG75,\"=1\",N7:N75)+SUMIF(AG7:AG75,\"=1\",O7:O75)+SUMIF(AG7:AG75,\"=1\",P7:P75)+SUMIF(AG7:AG75,\"=1\",Q7:Q75))/($T$4-$V$4),0)","v":3.0000000000000018},null,{"$f":"IF(S78<>0,\"D=\",\"\")","v":"D="},{"$f":"IF(T78*($T$4-$V$4)-T76<0.001,0,T78*($T$4-$V$4)-T76)","v":129.99999999999943},{"$f":"IF($T$4-$V$4>0,54,0)","v":54},{"$f":"U4*54","v":161.99999999999994},{"$f":"T78*($T$4-$V$4)+U78","v":1133.9999999999993},null,null,null,{"$f":"(J4+T4-L4-V4)*IF(J78>0,J78,T78)","v":1943.9999999999989},{"$f":"U78+K78","v":323.99999999999989},{"$f":"V78+L78","v":2267.9999999999986},{"$f":"(J4+K4-L4+T4+U4-V4)*КредитовВНеделе","v":62.999999999999972},{"$f":"IF(J4-L4>0,КредитовНаГод/2,0)+IF(T4-V4>0,КредитовНаГод/2,0)","v":60},null,0,null,null,null,null,null,null,null,null,0]
["Должно быть АЧ/Нед до",null,null,null,null,null,null,null,null,null,null,null,null,null,null,null,null,null,null,null,null,null,null,"Должно быть до"]
["Должно быть АЧ на экзамены"]
["Предельное количество АЧ"]
["Экзаменов",null,null,{"$f":"Экз1","v":4},null,null,null,null,null,null,null,null,null,{"$f":"Экз2","v":5},null,null,null,null,null,null,null,null,null,"Должно быть ЗЕТ",null,null,null,null,null,null,null,0,null,null,null,null,null,null,null,null,0]
["Зачетов",null,null,{"$f":"Зач1","v":4},null,null,null,null,null,null,null,null,null,{"$f":"Зач2","v":5},null,null,null,null,null,null,null,null,null,{"$f":"\"Должно быть \"&СокрКРЕТИТОВ","v":"Должно быть Cr ECTS"},null,null,null,null,null,null,null,0,null,null,null,null,null,null,null,null,0]
["Курсовых проектов, к, р, э, г, о",null,null,{"$f":"КП1","v":0},null,null,null,null,null,null,null,null,null,{"$f":"КП2","v":0},null,null,null,null,null,null,null,null,null,"Оценка планирования:",null,null,null,null,null,null,null,0,null,null,null,null,null,null,null,null,0]
["Курсовых работ",null,null,{"$f":"КР1","v":0},null,null,null,null,null,null,null,null,null,{"$f":"КР2","v":0},null,null,null,null,null,null,null,null,null,{"$f":"IF(AB76>AB78*0.5,IF(AND(J77<=J78+0.01,K76<=K78+0.01,L76<=L78+0.01,T77<=T78+0.01,U76<=U78+0.01,V76<=V78+0.01,Z76<=Z78+0.01,AC76<=AC78+0.01,D82+N82<=IF(ПерезачтеноВсего>0,10.01,20.01),IF(isFGOS,D83+N83<=12.01,D82+D83+N82+N83<=IF(ПерезачтеноВсего>0,22.01,32.01)),IF(isFGOS,ABS(D87-IF(Нормы!C27>0,Нормы!C27,60))<0.01,TRUE)),\"Отлично\",IF(OR(IF(isFGOS,D87<IF(Нормы!C27>0,Нормы!C27,60)-0.01,FALSE),J77-0.01>J78,K77=\">\",L77=\">\",T77-0.01>T78,U77=\">\",V77=\">\",Z77=\">\"),\"Неудовлетворительно\",\"Удовлетворительно\")),\"Нет (мало АЧ)\")","v":"Отлично"},null,null,null,null,null,null,null,0,null,null,null,null,null,null,null,null,0]
["Всего за учебный год",null,null,"Недель ТО",null,null,{"$f":"J4+T4","v":35.999999999999979},null,"Недель на экзамены",null,null,null,{"$f":"K4+U4","v":5.9999999999999982},null,null,null,null,null,null,null,null,null,null,null,null,null,"Нед","АЧ","ЗЕТ",{"$f":"СокрКРЕТИТОВ","v":"Cr ECTS"},null,0,null,null,null,null,null,null,null,null,0]
["ЗЕТ за курс без Факультативов / Факультативы",null,null,{"$f":"AC76+AC91-E87","v":46},{"$f":"SUMIF(AS7:AS75,\"=1\",AC7:AC75)","v":2},null,null,null,null,null,null,null,null,null,null,null,null,null,"Итоговая аттестация (дисциплины) (А)",null,null,null,null,null,null,null,{"$f":"Титул!BF32","v":0},{"$f":"FLOOR(AA87*54+0.001,0.01)","v":0},{"$f":"FLOOR(AA87*КредитовВНеделе+0.001,ТочностьН)","v":0},{"$f":"FLOOR(AA87*КредитовНаГод/40,ТочностьН)","v":0},null,0,null,null,null,null,null,null,null,null,0]
[{"$f":"СокрКРЕТИТОВ&\" за курс\"","v":"Cr ECTS за курс"},null,null,{"$f":"AD76+AD91","v":56},null,null,null,null,null,null,null,null,null,null,null,null,null,null,"Практики (У,П) + распределенная",null,null,null,null,null,null,null,{"$f":"Практики!AJ68+AT76/54","v":0},{"$f":"FLOOR(Практики!T68*IF(ЧасовВКредите>0,ЧасовВКредите,36)+AT76+0.001,0.01)","v":0},{"$f":"Практики!T68+FLOOR(IF(ЧасовВКредите>0,AT76/ЧасовВКредите,AT76/36)+0.001,ТочностьН)","v":0},{"$f":"FLOOR(AA88*КредитовНаГод/40,ТочностьН)","v":0},null,0,null,null,null,null,null,null,null,null,0]
["Обозначения:",null,null,"Э-экзамен",null,null,"З-зачет",null,null,"Р-курсовая работа",null,null,null,"П-курсовой проект",null,null,null,null,"Дипломная работа (проект) (Д)",null,null,null,null,null,null,null,{"$f":"Титул!BI32","v":0},{"$f":"FLOOR(AA89*54+0.001,0.01)","v":0},{"$f":"FLOOR(AA89*КредитовВНеделе+0.001,ТочностьН)","v":0},{"$f":"FLOOR(AA89*КредитовНаГод/40,ТочностьН)","v":0},null,0,null,null,null,null,null,null,null,null,0]
[null,null,null,"АЧ-академических часов",null,null,null,null,null,"ЗЕТ-зачетных единиц трудоемкости",null,null,null,null,null,null,null,null,"Государственные экзамены (ИГА) (Г)",null,null,null,null,null,null,null,{"$f":"Титул!BJ32","v":0},{"$f":"FLOOR(AA90*54+0.001,0.01)","v":0},{"$f":"FLOOR(AA90*КредитовВНеделе+0.001,ТочностьН)","v":0},{"$f":"FLOOR(AA90*КредитовНаГод/40,ТочностьН)","v":0},null,0,null,null,null,null,null,null,null,null,0]
[null,null,null,"ИГА-Итоговая государственная аттестация",null,null,null,null,null,null,null,null,null,null,null,null,null,null,null,null,null,null,null,null,"Итого",null,{"$f":"SUM(AA87:AA90)","v":0},{"$f":"SUM(AB87:AB90)","v":0},{"$f":"SUM(AC87:AC90)","v":0},{"$f":"SUM(AD87:AD90)","v":0},null,0,null,null,null,null,null,null,null,null,0]
[null,null,null,"РП - распределенная практика и НИР,",null,null,null,null,null,null,null,"контрольные работы (к), рефераты (р), эссе (э), расчетно-графические работы (г), оцека (о)",null,null,null,null,null,null,null,null,null,null,null,null,null,null,null,null,null,null,null,0]

{"sheet":"Курс2","index":7,"n_rows":92,"n_cols":46,"rows_kept":92,"cut":false,"hidden":false,"merged":[[87,0,87,2],[85,0,85,2],[84,0,84,2],[88,18,88,25],[83,13,83,21],[83,23,83,29],[86,0,86,2],[83,3,83,11],[79,0,79,2],[77,0,77,2],[90,24,90,25],[86,18,86,25],[84,3,84,11],[84,23,84,29],[82,0,82,2],[81,0,81,2],[82,3,82,11],[88,0,90,2],[82,13,82,21],[81,3,81,11],[84,13,84,21],[89,18,89,25],[87,18,87,25],[83,0,83,2],[0,0,0,30],[1,0,1,30],[78,23,78,25],[81,13,81,21],[3,30,5,30],[3,0,5,0],[3,28,5,28],[4,3,4,11],[80,0,80,2],[3,3,3,4],[78,0,78,2],[76,0,76,2],[3,29,5,29],[3,23,4,27],[3,22,5,22],[4,13,4,21],[3,1,5,1],[3,2,5,2],[75,0,75,2],[3,42,5,42],[3,31,5,31],[3,40,5,40],[3,12,5,12],[3,41,5,41],[3,13,3,14]]}
[{"$f":"Курс1!A1","v":"ГОУ ВПО \"Самарский государственный технический университет\""}]
[{"$f":"Курс1!A2","v":"Рабочий учебный план: Направления 030600 \"Журналистика\" специальности 030602 \"Связи с общественностью\""}]
["Курс 2",null,{"$f":"Курс1!C3","v":"Утвержден: Ректор  ____________  / Калашников В.В. /  \"___\"__________20___ г."},null,null,null,null,null,null,null,null,null,null,null,null,null,null,null,null,null,null,null,null,{"$f":"ТекущийПлан&\".pli\"","v":"030602_65-00-12345-2979.pli"}]
["№","Блок","Дисциплина","Осень(3)",null,"Нед. ТО+, Экз, РП :",null,null,null,{"$f":"Недель3","v":17.999999999999989},{"$f":"Экз2Осень","v":2.9999999999999991},{"$f":"IF(isFGOS,CEILING((SUMIF($AT$7:$AT$75,\">0\",L7:L75))/54,1/6),0)","v":0},"Контроль","Весна(4)",null,"Нед. ТО+, Экз, РП :",null,null,null,{"$f":"Недель4","v":17.999999999999989},{"$f":"Экз2Весна","v":2.9999999999999991},{"$f":"IF(isFGOS,CEILING((SUMIF($AT$7:$AT$75,\">0\",V7:V75))/54,1/6),0)","v":0},"Контроль","Итого АЧ за год",null,null,null,null,"ЗЕТ",{"$f":"СокрКРЕТИТОВ","v":"Cr ECTS"},"Каф","СРС ID",null,null,null,null,null,null,null,null,"Сем-Сем","ЗЕТ",{"$f":"AD4","v":"Cr ECTS"}]
[null,null,null,{"$f":"ЗаголовокОбъемаРаботы","v":"Объем работы студента в АЧ в семестре"},null,null,null,null,null,null,null,null,null,{"$f":"ЗаголовокОбъемаРаботы","v":"Объем работы студента в АЧ в семестре"}]
[null,null,null,"Лек","Лаб","Пр",{"$f":"КСР","v":"КСР"},"Ауд","СРС","Изуч","Экз","Всего",null,"Лек","Лаб","Пр",{"$f":"КСР","v":"КСР"},"Ауд","СРС","Изуч","Экз","Всего",null,"Ауд","СРС","Изуч","Экз","Всего",null,null,null,null,null,null,null,null,null,null,null,null,null,null,null,null,"Фак"]
[1,{"$f":"План!$A$6","v":"ГСЭ.Ф.1"},"Иностранный язык",{"$f":"План!$T$6","v":0},{"$f":"План!$U$6","v":0},{"$f":"План!$V$6","v":36},{"$f":"План!$W$6","v":0},{"$f":"SUM(D7:G7)","v":36},0,{"$f":"SUM(H7:I7)","v":36},null,{"$f":"SUM(J7:K7)","v":36},"З",{"$f":"План!$X$6","v":0},{"$f":"План!$Y$6","v":0},{"$f":"План!$Z$6","v":54},{"$f":"План!$AA$6","v":0},{"$f":"SUM(N7:Q7)","v":54},{"$f":"План!$K$6-Курс1!$I$7-Курс1!$S$7-Курс2!$I$7","v":160},{"$f":"SUM(R7:S7)","v":214},27,{"$f":"SUM(T7:U7)","v":241},"Э",{"$f":"H7+R7","v":90},{"$f":"I7+S7","v":160},{"$f":"J7+T7","v":250},{"$f":"K7+U7","v":27},{"$f":"V7+L7","v":277},{"$f":"FLOOR($AB7/IF($AP7>0,$AP7,ЧасовВКредите)+0.001,Точность)","v":7.5},{"$f":"FLOOR($AQ7,Точность)","v":7.5},{"$f":"План!$BP$6","v":3},{"$f":"160-ABS(Курс1!$I$7)-ABS(Курс1!$S$7)-ABS(Курс2!$I$7)-ABS(Курс2!$S$7)","v":0},0,0,0,1,4,6,1,null,{"$f":"$AM7&\"-\"&$AK7","v":"1-4"},{"$f":"IF($AL7>0,IF(INDIRECT(\"План!FT\"&$AL7)>0,FLOOR(INDIRECT(\"План!H\"&$AL7)/INDIRECT(\"План!FT\"&$AL7),Точность),IF(ЧасовВКредите>0,ЧасовВКредите,36)),0)","v":36},{"$f":"IF($AB$76>0,AB7/$AB$76*$AD$78,0)","v":7.5169606512890104},{"$f":"IF(AND($AQ7>0,$AJ7>0),1,0)","v":1},{"$f":"IF(AND(AL7>1145,AL7<1166),1,0)","v":0},{"$f":"IF(AND(AJ7>0,AL7<1144,AL7>917),IF(isFGOS,AB7,0),0)","v":0}]
[2,{"$f":"План!$A$7","v":"ГСЭ.Ф.2"},"Физическая культура",{"$f":"План!$T$7","v":8},{"$f":"План!$U$7","v":0},{"$f":"План!$V$7","v":46},{"$f":"План!$W$7","v":0},54,0,54,null,54,"З",{"$f":"План!$X$7","v":6},{"$f":"План!$Y$7","v":0},{"$f":"План!$Z$7","v":48},{"$f":"План!$AA$7","v":0},54,0,54,null,54,"З",108,0,108,0,108,{"$f":"Рабочий!$E$3+Рабочий!$E$4","v":3},2.5,{"$f":"План!$BP$7","v":21},{"$f":"30-ABS(Курс1!$I$8)-ABS(Курс1!$S$8)-ABS(Курс2!$I$8)-ABS(Курс2!$S$8)-ABS(Курс3!$I$7)-ABS(Курс3!$S$7)-ABS(Курс4!$I$7)-ABS(Курс4!$S$7)","v":0},1,0,0,1,8,7,1,null,{"$f":"$AM8&\"-\"&$AK8","v":"1-8"},36,2.9308005427408412,1,{"$f":"IF(AND(AL8>1145,AL8<1166),1,0)","v":0},0]
[3,{"$f":"План!$A$9","v":"ГСЭ.Ф.4"},"Философия",{"$f":"План!$T$9","v":36},{"$f":"План!$U$9","v":0},{"$f":"План!$V$9","v":36},{"$f":"План!$W$9","v":0},72,{"$f":"План!$K$9","v":72},144,27,171,"Э",{"$f":"План!$X$9","v":0},{"$f":"План!$Y$9","v":0},{"$f":"План!$Z$9","v":0},{"$f":"План!$AA$9","v":0},0,null,0,null,0,"",72,72,144,27,171,{"$f":"FLOOR($AB9/IF($AP9>0,$AP9,ЧасовВКредите)+0.001,Точность)","v":4.5},4.5,{"$f":"План!$BP$9","v":2},{"$f":"72-ABS(Курс2!$I$9)-ABS(Курс2!$S$9)","v":0},0,0,0,1,3,9,3,null,"3-3",36,4.6404341926729984,1,0,0]
[4,{"$f":"План!$A$11","v":"ГСЭ.Ф.6"},"Экономика",{"$f":"План!$T$11","v":0},{"$f":"План!$U$11","v":0},{"$f":"План!$V$11","v":0},{"$f":"План!$W$11","v":0},0,null,0,null,0,"",{"$f":"План!$X$11","v":36},{"$f":"План!$Y$11","v":0},{"$f":"План!$Z$11","v":36},{"$f":"План!$AA$11","v":0},72,{"$f":"План!$K$11","v":52},124,27,151,"Э",72,52,124,27,151,{"$f":"FLOOR($AB10/IF($AP10>0,$AP10,ЧасовВКредите)+0.001,Точность)","v":4},4,{"$f":"План!$BP$11","v":10},{"$f":"52-ABS(Курс2!$I$10)-ABS(Курс2!$S$10)","v":0},0,0,0,1,4,11,4,null,"4-4",36,4.0976933514246943,1,0,0]
[5,{"$f":"План!$A$66","v":"ГСЭ.Р.1"},"Политология, культурология, социология",{"$f":"План!$T$66","v":18},{"$f":"План!$U$66","v":0},{"$f":"План!$V$66","v":18},{"$f":"План!$W$66","v":0},36,0,36,27,63,"Э",{"$f":"План!$X$66","v":18},{"$f":"План!$Y$66","v":0},{"$f":"План!$Z$66","v":18},{"$f":"План!$AA$66","v":0},36,{"$f":"План!$K$66-Курс1!$I$11-Курс1!$S$11-Курс2!$I$11","v":106},142,27,169,"Э",72,106,178,54,232,{"$f":"FLOOR($AB11/IF($AP11>0,$AP11,ЧасовВКредите)+0.001,Точность)","v":6},6,{"$f":"План!$BP$66","v":1},{"$f":"106-ABS(Курс1!$I$11)-ABS(Курс1!$S$11)-ABS(Курс2!$I$11)-ABS(Курс2!$S$11)","v":0},0,0,0,1,4,66,2,null,"2-4",36,6.2957937584803254,1,0,0]
[6,{"$f":"План!$A$67","v":"ГСЭ.Р.2"},"Правоведение",{"$f":"План!$T$67","v":0},{"$f":"План!$U$67","v":0},{"$f":"План!$V$67","v":0},{"$f":"План!$W$67","v":0},0,null,0,null,0,"",{"$f":"План!$X$67","v":36},{"$f":"План!$Y$67","v":0},{"$f":"План!$Z$67","v":0},{"$f":"План!$AA$67","v":0},36,{"$f":"План!$K$67","v":20},56,null,56,"З",36,20,56,0,56,{"$f":"FLOOR($AB12/IF($AP12>0,$AP12,ЧасовВКредите)+0.001,Точность)","v":1.5},1.5,{"$f":"План!$BP$67","v":1},{"$f":"20-ABS(Курс2!$I$12)-ABS(Курс2!$S$12)","v":0},0,0,0,1,4,67,4,null,"4-4",36,1.519674355495251,1,0,0]
[7,"ГСЭ.B4","История государственного управления в России",{"$f":"План!$T$133","v":0},{"$f":"План!$U$133","v":0},{"$f":"План!$V$133","v":0},{"$f":"План!$W$133","v":0},0,null,0,null,0,"",{"$f":"План!$X$133","v":36},{"$f":"План!$Y$133","v":0},{"$f":"План!$Z$133","v":0},{"$f":"План!$AA$133","v":0},36,{"$f":"План!$K$133","v":38},74,null,74,"З",36,38,74,0,74,{"$f":"FLOOR($AB13/IF($AP13>0,$AP13,ЧасовВКредите)+0.001,Точность)","v":2},2,{"$f":"План!$BP$133","v":1},{"$f":"38-ABS(Курс2!$I$13)-ABS(Курс2!$S$13)","v":0},null,null,null,1,4,133,4,null,"4-4",36,2.0081411126187247,1,0,0]
[8,"ГСЭ.B4","Этнология",{"$f":"План!$T$134","v":0},{"$f":"План!$U$134","v":0},{"$f":"План!$V$134","v":0},{"$f":"План!$W$134","v":0},0,null,0,null,0,"",{"$f":"План!$X$134","v":36},{"$f":"План!$Y$134","v":0},{"$f":"План!$Z$134","v":0},{"$f":"План!$AA$134","v":0},36,{"$f":"План!$K$134","v":38},74,null,74,"З",36,38,74,0,74,{"$f":"FLOOR($AB14/IF($AP14>0,$AP14,ЧасовВКредите)+0.001,Точность)","v":2},2,{"$f":"План!$BP$134","v":1},{"$f":"38-ABS(Курс2!$I$14)-ABS(Курс2!$S$14)","v":0},null,null,null,0,4,134,4,null,"4-4",36,2.0081411126187247,0,0,0]
[9,{"$f":"План!$A$462","v":"ОПД.Ф.1"},"Теория и практика связей с общественностью",{"$f":"План!$T$462","v":0},{"$f":"План!$U$462","v":18},{"$f":"План!$V$462","v":18},{"$f":"План!$W$462","v":0},36,0,36,null,36,"ЗР",{"$f":"План!$X$462","v":18},{"$f":"План!$Y$462","v":18},{"$f":"План!$Z$462","v":0},{"$f":"План!$AA$462","v":0},36,0,36,27,63,"Э",72,0,72,27,99,{"$f":"FLOOR($AB15/IF($AP15>0,$AP15,ЧасовВКредите)+0.001,Точность)","v":2.5},2.5,{"$f":"План!$BP$462","v":4},{"$f":"280-ABS(Курс1!$I$19)-ABS(Курс1!$S$19)-ABS(Курс2!$I$15)-ABS(Курс2!$S$15)-ABS(Курс3!$I$11)-ABS(Курс3!$S$11)","v":0},0,0,0,1,6,462,1,null,"1-6",36,2.6865671641791042,1,0,0]
[10,{"$f":"План!$A$463","v":"ОПД.Ф.2"},"История мировой литературы и искусства",{"$f":"План!$T$463","v":18},{"$f":"План!$U$463","v":0},{"$f":"План!$V$463","v":18},{"$f":"План!$W$463","v":0},36,{"$f":"План!$K$463-Курс1!$I$20-Курс1!$S$20","v":132},168,27,195,"Э",{"$f":"План!$X$463","v":0},{"$f":"План!$Y$463","v":0},{"$f":"План!$Z$463","v":0},{"$f":"План!$AA$463","v":0},0,null,0,null,0,"",36,132,168,27,195,{"$f":"FLOOR($AB16/IF($AP16>0,$AP16,ЧасовВКредите)+0.001,Точность)","v":5},5,{"$f":"План!$BP$463","v":4},{"$f":"132-ABS(Курс1!$I$20)-ABS(Курс1!$S$20)-ABS(Курс2!$I$16)-ABS(Курс2!$S$16)","v":0},0,0,0,1,3,463,1,null,"1-3",36,5.2917232021709637,1,0,0]
[11,{"$f":"План!$A$470","v":"ОПД.Ф.9"},"Теория и практика массовой информации",{"$f":"План!$T$470","v":18},{"$f":"План!$U$470","v":18},{"$f":"План!$V$470","v":0},{"$f":"План!$W$470","v":0},36,0,36,null,36,"З",{"$f":"План!$X$470","v":0},{"$f":"План!$Y$470","v":18},{"$f":"План!$Z$470","v":18},{"$f":"План!$AA$470","v":0},36,0,36,null,36,"Р",72,0,72,0,72,{"$f":"FLOOR($AB17/IF($AP17>0,$AP17,ЧасовВКредите)+0.001,Точность)","v":2},1.5,{"$f":"План!$BP$470","v":4},{"$f":"236-ABS(Курс1!$I$22)-ABS(Курс1!$S$22)-ABS(Курс2!$I$17)-ABS(Курс2!$S$17)-ABS(Курс3!$I$13)-ABS(Курс3!$S$13)","v":0},0,0,0,1,6,470,1,null,"1-6",36,1.9538670284938939,1,0,0]
[12,{"$f":"План!$A$471","v":"ОПД.Ф.10"},"Стилистика и литературное редактирование",{"$f":"План!$T$471","v":36},{"$f":"План!$U$471","v":0},{"$f":"План!$V$471","v":90},{"$f":"План!$W$471","v":0},126,0,126,27,153,"Э",{"$f":"План!$X$471","v":18},{"$f":"План!$Y$471","v":0},{"$f":"План!$Z$471","v":108},{"$f":"План!$AA$471","v":0},126,0,126,null,126,"З",252,0,252,27,279,{"$f":"FLOOR($AB18/IF($AP18>0,$AP18,ЧасовВКредите)+0.001,Точность)","v":7.5},7.5,{"$f":"План!$BP$471","v":4},{"$f":"324-ABS(Курс2!$I$18)-ABS(Курс2!$S$18)-ABS(Курс3!$I$14)-ABS(Курс3!$S$14)","v":0},0,0,0,1,5,471,3,null,"3-5",36,7.5712347354138405,1,0,0]
[13,{"$f":"План!$A$476","v":"ОПД.Ф.15"},"Современный менеджмент",{"$f":"План!$T$476","v":0},{"$f":"План!$U$476","v":0},{"$f":"План!$V$476","v":0},{"$f":"План!$W$476","v":0},0,null,0,null,0,"",{"$f":"План!$X$476","v":18},{"$f":"План!$Y$476","v":0},{"$f":"План!$Z$476","v":18},{"$f":"План!$AA$476","v":0},36,0,36,null,36,"З",36,0,36,0,36,{"$f":"FLOOR($AB19/IF($AP19>0,$AP19,ЧасовВКредите)+0.001,Точность)","v":1},0.5,{"$f":"План!$BP$476","v":7},{"$f":"146-ABS(Курс2!$I$19)-ABS(Курс2!$S$19)-ABS(Курс3!$I$18)-ABS(Курс3!$S$18)","v":0},0,0,0,1,6,476,4,null,"4-6",36,0.97693351424694697,1,0,0]
[14,{"$f":"План!$A$523","v":"ОПД.Р.2"},"Социальная психология",{"$f":"План!$T$523","v":18},{"$f":"План!$U$523","v":18},{"$f":"План!$V$523","v":0},{"$f":"План!$W$523","v":0},36,{"$f":"План!$K$523","v":30},66,null,66,"З",{"$f":"План!$X$523","v":0},{"$f":"План!$Y$523","v":0},{"$f":"План!$Z$523","v":0},{"$f":"План!$AA$523","v":0},0,null,0,null,0,"",36,30,66,0,66,{"$f":"FLOOR($AB20/IF($AP20>0,$AP20,ЧасовВКредите)+0.001,Точность)","v":1.5},1.5,{"$f":"План!$BP$523","v":1},{"$f":"30-ABS(Курс2!$I$20)-ABS(Курс2!$S$20)","v":0},0,0,0,1,3,523,3,null,"3-3",36,1.791044776119403,1,0,0]
[15,{"$f":"План!$A$525","v":"ОПД.Р.4"},"История отечественной экономики XX века",{"$f":"План!$T$525","v":36},{"$f":"План!$U$525","v":0},{"$f":"План!$V$525","v":36},{"$f":"План!$W$525","v":0},72,{"$f":"План!$K$525","v":56},128,27,155,"Э",{"$f":"План!$X$525","v":0},{"$f":"План!$Y$525","v":0},{"$f":"План!$Z$525","v":0},{"$f":"План!$AA$525","v":0},0,null,0,null,0,"",72,56,128,27,155,{"$f":"FLOOR($AB21/IF($AP21>0,$AP21,ЧасовВКредите)+0.001,Точность)","v":4},4,{"$f":"План!$BP$525","v":1},{"$f":"56-ABS(Курс2!$I$21)-ABS(Курс2!$S$21)","v":0},0,0,0,1,3,525,3,null,"3-3",36,4.2062415196743554,1,0,0]
[16,{"$f":"План!$A$1147","v":"ФТД.2"},"Деловой иностранный язык",{"$f":"План!$T$1147","v":0},{"$f":"План!$U$1147","v":0},{"$f":"План!$V$1147","v":36},{"$f":"План!$W$1147","v":0},36,0,36,null,36,"З",{"$f":"План!$X$1147","v":0},{"$f":"План!$Y$1147","v":0},{"$f":"План!$Z$1147","v":36},{"$f":"План!$AA$1147","v":0},36,{"$f":"План!$K$1147-Курс1!$I$25-Курс1!$S$25-Курс2!$I$22","v":168},204,null,204,"З",72,168,240,0,240,{"$f":"FLOOR($AB22/IF($AP22>0,$AP22,ЧасовВКредите)+0.001,Точность)","v":6.5},6.5,{"$f":"План!$BP$1147","v":4},{"$f":"168-ABS(Курс1!$I$25)-ABS(Курс1!$S$25)-ABS(Курс2!$I$22)-ABS(Курс2!$S$22)","v":0},0,0,0,1,4,1147,1,null,"1-4",36,6.5128900949796478,1,1,0]
[null,null,null,null,null,null,null,0,null,0,null,0,null,null,null,null,null,0,null,0,null,0,null,0,0,0,0,0,{"$f":"FLOOR($AB23/IF($AP23>0,$AP23,ЧасовВКредите)+0.001,Точность)","v":0},0,null,null,null,null,null,null,null,null,null,null,"-",0,0,0,0,0]
[null,null,null,null,null,null,null,0,null,0,null,0,null,null,null,null,null,0,null,0,null,0,null,0,0,0,0,0,{"$f":"FLOOR($AB24/IF($AP24>0,$AP24,ЧасовВКредите)+0.001,Точность)","v":0},0,null,null,null,null,null,null,null,null,null,null,"-",0,0,0,0,0]
[null,null,null,null,null,null,null,0,null,0,null,0,null,null,null,null,null,0,null,0,null,0,null,0,0,0,0,0,{"$f":"FLOOR($AB25/IF($AP25>0,$AP25,ЧасовВКредите)+0.001,Точность)","v":0},0,null,null,null,null,null,null,null,null,null,null,"-",0,0,0,0,0]
[null,null,null,null,null,null,null,0,null,0,null,0,null,null,null,null,null,0,null,0,null,0,null,0,0,0,0,0,{"$f":"FLOOR($AB26/IF($AP26>0,$AP26,ЧасовВКредите)+0.001,Точность)","v":0},0,null,null,null,null,null,null,null,null,null,null,"-",0,0,0,0,0]
[null,null,null,null,null,null,null,0,null,0,null,0,null,null,null,null,null,0,null,0,null,0,null,0,0,0,0,0,{"$f":"FLOOR($AB27/IF($AP27>0,$AP27,ЧасовВКредите)+0.001,Точность)","v":0},0,null,null,null,null,null,null,null,null,null,null,"-",0,0,0,0,0]
[null,null,null,null,null,null,null,0,null,0,null,0,null,null,null,null,null,0,null,0,null,0,null,0,0,0,0,0,{"$f":"FLOOR($AB28/IF($AP28>0,$AP28,ЧасовВКредите)+0.001,Точность)","v":0},0,null,null,null,null,null,null,null,null,null,null,"-",0,0,0,0,0]
[null,null,null,null,null,null,null,0,null,0,null,0,null,null,null,null,null,0,null,0,null,0,null,0,0,0,0,0,{"$f":"FLOOR($AB29/IF($AP29>0,$AP29,ЧасовВКредите)+0.001,Точность)","v":0},0,null,null,null,null,null,null,null,null,null,null,"-",0,0,0,0,0]
[null,null,null,null,null,null,null,0,null,0,null,0,null,null,null,null,null,0,null,0,null,0,null,0,0,0,0,0,{"$f":"FLOOR($AB30/IF($AP30>0,$AP30,ЧасовВКредите)+0.001,Точность)","v":0},0,null,null,null,null,null,null,null,null,null,null,"-",0,0,0,0,0]
[null,null,null,null,null,null,null,0,null,0,null,0,null,null,null,null,null,0,null,0,null,0,null,0,0,0,0,0,{"$f":"FLOOR($AB31/IF($AP31>0,$AP31,ЧасовВКредите)+0.001,Точность)","v":0},0,null,null,null,null,null,null,null,null,null,null,"-",0,0,0,0,0]
[null,null,null,null,null,null,null,0,null,0,null,0,null,null,null,null,null,0,null,0,null,0,null,0,0,0,0,0,{"$f":"FLOOR($AB32/IF($AP32>0,$AP32,ЧасовВКредите)+0.001,Точность)","v":0},0,null,null,null,null,null,null,null,null,null,null,"-",0,0,0,0,0]
[null,null,null,null,null,null,null,0,null,0,null,0,null,null,null,null,null,0,null,0,null,0,null,0,0,0,0,0,{"$f":"FLOOR($AB33/IF($AP33>0,$AP33,ЧасовВКредите)+0.001,Точность)","v":0},0,null,null,null,null,null,null,null,null,null,null,"-",0,0,0,0,0]
[null,null,null,null,null,null,null,0,null,0,null,0,null,null,null,null,null,0,null,0,null,0,null,0,0,0,0,0,{"$f":"FLOOR($AB34/IF($AP34>0,$AP34,ЧасовВКредите)+0.001,Точность)","v":0},0,null,null,null,null,null,null,null,null,null,null,"-",0,0,0,0,0]
[null,null,null,null,null,null,null,0,null,0,null,0,null,null,null,null,null,0,null,0,null,0,null,0,0,0,0,0,{"$f":"FLOOR($AB35/IF($AP35>0,$AP35,ЧасовВКредите)+0.001,Точность)","v":0},0,null,null,null,null,null,null,null,null,null,null,"-",0,0,0,0,0]
[null,null,null,null,null,null,null,0,null,0,null,0,null,null,null,null,null,0,null,0,null,0,null,0,0,0,0,0,{"$f":"FLOOR($AB36/IF($AP36>0,$AP36,ЧасовВКредите)+0.001,Точность)","v":0},0,null,null,null,null,null,null,null,null,null,null,"-",0,0,0,0,0]
[null,null,null,null,null,null,null,0,null,0,null,0,null,null,null,null,null,0,null,0,null,0,null,0,0,0,0,0,{"$f":"FLOOR($AB37/IF($AP37>0,$AP37,ЧасовВКредите)+0.001,Точность)","v":0},0,null,null,null,null,null,null,null,null,null,null,"-",0,0,0,0,0]
[null,null,null,null,null,null,null,0,null,0,null,0,null,null,null,null,null,0,null,0,null,0,null,0,0,0,0,0,{"$f":"FLOOR($AB38/IF($AP38>0,$AP38,ЧасовВКредите)+0.001,Точность)","v":0},0,null,null,null,null,null,null,null,null,null,null,"-",0,0,0,0,0]
[null,null,null,null,null,null,null,0,null,0,null,0,null,null,null,null,null,0,null,0,null,0,null,0,0,0,0,0,{"$f":"FLOOR($AB39/IF($AP39>0,$AP39,ЧасовВКредите)+0.001,Точность)","v":0},{"$f":"FLOOR($AQ39,Точность)","v":0},null,null,null,null,null,null,null,null,null,null,"-",{"$f":"IF($AL39>0,IF(INDIRECT(\"План!FT\"&$AL39)>0,FLOOR(INDIRECT(\"План!H\"&$AL39)/INDIRECT(\"План!FT\"&$AL39),Точность),IF(ЧасовВКредите>0,ЧасовВКредите,36)),0)","v":0},{"$f":"IF($AB$76>0,AB39/$AB$76*$AD$78,0)","v":0},0,0,{"$f":"IF(AND(AJ39>0,AL39<1144,AL39>917),IF(isFGOS,AB39,0),0)","v":0}]
[null,null,null,null,null,null,null,0,null,0,null,0,null,null,null,null,null,0,null,0,null,0,null,0,0,0,0,0,{"$f":"FLOOR($AB40/IF($AP40>0,$AP40,ЧасовВКредите)+0.001,Точность)","v":0},0,null,null,null,null,null,null,null,null,null,null,"-",0,0,0,0,0]
[null,null,null,null,null,null,null,0,null,0,null,0,null,null,null,null,null,0,null,0,null,0,null,0,0,0,0,0,{"$f":"FLOOR($AB41/IF($AP41>0,$AP41,ЧасовВКредите)+0.001,Точность)","v":0},0,null,null,null,null,null,null,null,null,null,null,"-",0,0,0,0,0]
[null,null,null,null,null,null,null,0,null,0,null,0,null,null,null,null,null,0,null,0,null,0,null,0,0,0,0,0,{"$f":"FLOOR($AB42/IF($AP42>0,$AP42,ЧасовВКредите)+0.001,Точность)","v":0},0,null,null,null,null,null,null,null,null,null,null,"-",0,0,0,0,0]
[null,null,null,null,null,null,null,0,null,0,null,0,null,null,null,null,null,0,null,0,null,0,null,0,0,0,0,0,{"$f":"FLOOR($AB43/IF($AP43>0,$AP43,ЧасовВКредите)+0.001,Точность)","v":0},0,null,null,null,null,null,null,null,null,null,null,"-",0,0,0,0,0]
[null,null,null,null,null,null,null,0,null,0,null,0,null,null,null,null,null,0,null,0,null,0,null,0,0,0,0,0,{"$f":"FLOOR($AB44/IF($AP44>0,$AP44,ЧасовВКредите)+0.001,Точность)","v":0},0,null,null,null,null,null,null,null,null,null,null,"-",0,0,0,0,0]
[null,null,null,null,null,null,null,0,null,0,null,0,null,null,null,null,null,0,null,0,null,0,null,0,0,0,0,0,{"$f":"FLOOR($AB45/IF($AP45>0,$AP45,ЧасовВКредите)+0.001,Точность)","v":0},0,null,null,null,null,null,null,null,null,null,null,"-",0,0,0,0,0]
[null,null,null,null,null,null,null,0,null,0,null,0,null,null,null,null,null,0,null,0,null,0,null,0,0,0,0,0,{"$f":"FLOOR($AB46/IF($AP46>0,$AP46,ЧасовВКредите)+0.001,Точность)","v":0},0,null,null,null,null,null,null,null,null,null,null,"-",0,0,0,0,0]
[null,null,null,null,null,null,null,0,null,0,null,0,null,null,null,null,null,0,null,0,null,0,null,0,0,0,0,0,{"$f":"FLOOR($AB47/IF($AP47>0,$AP47,ЧасовВКредите)+0.001,Точность)","v":0},0,null,null,null,null,null,null,null,null,null,null,"-",0,0,0,0,0]
[null,null,null,null,null,null,null,0,null,0,null,0,null,null,null,null,null,0,null,0,null,0,null,0,0,0,0,0,{"$f":"FLOOR($AB48/IF($AP48>0,$AP48,ЧасовВКредите)+0.001,Точность)","v":0},0,null,null,null,null,null,null,null,null,null,null,"-",0,0,0,0,0]
[null,null,null,null,null,null,null,0,null,0,null,0,null,null,null,null,null,0,null,0,null,0,null,0,0,0,0,0,{"$f":"FLOOR($AB49/IF($AP49>0,$AP49,ЧасовВКредите)+0.001,Точность)","v":0},0,null,null,null,null,null,null,null,null,null,null,"-",0,0,0,0,0]
[null,null,null,null,null,null,null,0,null,0,null,0,null,null,null,null,null,0,null,0,null,0,null,0,0,0,0,0,{"$f":"FLOOR($AB50/IF($AP50>0,$AP50,ЧасовВКредите)+0.001,Точность)","v":0},0,null,null,null,null,null,null,null,null,null,null,"-",0,0,0,0,0]
[null,null,null,null,null,null,null,0,null,0,null,0,null,null,null,null,null,0,null,0,null,0,null,0,0,0,0,0,{"$f":"FLOOR($AB51/IF($AP51>0,$AP51,ЧасовВКредите)+0.001,Точность)","v":0},0,null,null,null,null,null,null,null,null,null,null,"-",0,0,0,0,0]
[null,null,null,null,null,null,null,{"$f":"SUM(D52:G52)","v":0},null,{"$f":"SUM(H52:I52)","v":0},null,{"$f":"SUM(J52:K52)","v":0},null,null,null,null,null,{"$f":"SUM(N52:Q52)","v":0},null,{"$f":"SUM(R52:S52)","v":0},null,{"$f":"SUM(T52:U52)","v":0},null,{"$f":"H52+R52","v":0},{"$f":"I52+S52","v":0},{"$f":"J52+T52","v":0},{"$f":"K52+U52","v":0},{"$f":"V52+L52","v":0},{"$f":"FLOOR($AB52/IF($AP52>0,$AP52,ЧасовВКредите)+0.001,Точность)","v":0},0,null,null,null,null,null,null,null,null,null,null,"-",0,0,0,0,0]
[null,null,null,null,null,null,null,0,null,0,null,0,null,null,null,null,null,0,null,0,null,0,null,0,0,0,0,0,{"$f":"FLOOR($AB53/IF($AP53>0,$AP53,ЧасовВКредите)+0.001,Точность)","v":0},0,null,null,null,null,null,null,null,null,null,null,"-",0,0,0,0,0]
[null,null,null,null,null,null,null,0,null,0,null,0,null,null,null,null,null,0,null,0,null,0,null,0,0,0,0,0,{"$f":"FLOOR($AB54/IF($AP54>0,$AP54,ЧасовВКредите)+0.001,Точность)","v":0},0,null,null,null,null,null,null,null,null,null,null,"-",0,0,0,0,0]
[null,null,null,null,null,null,null,0,null,0,null,0,null,null,null,null,null,0,null,0,null,0,null,0,0,0,0,0,{"$f":"FLOOR($AB55/IF($AP55>0,$AP55,ЧасовВКредите)+0.001,Точность)","v":0},0,null,null,null,null,null,null,null,null,null,null,"-",0,0,0,0,0]
[null,null,null,null,null,null,null,0,null,0,null,0,null,null,null,null,null,0,null,0,null,0,null,0,0,0,0,0,{"$f":"FLOOR($AB56/IF($AP56>0,$AP56,ЧасовВКредите)+0.001,Точность)","v":0},0,null,null,null,null,null,null,null,null,null,null,"-",0,0,0,0,0]
[null,null,null,null,null,null,null,0,null,0,null,0,null,null,null,null,null,0,null,0,null,0,null,0,0,0,0,0,{"$f":"FLOOR($AB57/IF($AP57>0,$AP57,ЧасовВКредите)+0.001,Точность)","v":0},0,null,null,null,null,null,null,null,null,null,null,"-",0,0,0,0,0]
[null,null,null,null,null,null,null,0,null,0,null,0,null,null,null,null,null,0,null,0,null,0,null,0,0,0,0,0,{"$f":"FLOOR($AB58/IF($AP58>0,$AP58,ЧасовВКредите)+0.001,Точность)","v":0},0,null,null,null,null,null,null,null,null,null,null,"-",0,0,0,0,0]
[null,null,null,null,null,null,null,0,null,0,null,0,null,null,null,null,null,0,null,0,null,0,null,0,0,0,0,0,{"$f":"FLOOR($AB59/IF($AP59>0,$AP59,ЧасовВКредите)+0.001,Точность)","v":0},0,null,null,null,null,null,null,null,null,null,null,"-",0,0,0,0,0]
[null,null,null,null,null,null,null,0,null,0,null,0,null,null,null,null,null,0,null,0,null,0,null,0,0,0,0,0,{"$f":"FLOOR($AB60/IF($AP60>0,$AP60,ЧасовВКредите)+0.001,Точность)","v":0},0,null,null,null,null,null,null,null,null,null,null,"-",0,0,0,0,0]
[null,null,null,null,null,null,null,0,null,0,null,0,null,null,null,null,null,0,null,0,null,0,null,0,0,0,0,0,{"$f":"FLOOR($AB61/IF($AP61>0,$AP61,ЧасовВКредите)+0.001,Точность)","v":0},0,null,null,null,null,null,null,null,null,null,null,"-",0,0,0,0,0]
[null,null,null,null,null,null,null,0,null,0,null,0,null,null,null,null,null,0,null,0,null,0,null,0,0,0,0,0,{"$f":"FLOOR($AB62/IF($AP62>0,$AP62,ЧасовВКредите)+0.001,Точность)","v":0},0,null,null,null,null,null,null,null,null,null,null,"-",0,0,0,0,0]
[null,null,null,null,null,null,null,0,null,0,null,0,null,null,null,null,null,0,null,0,null,0,null,0,0,0,0,0,{"$f":"FLOOR($AB63/IF($AP63>0,$AP63,ЧасовВКредите)+0.001,Точность)","v":0},0,null,null,null,null,null,null,null,null,null,null,"-",0,0,0,0,0]
[null,null,null,null,null,null,null,0,null,0,null,0,null,null,null,null,null,0,null,0,null,0,null,0,0,0,0,0,{"$f":"FLOOR($AB64/IF($AP64>0,$AP64,ЧасовВКредите)+0.001,Точность)","v":0},0,null,null,null,null,null,null,null,null,null,null,"-",0,0,0,0,0]
[null,null,null,null,null,null,null,0,null,0,null,0,null,null,null,null,null,0,null,0,null,0,null,0,0,0,0,0,{"$f":"FLOOR($AB65/IF($AP65>0,$AP65,ЧасовВКредите)+0.001,Точность)","v":0},0,null,null,null,null,null,null,null,null,null,null,"-",0,0,0,0,0]
[null,null,null,null,null,null,null,0,null,0,null,0,null,null,null,null,null,0,null,0,null,0,null,0,0,0,0,0,{"$f":"FLOOR($AB66/IF($AP66>0,$AP66,ЧасовВКредите)+0.001,Точность)","v":0},0,null,null,null,null,null,null,null,null,null,null,"-",0,0,0,0,0]
[null,null,null,null,null,null,null,0,null,0,null,0,null,null,null,null,null,0,null,0,null,0,null,0,0,0,0,0,{"$f":"FLOOR($AB67/IF($AP67>0,$AP67,ЧасовВКредите)+0.001,Точность)","v":0},0,null,null,null,null,null,null,null,null,null,null,"-",0,0,0,0,0]
[null,null,null,null,null,null,null,0,null,0,null,0,null,null,null,null,null,0,null,0,null,0,null,0,0,0,0,0,{"$f":"FLOOR($AB68/IF($AP68>0,$AP68,ЧасовВКредите)+0.001,Точность)","v":0},0,null,null,null,null,null,null,null,null,null,null,"-",0,0,0,0,0]
[null,null,null,null,null,null,null,0,null,0,null,0,null,null,null,null,null,0,null,0,null,0,null,0,0,0,0,0,{"$f":"FLOOR($AB69/IF($AP69>0,$AP69,ЧасовВКредите)+0.001,Точность)","v":0},0,null,null,null,null,null,null,null,null,null,null,"-",0,0,0,0,0]
[null,null,null,null,null,null,null,0,null,0,null,0,null,null,null,null,null,0,null,0,null,0,null,0,0,0,0,0,{"$f":"FLOOR($AB70/IF($AP70>0,$AP70,ЧасовВКредите)+0.001,Точность)","v":0},0,null,null,null,null,null,null,null,null,null,null,"-",0,0,0,0,0]
[null,null,null,null,null,null,null,0,null,0,null,0,null,null,null,null,null,0,null,0,null,0,null,0,0,0,0,0,{"$f":"FLOOR($AB71/IF($AP71>0,$AP71,ЧасовВКредите)+0.001,Точность)","v":0},0,null,null,null,null,null,null,null,null,null,null,"-",0,0,0,0,0]
[null,null,null,null,null,null,null,0,null,0,null,0,null,null,null,null,null,0,null,0,null,0,null,0,0,0,0,0,{"$f":"FLOOR($AB72/IF($AP72>0,$AP72,ЧасовВКредите)+0.001,Точность)","v":0},0,null,null,null,null,null,null,null,null,null,null,"-",0,0,0,{"$f":"IF(AND(AL72>1145,AL72<1166),1,0)","v":0},0]
[null,null,null,null,null,null,null,0,null,0,null,0,null,null,null,null,null,0,null,0,null,0,null,0,0,0,0,0,{"$f":"FLOOR($AB73/IF($AP73>0,$AP73,ЧасовВКредите)+0.001,Точность)","v":0},0,null,null,null,null,null,null,null,null,null,null,"-",0,0,0,0,0]
[null,null,null,null,null,null,null,0,null,0,null,0,null,null,null,null,null,0,null,0,null,0,null,0,0,0,0,0,{"$f":"FLOOR($AB74/IF($AP74>0,$AP74,ЧасовВКредите)+0.001,Точность)","v":0},0,null,null,null,null,null,null,null,null,null,null,"-",0,0,0,0,0]
[null,null,null,null,null,null,null,0,null,0,null,0,null,null,null,null,null,0,null,0,null,0,null,0,0,0,0,0,{"$f":"FLOOR($AB75/IF($AP75>0,$AP75,ЧасовВКредите)+0.001,Точность)","v":0},0,null,null,null,null,null,null,null,null,null,null,"-",0,0,0,0,0]
["Всего АЧ",null,null,{"$f":"SUMIF($AJ$7:$AJ$75,\"=1\",D7:D75)-SUMIF($AT$7:$AT$75,\">0\",D7:D75)","v":188},54,334,0,576,290,{"$f":"SUMIF($AJ$7:$AJ$75,\"=1\",J7:J75)-SUMIF($AT$7:$AT$75,\">0\",J7:J75)","v":866},135,1001,null,{"$f":"SUMIF($AJ$7:$AJ$75,\"=1\",N7:N75)-SUMIF($AT$7:$AT$75,\">0\",N7:N75)","v":186},36,336,0,558,544,1102,108,1210,null,{"$f":"SUMIF($AJ$7:$AJ$75,\"=1\",X7:X75)-SUMIF($AT$7:$AT$75,\">0\",X7:X75)","v":1134},{"$f":"SUMIF($AJ$7:$AJ$75,\"=1\",Y7:Y75)-SUMIF($AT$7:$AT$75,\">0\",Y7:Y75)","v":834},{"$f":"SUMIF($AJ$7:$AJ$75,\"=1\",Z7:Z75)-SUMIF($AT$7:$AT$75,\">0\",Z7:Z75)","v":1968},{"$f":"SUMIF($AJ$7:$AJ$75,\"=1\",AA7:AA75)-SUMIF($AT$7:$AT$75,\">0\",AA7:AA75)","v":243},{"$f":"SUMIF($AJ$7:$AJ$75,\"=1\",AB7:AB75)-SUMIF($AT$7:$AT$75,\">0\",AB7:AB75)","v":2211},58.5,57,null,0,null,null,null,null,null,null,null,null,null,null,{"$f":"SUMIF($AJ$7:$AJ$75,\"=1\",AQ7:AQ75)","v":60},null,null,{"$f":"SUM(AT7:AT75)","v":0}]
["АЧ/Нед",null,null,{"$f":"IF(ABS($J$4-$L$4)>0.1,ROUND(D76/($J$4-$L$4),0),0)","v":10},3,19,0,32,16,{"$f":"IF(ABS($J$4-$L$4)>0.1,CEILING(J76/($J$4-$L$4)-0.001,0.1),0)","v":48.2},{"$f":"IF(ABS(K76-K78)<0.01,\"=\",IF(K76<K78,\"<\",\">\"))","v":"<"},{"$f":"IF(ABS(L76-L78)<0.01,\"=\",IF(L76<L78,\"<\",\">\"))","v":"<"},null,{"$f":"IF(ABS($T$4-$V$4)>0.1,ROUND(N76/($T$4-$V$4),0),0)","v":10},2,19,0,31,30,{"$f":"IF(ABS($T$4-$V$4)>0.1,CEILING(T76/($T$4-$V$4)-0.001,0.1),0)","v":61.300000000000004},{"$f":"IF(ABS(U76-U78)<0.01,\"=\",IF(U76<U78,\"<\",\">\"))","v":"<"},">",null,null,null,{"$f":"IF(ABS(Z76-Z78)<0.01,\"=\",IF(Z76<Z78,\"<\",\">\"))","v":">"},"<","<","<","<",null,0,null,null,null,null,null,null,null,null,0,0]
["Всего АЧ/Нед /в том числе физической культуры",null,null,{"$f":"SUM(D77:F77)","v":32},{"$f":"\"/\"","v":"/"},{"$f":"IF($J$4-$L$4>0,(SUMIF(AG7:AG75,\"=1\",D7:D75)+SUMIF(AG7:AG75,\"=1\",E7:E75)+SUMIF(AG7:AG75,\"=1\",F7:F75)+SUMIF(AG7:AG75,\"=1\",G7:G75))/($J$4-$L$4),0)","v":3.0000000000000018},null,{"$f":"IF(I78<>0,\"D=\",\"\")","v":"D="},{"$f":"IF(J78*($J$4-$L$4)-J76<0.001,0,J78*($J$4-$L$4)-J76)","v":105.99999999999943},{"$f":"IF($J$4-$L$4>0,54,0)","v":54},{"$f":"K4*54","v":161.99999999999994},{"$f":"J78*($J$4-$L$4)+K78","v":1133.9999999999993},null,{"$f":"SUM(N77:P77)","v":31},{"$f":"\"/\"","v":"/"},{"$f":"IF($T$4-$V$4>0,(SUMIF(AG7:AG75,\"=1\",N7:N75)+SUMIF(AG7:AG75,\"=1\",O7:O75)+SUMIF(AG7:AG75,\"=1\",P7:P75)+SUMIF(AG7:AG75,\"=1\",Q7:Q75))/($T$4-$V$4),0)","v":3.0000000000000018},null,{"$f":"IF(S78<>0,\"D=\",\"\")","v":""},{"$f":"IF(T78*($T$4-$V$4)-T76<0.001,0,T78*($T$4-$V$4)-T76)","v":0},{"$f":"IF($T$4-$V$4>0,54,0)","v":54},{"$f":"U4*54","v":161.99999999999994},{"$f":"T78*($T$4-$V$4)+U78","v":1133.9999999999993},null,null,null,{"$f":"(J4+T4-L4-V4)*IF(J78>0,J78,T78)","v":1943.9999999999989},{"$f":"U78+K78","v":323.99999999999989},{"$f":"V78+L78","v":2267.9999999999986},{"$f":"(J4+K4-L4+T4+U4-V4)*КредитовВНеделе","v":62.999999999999972},{"$f":"IF(J4-L4>0,КредитовНаГод/2,0)+IF(T4-V4>0,КредитовНаГод/2,0)","v":60},null,0,null,null,null,null,null,null,null,null,0]
["Должно быть АЧ/Нед до",null,null,null,null,null,null,null,null,null,null,null,null,null,null,null,null,null,null,null,null,null,null,"Должно быть до"]
["Должно быть АЧ на экзамены"]
["Предельное количество АЧ"]
["Экзаменов",null,null,{"$f":"Экз3","v":5},null,null,null,null,null,null,null,null,null,{"$f":"Экз4","v":4},null,null,null,null,null,null,null,null,null,"Должно быть ЗЕТ",null,null,null,null,null,null,null,0,null,null,null,null,null,null,null,null,0]
["Зачетов",null,null,{"$f":"Зач3","v":4},null,null,null,null,null,null,null,null,null,{"$f":"Зач4","v":4},null,null,null,null,null,null,null,null,null,{"$f":"\"Должно быть \"&СокрКРЕТИТОВ","v":"Должно быть Cr ECTS"},null,null,null,null,null,null,null,0,null,null,null,null,null,null,null,null,0]
["Курсовых проектов, к, р, э, г, о",null,null,{"$f":"КП3","v":0},null,null,null,null,null,null,null,null,null,{"$f":"КП4","v":0},null,null,null,null,null,null,null,null,null,"Оценка планирования:",null,null,null,null,null,null,null,0,null,null,null,null,null,null,null,null,0]
["Курсовых работ",null,null,{"$f":"КР3","v":1},null,null,null,null,null,null,null,null,null,{"$f":"КР4","v":1},null,null,null,null,null,null,null,null,null,{"$f":"IF(AB76>AB78*0.5,IF(AND(J77<=J78+0.01,K76<=K78+0.01,L76<=L78+0.01,T77<=T78+0.01,U76<=U78+0.01,V76<=V78+0.01,Z76<=Z78+0.01,AC76<=AC78+0.01,D82+N82<=IF(ПерезачтеноВсего>0,10.01,20.01),IF(isFGOS,D83+N83<=12.01,D82+D83+N82+N83<=IF(ПерезачтеноВсего>0,22.01,32.01)),IF(isFGOS,ABS(D87-IF(Нормы!C27>0,Нормы!C27,60))<0.01,TRUE)),\"Отлично\",IF(OR(IF(isFGOS,D87<IF(Нормы!C27>0,Нормы!C27,60)-0.01,FALSE),J77-0.01>J78,K77=\">\",L77=\">\",T77-0.01>T78,U77=\">\",V77=\">\",Z77=\">\"),\"Неудовлетворительно\",\"Удовлетворительно\")),\"Нет (мало АЧ)\")","v":"Неудовлетворительно"},null,null,null,null,null,null,null,0,null,null,null,null,null,null,null,null,0]
["Всего за учебный год",null,null,"Недель ТО",null,null,{"$f":"J4+T4","v":35.999999999999979},null,"Недель на экзамены",null,null,null,{"$f":"K4+U4","v":5.9999999999999982},null,null,null,null,null,null,null,null,null,null,null,null,null,"Нед","АЧ","ЗЕТ",{"$f":"СокрКРЕТИТОВ","v":"Cr ECTS"},null,0,null,null,null,null,null,null,null,null,0]
["ЗЕТ за курс без Факультативов / Факультативы",null,null,{"$f":"AC76+AC91-E87","v":52},{"$f":"SUMIF(AS7:AS75,\"=1\",AC7:AC75)","v":6.5},null,null,null,null,null,null,null,null,null,null,null,null,null,"Итоговая аттестация (дисциплины) (А)",null,null,null,null,null,null,null,{"$f":"Титул!BF38","v":0},{"$f":"FLOOR(AA87*54+0.001,0.01)","v":0},{"$f":"FLOOR(AA87*КредитовВНеделе+0.001,ТочностьН)","v":0},{"$f":"FLOOR(AA87*КредитовНаГод/40,ТочностьН)","v":0},null,0,null,null,null,null,null,null,null,null,0]
[{"$f":"СокрКРЕТИТОВ&\" за курс\"","v":"Cr ECTS за курс"},null,null,{"$f":"AD76+AD91","v":57},null,null,null,null,null,null,null,null,null,null,null,null,null,null,"Практики (У,П) + распределенная",null,null,null,null,null,null,null,{"$f":"Практики!AK68+AT76/54","v":0},{"$f":"FLOOR(Практики!U68*IF(ЧасовВКредите>0,ЧасовВКредите,36)+AT76+0.001,0.01)","v":0},{"$f":"Практики!U68+FLOOR(IF(ЧасовВКредите>0,AT76/ЧасовВКредите,AT76/36)+0.001,ТочностьН)","v":0},{"$f":"FLOOR(AA88*КредитовНаГод/40,ТочностьН)","v":0},null,0,null,null,null,null,null,null,null,null,0]
["Обозначения:",null,null,"Э-экзамен",null,null,"З-зачет",null,null,"Р-курсовая работа",null,null,null,"П-курсовой проект",null,null,null,null,"Дипломная работа (проект) (Д)",null,null,null,null,null,null,null,{"$f":"Титул!BI38","v":0},{"$f":"FLOOR(AA89*54+0.001,0.01)","v":0},{"$f":"FLOOR(AA89*КредитовВНеделе+0.001,ТочностьН)","v":0},{"$f":"FLOOR(AA89*КредитовНаГод/40,ТочностьН)","v":0},null,0,null,null,null,null,null,null,null,null,0]
[null,null,null,{"$f":"Курс1!D90","v":"АЧ-академических часов"},null,null,null,null,null,"ЗЕТ-зачетных единиц трудоемкости",null,null,null,null,null,null,null,null,"Государственные экзамены (ИГА) (Г)",null,null,null,null,null,null,null,{"$f":"Титул!BJ38","v":0},{"$f":"FLOOR(AA90*54+0.001,0.01)","v":0},{"$f":"FLOOR(AA90*КредитовВНеделе+0.001,ТочностьН)","v":0},{"$f":"FLOOR(AA90*КредитовНаГод/40,ТочностьН)","v":0},null,0,null,null,null,null,null,null,null,null,0]
[null,null,null,"ИГА-Итоговая государственная аттестация",null,null,null,null,null,null,null,null,null,null,null,null,null,null,null,null,null,null,null,null,"Итого",null,{"$f":"SUM(AA87:AA90)","v":0},{"$f":"SUM(AB87:AB90)","v":0},{"$f":"SUM(AC87:AC90)","v":0},{"$f":"SUM(AD87:AD90)","v":0},null,0,null,null,null,null,null,null,null,null,0]
[null,null,null,"РП - распределенная практика и НИР,",null,null,null,null,null,null,null,"контрольные работы (к), рефераты (р), эссе (э), расчетно-графические работы (г), оцека (о)"]

{"sheet":"Курс3","index":8,"n_rows":92,"n_cols":46,"rows_kept":92,"cut":false,"hidden":false,"merged":[[87,0,87,2],[85,0,85,2],[84,0,84,2],[88,18,88,25],[83,13,83,21],[83,23,83,29],[86,0,86,2],[83,3,83,11],[79,0,79,2],[77,0,77,2],[90,24,90,25],[86,18,86,25],[84,3,84,11],[84,23,84,29],[82,0,82,2],[81,0,81,2],[82,3,82,11],[88,0,90,2],[82,13,82,21],[81,3,81,11],[84,13,84,21],[89,18,89,25],[87,18,87,25],[83,0,83,2],[0,0,0,30],[1,0,1,30],[78,23,78,25],[81,13,81,21],[3,30,5,30],[3,0,5,0],[3,28,5,28],[4,3,4,11],[80,0,80,2],[3,3,3,4],[78,0,78,2],[76,0,76,2],[3,29,5,29],[3,23,4,27],[3,22,5,22],[4,13,4,21],[3,1,5,1],[3,2,5,2],[75,0,75,2],[3,42,5,42],[3,31,5,31],[3,40,5,40],[3,12,5,12],[3,41,5,41],[3,13,3,14]]}
[{"$f":"Курс1!A1","v":"ГОУ ВПО \"Самарский государственный технический университет\""}]
[{"$f":"Курс1!A2","v":"Рабочий учебный план: Направления 030600 \"Журналистика\" специальности 030602 \"Связи с общественностью\""}]
["Курс 3",null,{"$f":"Курс1!C3","v":"Утвержден: Ректор  ____________  / Калашников В.В. /  \"___\"__________20___ г."},null,null,null,null,null,null,null,null,null,null,null,null,null,null,null,null,null,null,null,null,{"$f":"ТекущийПлан&\".pli\"","v":"030602_65-00-12345-2979.pli"}]
["№","Блок","Дисциплина","Осень(5)",null,"Нед. ТО+, Экз, РП :",null,null,null,{"$f":"Недель5","v":17.999999999999989},{"$f":"Экз3Осень","v":2.9999999999999991},{"$f":"IF(isFGOS,CEILING((SUMIF($AT$7:$AT$75,\">0\",L7:L75))/54,1/6),0)","v":0},"Контроль","Весна(6)",null,"Нед. ТО+, Экз, РП :",null,null,null,{"$f":"Недель6","v":13.999999999999984},{"$f":"Экз3Весна","v":2.9999999999999991},{"$f":"IF(isFGOS,CEILING((SUMIF($AT$7:$AT$75,\">0\",V7:V75))/54,1/6),0)","v":0},"Контроль","Итого АЧ за год",null,null,null,null,"ЗЕТ",{"$f":"СокрКРЕТИТОВ","v":"Cr ECTS"},"Каф","СРС ID",null,null,null,null,null,null,null,null,"Сем-Сем","ЗЕТ",{"$f":"AD4","v":"Cr ECTS"}]
[null,null,null,{"$f":"ЗаголовокОбъемаРаботы","v":"Объем работы студента в АЧ в семестре"},null,null,null,null,null,null,null,null,null,{"$f":"ЗаголовокОбъемаРаботы","v":"Объем работы студента в АЧ в семестре"}]
[null,null,null,"Лек","Лаб","Пр",{"$f":"КСР","v":"КСР"},"Ауд","СРС","Изуч","Экз","Всего",null,"Лек","Лаб","Пр",{"$f":"КСР","v":"КСР"},"Ауд","СРС","Изуч","Экз","Всего",null,"Ауд","СРС","Изуч","Экз","Всего",null,null,null,null,null,null,null,null,null,null,null,null,null,null,null,null,"Фак"]
[1,{"$f":"План!$A$7","v":"ГСЭ.Ф.2"},"Физическая культура",{"$f":"План!$AB$7","v":4},{"$f":"План!$AC$7","v":0},{"$f":"План!$AD$7","v":50},{"$f":"План!$AE$7","v":0},{"$f":"SUM(D7:G7)","v":54},0,{"$f":"SUM(H7:I7)","v":54},null,{"$f":"SUM(J7:K7)","v":54},"З",{"$f":"План!$AF$7","v":4},{"$f":"План!$AG$7","v":0},{"$f":"План!$AH$7","v":38},{"$f":"План!$AI$7","v":0},{"$f":"SUM(N7:Q7)","v":42},0,{"$f":"SUM(R7:S7)","v":42},null,{"$f":"SUM(T7:U7)","v":42},"З",{"$f":"H7+R7","v":96},{"$f":"I7+S7","v":0},{"$f":"J7+T7","v":96},{"$f":"K7+U7","v":0},{"$f":"V7+L7","v":96},{"$f":"Рабочий!$E$5+Рабочий!$E$6","v":2.5},{"$f":"FLOOR($AQ7,Точность)","v":1.5},{"$f":"План!$BP$7","v":21},{"$f":"30-ABS(Курс1!$I$8)-ABS(Курс1!$S$8)-ABS(Курс2!$I$8)-ABS(Курс2!$S$8)-ABS(Курс3!$I$7)-ABS(Курс3!$S$7)-ABS(Курс4!$I$7)-ABS(Курс4!$S$7)","v":0},1,0,0,1,8,7,1,null,{"$f":"$AM7&\"-\"&$AK7","v":"1-8"},{"$f":"IF($AL7>0,IF(INDIRECT(\"План!FT\"&$AL7)>0,FLOOR(INDIRECT(\"План!H\"&$AL7)/INDIRECT(\"План!FT\"&$AL7),Точность),IF(ЧасовВКредите>0,ЧасовВКредите,36)),0)","v":36},{"$f":"IF($AB$76>0,AB7/$AB$76*$AD$78,0)","v":1.9277108433734937},{"$f":"IF(AND($AQ7>0,$AJ7>0),1,0)","v":1},{"$f":"IF(AND(AL7>1145,AL7<1166),1,0)","v":0},{"$f":"IF(AND(AJ7>0,AL7<1144,AL7>917),IF(isFGOS,AB7,0),0)","v":0}]
[2,"ГСЭ.B3","Экономика природопользования",{"$f":"План!$AB$123","v":0},{"$f":"План!$AC$123","v":0},{"$f":"План!$AD$123","v":0},{"$f":"План!$AE$123","v":0},0,null,0,null,0,"",{"$f":"План!$AF$123","v":28},{"$f":"План!$AG$123","v":0},{"$f":"План!$AH$123","v":0},{"$f":"План!$AI$123","v":0},28,{"$f":"План!$K$123","v":28},56,null,56,"З",28,28,56,0,56,{"$f":"FLOOR($AB8/IF($AP8>0,$AP8,ЧасовВКредите)+0.001,Точность)","v":1.5},1,{"$f":"План!$BP$123","v":5},{"$f":"28-ABS(Курс3!$I$8)-ABS(Курс3!$S$8)","v":0},null,null,null,1,6,123,6,null,{"$f":"$AM8&\"-\"&$AK8","v":"6-6"},36,1.1244979919678715,1,{"$f":"IF(AND(AL8>1145,AL8<1166),1,0)","v":0},0]
[3,"ГСЭ.B3","Денежные реформы",{"$f":"План!$AB$124","v":0},{"$f":"План!$AC$124","v":0},{"$f":"План!$AD$124","v":0},{"$f":"План!$AE$124","v":0},0,null,0,null,0,"",{"$f":"План!$AF$124","v":28},{"$f":"План!$AG$124","v":0},{"$f":"План!$AH$124","v":0},{"$f":"План!$AI$124","v":0},28,{"$f":"План!$K$124","v":28},56,null,56,"З",28,28,56,0,56,{"$f":"FLOOR($AB9/IF($AP9>0,$AP9,ЧасовВКредите)+0.001,Точность)","v":1.5},1,{"$f":"План!$BP$124","v":5},{"$f":"28-ABS(Курс3!$I$9)-ABS(Курс3!$S$9)","v":0},null,null,null,0,6,124,6,null,"6-6",36,1.1244979919678715,0,0,0]
[4,{"$f":"План!$A$294","v":"ЕН.Р.1"},"Экология",{"$f":"План!$AB$294","v":36},{"$f":"План!$AC$294","v":0},{"$f":"План!$AD$294","v":0},{"$f":"План!$AE$294","v":0},36,{"$f":"План!$K$294","v":44},80,null,80,"З",{"$f":"План!$AF$294","v":0},{"$f":"План!$AG$294","v":0},{"$f":"План!$AH$294","v":0},{"$f":"План!$AI$294","v":0},0,null,0,null,0,"",36,44,80,0,80,{"$f":"FLOOR($AB10/IF($AP10>0,$AP10,ЧасовВКредите)+0.001,Точность)","v":2},1.5,{"$f":"План!$BP$294","v":32},{"$f":"44-ABS(Курс3!$I$10)-ABS(Курс3!$S$10)","v":0},0,0,0,1,5,294,5,null,"5-5",36,1.606425702811245,1,0,0]
[5,{"$f":"План!$A$462","v":"ОПД.Ф.1"},"Теория и практика связей с общественностью",{"$f":"План!$AB$462","v":0},{"$f":"План!$AC$462","v":36},{"$f":"План!$AD$462","v":0},{"$f":"План!$AE$462","v":0},36,0,36,null,36,"З",{"$f":"План!$AF$462","v":14},{"$f":"План!$AG$462","v":0},{"$f":"План!$AH$462","v":14},{"$f":"План!$AI$462","v":0},28,{"$f":"План!$K$462-Курс1!$I$19-Курс1!$S$19-Курс2!$I$15-Курс2!$S$15-Курс3!$I$11","v":280},308,27,335,"Э",64,280,344,27,371,{"$f":"FLOOR($AB11/IF($AP11>0,$AP11,ЧасовВКредите)+0.001,Точность)","v":10},7,{"$f":"План!$BP$462","v":4},{"$f":"280-ABS(Курс1!$I$19)-ABS(Курс1!$S$19)-ABS(Курс2!$I$15)-ABS(Курс2!$S$15)-ABS(Курс3!$I$11)-ABS(Курс3!$S$11)","v":0},0,0,0,1,6,462,1,null,"1-6",36,7.4497991967871489,1,0,0]
[6,{"$f":"План!$A$466","v":"ОПД.Ф.5"},"Мировая экономика и внешнеэкономическая деятельность",{"$f":"План!$AB$466","v":36},{"$f":"План!$AC$466","v":0},{"$f":"План!$AD$466","v":36},{"$f":"План!$AE$466","v":0},72,{"$f":"План!$K$466","v":72},144,27,171,"Э",{"$f":"План!$AF$466","v":0},{"$f":"План!$AG$466","v":0},{"$f":"План!$AH$466","v":0},{"$f":"План!$AI$466","v":0},0,null,0,null,0,"",72,72,144,27,171,{"$f":"FLOOR($AB12/IF($AP12>0,$AP12,ЧасовВКредите)+0.001,Точность)","v":4.5},3,{"$f":"План!$BP$466","v":10},{"$f":"72-ABS(Курс3!$I$12)-ABS(Курс3!$S$12)","v":0},0,0,0,1,5,466,5,null,"5-5",36,3.4337349397590358,1,0,0]
[7,{"$f":"План!$A$470","v":"ОПД.Ф.9"},"Теория и практика массовой информации",{"$f":"План!$AB$470","v":0},{"$f":"План!$AC$470","v":18},{"$f":"План!$AD$470","v":18},{"$f":"План!$AE$470","v":0},36,0,36,null,36,"З",{"$f":"План!$AF$470","v":14},{"$f":"План!$AG$470","v":14},{"$f":"План!$AH$470","v":0},{"$f":"План!$AI$470","v":0},28,{"$f":"План!$K$470-Курс1!$I$22-Курс1!$S$22-Курс2!$I$17-Курс2!$S$17-Курс3!$I$13","v":236},264,27,291,"Э",64,236,300,27,327,{"$f":"FLOOR($AB13/IF($AP13>0,$AP13,ЧасовВКредите)+0.001,Точность)","v":9},6.5,{"$f":"План!$BP$470","v":4},{"$f":"236-ABS(Курс1!$I$22)-ABS(Курс1!$S$22)-ABS(Курс2!$I$17)-ABS(Курс2!$S$17)-ABS(Курс3!$I$13)-ABS(Курс3!$S$13)","v":0},0,0,0,1,6,470,1,null,"1-6",36,6.5662650602409638,1,0,0]
[8,{"$f":"План!$A$471","v":"ОПД.Ф.10"},"Стилистика и литературное редактирование",{"$f":"План!$AB$471","v":18},{"$f":"План!$AC$471","v":0},{"$f":"План!$AD$471","v":54},{"$f":"План!$AE$471","v":0},72,{"$f":"План!$K$471-Курс2!$I$18-Курс2!$S$18","v":324},396,27,423,"Э",{"$f":"План!$AF$471","v":0},{"$f":"План!$AG$471","v":0},{"$f":"План!$AH$471","v":0},{"$f":"План!$AI$471","v":0},0,null,0,null,0,"",72,324,396,27,423,{"$f":"FLOOR($AB14/IF($AP14>0,$AP14,ЧасовВКредите)+0.001,Точность)","v":11.5},8,{"$f":"План!$BP$471","v":4},{"$f":"324-ABS(Курс2!$I$18)-ABS(Курс2!$S$18)-ABS(Курс3!$I$14)-ABS(Курс3!$S$14)","v":0},0,0,0,1,5,471,3,null,"3-5",36,8.4939759036144586,1,0,0]
[9,{"$f":"План!$A$472","v":"ОПД.Ф.11"},"Основы теории коммуникации",{"$f":"План!$AB$472","v":0},{"$f":"План!$AC$472","v":0},{"$f":"План!$AD$472","v":0},{"$f":"План!$AE$472","v":0},0,null,0,null,0,"",{"$f":"План!$AF$472","v":28},{"$f":"План!$AG$472","v":0},{"$f":"План!$AH$472","v":0},{"$f":"План!$AI$472","v":0},28,0,28,null,28,"Р",28,0,28,0,28,{"$f":"FLOOR($AB15/IF($AP15>0,$AP15,ЧасовВКредите)+0.001,Точность)","v":0.5},0.5,{"$f":"План!$BP$472","v":4},{"$f":"236-ABS(Курс3!$I$15)-ABS(Курс3!$S$15)-ABS(Курс4!$I$12)-ABS(Курс4!$S$12)-ABS(Курс5!$I$8)-ABS(Курс5!$S$8)","v":0},0,0,0,1,9,472,6,null,"6-9",36,0.56224899598393574,1,0,0]
[10,{"$f":"План!$A$474","v":"ОПД.Ф.13"},"Психология массовой коммуникации",{"$f":"План!$AB$474","v":0},{"$f":"План!$AC$474","v":0},{"$f":"План!$AD$474","v":0},{"$f":"План!$AE$474","v":0},0,null,0,null,0,"",{"$f":"План!$AF$474","v":28},{"$f":"План!$AG$474","v":14},{"$f":"План!$AH$474","v":0},{"$f":"План!$AI$474","v":0},42,{"$f":"План!$K$474","v":43},85,null,85,"З",42,43,85,0,85,{"$f":"FLOOR($AB16/IF($AP16>0,$AP16,ЧасовВКредите)+0.001,Точность)","v":2},1.5,{"$f":"План!$BP$474","v":4},{"$f":"43-ABS(Курс3!$I$16)-ABS(Курс3!$S$16)","v":0},0,0,0,1,6,474,6,null,"6-6",36,1.7068273092369477,1,0,0]
[11,{"$f":"План!$A$475","v":"ОПД.Ф.14"},"Маркетинг",{"$f":"План!$AB$475","v":18},{"$f":"План!$AC$475","v":18},{"$f":"План!$AD$475","v":0},{"$f":"План!$AE$475","v":0},36,{"$f":"План!$K$475","v":39},75,27,102,"Э",{"$f":"План!$AF$475","v":0},{"$f":"План!$AG$475","v":0},{"$f":"План!$AH$475","v":0},{"$f":"План!$AI$475","v":0},0,null,0,null,0,"",36,39,75,27,102,{"$f":"FLOOR($AB17/IF($AP17>0,$AP17,ЧасовВКредите)+0.001,Точность)","v":2.5},2,{"$f":"План!$BP$475","v":7},{"$f":"39-ABS(Курс3!$I$17)-ABS(Курс3!$S$17)","v":0},0,0,0,1,5,475,5,null,"5-5",36,2.0481927710843375,1,0,0]
[12,{"$f":"План!$A$476","v":"ОПД.Ф.15"},"Современный менеджмент",{"$f":"План!$AB$476","v":0},{"$f":"План!$AC$476","v":0},{"$f":"План!$AD$476","v":54},{"$f":"План!$AE$476","v":0},54,0,54,null,54,"З",{"$f":"План!$AF$476","v":14},{"$f":"План!$AG$476","v":0},{"$f":"План!$AH$476","v":42},{"$f":"План!$AI$476","v":0},56,{"$f":"План!$K$476-Курс2!$I$19-Курс2!$S$19-Курс3!$I$18","v":146},202,27,229,"Э",110,146,256,27,283,{"$f":"FLOOR($AB18/IF($AP18>0,$AP18,ЧасовВКредите)+0.001,Точность)","v":7.5},5.5,{"$f":"План!$BP$476","v":7},{"$f":"146-ABS(Курс2!$I$19)-ABS(Курс2!$S$19)-ABS(Курс3!$I$18)-ABS(Курс3!$S$18)","v":0},0,0,0,1,6,476,4,null,"4-6",36,5.6827309236947787,1,0,0]
[13,{"$f":"План!$A$522","v":"ОПД.Р.1"},"Международное публичное и частное право",{"$f":"План!$AB$522","v":36},{"$f":"План!$AC$522","v":0},{"$f":"План!$AD$522","v":18},{"$f":"План!$AE$522","v":0},54,{"$f":"План!$K$522","v":76},130,27,157,"Э",{"$f":"План!$AF$522","v":0},{"$f":"План!$AG$522","v":0},{"$f":"План!$AH$522","v":0},{"$f":"План!$AI$522","v":0},0,null,0,null,0,"",54,76,130,27,157,{"$f":"FLOOR($AB19/IF($AP19>0,$AP19,ЧасовВКредите)+0.001,Точность)","v":4},3,{"$f":"План!$BP$522","v":1},{"$f":"76-ABS(Курс3!$I$19)-ABS(Курс3!$S$19)","v":0},0,0,0,1,5,522,5,null,"5-5",36,3.1526104417670684,1,0,0]
[14,{"$f":"План!$A$524","v":"ОПД.Р.3"},"Теория и практика рекламы",{"$f":"План!$AB$524","v":0},{"$f":"План!$AC$524","v":0},{"$f":"План!$AD$524","v":0},{"$f":"План!$AE$524","v":0},0,null,0,null,0,"",{"$f":"План!$AF$524","v":14},{"$f":"План!$AG$524","v":0},{"$f":"План!$AH$524","v":14},{"$f":"План!$AI$524","v":0},28,{"$f":"План!$K$524","v":34},62,27,89,"Э",28,34,62,27,89,{"$f":"FLOOR($AB20/IF($AP20>0,$AP20,ЧасовВКредите)+0.001,Точность)","v":2},1.5,{"$f":"План!$BP$524","v":4},{"$f":"34-ABS(Курс3!$I$20)-ABS(Курс3!$S$20)","v":0},0,0,0,1,6,524,6,null,"6-6",36,1.7871485943775101,1,0,0]
[15,{"$f":"План!$A$527","v":"ОПД.Р.6"},"Государственное и муниципальное управление",{"$f":"План!$AB$527","v":0},{"$f":"План!$AC$527","v":0},{"$f":"План!$AD$527","v":0},{"$f":"План!$AE$527","v":0},0,null,0,null,0,"",{"$f":"План!$AF$527","v":14},{"$f":"План!$AG$527","v":0},{"$f":"План!$AH$527","v":14},{"$f":"План!$AI$527","v":0},28,{"$f":"План!$K$527","v":32},60,null,60,"З",28,32,60,0,60,{"$f":"FLOOR($AB21/IF($AP21>0,$AP21,ЧасовВКредите)+0.001,Точность)","v":1.5},1,{"$f":"План!$BP$527","v":7},{"$f":"32-ABS(Курс3!$I$21)-ABS(Курс3!$S$21)","v":0},0,0,0,1,6,527,6,null,"6-6",36,1.2048192771084336,1,0,0]
[16,"ОПД.B2","Административное и коммерческое право",{"$f":"План!$AB$569","v":0},{"$f":"План!$AC$569","v":0},{"$f":"План!$AD$569","v":0},{"$f":"План!$AE$569","v":0},0,null,0,null,0,"",{"$f":"План!$AF$569","v":28},{"$f":"План!$AG$569","v":0},{"$f":"План!$AH$569","v":14},{"$f":"План!$AI$569","v":0},42,{"$f":"План!$K$569","v":70},112,null,112,"З",42,70,112,0,112,{"$f":"FLOOR($AB22/IF($AP22>0,$AP22,ЧасовВКредите)+0.001,Точность)","v":3},2,{"$f":"План!$BP$569","v":1},{"$f":"70-ABS(Курс3!$I$22)-ABS(Курс3!$S$22)","v":0},null,null,null,1,6,569,6,null,"6-6",36,2.248995983935743,1,0,0]
[17,"ОПД.B2","Психология и этика делового общения",{"$f":"План!$AB$570","v":0},{"$f":"План!$AC$570","v":0},{"$f":"План!$AD$570","v":0},{"$f":"План!$AE$570","v":0},0,null,0,null,0,"",{"$f":"План!$AF$570","v":28},{"$f":"План!$AG$570","v":0},{"$f":"План!$AH$570","v":14},{"$f":"План!$AI$570","v":0},42,{"$f":"План!$K$570","v":70},112,null,112,"З",42,70,112,0,112,{"$f":"FLOOR($AB23/IF($AP23>0,$AP23,ЧасовВКредите)+0.001,Точность)","v":3},2,{"$f":"План!$BP$570","v":4},{"$f":"70-ABS(Курс3!$I$23)-ABS(Курс3!$S$23)","v":0},null,null,null,0,6,570,6,null,"6-6",36,2.248995983935743,0,0,0]
[18,{"$f":"План!$A$690","v":"СД.Ф.1"},"Коммуникационный менеджмент",{"$f":"План!$AB$690","v":36},{"$f":"План!$AC$690","v":0},{"$f":"План!$AD$690","v":36},{"$f":"План!$AE$690","v":0},72,{"$f":"План!$K$690","v":72},144,27,171,"ЭР",{"$f":"План!$AF$690","v":0},{"$f":"План!$AG$690","v":0},{"$f":"План!$AH$690","v":0},{"$f":"План!$AI$690","v":0},0,null,0,null,0,"",72,72,144,27,171,{"$f":"FLOOR($AB24/IF($AP24>0,$AP24,ЧасовВКредите)+0.001,Точность)","v":4.5},3,{"$f":"План!$BP$690","v":4},{"$f":"72-ABS(Курс3!$I$24)-ABS(Курс3!$S$24)","v":0},0,0,0,1,5,690,5,null,"5-5",36,3.4337349397590358,1,0,0]
[19,{"$f":"План!$A$691","v":"СД.Ф.2"},"Организация работы отдела по связям с общественностью",{"$f":"План!$AB$691","v":0},{"$f":"План!$AC$691","v":0},{"$f":"План!$AD$691","v":0},{"$f":"План!$AE$691","v":0},0,null,0,null,0,"",{"$f":"План!$AF$691","v":14},{"$f":"План!$AG$691","v":14},{"$f":"План!$AH$691","v":0},{"$f":"План!$AI$691","v":0},28,{"$f":"План!$K$691","v":26},54,null,54,"З",28,26,54,0,54,{"$f":"FLOOR($AB25/IF($AP25>0,$AP25,ЧасовВКредите)+0.001,Точность)","v":1.5},1,{"$f":"План!$BP$691","v":4},{"$f":"26-ABS(Курс3!$I$25)-ABS(Курс3!$S$25)","v":0},0,0,0,1,6,691,6,null,"6-6",36,1.0843373493975903,1,0,0]
[20,{"$f":"План!$A$750","v":"СД.Р.1"},"Экономика и менеджмент средств массовой информации",{"$f":"План!$AB$750","v":0},{"$f":"План!$AC$750","v":0},{"$f":"План!$AD$750","v":0},{"$f":"План!$AE$750","v":0},0,null,0,null,0,"",{"$f":"План!$AF$750","v":28},{"$f":"План!$AG$750","v":0},{"$f":"План!$AH$750","v":14},{"$f":"План!$AI$750","v":0},42,{"$f":"План!$K$750","v":62},104,27,131,"Э",42,62,104,27,131,{"$f":"FLOOR($AB26/IF($AP26>0,$AP26,ЧасовВКредите)+0.001,Точность)","v":3.5},2.5,{"$f":"План!$BP$750","v":4},{"$f":"62-ABS(Курс3!$I$26)-ABS(Курс3!$S$26)","v":0},0,0,0,1,6,750,6,null,"6-6",36,2.6305220883534135,1,0,0]
[21,{"$f":"План!$A$1146","v":"ФТД.1"},"Военная подготовка",{"$f":"План!$AB$1146","v":0},{"$f":"План!$AC$1146","v":0},{"$f":"План!$AD$1146","v":108},{"$f":"План!$AE$1146","v":0},108,0,108,null,108,"З",{"$f":"План!$AF$1146","v":0},{"$f":"План!$AG$1146","v":0},{"$f":"План!$AH$1146","v":84},{"$f":"План!$AI$1146","v":0},84,0,84,null,84,"З",192,0,192,0,192,{"$f":"FLOOR($AB27/IF($AP27>0,$AP27,ЧасовВКредите)+0.001,Точность)","v":5},3.5,{"$f":"План!$BP$1146","v":62},{"$f":"60-ABS(Курс3!$I$27)-ABS(Курс3!$S$27)-ABS(Курс4!$I$19)-ABS(Курс4!$S$19)","v":0},0,0,0,1,8,1146,5,null,"5-8",36,3.8554216867469875,1,1,0]
[null,null,null,null,null,null,null,0,null,0,null,0,null,null,null,null,null,0,null,0,null,0,null,0,0,0,0,0,{"$f":"FLOOR($AB28/IF($AP28>0,$AP28,ЧасовВКредите)+0.001,Точность)","v":0},0,null,null,null,null,null,null,null,null,null,null,"-",0,0,0,0,0]
[null,null,null,null,null,null,null,0,null,0,null,0,null,null,null,null,null,0,null,0,null,0,null,0,0,0,0,0,{"$f":"FLOOR($AB29/IF($AP29>0,$AP29,ЧасовВКредите)+0.001,Точность)","v":0},0,null,null,null,null,null,null,null,null,null,null,"-",0,0,0,0,0]
[null,null,null,null,null,null,null,0,null,0,null,0,null,null,null,null,null,0,null,0,null,0,null,0,0,0,0,0,{"$f":"FLOOR($AB30/IF($AP30>0,$AP30,ЧасовВКредите)+0.001,Точность)","v":0},0,null,null,null,null,null,null,null,null,null,null,"-",0,0,0,0,0]
[null,null,null,null,null,null,null,0,null,0,null,0,null,null,null,null,null,0,null,0,null,0,null,0,0,0,0,0,{"$f":"FLOOR($AB31/IF($AP31>0,$AP31,ЧасовВКредите)+0.001,Точность)","v":0},0,null,null,null,null,null,null,null,null,null,null,"-",0,0,0,0,0]
[null,null,null,null,null,null,null,0,null,0,null,0,null,null,null,null,null,0,null,0,null,0,null,0,0,0,0,0,{"$f":"FLOOR($AB32/IF($AP32>0,$AP32,ЧасовВКредите)+0.001,Точность)","v":0},0,null,null,null,null,null,null,null,null,null,null,"-",0,0,0,0,0]
[null,null,null,null,null,null,null,0,null,0,null,0,null,null,null,null,null,0,null,0,null,0,null,0,0,0,0,0,{"$f":"FLOOR($AB33/IF($AP33>0,$AP33,ЧасовВКредите)+0.001,Точность)","v":0},0,null,null,null,null,null,null,null,null,null,null,"-",0,0,0,0,0]
[null,null,null,null,null,null,null,0,null,0,null,0,null,null,null,null,null,0,null,0,null,0,null,0,0,0,0,0,{"$f":"FLOOR($AB34/IF($AP34>0,$AP34,ЧасовВКредите)+0.001,Точность)","v":0},0,null,null,null,null,null,null,null,null,null,null,"-",0,0,0,0,0]
[null,null,null,null,null,null,null,0,null,0,null,0,null,null,null,null,null,0,null,0,null,0,null,0,0,0,0,0,{"$f":"FLOOR($AB35/IF($AP35>0,$AP35,ЧасовВКредите)+0.001,Точность)","v":0},0,null,null,null,null,null,null,null,null,null,null,"-",0,0,0,0,0]
[null,null,null,null,null,null,null,0,null,0,null,0,null,null,null,null,null,0,null,0,null,0,null,0,0,0,0,0,{"$f":"FLOOR($AB36/IF($AP36>0,$AP36,ЧасовВКредите)+0.001,Точность)","v":0},0,null,null,null,null,null,null,null,null,null,null,"-",0,0,0,0,0]
[null,null,null,null,null,null,null,0,null,0,null,0,null,null,null,null,null,0,null,0,null,0,null,0,0,0,0,0,{"$f":"FLOOR($AB37/IF($AP37>0,$AP37,ЧасовВКредите)+0.001,Точность)","v":0},0,null,null,null,null,null,null,null,null,null,null,"-",0,0,0,0,0]
[null,null,null,null,null,null,null,0,null,0,null,0,null,null,null,null,null,0,null,0,null,0,null,0,0,0,0,0,{"$f":"FLOOR($AB38/IF($AP38>0,$AP38,ЧасовВКредите)+0.001,Точность)","v":0},0,null,null,null,null,null,null,null,null,null,null,"-",0,0,0,0,0]
[null,null,null,null,null,null,null,0,null,0,null,0,null,null,null,null,null,0,null,0,null,0,null,0,0,0,0,0,{"$f":"FLOOR($AB39/IF($AP39>0,$AP39,ЧасовВКредите)+0.001,Точность)","v":0},{"$f":"FLOOR($AQ39,Точность)","v":0},null,null,null,null,null,null,null,null,null,null,"-",{"$f":"IF($AL39>0,IF(INDIRECT(\"План!FT\"&$AL39)>0,FLOOR(INDIRECT(\"План!H\"&$AL39)/INDIRECT(\"План!FT\"&$AL39),Точность),IF(ЧасовВКредите>0,ЧасовВКредите,36)),0)","v":0},{"$f":"IF($AB$76>0,AB39/$AB$76*$AD$78,0)","v":0},0,0,{"$f":"IF(AND(AJ39>0,AL39<1144,AL39>917),IF(isFGOS,AB39,0),0)","v":0}]
[null,null,null,null,null,null,null,0,null,0,null,0,null,null,null,null,null,0,null,0,null,0,null,0,0,0,0,0,{"$f":"FLOOR($AB40/IF($AP40>0,$AP40,ЧасовВКредите)+0.001,Точность)","v":0},0,null,null,null,null,null,null,null,null,null,null,"-",0,0,0,0,0]
[null,null,null,null,null,null,null,0,null,0,null,0,null,null,null,null,null,0,null,0,null,0,null,0,0,0,0,0,{"$f":"FLOOR($AB41/IF($AP41>0,$AP41,ЧасовВКредите)+0.001,Точность)","v":0},0,null,null,null,null,null,null,null,null,null,null,"-",0,0,0,0,0]
[null,null,null,null,null,null,null,0,null,0,null,0,null,null,null,null,null,0,null,0,null,0,null,0,0,0,0,0,{"$f":"FLOOR($AB42/IF($AP42>0,$AP42,ЧасовВКредите)+0.001,Точность)","v":0},0,null,null,null,null,null,null,null,null,null,null,"-",0,0,0,0,0]
[null,null,null,null,null,null,null,0,null,0,null,0,null,null,null,null,null,0,null,0,null,0,null,0,0,0,0,0,{"$f":"FLOOR($AB43/IF($AP43>0,$AP43,ЧасовВКредите)+0.001,Точность)","v":0},0,null,null,null,null,null,null,null,null,null,null,"-",0,0,0,0,0]
[null,null,null,null,null,null,null,0,null,0,null,0,null,null,null,null,null,0,null,0,null,0,null,0,0,0,0,0,{"$f":"FLOOR($AB44/IF($AP44>0,$AP44,ЧасовВКредите)+0.001,Точность)","v":0},0,null,null,null,null,null,null,null,null,null,null,"-",0,0,0,0,0]
[null,null,null,null,null,null,null,0,null,0,null,0,null,null,null,null,null,0,null,0,null,0,null,0,0,0,0,0,{"$f":"FLOOR($AB45/IF($AP45>0,$AP45,ЧасовВКредите)+0.001,Точность)","v":0},0,null,null,null,null,null,null,null,null,null,null,"-",0,0,0,0,0]
[null,null,null,null,null,null,null,0,null,0,null,0,null,null,null,null,null,0,null,0,null,0,null,0,0,0,0,0,{"$f":"FLOOR($AB46/IF($AP46>0,$AP46,ЧасовВКредите)+0.001,Точность)","v":0},0,null,null,null,null,null,null,null,null,null,null,"-",0,0,0,0,0]
[null,null,null,null,null,null,null,0,null,0,null,0,null,null,null,null,null,0,null,0,null,0,null,0,0,0,0,0,{"$f":"FLOOR($AB47/IF($AP47>0,$AP47,ЧасовВКредите)+0.001,Точность)","v":0},0,null,null,null,null,null,null,null,null,null,null,"-",0,0,0,0,0]
[null,null,null,null,null,null,null,0,null,0,null,0,null,null,null,null,null,0,null,0,null,0,null,0,0,0,0,0,{"$f":"FLOOR($AB48/IF($AP48>0,$AP48,ЧасовВКредите)+0.001,Точность)","v":0},0,null,null,null,null,null,null,null,null,null,null,"-",0,0,0,0,0]
[null,null,null,null,null,null,null,0,null,0,null,0,null,null,null,null,null,0,null,0,null,0,null,0,0,0,0,0,{"$f":"FLOOR($AB49/IF($AP49>0,$AP49,ЧасовВКредите)+0.001,Точность)","v":0},0,null,null,null,null,null,null,null,null,null,null,"-",0,0,0,0,0]
[null,null,null,null,null,null,null,0,null,0,null,0,null,null,null,null,null,0,null,0,null,0,null,0,0,0,0,0,{"$f":"FLOOR($AB50/IF($AP50>0,$AP50,ЧасовВКредите)+0.001,Точность)","v":0},0,null,null,null,null,null,null,null,null,null,null,"-",0,0,0,0,0]
[null,null,null,null,null,null,null,0,null,0,null,0,null,null,null,null,null,0,null,0,null,0,null,0,0,0,0,0,{"$f":"FLOOR($AB51/IF($AP51>0,$AP51,ЧасовВКредите)+0.001,Точность)","v":0},0,null,null,null,null,null,null,null,null,null,null,"-",0,0,0,0,0]
[null,null,null,null,null,null,null,0,null,0,null,0,null,null,null,null,null,0,null,0,null,0,null,0,0,0,0,0,{"$f":"FLOOR($AB52/IF($AP52>0,$AP52,ЧасовВКредите)+0.001,Точность)","v":0},0,null,null,null,null,null,null,null,null,null,null,"-",0,0,0,0,0]
[null,null,null,null,null,null,null,{"$f":"SUM(D53:G53)","v":0},null,{"$f":"SUM(H53:I53)","v":0},null,{"$f":"SUM(J53:K53)","v":0},null,null,null,null,null,{"$f":"SUM(N53:Q53)","v":0},null,{"$f":"SUM(R53:S53)","v":0},null,{"$f":"SUM(T53:U53)","v":0},null,{"$f":"H53+R53","v":0},{"$f":"I53+S53","v":0},{"$f":"J53+T53","v":0},{"$f":"K53+U53","v":0},{"$f":"V53+L53","v":0},{"$f":"FLOOR($AB53/IF($AP53>0,$AP53,ЧасовВКредите)+0.001,Точность)","v":0},0,null,null,null,null,null,null,null,null,null,null,"-",0,0,0,0,0]
[null,null,null,null,null,null,null,0,null,0,null,0,null,null,null,null,null,0,null,0,null,0,null,0,0,0,0,0,{"$f":"FLOOR($AB54/IF($AP54>0,$AP54,ЧасовВКредите)+0.001,Точность)","v":0},0,null,null,null,null,null,null,null,null,null,null,"-",0,0,0,0,0]
[null,null,null,null,null,null,null,0,null,0,null,0,null,null,null,null,null,0,null,0,null,0,null,0,0,0,0,0,{"$f":"FLOOR($AB55/IF($AP55>0,$AP55,ЧасовВКредите)+0.001,Точность)","v":0},0,null,null,null,null,null,null,null,null,null,null,"-",0,0,0,0,0]
[null,null,null,null,null,null,null,0,null,0,null,0,null,null,null,null,null,0,null,0,null,0,null,0,0,0,0,0,{"$f":"FLOOR($AB56/IF($AP56>0,$AP56,ЧасовВКредите)+0.001,Точность)","v":0},0,null,null,null,null,null,null,null,null,null,null,"-",0,0,0,0,0]
[null,null,null,null,null,null,null,0,null,0,null,0,null,null,null,null,null,0,null,0,null,0,null,0,0,0,0,0,{"$f":"FLOOR($AB57/IF($AP57>0,$AP57,ЧасовВКредите)+0.001,Точность)","v":0},0,null,null,null,null,null,null,null,null,null,null,"-",0,0,0,0,0]
[null,null,null,null,null,null,null,0,null,0,null,0,null,null,null,null,null,0,null,0,null,0,null,0,0,0,0,0,{"$f":"FLOOR($AB58/IF($AP58>0,$AP58,ЧасовВКредите)+0.001,Точность)","v":0},0,null,null,null,null,null,null,null,null,null,null,"-",0,0,0,0,0]
[null,null,null,null,null,null,null,0,null,0,null,0,null,null,null,null,null,0,null,0,null,0,null,0,0,0,0,0,{"$f":"FLOOR($AB59/IF($AP59>0,$AP59,ЧасовВКредите)+0.001,Точность)","v":0},0,null,null,null,null,null,null,null,null,null,null,"-",0,0,0,0,0]
[null,null,null,null,null,null,null,0,null,0,null,0,null,null,null,null,null,0,null,0,null,0,null,0,0,0,0,0,{"$f":"FLOOR($AB60/IF($AP60>0,$AP60,ЧасовВКредите)+0.001,Точность)","v":0},0,null,null,null,null,null,null,null,null,null,null,"-",0,0,0,0,0]
[null,null,null,null,null,null,null,0,null,0,null,0,null,null,null,null,null,0,null,0,null,0,null,0,0,0,0,0,{"$f":"FLOOR($AB61/IF($AP61>0,$AP61,ЧасовВКредите)+0.001,Точность)","v":0},0,null,null,null,null,null,null,null,null,null,null,"-",0,0,0,0,0]
[null,null,null,null,null,null,null,0,null,0,null,0,null,null,null,null,null,0,null,0,null,0,null,0,0,0,0,0,{"$f":"FLOOR($AB62/IF($AP62>0,$AP62,ЧасовВКредите)+0.001,Точность)","v":0},0,null,null,null,null,null,null,null,null,null,null,"-",0,0,0,0,0]
[null,null,null,null,null,null,null,0,null,0,null,0,null,null,null,null,null,0,null,0,null,0,null,0,0,0,0,0,{"$f":"FLOOR($AB63/IF($AP63>0,$AP63,ЧасовВКредите)+0.001,Точность)","v":0},0,null,null,null,null,null,null,null,null,null,null,"-",0,0,0,0,0]
[null,null,null,null,null,null,null,0,null,0,null,0,null,null,null,null,null,0,null,0,null,0,null,0,0,0,0,0,{"$f":"FLOOR($AB64/IF($AP64>0,$AP64,ЧасовВКредите)+0.001,Точность)","v":0},0,null,null,null,null,null,null,null,null,null,null,"-",0,0,0,0,0]
[null,null,null,null,null,null,null,0,null,0,null,0,null,null,null,null,null,0,null,0,null,0,null,0,0,0,0,0,{"$f":"FLOOR($AB65/IF($AP65>0,$AP65,ЧасовВКредите)+0.001,Точность)","v":0},0,null,null,null,null,null,null,null,null,null,null,"-",0,0,0,0,0]
[null,null,null,null,null,null,null,0,null,0,null,0,null,null,null,null,null,0,null,0,null,0,null,0,0,0,0,0,{"$f":"FLOOR($AB66/IF($AP66>0,$AP66,ЧасовВКредите)+0.001,Точность)","v":0},0,null,null,null,null,null,null,null,null,null,null,"-",0,0,0,0,0]
[null,null,null,null,null,null,null,0,null,0,null,0,null,null,null,null,null,0,null,0,null,0,null,0,0,0,0,0,{"$f":"FLOOR($AB67/IF($AP67>0,$AP67,ЧасовВКредите)+0.001,Точность)","v":0},0,null,null,null,null,null,null,null,null,null,null,"-",0,0,0,0,0]
[null,null,null,null,null,null,null,0,null,0,null,0,null,null,null,null,null,0,null,0,null,0,null,0,0,0,0,0,{"$f":"FLOOR($AB68/IF($AP68>0,$AP68,ЧасовВКредите)+0.001,Точность)","v":0},0,null,null,null,null,null,null,null,null,null,null,"-",0,0,0,0,0]
[null,null,null,null,null,null,null,0,null,0,null,0,null,null,null,null,null,0,null,0,null,0,null,0,0,0,0,0,{"$f":"FLOOR($AB69/IF($AP69>0,$AP69,ЧасовВКредите)+0.001,Точность)","v":0},0,null,null,null,null,null,null,null,null,null,null,"-",0,0,0,0,0]
[null,null,null,null,null,null,null,0,null,0,null,0,null,null,null,null,null,0,null,0,null,0,null,0,0,0,0,0,{"$f":"FLOOR($AB70/IF($AP70>0,$AP70,ЧасовВКредите)+0.001,Точность)","v":0},0,null,null,null,null,null,null,null,null,null,null,"-",0,0,0,0,0]
[null,null,null,null,null,null,null,0,null,0,null,0,null,null,null,null,null,0,null,0,null,0,null,0,0,0,0,0,{"$f":"FLOOR($AB71/IF($AP71>0,$AP71,ЧасовВКредите)+0.001,Точность)","v":0},0,null,null,null,null,null,null,null,null,null,null,"-",0,0,0,0,0]
[null,null,null,null,null,null,null,0,null,0,null,0,null,null,null,null,null,0,null,0,null,0,null,0,0,0,0,0,{"$f":"FLOOR($AB72/IF($AP72>0,$AP72,ЧасовВКредите)+0.001,Точность)","v":0},0,null,null,null,null,null,null,null,null,null,null,"-",0,0,0,{"$f":"IF(AND(AL72>1145,AL72<1166),1,0)","v":0},0]
[null,null,null,null,null,null,null,0,null,0,null,0,null,null,null,null,null,0,null,0,null,0,null,0,0,0,0,0,{"$f":"FLOOR($AB73/IF($AP73>0,$AP73,ЧасовВКредите)+0.001,Точность)","v":0},0,null,null,null,null,null,null,null,null,null,null,"-",0,0,0,0,0]
[null,null,null,null,null,null,null,0,null,0,null,0,null,null,null,null,null,0,null,0,null,0,null,0,0,0,0,0,{"$f":"FLOOR($AB74/IF($AP74>0,$AP74,ЧасовВКредите)+0.001,Точность)","v":0},0,null,null,null,null,null,null,null,null,null,null,"-",0,0,0,0,0]
[null,null,null,null,null,null,null,0,null,0,null,0,null,null,null,null,null,0,null,0,null,0,null,0,0,0,0,0,{"$f":"FLOOR($AB75/IF($AP75>0,$AP75,ЧасовВКредите)+0.001,Точность)","v":0},0,null,null,null,null,null,null,null,null,null,null,"-",0,0,0,0,0]
["Всего АЧ",null,null,{"$f":"SUMIF($AJ$7:$AJ$75,\"=1\",D7:D75)-SUMIF($AT$7:$AT$75,\">0\",D7:D75)","v":184},72,374,0,630,627,{"$f":"SUMIF($AJ$7:$AJ$75,\"=1\",J7:J75)-SUMIF($AT$7:$AT$75,\">0\",J7:J75)","v":1257},135,1392,null,{"$f":"SUMIF($AJ$7:$AJ$75,\"=1\",N7:N75)-SUMIF($AT$7:$AT$75,\">0\",N7:N75)","v":228},42,234,0,504,957,1461,135,1596,null,{"$f":"SUMIF($AJ$7:$AJ$75,\"=1\",X7:X75)-SUMIF($AT$7:$AT$75,\">0\",X7:X75)","v":1134},{"$f":"SUMIF($AJ$7:$AJ$75,\"=1\",Y7:Y75)-SUMIF($AT$7:$AT$75,\">0\",Y7:Y75)","v":1584},{"$f":"SUMIF($AJ$7:$AJ$75,\"=1\",Z7:Z75)-SUMIF($AT$7:$AT$75,\">0\",Z7:Z75)","v":2718},{"$f":"SUMIF($AJ$7:$AJ$75,\"=1\",AA7:AA75)-SUMIF($AT$7:$AT$75,\">0\",AA7:AA75)","v":270},{"$f":"SUMIF($AJ$7:$AJ$75,\"=1\",AB7:AB75)-SUMIF($AT$7:$AT$75,\">0\",AB7:AB75)","v":2988},78.5,55.5,null,0,null,null,null,null,null,null,null,null,0,null,{"$f":"SUMIF($AJ$7:$AJ$75,\"=1\",AQ7:AQ75)","v":60},null,null,{"$f":"SUM(AT7:AT75)","v":0}]
["АЧ/Нед",null,null,{"$f":"IF(ABS($J$4-$L$4)>0.1,ROUND(D76/($J$4-$L$4),0),0)","v":10},4,21,0,35,35,{"$f":"IF(ABS($J$4-$L$4)>0.1,CEILING(J76/($J$4-$L$4)-0.001,0.1),0)","v":69.900000000000006},{"$f":"IF(ABS(K76-K78)<0.01,\"=\",IF(K76<K78,\"<\",\">\"))","v":"<"},{"$f":"IF(ABS(L76-L78)<0.01,\"=\",IF(L76<L78,\"<\",\">\"))","v":">"},null,{"$f":"IF(ABS($T$4-$V$4)>0.1,ROUND(N76/($T$4-$V$4),0),0)","v":16},3,17,0,36,68,{"$f":"IF(ABS($T$4-$V$4)>0.1,CEILING(T76/($T$4-$V$4)-0.001,0.1),0)","v":104.4},{"$f":"IF(ABS(U76-U78)<0.01,\"=\",IF(U76<U78,\"<\",\">\"))","v":"<"},">",null,null,null,{"$f":"IF(ABS(Z76-Z78)<0.01,\"=\",IF(Z76<Z78,\"<\",\">\"))","v":">"},"<",">",">","<",null,0,null,null,null,null,null,null,null,null,0]
["Всего АЧ/Нед /в том числе физической культуры",null,null,{"$f":"SUM(D77:F77)","v":35},{"$f":"\"/\"","v":"/"},{"$f":"IF($J$4-$L$4>0,(SUMIF(AG7:AG75,\"=1\",D7:D75)+SUMIF(AG7:AG75,\"=1\",E7:E75)+SUMIF(AG7:AG75,\"=1\",F7:F75)+SUMIF(AG7:AG75,\"=1\",G7:G75))/($J$4-$L$4),0)","v":3.0000000000000018},null,{"$f":"IF(I78<>0,\"D=\",\"\")","v":""},{"$f":"IF(J78*($J$4-$L$4)-J76<0.001,0,J78*($J$4-$L$4)-J76)","v":0},{"$f":"IF($J$4-$L$4>0,54,0)","v":54},{"$f":"K4*54","v":161.99999999999994},{"$f":"J78*($J$4-$L$4)+K78","v":1133.9999999999993},null,{"$f":"SUM(N77:P77)","v":36},{"$f":"\"/\"","v":"/"},{"$f":"IF($T$4-$V$4>0,(SUMIF(AG7:AG75,\"=1\",N7:N75)+SUMIF(AG7:AG75,\"=1\",O7:O75)+SUMIF(AG7:AG75,\"=1\",P7:P75)+SUMIF(AG7:AG75,\"=1\",Q7:Q75))/($T$4-$V$4),0)","v":3.0000000000000036},null,{"$f":"IF(S78<>0,\"D=\",\"\")","v":""},{"$f":"IF(T78*($T$4-$V$4)-T76<0.001,0,T78*($T$4-$V$4)-T76)","v":0},{"$f":"IF($T$4-$V$4>0,54,0)","v":54},{"$f":"U4*54","v":161.99999999999994},{"$f":"T78*($T$4-$V$4)+U78","v":917.99999999999909},null,null,null,{"$f":"(J4+T4-L4-V4)*IF(J78>0,J78,T78)","v":1727.9999999999984},{"$f":"U78+K78","v":323.99999999999989},{"$f":"V78+L78","v":2051.9999999999982},{"$f":"(J4+K4-L4+T4+U4-V4)*КредитовВНеделе","v":56.999999999999957},{"$f":"IF(J4-L4>0,КредитовНаГод/2,0)+IF(T4-V4>0,КредитовНаГод/2,0)","v":60},null,0,null,null,null,null,null,null,null,null,0]
["Должно быть АЧ/Нед до",null,null,null,null,null,null,null,null,null,null,null,null,null,null,null,null,null,null,null,null,null,null,"Должно быть до"]
["Должно быть АЧ на экзамены"]
["Предельное количество АЧ"]
["Экзаменов",null,null,{"$f":"Экз5","v":5},null,null,null,null,null,null,null,null,null,{"$f":"Экз6","v":5},null,null,null,null,null,null,null,null,null,"Должно быть ЗЕТ",null,null,null,null,null,null,null,0,null,null,null,null,null,null,null,null,0]
["Зачетов",null,null,{"$f":"Зач5","v":4},null,null,null,null,null,null,null,null,null,{"$f":"Зач6","v":5},null,null,null,null,null,null,null,null,null,{"$f":"\"Должно быть \"&СокрКРЕТИТОВ","v":"Должно быть Cr ECTS"},null,null,null,null,null,null,null,0,null,null,null,null,null,null,null,null,0]
["Курсовых проектов, к, р, э, г, о",null,null,{"$f":"КП5","v":0},null,null,null,null,null,null,null,null,null,{"$f":"КП6","v":0},null,null,null,null,null,null,null,null,null,"Оценка планирования:",null,null,null,null,null,null,null,0,null,null,null,null,null,null,null,null,0]
["Курсовых работ",null,null,{"$f":"КР5","v":1},null,null,null,null,null,null,null,null,null,{"$f":"КР6","v":1},null,null,null,null,null,null,null,null,null,{"$f":"IF(AB76>AB78*0.5,IF(AND(J77<=J78+0.01,K76<=K78+0.01,L76<=L78+0.01,T77<=T78+0.01,U76<=U78+0.01,V76<=V78+0.01,Z76<=Z78+0.01,AC76<=AC78+0.01,D82+N82<=IF(ПерезачтеноВсего>0,10.01,20.01),IF(isFGOS,D83+N83<=12.01,D82+D83+N82+N83<=IF(ПерезачтеноВсего>0,22.01,32.01)),IF(isFGOS,ABS(D87-IF(Нормы!C27>0,Нормы!C27,60))<0.01,TRUE)),\"Отлично\",IF(OR(IF(isFGOS,D87<IF(Нормы!C27>0,Нормы!C27,60)-0.01,FALSE),J77-0.01>J78,K77=\">\",L77=\">\",T77-0.01>T78,U77=\">\",V77=\">\",Z77=\">\"),\"Неудовлетворительно\",\"Удовлетворительно\")),\"Нет (мало АЧ)\")","v":"Неудовлетворительно"},null,null,null,null,null,null,null,0,null,null,null,null,null,null,null,null,0]
["Всего за учебный год",null,null,"Недель ТО",null,null,{"$f":"J4+T4","v":31.999999999999972},null,"Недель на экзамены",null,null,null,{"$f":"K4+U4","v":5.9999999999999982},null,null,null,null,null,null,null,null,null,null,null,null,null,"Нед","АЧ","ЗЕТ",{"$f":"СокрКРЕТИТОВ","v":"Cr ECTS"},null,0,null,null,null,null,null,null,null,null,0]
["ЗЕТ за курс без Факультативов / Факультативы",null,null,{"$f":"AC76+AC91-E87","v":79.5},{"$f":"SUMIF(AS7:AS75,\"=1\",AC7:AC75)","v":5},null,null,null,null,null,null,null,null,null,null,null,null,null,"Итоговая аттестация (дисциплины) (А)",null,null,null,null,null,null,null,{"$f":"Титул!BF44","v":0},{"$f":"FLOOR(AA87*54+0.001,0.01)","v":0},{"$f":"FLOOR(AA87*КредитовВНеделе+0.001,ТочностьН)","v":0},{"$f":"FLOOR(AA87*КредитовНаГод/40,ТочностьН)","v":0},null,0,null,null,null,null,null,null,null,null,0]
[{"$f":"СокрКРЕТИТОВ&\" за курс\"","v":"Cr ECTS за курс"},null,null,{"$f":"AD76+AD91","v":61.5},null,null,null,null,null,null,null,null,null,null,null,null,null,null,"Практики (У,П) + распределенная",null,null,null,null,null,null,null,{"$f":"Практики!AL68+AT76/54","v":4},{"$f":"FLOOR(Практики!V68*IF(ЧасовВКредите>0,ЧасовВКредите,36)+AT76+0.001,0.01)","v":216},{"$f":"Практики!V68+FLOOR(IF(ЧасовВКредите>0,AT76/ЧасовВКредите,AT76/36)+0.001,ТочностьН)","v":6},{"$f":"FLOOR(AA88*КредитовНаГод/40,ТочностьН)","v":6},null,0,null,null,null,null,null,null,null,null,0]
["Обозначения:",null,null,"Э-экзамен",null,null,"З-зачет",null,null,"Р-курсовая работа",null,null,null,"П-курсовой проект",null,null,null,null,"Дипломная работа (проект) (Д)",null,null,null,null,null,null,null,{"$f":"Титул!BI44","v":0},{"$f":"FLOOR(AA89*54+0.001,0.01)","v":0},{"$f":"FLOOR(AA89*КредитовВНеделе+0.001,ТочностьН)","v":0},{"$f":"FLOOR(AA89*КредитовНаГод/40,ТочностьН)","v":0},null,0,null,null,null,null,null,null,null,null,0]
[null,null,null,{"$f":"Курс1!D90","v":"АЧ-академических часов"},null,null,null,null,null,"ЗЕТ-зачетных единиц трудоемкости",null,null,null,null,null,null,null,null,"Государственные экзамены (ИГА) (Г)",null,null,null,null,null,null,null,{"$f":"Титул!BJ44","v":0},{"$f":"FLOOR(AA90*54+0.001,0.01)","v":0},{"$f":"FLOOR(AA90*КредитовВНеделе+0.001,ТочностьН)","v":0},{"$f":"FLOOR(AA90*КредитовНаГод/40,ТочностьН)","v":0},null,0,null,null,null,null,null,null,null,null,0]
[null,null,null,"ИГА-Итоговая государственная аттестация",null,null,null,null,null,null,null,null,null,null,null,null,null,null,null,null,null,null,null,null,"Итого",null,{"$f":"SUM(AA87:AA90)","v":4},{"$f":"SUM(AB87:AB90)","v":216},{"$f":"SUM(AC87:AC90)","v":6},{"$f":"SUM(AD87:AD90)","v":6},null,0,null,null,null,null,null,null,null,null,0]
[null,null,null,"РП - распределенная практика и НИР,",null,null,null,null,null,null,null,"контрольные работы (к), рефераты (р), эссе (э), расчетно-графические работы (г), оцека (о)"]

{"sheet":"Курс4","index":9,"n_rows":92,"n_cols":46,"rows_kept":92,"cut":false,"hidden":false,"merged":[[87,0,87,2],[85,0,85,2],[84,0,84,2],[88,18,88,25],[83,13,83,21],[83,23,83,29],[86,0,86,2],[83,3,83,11],[79,0,79,2],[77,0,77,2],[90,24,90,25],[86,18,86,25],[84,3,84,11],[84,23,84,29],[82,0,82,2],[81,0,81,2],[82,3,82,11],[88,0,90,2],[82,13,82,21],[81,3,81,11],[84,13,84,21],[89,18,89,25],[87,18,87,25],[83,0,83,2],[0,0,0,30],[1,0,1,30],[78,23,78,25],[81,13,81,21],[3,30,5,30],[3,0,5,0],[3,28,5,28],[4,3,4,11],[80,0,80,2],[3,3,3,4],[78,0,78,2],[76,0,76,2],[3,29,5,29],[3,23,4,27],[3,22,5,22],[4,13,4,21],[3,1,5,1],[3,2,5,2],[75,0,75,2],[3,42,5,42],[3,31,5,31],[3,40,5,40],[3,12,5,12],[3,41,5,41],[3,13,3,14]]}
[{"$f":"Курс1!A1","v":"ГОУ ВПО \"Самарский государственный технический университет\""}]
[{"$f":"Курс1!A2","v":"Рабочий учебный план: Направления 030600 \"Журналистика\" специальности 030602 \"Связи с общественностью\""}]
["Курс 4",null,{"$f":"Курс1!C3","v":"Утвержден: Ректор  ____________  / Калашников В.В. /  \"___\"__________20___ г."},null,null,null,null,null,null,null,null,null,null,null,null,null,null,null,null,null,null,null,null,{"$f":"ТекущийПлан&\".pli\"","v":"030602_65-00-12345-2979.pli"}]
["№","Блок","Дисциплина","Осень(7)",null,"Нед. ТО+, Экз, РП :",null,null,null,{"$f":"Недель7","v":17.999999999999989},{"$f":"Экз4Осень","v":2.9999999999999991},{"$f":"IF(isFGOS,CEILING((SUMIF($AT$7:$AT$75,\">0\",L7:L75))/54,1/6),0)","v":0},"Контроль","Весна(8)",null,"Нед. ТО+, Экз, РП :",null,null,null,{"$f":"Недель8","v":14.99999999999998},{"$f":"Экз4Весна","v":2},{"$f":"IF(isFGOS,CEILING((SUMIF($AT$7:$AT$75,\">0\",V7:V75))/54,1/6),0)","v":0},"Контроль","Итого АЧ за год",null,null,null,null,"ЗЕТ",{"$f":"СокрКРЕТИТОВ","v":"Cr ECTS"},"Каф","СРС ID",null,null,null,null,null,null,null,null,"Сем-Сем","ЗЕТ",{"$f":"AD4","v":"Cr ECTS"}]
[null,null,null,{"$f":"ЗаголовокОбъемаРаботы","v":"Объем работы студента в АЧ в семестре"},null,null,null,null,null,null,null,null,null,{"$f":"ЗаголовокОбъемаРаботы","v":"Объем работы студента в АЧ в семестре"}]
[null,null,null,"Лек","Лаб","Пр",{"$f":"КСР","v":"КСР"},"Ауд","СРС","Изуч","Экз","Всего",null,"Лек","Лаб","Пр",{"$f":"КСР","v":"КСР"},"Ауд","СРС","Изуч","Экз","Всего",null,"Ауд","СРС","Изуч","Экз","Всего",null,null,null,null,null,null,null,null,null,null,null,null,null,null,null,null,"Фак"]
[1,{"$f":"План!$A$7","v":"ГСЭ.Ф.2"},"Физическая культура",{"$f":"План!$AJ$7","v":0},{"$f":"План!$AK$7","v":0},{"$f":"План!$AL$7","v":54},{"$f":"План!$AM$7","v":0},{"$f":"SUM(D7:G7)","v":54},0,{"$f":"SUM(H7:I7)","v":54},null,{"$f":"SUM(J7:K7)","v":54},"З",{"$f":"План!$AN$7","v":0},{"$f":"План!$AO$7","v":0},{"$f":"План!$AP$7","v":30},{"$f":"План!$AQ$7","v":0},{"$f":"SUM(N7:Q7)","v":30},{"$f":"План!$K$7-Курс1!$I$8-Курс1!$S$8-Курс2!$I$8-Курс2!$S$8-Курс3!$I$7-Курс3!$S$7-Курс4!$I$7","v":30},{"$f":"SUM(R7:S7)","v":60},null,{"$f":"SUM(T7:U7)","v":60},"З",{"$f":"H7+R7","v":84},{"$f":"I7+S7","v":30},{"$f":"J7+T7","v":114},{"$f":"K7+U7","v":0},{"$f":"V7+L7","v":114},{"$f":"Рабочий!$E$7+Рабочий!$E$8","v":3},{"$f":"FLOOR($AQ7,Точность)","v":3},{"$f":"План!$BP$7","v":21},{"$f":"30-ABS(Курс1!$I$8)-ABS(Курс1!$S$8)-ABS(Курс2!$I$8)-ABS(Курс2!$S$8)-ABS(Курс3!$I$7)-ABS(Курс3!$S$7)-ABS(Курс4!$I$7)-ABS(Курс4!$S$7)","v":0},1,0,0,1,8,7,1,null,{"$f":"$AM7&\"-\"&$AK7","v":"1-8"},{"$f":"IF($AL7>0,IF(INDIRECT(\"План!FT\"&$AL7)>0,FLOOR(INDIRECT(\"План!H\"&$AL7)/INDIRECT(\"План!FT\"&$AL7),Точность),IF(ЧасовВКредите>0,ЧасовВКредите,36)),0)","v":36},{"$f":"IF($AB$76>0,AB7/$AB$76*$AD$78,0)","v":3.4234234234234231},{"$f":"IF(AND($AQ7>0,$AJ7>0),1,0)","v":1},{"$f":"IF(AND(AL7>1145,AL7<1166),1,0)","v":0},{"$f":"IF(AND(AJ7>0,AL7<1144,AL7>917),IF(isFGOS,AB7,0),0)","v":0}]
[2,{"$f":"План!$A$465","v":"ОПД.Ф.4"},"Современные международные отношения",{"$f":"План!$AJ$465","v":36},{"$f":"План!$AK$465","v":0},{"$f":"План!$AL$465","v":36},{"$f":"План!$AM$465","v":0},72,{"$f":"План!$K$465","v":72},144,27,171,"Э",{"$f":"План!$AN$465","v":0},{"$f":"План!$AO$465","v":0},{"$f":"План!$AP$465","v":0},{"$f":"План!$AQ$465","v":0},0,null,0,null,0,"",72,72,144,27,171,{"$f":"FLOOR($AB8/IF($AP8>0,$AP8,ЧасовВКредите)+0.001,Точность)","v":4.5},5,{"$f":"План!$BP$465","v":4},{"$f":"72-ABS(Курс4!$I$8)-ABS(Курс4!$S$8)","v":0},0,0,0,1,7,465,7,null,{"$f":"$AM8&\"-\"&$AK8","v":"7-7"},36,5.1351351351351351,1,{"$f":"IF(AND(AL8>1145,AL8<1166),1,0)","v":0},0]
[3,{"$f":"План!$A$467","v":"ОПД.Ф.6"},"Основы статистики и бухгалтерского учета",{"$f":"План!$AJ$467","v":36},{"$f":"План!$AK$467","v":18},{"$f":"План!$AL$467","v":18},{"$f":"План!$AM$467","v":0},72,0,72,null,72,"З",{"$f":"План!$AN$467","v":30},{"$f":"План!$AO$467","v":14},{"$f":"План!$AP$467","v":16},{"$f":"План!$AQ$467","v":0},60,{"$f":"План!$K$467-Курс4!$I$9","v":128},188,27,215,"Э",132,128,260,27,287,{"$f":"FLOOR($AB9/IF($AP9>0,$AP9,ЧасовВКредите)+0.001,Точность)","v":7.5},8.5,{"$f":"План!$BP$467","v":5},{"$f":"128-ABS(Курс4!$I$9)-ABS(Курс4!$S$9)","v":0},0,0,0,1,8,467,7,null,"7-8",36,8.6186186186186191,1,0,0]
[4,{"$f":"План!$A$468","v":"ОПД.Ф.7"},"Конфликтология",{"$f":"План!$AJ$468","v":36},{"$f":"План!$AK$468","v":0},{"$f":"План!$AL$468","v":36},{"$f":"План!$AM$468","v":0},72,0,72,null,72,"З",{"$f":"План!$AN$468","v":30},{"$f":"План!$AO$468","v":0},{"$f":"План!$AP$468","v":30},{"$f":"План!$AQ$468","v":0},60,{"$f":"План!$K$468-Курс4!$I$10","v":124},184,27,211,"Э",132,124,256,27,283,{"$f":"FLOOR($AB10/IF($AP10>0,$AP10,ЧасовВКредите)+0.001,Точность)","v":7.5},8,{"$f":"План!$BP$468","v":4},{"$f":"124-ABS(Курс4!$I$10)-ABS(Курс4!$S$10)","v":0},0,0,0,1,8,468,7,null,"7-8",36,8.498498498498499,1,0,0]
[5,{"$f":"План!$A$469","v":"ОПД.Ф.8"},"Религиоведение",{"$f":"План!$AJ$469","v":0},{"$f":"План!$AK$469","v":0},{"$f":"План!$AL$469","v":0},{"$f":"План!$AM$469","v":0},0,null,0,null,0,"",{"$f":"План!$AN$469","v":30},{"$f":"План!$AO$469","v":0},{"$f":"План!$AP$469","v":0},{"$f":"План!$AQ$469","v":0},30,0,30,null,30,"З",30,0,30,0,30,{"$f":"FLOOR($AB11/IF($AP11>0,$AP11,ЧасовВКредите)+0.001,Точность)","v":0.5},0.5,{"$f":"План!$BP$469","v":1},{"$f":"102-ABS(Курс4!$I$11)-ABS(Курс4!$S$11)-ABS(Курс5!$I$7)-ABS(Курс5!$S$7)","v":0},0,0,0,1,9,469,8,null,"8-9",36,0.90090090090090091,1,0,0]
[6,{"$f":"План!$A$472","v":"ОПД.Ф.11"},"Основы теории коммуникации",{"$f":"План!$AJ$472","v":18},{"$f":"План!$AK$472","v":0},{"$f":"План!$AL$472","v":36},{"$f":"План!$AM$472","v":0},54,0,54,27,81,"Э",{"$f":"План!$AN$472","v":0},{"$f":"План!$AO$472","v":0},{"$f":"План!$AP$472","v":90},{"$f":"План!$AQ$472","v":0},90,0,90,null,90,"З",144,0,144,27,171,{"$f":"FLOOR($AB12/IF($AP12>0,$AP12,ЧасовВКредите)+0.001,Точность)","v":4.5},5,{"$f":"План!$BP$472","v":4},{"$f":"236-ABS(Курс3!$I$15)-ABS(Курс3!$S$15)-ABS(Курс4!$I$12)-ABS(Курс4!$S$12)-ABS(Курс5!$I$8)-ABS(Курс5!$S$8)","v":0},0,0,0,1,9,472,6,null,"6-9",36,5.1351351351351351,1,0,0]
[7,{"$f":"План!$A$473","v":"ОПД.Ф.12"},"Социология массовой коммуникации",{"$f":"План!$AJ$473","v":36},{"$f":"План!$AK$473","v":18},{"$f":"План!$AL$473","v":18},{"$f":"План!$AM$473","v":0},72,{"$f":"План!$K$473","v":74},146,27,173,"Э",{"$f":"План!$AN$473","v":0},{"$f":"План!$AO$473","v":0},{"$f":"План!$AP$473","v":0},{"$f":"План!$AQ$473","v":0},0,null,0,null,0,"",72,74,146,27,173,{"$f":"FLOOR($AB13/IF($AP13>0,$AP13,ЧасовВКредите)+0.001,Точность)","v":4.5},5,{"$f":"План!$BP$473","v":1},{"$f":"74-ABS(Курс4!$I$13)-ABS(Курс4!$S$13)","v":0},0,0,0,1,7,473,7,null,"7-7",36,5.1951951951951951,1,0,0]
[8,{"$f":"План!$A$526","v":"ОПД.Р.5"},"Управление персоналом",{"$f":"План!$AJ$526","v":18},{"$f":"План!$AK$526","v":0},{"$f":"План!$AL$526","v":18},{"$f":"План!$AM$526","v":0},36,{"$f":"План!$K$526","v":28},64,null,64,"З",{"$f":"План!$AN$526","v":0},{"$f":"План!$AO$526","v":0},{"$f":"План!$AP$526","v":0},{"$f":"План!$AQ$526","v":0},0,null,0,null,0,"",36,28,64,0,64,{"$f":"FLOOR($AB14/IF($AP14>0,$AP14,ЧасовВКредите)+0.001,Точность)","v":1.5},1.5,{"$f":"План!$BP$526","v":7},{"$f":"28-ABS(Курс4!$I$14)-ABS(Курс4!$S$14)","v":0},0,0,0,1,7,526,7,null,"7-7",36,1.9219219219219219,1,0,0]
[9,"ОПД.B3","Основы государственной службы и организация малого и среднего бизнеса",{"$f":"План!$AJ$579","v":0},{"$f":"План!$AK$579","v":0},{"$f":"План!$AL$579","v":0},{"$f":"План!$AM$579","v":0},0,null,0,null,0,"",{"$f":"План!$AN$579","v":30},{"$f":"План!$AO$579","v":0},{"$f":"План!$AP$579","v":30},{"$f":"План!$AQ$579","v":0},60,{"$f":"План!$K$579","v":54},114,null,114,"З",60,54,114,0,114,{"$f":"FLOOR($AB15/IF($AP15>0,$AP15,ЧасовВКредите)+0.001,Точность)","v":3},3,{"$f":"План!$BP$579","v":7},{"$f":"54-ABS(Курс4!$I$15)-ABS(Курс4!$S$15)","v":0},null,null,null,1,8,579,8,null,"8-8",36,3.4234234234234231,1,0,0]
[10,"ОПД.B3","Социология рекламной деятельности",{"$f":"План!$AJ$580","v":0},{"$f":"План!$AK$580","v":0},{"$f":"План!$AL$580","v":0},{"$f":"План!$AM$580","v":0},0,null,0,null,0,"",{"$f":"План!$AN$580","v":30},{"$f":"План!$AO$580","v":0},{"$f":"План!$AP$580","v":30},{"$f":"План!$AQ$580","v":0},60,{"$f":"План!$K$580","v":54},114,null,114,"З",60,54,114,0,114,{"$f":"FLOOR($AB16/IF($AP16>0,$AP16,ЧасовВКредите)+0.001,Точность)","v":3},3,{"$f":"План!$BP$580","v":1},{"$f":"54-ABS(Курс4!$I$16)-ABS(Курс4!$S$16)","v":0},null,null,null,0,8,580,8,null,"8-8",36,3.4234234234234231,0,0,0]
[11,{"$f":"План!$A$692","v":"СД.Ф.3"},"Маркетинговые исследования в связях с общественностью",{"$f":"План!$AJ$692","v":36},{"$f":"План!$AK$692","v":36},{"$f":"План!$AL$692","v":0},{"$f":"План!$AM$692","v":0},72,{"$f":"План!$K$692","v":70},142,27,169,"ЭР",{"$f":"План!$AN$692","v":0},{"$f":"План!$AO$692","v":0},{"$f":"План!$AP$692","v":0},{"$f":"План!$AQ$692","v":0},0,null,0,null,0,"",72,70,142,27,169,{"$f":"FLOOR($AB17/IF($AP17>0,$AP17,ЧасовВКредите)+0.001,Точность)","v":4.5},5,{"$f":"План!$BP$692","v":4},{"$f":"70-ABS(Курс4!$I$17)-ABS(Курс4!$S$17)","v":0},0,0,0,1,7,692,7,null,"7-7",36,5.075075075075075,1,0,0]
[12,{"$f":"План!$A$693","v":"СД.Ф.4"},"Реклама в коммуникационном процессе",{"$f":"План!$AJ$693","v":0},{"$f":"План!$AK$693","v":0},{"$f":"План!$AL$693","v":0},{"$f":"План!$AM$693","v":0},0,null,0,null,0,"",{"$f":"План!$AN$693","v":30},{"$f":"План!$AO$693","v":30},{"$f":"План!$AP$693","v":0},{"$f":"План!$AQ$693","v":0},60,{"$f":"План!$K$693","v":50},110,27,137,"ЭР",60,50,110,27,137,{"$f":"FLOOR($AB18/IF($AP18>0,$AP18,ЧасовВКредите)+0.001,Точность)","v":3.5},4,{"$f":"План!$BP$693","v":4},{"$f":"50-ABS(Курс4!$I$18)-ABS(Курс4!$S$18)","v":0},0,0,0,1,8,693,8,null,"8-8",36,4.1141141141141135,1,0,0]
[13,{"$f":"План!$A$1146","v":"ФТД.1"},"Военная подготовка",{"$f":"План!$AJ$1146","v":0},{"$f":"План!$AK$1146","v":0},{"$f":"План!$AL$1146","v":108},{"$f":"План!$AM$1146","v":0},108,0,108,null,108,"З",{"$f":"План!$AN$1146","v":0},{"$f":"План!$AO$1146","v":0},{"$f":"План!$AP$1146","v":90},{"$f":"План!$AQ$1146","v":0},90,{"$f":"План!$K$1146-Курс3!$I$27-Курс3!$S$27-Курс4!$I$19","v":60},150,27,177,"Э",198,60,258,27,285,{"$f":"FLOOR($AB19/IF($AP19>0,$AP19,ЧасовВКредите)+0.001,Точность)","v":7.5},8.5,{"$f":"План!$BP$1146","v":62},{"$f":"60-ABS(Курс3!$I$27)-ABS(Курс3!$S$27)-ABS(Курс4!$I$19)-ABS(Курс4!$S$19)","v":0},0,0,0,1,8,1146,5,null,"5-8",36,8.5585585585585591,1,1,0]
[null,null,null,null,null,null,null,0,null,0,null,0,null,null,null,null,null,0,null,0,null,0,null,0,0,0,0,0,{"$f":"FLOOR($AB20/IF($AP20>0,$AP20,ЧасовВКредите)+0.001,Точность)","v":0},0,null,null,null,null,null,null,null,null,null,null,"-",0,0,0,0,0]
[null,null,null,null,null,null,null,0,null,0,null,0,null,null,null,null,null,0,null,0,null,0,null,0,0,0,0,0,{"$f":"FLOOR($AB21/IF($AP21>0,$AP21,ЧасовВКредите)+0.001,Точность)","v":0},0,null,null,null,null,null,null,null,null,null,null,"-",0,0,0,0,0]
[null,null,null,null,null,null,null,0,null,0,null,0,null,null,null,null,null,0,null,0,null,0,null,0,0,0,0,0,{"$f":"FLOOR($AB22/IF($AP22>0,$AP22,ЧасовВКредите)+0.001,Точность)","v":0},0,null,null,null,null,null,null,null,null,null,null,"-",0,0,0,0,0]
[null,null,null,null,null,null,null,0,null,0,null,0,null,null,null,null,null,0,null,0,null,0,null,0,0,0,0,0,{"$f":"FLOOR($AB23/IF($AP23>0,$AP23,ЧасовВКредите)+0.001,Точность)","v":0},0,null,null,null,null,null,null,null,null,null,null,"-",0,0,0,0,0]
[null,null,null,null,null,null,null,0,null,0,null,0,null,null,null,null,null,0,null,0,null,0,null,0,0,0,0,0,{"$f":"FLOOR($AB24/IF($AP24>0,$AP24,ЧасовВКредите)+0.001,Точность)","v":0},0,null,null,null,null,null,null,null,null,null,null,"-",0,0,0,0,0]
[null,null,null,null,null,null,null,0,null,0,null,0,null,null,null,null,null,0,null,0,null,0,null,0,0,0,0,0,{"$f":"FLOOR($AB25/IF($AP25>0,$AP25,ЧасовВКредите)+0.001,Точность)","v":0},0,null,null,null,null,null,null,null,null,null,null,"-",0,0,0,0,0]
[null,null,null,null,null,null,null,0,null,0,null,0,null,null,null,null,null,0,null,0,null,0,null,0,0,0,0,0,{"$f":"FLOOR($AB26/IF($AP26>0,$AP26,ЧасовВКредите)+0.001,Точность)","v":0},0,null,null,null,null,null,null,null,null,null,null,"-",0,0,0,0,0]
[null,null,null,null,null,null,null,0,null,0,null,0,null,null,null,null,null,0,null,0,null,0,null,0,0,0,0,0,{"$f":"FLOOR($AB27/IF($AP27>0,$AP27,ЧасовВКредите)+0.001,Точность)","v":0},0,null,null,null,null,null,null,null,null,null,null,"-",0,0,0,0,0]
[null,null,null,null,null,null,null,0,null,0,null,0,null,null,null,null,null,0,null,0,null,0,null,0,0,0,0,0,{"$f":"FLOOR($AB28/IF($AP28>0,$AP28,ЧасовВКредите)+0.001,Точность)","v":0},0,null,null,null,null,null,null,null,null,null,null,"-",0,0,0,0,0]
[null,null,null,null,null,null,null,0,null,0,null,0,null,null,null,null,null,0,null,0,null,0,null,0,0,0,0,0,{"$f":"FLOOR($AB29/IF($AP29>0,$AP29,ЧасовВКредите)+0.001,Точность)","v":0},0,null,null,null,null,null,null,null,null,null,null,"-",0,0,0,0,0]
[null,null,null,null,null,null,null,0,null,0,null,0,null,null,null,null,null,0,null,0,null,0,null,0,0,0,0,0,{"$f":"FLOOR($AB30/IF($AP30>0,$AP30,ЧасовВКредите)+0.001,Точность)","v":0},0,null,null,null,null,null,null,null,null,null,null,"-",0,0,0,0,0]
[null,null,null,null,null,null,null,0,null,0,null,0,null,null,null,null,null,0,null,0,null,0,null,0,0,0,0,0,{"$f":"FLOOR($AB31/IF($AP31>0,$AP31,ЧасовВКредите)+0.001,Точность)","v":0},0,null,null,null,null,null,null,null,null,null,null,"-",0,0,0,0,0]
[null,null,null,null,null,null,null,0,null,0,null,0,null,null,null,null,null,0,null,0,null,0,null,0,0,0,0,0,{"$f":"FLOOR($AB32/IF($AP32>0,$AP32,ЧасовВКредите)+0.001,Точность)","v":0},0,null,null,null,null,null,null,null,null,null,null,"-",0,0,0,0,0]
[null,null,null,null,null,null,null,0,null,0,null,0,null,null,null,null,null,0,null,0,null,0,null,0,0,0,0,0,{"$f":"FLOOR($AB33/IF($AP33>0,$AP33,ЧасовВКредите)+0.001,Точность)","v":0},0,null,null,null,null,null,null,null,null,null,null,"-",0,0,0,0,0]
[null,null,null,null,null,null,null,0,null,0,null,0,null,null,null,null,null,0,null,0,null,0,null,0,0,0,0,0,{"$f":"FLOOR($AB34/IF($AP34>0,$AP34,ЧасовВКредите)+0.001,Точность)","v":0},0,null,null,null,null,null,null,null,null,null,null,"-",0,0,0,0,0]
[null,null,null,null,null,null,null,0,null,0,null,0,null,null,null,null,null,0,null,0,null,0,null,0,0,0,0,0,{"$f":"FLOOR($AB35/IF($AP35>0,$AP35,ЧасовВКредите)+0.001,Точность)","v":0},0,null,null,null,null,null,null,null,null,null,null,"-",0,0,0,0,0]
[null,null,null,null,null,null,null,0,null,0,null,0,null,null,null,null,null,0,null,0,null,0,null,0,0,0,0,0,{"$f":"FLOOR($AB36/IF($AP36>0,$AP36,ЧасовВКредите)+0.001,Точность)","v":0},0,null,null,null,null,null,null,null,null,null,null,"-",0,0,0,0,0]
[null,null,null,null,null,null,null,0,null,0,null,0,null,null,null,null,null,0,null,0,null,0,null,0,0,0,0,0,{"$f":"FLOOR($AB37/IF($AP37>0,$AP37,ЧасовВКредите)+0.001,Точность)","v":0},0,null,null,null,null,null,null,null,null,null,null,"-",0,0,0,0,0]
[null,null,null,null,null,null,null,0,null,0,null,0,null,null,null,null,null,0,null,0,null,0,null,0,0,0,0,0,{"$f":"FLOOR($AB38/IF($AP38>0,$AP38,ЧасовВКредите)+0.001,Точность)","v":0},0,null,null,null,null,null,null,null,null,null,null,"-",0,0,0,0,0]
[null,null,null,null,null,null,null,0,null,0,null,0,null,null,null,null,null,0,null,0,null,0,null,0,0,0,0,0,{"$f":"FLOOR($AB39/IF($AP39>0,$AP39,ЧасовВКредите)+0.001,Точность)","v":0},{"$f":"FLOOR($AQ39,Точность)","v":0},null,null,null,null,null,null,null,null,null,null,"-",{"$f":"IF($AL39>0,IF(INDIRECT(\"План!FT\"&$AL39)>0,FLOOR(INDIRECT(\"План!H\"&$AL39)/INDIRECT(\"План!FT\"&$AL39),Точность),IF(ЧасовВКредите>0,ЧасовВКредите,36)),0)","v":0},{"$f":"IF($AB$76>0,AB39/$AB$76*$AD$78,0)","v":0},0,0,{"$f":"IF(AND(AJ39>0,AL39<1144,AL39>917),IF(isFGOS,AB39,0),0)","v":0}]
[null,null,null,null,null,null,null,0,null,0,null,0,null,null,null,null,null,0,null,0,null,0,null,0,0,0,0,0,{"$f":"FLOOR($AB40/IF($AP40>0,$AP40,ЧасовВКредите)+0.001,Точность)","v":0},0,null,null,null,null,null,null,null,null,null,null,"-",0,0,0,0,0]
[null,null,null,null,null,null,null,0,null,0,null,0,null,null,null,null,null,0,null,0,null,0,null,0,0,0,0,0,{"$f":"FLOOR($AB41/IF($AP41>0,$AP41,ЧасовВКредите)+0.001,Точность)","v":0},0,null,null,null,null,null,null,null,null,null,null,"-",0,0,0,0,0]
[null,null,null,null,null,null,null,0,null,0,null,0,null,null,null,null,null,0,null,0,null,0,null,0,0,0,0,0,{"$f":"FLOOR($AB42/IF($AP42>0,$AP42,ЧасовВКредите)+0.001,Точность)","v":0},0,null,null,null,null,null,null,null,null,null,null,"-",0,0,0,0,0]
[null,null,null,null,null,null,null,0,null,0,null,0,null,null,null,null,null,0,null,0,null,0,null,0,0,0,0,0,{"$f":"FLOOR($AB43/IF($AP43>0,$AP43,ЧасовВКредите)+0.001,Точность)","v":0},0,null,null,null,null,null,null,null,null,null,null,"-",0,0,0,0,0]
[null,null,null,null,null,null,null,0,null,0,null,0,null,null,null,null,null,0,null,0,null,0,null,0,0,0,0,0,{"$f":"FLOOR($AB44/IF($AP44>0,$AP44,ЧасовВКредите)+0.001,Точность)","v":0},0,null,null,null,null,null,null,null,null,null,null,"-",0,0,0,0,0]
[null,null,null,null,null,null,null,0,null,0,null,0,null,null,null,null,null,0,null,0,null,0,null,0,0,0,0,0,{"$f":"FLOOR($AB45/IF($AP45>0,$AP45,ЧасовВКредите)+0.001,Точность)","v":0},0,null,null,null,null,null,null,null,null,null,null,"-",0,0,0,0,0]
[null,null,null,null,null,null,null,0,null,0,null,0,null,null,null,null,null,0,null,0,null,0,null,0,0,0,0,0,{"$f":"FLOOR($AB46/IF($AP46>0,$AP46,ЧасовВКредите)+0.001,Точность)","v":0},0,null,null,null,null,null,null,null,null,null,null,"-",0,0,0,0,0]
[null,null,null,null,null,null,null,0,null,0,null,0,null,null,null,null,null,0,null,0,null,0,null,0,0,0,0,0,{"$f":"FLOOR($AB47/IF($AP47>0,$AP47,ЧасовВКредите)+0.001,Точность)","v":0},0,null,null,null,null,null,null,null,null,null,null,"-",0,0,0,0,0]
[null,null,null,null,null,null,null,0,null,0,null,0,null,null,null,null,null,0,null,0,null,0,null,0,0,0,0,0,{"$f":"FLOOR($AB48/IF($AP48>0,$AP48,ЧасовВКредите)+0.001,Точность)","v":0},0,null,null,null,null,null,null,null,null,null,null,"-",0,0,0,0,0]
[null,null,null,null,null,null,null,0,null,0,null,0,null,null,null,null,null,0,null,0,null,0,null,0,0,0,0,0,{"$f":"FLOOR($AB49/IF($AP49>0,$AP49,ЧасовВКредите)+0.001,Точность)","v":0},0,null,null,null,null,null,null,null,null,null,null,"-",0,0,0,0,0]
[null,null,null,null,null,null,null,0,null,0,null,0,null,null,null,null,null,0,null,0,null,0,null,0,0,0,0,0,{"$f":"FLOOR($AB50/IF($AP50>0,$AP50,ЧасовВКредите)+0.001,Точность)","v":0},0,null,null,null,null,null,null,null,null,null,null,"-",0,0,0,0,0]
[null,null,null,null,null,null,null,0,null,0,null,0,null,null,null,null,null,0,null,0,null,0,null,0,0,0,0,0,{"$f":"FLOOR($AB51/IF($AP51>0,$AP51,ЧасовВКредите)+0.001,Точность)","v":0},0,null,null,null,null,null,null,null,null,null,null,"-",0,0,0,0,0]
[null,null,null,null,null,null,null,0,null,0,null,0,null,null,null,null,null,0,null,0,null,0,null,0,0,0,0,0,{"$f":"FLOOR($AB52/IF($AP52>0,$AP52,ЧасовВКредите)+0.001,Точность)","v":0},0,null,null,null,null,null,null,null,null,null,null,"-",0,0,0,0,0]
[null,null,null,null,null,null,null,{"$f":"SUM(D53:G53)","v":0},null,{"$f":"SUM(H53:I53)","v":0},null,{"$f":"SUM(J53:K53)","v":0},null,null,null,null,null,{"$f":"SUM(N53:Q53)","v":0},null,{"$f":"SUM(R53:S53)","v":0},null,{"$f":"SUM(T53:U53)","v":0},null,{"$f":"H53+R53","v":0},{"$f":"I53+S53","v":0},{"$f":"J53+T53","v":0},{"$f":"K53+U53","v":0},{"$f":"V53+L53","v":0},{"$f":"FLOOR($AB53/IF($AP53>0,$AP53,ЧасовВКредите)+0.001,Точность)","v":0},0,null,null,null,null,null,null,null,null,null,null,"-",0,0,0,0,0]
[null,null,null,null,null,null,null,0,null,0,null,0,null,null,null,null,null,0,null,0,null,0,null,0,0,0,0,0,{"$f":"FLOOR($AB54/IF($AP54>0,$AP54,ЧасовВКредите)+0.001,Точность)","v":0},0,null,null,null,null,null,null,null,null,null,null,"-",0,0,0,0,0]
[null,null,null,null,null,null,null,0,null,0,null,0,null,null,null,null,null,0,null,0,null,0,null,0,0,0,0,0,{"$f":"FLOOR($AB55/IF($AP55>0,$AP55,ЧасовВКредите)+0.001,Точность)","v":0},0,null,null,null,null,null,null,null,null,null,null,"-",0,0,0,0,0]
[null,null,null,null,null,null,null,0,null,0,null,0,null,null,null,null,null,0,null,0,null,0,null,0,0,0,0,0,{"$f":"FLOOR($AB56/IF($AP56>0,$AP56,ЧасовВКредите)+0.001,Точность)","v":0},0,null,null,null,null,null,null,null,null,null,null,"-",0,0,0,0,0]
[null,null,null,null,null,null,null,0,null,0,null,0,null,null,null,null,null,0,null,0,null,0,null,0,0,0,0,0,{"$f":"FLOOR($AB57/IF($AP57>0,$AP57,ЧасовВКредите)+0.001,Точность)","v":0},0,null,null,null,null,null,null,null,null,null,null,"-",0,0,0,0,0]
[null,null,null,null,null,null,null,0,null,0,null,0,null,null,null,null,null,0,null,0,null,0,null,0,0,0,0,0,{"$f":"FLOOR($AB58/IF($AP58>0,$AP58,ЧасовВКредите)+0.001,Точность)","v":0},0,null,null,null,null,null,null,null,null,null,null,"-",0,0,0,0,0]
[null,null,null,null,null,null,null,0,null,0,null,0,null,null,null,null,null,0,null,0,null,0,null,0,0,0,0,0,{"$f":"FLOOR($AB59/IF($AP59>0,$AP59,ЧасовВКредите)+0.001,Точность)","v":0},0,null,null,null,null,null,null,null,null,null,null,"-",0,0,0,0,0]
[null,null,null,null,null,null,null,0,null,0,null,0,null,null,null,null,null,0,null,0,null,0,null,0,0,0,0,0,{"$f":"FLOOR($AB60/IF($AP60>0,$AP60,ЧасовВКредите)+0.001,Точность)","v":0},0,null,null,null,null,null,null,null,null,null,null,"-",0,0,0,0,0]
[null,null,null,null,null,null,null,0,null,0,null,0,null,null,null,null,null,0,null,0,null,0,null,0,0,0,0,0,{"$f":"FLOOR($AB61/IF($AP61>0,$AP61,ЧасовВКредите)+0.001,Точность)","v":0},0,null,null,null,null,null,null,null,null,null,null,"-",0,0,0,0,0]
[null,null,null,null,null,null,null,0,null,0,null,0,null,null,null,null,null,0,null,0,null,0,null,0,0,0,0,0,{"$f":"FLOOR($AB62/IF($AP62>0,$AP62,ЧасовВКредите)+0.001,Точность)","v":0},0,null,null,null,null,null,null,null,null,null,null,"-",0,0,0,0,0]
[null,null,null,null,null,null,null,0,null,0,null,0,null,null,null,null,null,0,null,0,null,0,null,0,0,0,0,0,{"$f":"FLOOR($AB63/IF($AP63>0,$AP63,ЧасовВКредите)+0.001,Точность)","v":0},0,null,null,null,null,null,null,null,null,null,null,"-",0,0,0,0,0]
[null,null,null,null,null,null,null,0,null,0,null,0,null,null,null,null,null,0,null,0,null,0,null,0,0,0,0,0,{"$f":"FLOOR($AB64/IF($AP64>0,$AP64,ЧасовВКредите)+0.001,Точность)","v":0},0,null,null,null,null,null,null,null,null,null,null,"-",0,0,0,0,0]
[null,null,null,null,null,null,null,0,null,0,null,0,null,null,null,null,null,0,null,0,null,0,null,0,0,0,0,0,{"$f":"FLOOR($AB65/IF($AP65>0,$AP65,ЧасовВКредите)+0.001,Точность)","v":0},0,null,null,null,null,null,null,null,null,null,null,"-",0,0,0,0,0]
[null,null,null,null,null,null,null,0,null,0,null,0,null,null,null,null,null,0,null,0,null,0,null,0,0,0,0,0,{"$f":"FLOOR($AB66/IF($AP66>0,$AP66,ЧасовВКредите)+0.001,Точность)","v":0},0,null,null,null,null,null,null,null,null,null,null,"-",0,0,0,0,0]
[null,null,null,null,null,null,null,0,null,0,null,0,null,null,null,null,null,0,null,0,null,0,null,0,0,0,0,0,{"$f":"FLOOR($AB67/IF($AP67>0,$AP67,ЧасовВКредите)+0.001,Точность)","v":0},0,null,null,null,null,null,null,null,null,null,null,"-",0,0,0,0,0]
[null,null,null,null,null,null,null,0,null,0,null,0,null,null,null,null,null,0,null,0,null,0,null,0,0,0,0,0,{"$f":"FLOOR($AB68/IF($AP68>0,$AP68,ЧасовВКредите)+0.001,Точность)","v":0},0,null,null,null,null,null,null,null,null,null,null,"-",0,0,0,0,0]
[null,null,null,null,null,null,null,0,null,0,null,0,null,null,null,null,null,0,null,0,null,0,null,0,0,0,0,0,{"$f":"FLOOR($AB69/IF($AP69>0,$AP69,ЧасовВКредите)+0.001,Точность)","v":0},0,null,null,null,null,null,null,null,null,null,null,"-",0,0,0,0,0]
[null,null,null,null,null,null,null,0,null,0,null,0,null,null,null,null,null,0,null,0,null,0,null,0,0,0,0,0,{"$f":"FLOOR($AB70/IF($AP70>0,$AP70,ЧасовВКредите)+0.001,Точность)","v":0},0,null,null,null,null,null,null,null,null,null,null,"-",0,0,0,0,0]
[null,null,null,null,null,null,null,0,null,0,null,0,null,null,null,null,null,0,null,0,null,0,null,0,0,0,0,0,{"$f":"FLOOR($AB71/IF($AP71>0,$AP71,ЧасовВКредите)+0.001,Точность)","v":0},0,null,null,null,null,null,null,null,null,null,null,"-",0,0,0,0,0]
[null,null,null,null,null,null,null,0,null,0,null,0,null,null,null,null,null,0,null,0,null,0,null,0,0,0,0,0,{"$f":"FLOOR($AB72/IF($AP72>0,$AP72,ЧасовВКредите)+0.001,Точность)","v":0},0,null,null,null,null,null,null,null,null,null,null,"-",0,0,0,{"$f":"IF(AND(AL72>1145,AL72<1166),1,0)","v":0},0]
[null,null,null,null,null,null,null,0,null,0,null,0,null,null,null,null,null,0,null,0,null,0,null,0,0,0,0,0,{"$f":"FLOOR($AB73/IF($AP73>0,$AP73,ЧасовВКредите)+0.001,Точность)","v":0},0,null,null,null,null,null,null,null,null,null,null,"-",0,0,0,0,0]
[null,null,null,null,null,null,null,0,null,0,null,0,null,null,null,null,null,0,null,0,null,0,null,0,0,0,0,0,{"$f":"FLOOR($AB74/IF($AP74>0,$AP74,ЧасовВКредите)+0.001,Точность)","v":0},0,null,null,null,null,null,null,null,null,null,null,"-",0,0,0,0,0]
[null,null,null,null,null,null,null,0,null,0,null,0,null,null,null,null,null,0,null,0,null,0,null,0,0,0,0,0,{"$f":"FLOOR($AB75/IF($AP75>0,$AP75,ЧасовВКредите)+0.001,Точность)","v":0},0,null,null,null,null,null,null,null,null,null,null,"-",0,0,0,0,0]
["Всего АЧ",null,null,{"$f":"SUMIF($AJ$7:$AJ$75,\"=1\",D7:D75)-SUMIF($AT$7:$AT$75,\">0\",D7:D75)","v":216},72,324,0,612,244,{"$f":"SUMIF($AJ$7:$AJ$75,\"=1\",J7:J75)-SUMIF($AT$7:$AT$75,\">0\",J7:J75)","v":856},108,964,null,{"$f":"SUMIF($AJ$7:$AJ$75,\"=1\",N7:N75)-SUMIF($AT$7:$AT$75,\">0\",N7:N75)","v":150},44,286,0,480,446,926,108,1034,null,{"$f":"SUMIF($AJ$7:$AJ$75,\"=1\",X7:X75)-SUMIF($AT$7:$AT$75,\">0\",X7:X75)","v":1092},{"$f":"SUMIF($AJ$7:$AJ$75,\"=1\",Y7:Y75)-SUMIF($AT$7:$AT$75,\">0\",Y7:Y75)","v":690},{"$f":"SUMIF($AJ$7:$AJ$75,\"=1\",Z7:Z75)-SUMIF($AT$7:$AT$75,\">0\",Z7:Z75)","v":1782},{"$f":"SUMIF($AJ$7:$AJ$75,\"=1\",AA7:AA75)-SUMIF($AT$7:$AT$75,\">0\",AA7:AA75)","v":216},{"$f":"SUMIF($AJ$7:$AJ$75,\"=1\",AB7:AB75)-SUMIF($AT$7:$AT$75,\">0\",AB7:AB75)","v":1998},52,57,null,0,null,null,null,null,null,null,null,null,null,null,{"$f":"SUMIF($AJ$7:$AJ$75,\"=1\",AQ7:AQ75)","v":60.000000000000007},null,null,{"$f":"SUM(AT7:AT75)","v":0}]
["АЧ/Нед",null,null,{"$f":"IF(ABS($J$4-$L$4)>0.1,ROUND(D76/($J$4-$L$4),0),0)","v":12},4,18,0,34,14,{"$f":"IF(ABS($J$4-$L$4)>0.1,CEILING(J76/($J$4-$L$4)-0.001,0.1),0)","v":47.6},{"$f":"IF(ABS(K76-K78)<0.01,\"=\",IF(K76<K78,\"<\",\">\"))","v":"<"},{"$f":"IF(ABS(L76-L78)<0.01,\"=\",IF(L76<L78,\"<\",\">\"))","v":"<"},null,{"$f":"IF(ABS($T$4-$V$4)>0.1,ROUND(N76/($T$4-$V$4),0),0)","v":10},3,19,0,32,30,{"$f":"IF(ABS($T$4-$V$4)>0.1,CEILING(T76/($T$4-$V$4)-0.001,0.1),0)","v":61.800000000000004},{"$f":"IF(ABS(U76-U78)<0.01,\"=\",IF(U76<U78,\"<\",\">\"))","v":"="},">",null,null,null,{"$f":"IF(ABS(Z76-Z78)<0.01,\"=\",IF(Z76<Z78,\"<\",\">\"))","v":"="},"<","<","<","<",null,0,null,null,null,null,null,null,null,null,0]
["Всего АЧ/Нед /в том числе физической культуры",null,null,{"$f":"SUM(D77:F77)","v":34},{"$f":"\"/\"","v":"/"},{"$f":"IF($J$4-$L$4>0,(SUMIF(AG7:AG75,\"=1\",D7:D75)+SUMIF(AG7:AG75,\"=1\",E7:E75)+SUMIF(AG7:AG75,\"=1\",F7:F75)+SUMIF(AG7:AG75,\"=1\",G7:G75))/($J$4-$L$4),0)","v":3.0000000000000018},null,{"$f":"IF(I78<>0,\"D=\",\"\")","v":"D="},{"$f":"IF(J78*($J$4-$L$4)-J76<0.001,0,J78*($J$4-$L$4)-J76)","v":115.99999999999943},{"$f":"IF($J$4-$L$4>0,54,0)","v":54},{"$f":"K4*54","v":161.99999999999994},{"$f":"J78*($J$4-$L$4)+K78","v":1133.9999999999993},null,{"$f":"SUM(N77:P77)","v":32},{"$f":"\"/\"","v":"/"},{"$f":"IF($T$4-$V$4>0,(SUMIF(AG7:AG75,\"=1\",N7:N75)+SUMIF(AG7:AG75,\"=1\",O7:O75)+SUMIF(AG7:AG75,\"=1\",P7:P75)+SUMIF(AG7:AG75,\"=1\",Q7:Q75))/($T$4-$V$4),0)","v":2.0000000000000027},null,{"$f":"IF(S78<>0,\"D=\",\"\")","v":""},{"$f":"IF(T78*($T$4-$V$4)-T76<0.001,0,T78*($T$4-$V$4)-T76)","v":0},{"$f":"IF($T$4-$V$4>0,54,0)","v":54},{"$f":"U4*54","v":108},{"$f":"T78*($T$4-$V$4)+U78","v":917.99999999999898},null,null,null,{"$f":"(J4+T4-L4-V4)*IF(J78>0,J78,T78)","v":1781.9999999999984},{"$f":"U78+K78","v":269.99999999999994},{"$f":"V78+L78","v":2051.9999999999982},{"$f":"(J4+K4-L4+T4+U4-V4)*КредитовВНеделе","v":56.999999999999957},{"$f":"IF(J4-L4>0,КредитовНаГод/2,0)+IF(T4-V4>0,КредитовНаГод/2,0)","v":60},null,0,null,null,null,null,null,null,null,null,0]
["Должно быть АЧ/Нед до",null,null,null,null,null,null,null,null,null,null,null,null,null,null,null,null,null,null,null,null,null,null,"Должно быть до"]
["Должно быть АЧ на экзамены"]
["Предельное количество АЧ"]
["Экзаменов",null,null,{"$f":"Экз7","v":4},null,null,null,null,null,null,null,null,null,{"$f":"Экз8","v":3},null,null,null,null,null,null,null,null,null,"Должно быть ЗЕТ",null,null,null,null,null,null,null,0,null,null,null,null,null,null,null,null,0]
["Зачетов",null,null,{"$f":"Зач7","v":3},null,null,null,null,null,null,null,null,null,{"$f":"Зач8","v":3},null,null,null,null,null,null,null,null,null,{"$f":"\"Должно быть \"&СокрКРЕТИТОВ","v":"Должно быть Cr ECTS"},null,null,null,null,null,null,null,0,null,null,null,null,null,null,null,null,0]
["Курсовых проектов, к, р, э, г, о",null,null,{"$f":"КП7","v":0},null,null,null,null,null,null,null,null,null,{"$f":"КП8","v":0},null,null,null,null,null,null,null,null,null,"Оценка планирования:",null,null,null,null,null,null,null,0,null,null,null,null,null,null,null,null,0]
["Курсовых работ",null,null,{"$f":"КР7","v":1},null,null,null,null,null,null,null,null,null,{"$f":"КР8","v":1},null,null,null,null,null,null,null,null,null,{"$f":"IF(AB76>AB78*0.5,IF(AND(J77<=J78+0.01,K76<=K78+0.01,L76<=L78+0.01,T77<=T78+0.01,U76<=U78+0.01,V76<=V78+0.01,Z76<=Z78+0.01,AC76<=AC78+0.01,D82+N82<=IF(ПерезачтеноВсего>0,10.01,20.01),IF(isFGOS,D83+N83<=12.01,D82+D83+N82+N83<=IF(ПерезачтеноВсего>0,22.01,32.01)),IF(isFGOS,ABS(D87-IF(Нормы!C27>0,Нормы!C27,60))<0.01,TRUE)),\"Отлично\",IF(OR(IF(isFGOS,D87<IF(Нормы!C27>0,Нормы!C27,60)-0.01,FALSE),J77-0.01>J78,K77=\">\",L77=\">\",T77-0.01>T78,U77=\">\",V77=\">\",Z77=\">\"),\"Неудовлетворительно\",\"Удовлетворительно\")),\"Нет (мало АЧ)\")","v":"Неудовлетворительно"},null,null,null,null,null,null,null,0,null,null,null,null,null,null,null,null,0]
["Всего за учебный год",null,null,"Недель ТО",null,null,{"$f":"J4+T4","v":32.999999999999972},null,"Недель на экзамены",null,null,null,{"$f":"K4+U4","v":4.9999999999999991},null,null,null,null,null,null,null,null,null,null,null,null,null,"Нед","АЧ","ЗЕТ",{"$f":"СокрКРЕТИТОВ","v":"Cr ECTS"},null,0,null,null,null,null,null,null,null,null,0]
["ЗЕТ за курс без Факультативов / Факультативы",null,null,{"$f":"AC76+AC91-E87","v":50.5},{"$f":"SUMIF(AS7:AS75,\"=1\",AC7:AC75)","v":7.5},null,null,null,null,null,null,null,null,null,null,null,null,null,"Итоговая аттестация (дисциплины) (А)",null,null,null,null,null,null,null,{"$f":"Титул!BF50","v":0},{"$f":"FLOOR(AA87*54+0.001,0.01)","v":0},{"$f":"FLOOR(AA87*КредитовВНеделе+0.001,ТочностьН)","v":0},{"$f":"FLOOR(AA87*КредитовНаГод/40,ТочностьН)","v":0},null,0,null,null,null,null,null,null,null,null,0]
[{"$f":"СокрКРЕТИТОВ&\" за курс\"","v":"Cr ECTS за курс"},null,null,{"$f":"AD76+AD91","v":63},null,null,null,null,null,null,null,null,null,null,null,null,null,null,"Практики (У,П) + распределенная",null,null,null,null,null,null,null,{"$f":"Практики!AM68+AT76/54","v":4},{"$f":"FLOOR(Практики!W68*IF(ЧасовВКредите>0,ЧасовВКредите,36)+AT76+0.001,0.01)","v":216},{"$f":"Практики!W68+FLOOR(IF(ЧасовВКредите>0,AT76/ЧасовВКредите,AT76/36)+0.001,ТочностьН)","v":6},{"$f":"FLOOR(AA88*КредитовНаГод/40,ТочностьН)","v":6},null,0,null,null,null,null,null,null,null,null,0]
["Обозначения:",null,null,"Э-экзамен",null,null,"З-зачет",null,null,"Р-курсовая работа",null,null,null,"П-курсовой проект",null,null,null,null,"Дипломная работа (проект) (Д)",null,null,null,null,null,null,null,{"$f":"Титул!BI50","v":0},{"$f":"FLOOR(AA89*54+0.001,0.01)","v":0},{"$f":"FLOOR(AA89*КредитовВНеделе+0.001,ТочностьН)","v":0},{"$f":"FLOOR(AA89*КредитовНаГод/40,ТочностьН)","v":0},null,0,null,null,null,null,null,null,null,null,0]
[null,null,null,{"$f":"Курс1!D90","v":"АЧ-академических часов"},null,null,null,null,null,"ЗЕТ-зачетных единиц трудоемкости",null,null,null,null,null,null,null,null,"Государственные экзамены (ИГА) (Г)",null,null,null,null,null,null,null,{"$f":"Титул!BJ50","v":0},{"$f":"FLOOR(AA90*54+0.001,0.01)","v":0},{"$f":"FLOOR(AA90*КредитовВНеделе+0.001,ТочностьН)","v":0},{"$f":"FLOOR(AA90*КредитовНаГод/40,ТочностьН)","v":0},null,0,null,null,null,null,null,null,null,null,0]
[null,null,null,"ИГА-Итоговая государственная аттестация",null,null,null,null,null,null,null,null,null,null,null,null,null,null,null,null,null,null,null,null,"Итого",null,{"$f":"SUM(AA87:AA90)","v":4},{"$f":"SUM(AB87:AB90)","v":216},{"$f":"SUM(AC87:AC90)","v":6},{"$f":"SUM(AD87:AD90)","v":6},null,0,null,null,null,null,null,null,null,null,0]
[null,null,null,"РП - распределенная практика и НИР,",null,null,null,null,null,null,null,"контрольные работы (к), рефераты (р), эссе (э), расчетно-графические работы (г), оцека (о)"]

{"sheet":"Курс5","index":10,"n_rows":92,"n_cols":46,"rows_kept":92,"cut":false,"hidden":false,"merged":[[87,0,87,2],[85,0,85,2],[84,0,84,2],[88,18,88,25],[83,13,83,21],[83,23,83,29],[86,0,86,2],[83,3,83,11],[79,0,79,2],[77,0,77,2],[90,24,90,25],[86,18,86,25],[84,3,84,11],[84,23,84,29],[82,0,82,2],[81,0,81,2],[82,3,82,11],[88,0,90,2],[82,13,82,21],[81,3,81,11],[84,13,84,21],[89,18,89,25],[87,18,87,25],[83,0,83,2],[0,0,0,30],[1,0,1,30],[78,23,78,25],[81,13,81,21],[3,30,5,30],[3,0,5,0],[3,28,5,28],[4,3,4,11],[80,0,80,2],[3,3,3,4],[78,0,78,2],[76,0,76,2],[3,29,5,29],[3,23,4,27],[3,22,5,22],[4,13,4,21],[3,1,5,1],[3,2,5,2],[75,0,75,2],[3,42,5,42],[3,31,5,31],[3,40,5,40],[3,12,5,12],[3,41,5,41],[3,13,3,14]]}
[{"$f":"Курс1!A1","v":"ГОУ ВПО \"Самарский государственный технический университет\""}]
[{"$f":"Курс1!A2","v":"Рабочий учебный план: Направления 030600 \"Журналистика\" специальности 030602 \"Связи с общественностью\""}]
["Курс 5",null,{"$f":"Курс1!C3","v":"Утвержден: Ректор  ____________  / Калашников В.В. /  \"___\"__________20___ г."},null,null,null,null,null,null,null,null,null,null,null,null,null,null,null,null,null,null,null,null,{"$f":"ТекущийПлан&\".pli\"","v":"030602_65-00-12345-2979.pli"}]
["№","Блок","Дисциплина","Осень(9)",null,"Нед. ТО+, Экз, РП :",null,null,null,{"$f":"Недель9","v":14.99999999999998},{"$f":"Экз5Осень","v":2.9999999999999991},{"$f":"IF(isFGOS,CEILING((SUMIF($AT$7:$AT$75,\">0\",L7:L75))/54,1/6),0)","v":0},"Контроль","Весна(10)",null,"Нед. ТО+, Экз, РП :",null,null,null,{"$f":"Недель10","v":0},{"$f":"Экз5Весна","v":0},{"$f":"IF(isFGOS,CEILING((SUMIF($AT$7:$AT$75,\">0\",V7:V75))/54,1/6),0)","v":0},"Контроль","Итого АЧ за год",null,null,null,null,"ЗЕТ",{"$f":"СокрКРЕТИТОВ","v":"Cr ECTS"},"Каф","СРС ID",null,null,null,null,null,null,null,null,"Сем-Сем","ЗЕТ",{"$f":"AD4","v":"Cr ECTS"}]
[null,null,null,{"$f":"ЗаголовокОбъемаРаботы","v":"Объем работы студента в АЧ в семестре"},null,null,null,null,null,null,null,null,null,{"$f":"ЗаголовокОбъемаРаботы","v":"Объем работы студента в АЧ в семестре"}]
[null,null,null,"Лек","Лаб","Пр",{"$f":"КСР","v":"КСР"},"Ауд","СРС","Изуч","Экз","Всего",null,"Лек","Лаб","Пр",{"$f":"КСР","v":"КСР"},"Ауд","СРС","Изуч","Экз","Всего",null,"Ауд","СРС","Изуч","Экз","Всего",null,null,null,null,null,null,null,null,null,null,null,null,null,null,null,null,"Фак"]
[1,{"$f":"План!$A$469","v":"ОПД.Ф.8"},"Религиоведение",{"$f":"План!$AR$469","v":30},{"$f":"План!$AS$469","v":0},{"$f":"План!$AT$469","v":30},{"$f":"План!$AU$469","v":0},{"$f":"SUM(D7:G7)","v":60},{"$f":"План!$K$469-Курс4!$I$11-Курс4!$S$11","v":102},{"$f":"SUM(H7:I7)","v":162},27,{"$f":"SUM(J7:K7)","v":189},"Э",{"$f":"План!$AV$469","v":0},{"$f":"План!$AW$469","v":0},{"$f":"План!$AX$469","v":0},{"$f":"План!$AY$469","v":0},{"$f":"SUM(N7:Q7)","v":0},null,{"$f":"SUM(R7:S7)","v":0},null,{"$f":"SUM(T7:U7)","v":0},"",{"$f":"H7+R7","v":60},{"$f":"I7+S7","v":102},{"$f":"J7+T7","v":162},{"$f":"K7+U7","v":27},{"$f":"V7+L7","v":189},{"$f":"FLOOR($AB7/IF($AP7>0,$AP7,ЧасовВКредите)+0.001,Точность)","v":5},{"$f":"FLOOR($AQ7,Точность)","v":5},{"$f":"План!$BP$469","v":1},{"$f":"102-ABS(Курс4!$I$11)-ABS(Курс4!$S$11)-ABS(Курс5!$I$7)-ABS(Курс5!$S$7)","v":0},0,0,0,1,9,469,8,null,{"$f":"$AM7&\"-\"&$AK7","v":"8-9"},{"$f":"IF($AL7>0,IF(INDIRECT(\"План!FT\"&$AL7)>0,FLOOR(INDIRECT(\"План!H\"&$AL7)/INDIRECT(\"План!FT\"&$AL7),Точность),IF(ЧасовВКредите>0,ЧасовВКредите,36)),0)","v":36},{"$f":"IF($AB$76>0,AB7/$AB$76*$AD$78,0)","v":5.0132625994694964},{"$f":"IF(AND($AQ7>0,$AJ7>0),1,0)","v":1},{"$f":"IF(AND(AL7>1145,AL7<1166),1,0)","v":0},{"$f":"IF(AND(AJ7>0,AL7<1144,AL7>917),IF(isFGOS,AB7,0),0)","v":0}]
[2,{"$f":"План!$A$472","v":"ОПД.Ф.11"},"Основы теории коммуникации",{"$f":"План!$AR$472","v":16},{"$f":"План!$AS$472","v":0},{"$f":"План!$AT$472","v":44},{"$f":"План!$AU$472","v":0},60,{"$f":"План!$K$472-Курс3!$I$15-Курс3!$S$15-Курс4!$I$12-Курс4!$S$12","v":236},296,27,323,"Э",{"$f":"План!$AV$472","v":0},{"$f":"План!$AW$472","v":0},{"$f":"План!$AX$472","v":0},{"$f":"План!$AY$472","v":0},0,null,0,null,0,"",60,236,296,27,323,{"$f":"FLOOR($AB8/IF($AP8>0,$AP8,ЧасовВКредите)+0.001,Точность)","v":8.5},8.5,{"$f":"План!$BP$472","v":4},{"$f":"236-ABS(Курс3!$I$15)-ABS(Курс3!$S$15)-ABS(Курс4!$I$12)-ABS(Курс4!$S$12)-ABS(Курс5!$I$8)-ABS(Курс5!$S$8)","v":0},0,0,0,1,9,472,6,null,{"$f":"$AM8&\"-\"&$AK8","v":"6-9"},36,8.5676392572944291,1,{"$f":"IF(AND(AL8>1145,AL8<1166),1,0)","v":0},0]
[3,"ОПД.B4","Туристический менеджмент",{"$f":"План!$AR$589","v":30},{"$f":"План!$AS$589","v":0},{"$f":"План!$AT$589","v":30},{"$f":"План!$AU$589","v":0},60,{"$f":"План!$K$589","v":76},136,null,136,"З",{"$f":"План!$AV$589","v":0},{"$f":"План!$AW$589","v":0},{"$f":"План!$AX$589","v":0},{"$f":"План!$AY$589","v":0},0,null,0,null,0,"",60,76,136,0,136,{"$f":"FLOOR($AB9/IF($AP9>0,$AP9,ЧасовВКредите)+0.001,Точность)","v":3.5},3.5,{"$f":"План!$BP$589","v":4},{"$f":"76-ABS(Курс5!$I$9)-ABS(Курс5!$S$9)","v":0},null,null,null,1,9,589,9,null,"9-9",36,3.6074270557029178,1,0,0]
[4,"ОПД.B4","Экономика и организация гостиничного хозяйства",{"$f":"План!$AR$590","v":30},{"$f":"План!$AS$590","v":0},{"$f":"План!$AT$590","v":30},{"$f":"План!$AU$590","v":0},60,{"$f":"План!$K$590","v":76},136,null,136,"З",{"$f":"План!$AV$590","v":0},{"$f":"План!$AW$590","v":0},{"$f":"План!$AX$590","v":0},{"$f":"План!$AY$590","v":0},0,null,0,null,0,"",60,76,136,0,136,{"$f":"FLOOR($AB10/IF($AP10>0,$AP10,ЧасовВКредите)+0.001,Точность)","v":3.5},3.5,{"$f":"План!$BP$590","v":10},{"$f":"76-ABS(Курс5!$I$10)-ABS(Курс5!$S$10)","v":0},null,null,null,0,9,590,9,null,"9-9",36,3.6074270557029178,0,0,0]
[5,{"$f":"План!$A$751","v":"СД.Р.2"},"Коммуникационные компании, телекоммуникации и компьютерные технологии",{"$f":"План!$AR$751","v":30},{"$f":"План!$AS$751","v":30},{"$f":"План!$AT$751","v":0},{"$f":"План!$AU$751","v":0},60,{"$f":"План!$K$751","v":86},146,27,173,"ЭР",{"$f":"План!$AV$751","v":0},{"$f":"План!$AW$751","v":0},{"$f":"План!$AX$751","v":0},{"$f":"План!$AY$751","v":0},0,null,0,null,0,"",60,86,146,27,173,{"$f":"FLOOR($AB11/IF($AP11>0,$AP11,ЧасовВКредите)+0.001,Точность)","v":4.5},4.5,{"$f":"План!$BP$751","v":4},{"$f":"86-ABS(Курс5!$I$11)-ABS(Курс5!$S$11)","v":0},0,0,0,1,9,751,9,null,"9-9",36,4.5888594164456231,1,0,0]
[6,"СД.B1","Управленческий консалтинг",{"$f":"План!$AR$787","v":15},{"$f":"План!$AS$787","v":0},{"$f":"План!$AT$787","v":15},{"$f":"План!$AU$787","v":0},30,{"$f":"План!$K$787","v":38},68,null,68,"З",{"$f":"План!$AV$787","v":0},{"$f":"План!$AW$787","v":0},{"$f":"План!$AX$787","v":0},{"$f":"План!$AY$787","v":0},0,null,0,null,0,"",30,38,68,0,68,{"$f":"FLOOR($AB12/IF($AP12>0,$AP12,ЧасовВКредите)+0.001,Точность)","v":1.5},1.5,{"$f":"План!$BP$787","v":4},{"$f":"38-ABS(Курс5!$I$12)-ABS(Курс5!$S$12)","v":0},null,null,null,1,9,787,9,null,"9-9",36,1.8037135278514589,1,0,0]
[7,"СД.B1","Коммерческий консалтинг",{"$f":"План!$AR$788","v":15},{"$f":"План!$AS$788","v":0},{"$f":"План!$AT$788","v":15},{"$f":"План!$AU$788","v":0},30,{"$f":"План!$K$788","v":38},68,null,68,"З",{"$f":"План!$AV$788","v":0},{"$f":"План!$AW$788","v":0},{"$f":"План!$AX$788","v":0},{"$f":"План!$AY$788","v":0},0,null,0,null,0,"",30,38,68,0,68,{"$f":"FLOOR($AB13/IF($AP13>0,$AP13,ЧасовВКредите)+0.001,Точность)","v":1.5},1.5,{"$f":"План!$BP$788","v":4},{"$f":"38-ABS(Курс5!$I$13)-ABS(Курс5!$S$13)","v":0},null,null,null,0,9,788,9,null,"9-9",36,1.8037135278514589,0,0,0]
[8,"СД.B2","Социология рекламы",{"$f":"План!$AR$797","v":15},{"$f":"План!$AS$797","v":0},{"$f":"План!$AT$797","v":15},{"$f":"План!$AU$797","v":0},30,{"$f":"План!$K$797","v":38},68,null,68,"З",{"$f":"План!$AV$797","v":0},{"$f":"План!$AW$797","v":0},{"$f":"План!$AX$797","v":0},{"$f":"План!$AY$797","v":0},0,null,0,null,0,"",30,38,68,0,68,{"$f":"FLOOR($AB14/IF($AP14>0,$AP14,ЧасовВКредите)+0.001,Точность)","v":1.5},1.5,{"$f":"План!$BP$797","v":1},{"$f":"38-ABS(Курс5!$I$14)-ABS(Курс5!$S$14)","v":0},null,null,null,1,9,797,9,null,"9-9",36,1.8037135278514589,1,0,0]
[9,"СД.B2","Социология управления",{"$f":"План!$AR$798","v":15},{"$f":"План!$AS$798","v":0},{"$f":"План!$AT$798","v":15},{"$f":"План!$AU$798","v":0},30,{"$f":"План!$K$798","v":38},68,null,68,"З",{"$f":"План!$AV$798","v":0},{"$f":"План!$AW$798","v":0},{"$f":"План!$AX$798","v":0},{"$f":"План!$AY$798","v":0},0,null,0,null,0,"",30,38,68,0,68,{"$f":"FLOOR($AB15/IF($AP15>0,$AP15,ЧасовВКредите)+0.001,Точность)","v":1.5},1.5,{"$f":"План!$BP$798","v":1},{"$f":"38-ABS(Курс5!$I$15)-ABS(Курс5!$S$15)","v":0},null,null,null,0,9,798,9,null,"9-9",36,1.8037135278514589,0,0,0]
[10,"СД.B3","Налоги и налогообложение",{"$f":"План!$AR$807","v":15},{"$f":"План!$AS$807","v":0},{"$f":"План!$AT$807","v":15},{"$f":"План!$AU$807","v":0},30,{"$f":"План!$K$807","v":34},64,null,64,"З",{"$f":"План!$AV$807","v":0},{"$f":"План!$AW$807","v":0},{"$f":"План!$AX$807","v":0},{"$f":"План!$AY$807","v":0},0,null,0,null,0,"",30,34,64,0,64,{"$f":"FLOOR($AB16/IF($AP16>0,$AP16,ЧасовВКредите)+0.001,Точность)","v":1.5},1.5,{"$f":"План!$BP$807","v":5},{"$f":"34-ABS(Курс5!$I$16)-ABS(Курс5!$S$16)","v":0},null,null,null,1,9,807,9,null,"9-9",36,1.6976127320954906,1,0,0]
[11,"СД.B3","Связи с общественностью в кризисных ситуациях",{"$f":"План!$AR$808","v":15},{"$f":"План!$AS$808","v":0},{"$f":"План!$AT$808","v":15},{"$f":"План!$AU$808","v":0},30,{"$f":"План!$K$808","v":34},64,null,64,"З",{"$f":"План!$AV$808","v":0},{"$f":"План!$AW$808","v":0},{"$f":"План!$AX$808","v":0},{"$f":"План!$AY$808","v":0},0,null,0,null,0,"",30,34,64,0,64,{"$f":"FLOOR($AB17/IF($AP17>0,$AP17,ЧасовВКредите)+0.001,Точность)","v":1.5},1.5,{"$f":"План!$BP$808","v":4},{"$f":"34-ABS(Курс5!$I$17)-ABS(Курс5!$S$17)","v":0},null,null,null,0,9,808,9,null,"9-9",36,1.6976127320954906,0,0,0]
[12,{"$f":"План!$A$1148","v":"ФТД.3"},"Безопасность жизнедеятельности",{"$f":"План!$AR$1148","v":15},{"$f":"План!$AS$1148","v":15},{"$f":"План!$AT$1148","v":15},{"$f":"План!$AU$1148","v":0},45,{"$f":"План!$K$1148","v":65},110,null,110,"З",{"$f":"План!$AV$1148","v":0},{"$f":"План!$AW$1148","v":0},{"$f":"План!$AX$1148","v":0},{"$f":"План!$AY$1148","v":0},0,null,0,null,0,"",45,65,110,0,110,{"$f":"FLOOR($AB18/IF($AP18>0,$AP18,ЧасовВКредите)+0.001,Точность)","v":3},2.5,{"$f":"План!$BP$1148","v":23},{"$f":"65-ABS(Курс5!$I$18)-ABS(Курс5!$S$18)","v":0},0,0,0,1,9,1148,9,null,"9-9",36,2.9177718832891246,1,1,0]
[null,null,null,null,null,null,null,0,null,0,null,0,null,null,null,null,null,0,null,0,null,0,null,0,0,0,0,0,{"$f":"FLOOR($AB19/IF($AP19>0,$AP19,ЧасовВКредите)+0.001,Точность)","v":0},0,null,null,null,null,null,null,null,null,null,null,"-",0,0,0,0,0]
[null,null,null,null,null,null,null,0,null,0,null,0,null,null,null,null,null,0,null,0,null,0,null,0,0,0,0,0,{"$f":"FLOOR($AB20/IF($AP20>0,$AP20,ЧасовВКредите)+0.001,Точность)","v":0},0,null,null,null,null,null,null,null,null,null,null,"-",0,0,0,0,0]
[null,null,null,null,null,null,null,0,null,0,null,0,null,null,null,null,null,0,null,0,null,0,null,0,0,0,0,0,{"$f":"FLOOR($AB21/IF($AP21>0,$AP21,ЧасовВКредите)+0.001,Точность)","v":0},0,null,null,null,null,null,null,null,null,null,null,"-",0,0,0,0,0]
[null,null,null,null,null,null,null,0,null,0,null,0,null,null,null,null,null,0,null,0,null,0,null,0,0,0,0,0,{"$f":"FLOOR($AB22/IF($AP22>0,$AP22,ЧасовВКредите)+0.001,Точность)","v":0},0,null,null,null,null,null,null,null,null,null,null,"-",0,0,0,0,0]
[null,null,null,null,null,null,null,0,null,0,null,0,null,null,null,null,null,0,null,0,null,0,null,0,0,0,0,0,{"$f":"FLOOR($AB23/IF($AP23>0,$AP23,ЧасовВКредите)+0.001,Точность)","v":0},0,null,null,null,null,null,null,null,null,null,null,"-",0,0,0,0,0]
[null,null,null,null,null,null,null,0,null,0,null,0,null,null,null,null,null,0,null,0,null,0,null,0,0,0,0,0,{"$f":"FLOOR($AB24/IF($AP24>0,$AP24,ЧасовВКредите)+0.001,Точность)","v":0},0,null,null,null,null,null,null,null,null,null,null,"-",0,0,0,0,0]
[null,null,null,null,null,null,null,0,null,0,null,0,null,null,null,null,null,0,null,0,null,0,null,0,0,0,0,0,{"$f":"FLOOR($AB25/IF($AP25>0,$AP25,ЧасовВКредите)+0.001,Точность)","v":0},0,null,null,null,null,null,null,null,null,null,null,"-",0,0,0,0,0]
[null,null,null,null,null,null,null,0,null,0,null,0,null,null,null,null,null,0,null,0,null,0,null,0,0,0,0,0,{"$f":"FLOOR($AB26/IF($AP26>0,$AP26,ЧасовВКредите)+0.001,Точность)","v":0},0,null,null,null,null,null,null,null,null,null,null,"-",0,0,0,0,0]
[null,null,null,null,null,null,null,0,null,0,null,0,null,null,null,null,null,0,null,0,null,0,null,0,0,0,0,0,{"$f":"FLOOR($AB27/IF($AP27>0,$AP27,ЧасовВКредите)+0.001,Точность)","v":0},0,null,null,null,null,null,null,null,null,null,null,"-",0,0,0,0,0]
[null,null,null,null,null,null,null,0,null,0,null,0,null,null,null,null,null,0,null,0,null,0,null,0,0,0,0,0,{"$f":"FLOOR($AB28/IF($AP28>0,$AP28,ЧасовВКредите)+0.001,Точность)","v":0},0,null,null,null,null,null,null,null,null,null,null,"-",0,0,0,0,0]
[null,null,null,null,null,null,null,0,null,0,null,0,null,null,null,null,null,0,null,0,null,0,null,0,0,0,0,0,{"$f":"FLOOR($AB29/IF($AP29>0,$AP29,ЧасовВКредите)+0.001,Точность)","v":0},0,null,null,null,null,null,null,null,null,null,null,"-",0,0,0,0,0]
[null,null,null,null,null,null,null,0,null,0,null,0,null,null,null,null,null,0,null,0,null,0,null,0,0,0,0,0,{"$f":"FLOOR($AB30/IF($AP30>0,$AP30,ЧасовВКредите)+0.001,Точность)","v":0},0,null,null,null,null,null,null,null,null,null,null,"-",0,0,0,0,0]
[null,null,null,null,null,null,null,0,null,0,null,0,null,null,null,null,null,0,null,0,null,0,null,0,0,0,0,0,{"$f":"FLOOR($AB31/IF($AP31>0,$AP31,ЧасовВКредите)+0.001,Точность)","v":0},0,null,null,null,null,null,null,null,null,null,null,"-",0,0,0,0,0]
[null,null,null,null,null,null,null,0,null,0,null,0,null,null,null,null,null,0,null,0,null,0,null,0,0,0,0,0,{"$f":"FLOOR($AB32/IF($AP32>0,$AP32,ЧасовВКредите)+0.001,Точность)","v":0},0,null,null,null,null,null,null,null,null,null,null,"-",0,0,0,0,0]
[null,null,null,null,null,null,null,0,null,0,null,0,null,null,null,null,null,0,null,0,null,0,null,0,0,0,0,0,{"$f":"FLOOR($AB33/IF($AP33>0,$AP33,ЧасовВКредите)+0.001,Точность)","v":0},0,null,null,null,null,null,null,null,null,null,null,"-",0,0,0,0,0]
[null,null,null,null,null,null,null,0,null,0,null,0,null,null,null,null,null,0,null,0,null,0,null,0,0,0,0,0,{"$f":"FLOOR($AB34/IF($AP34>0,$AP34,ЧасовВКредите)+0.001,Точность)","v":0},0,null,null,null,null,null,null,null,null,null,null,"-",0,0,0,0,0]
[null,null,null,null,null,null,null,0,null,0,null,0,null,null,null,null,null,0,null,0,null,0,null,0,0,0,0,0,{"$f":"FLOOR($AB35/IF($AP35>0,$AP35,ЧасовВКредите)+0.001,Точность)","v":0},0,null,null,null,null,null,null,null,null,null,null,"-",0,0,0,0,0]
[null,null,null,null,null,null,null,0,null,0,null,0,null,null,null,null,null,0,null,0,null,0,null,0,0,0,0,0,{"$f":"FLOOR($AB36/IF($AP36>0,$AP36,ЧасовВКредите)+0.001,Точность)","v":0},0,null,null,null,null,null,null,null,null,null,null,"-",0,0,0,0,0]
[null,null,null,null,null,null,null,0,null,0,null,0,null,null,null,null,null,0,null,0,null,0,null,0,0,0,0,0,{"$f":"FLOOR($AB37/IF($AP37>0,$AP37,ЧасовВКредите)+0.001,Точность)","v":0},0,null,null,null,null,null,null,null,null,null,null,"-",0,0,0,0,0]
[null,null,null,null,null,null,null,0,null,0,null,0,null,null,null,null,null,0,null,0,null,0,null,0,0,0,0,0,{"$f":"FLOOR($AB38/IF($AP38>0,$AP38,ЧасовВКредите)+0.001,Точность)","v":0},0,null,null,null,null,null,null,null,null,null,null,"-",0,0,0,0,0]
[null,null,null,null,null,null,null,0,null,0,null,0,null,null,null,null,null,0,null,0,null,0,null,0,0,0,0,0,{"$f":"FLOOR($AB39/IF($AP39>0,$AP39,ЧасовВКредите)+0.001,Точность)","v":0},{"$f":"FLOOR($AQ39,Точность)","v":0},null,null,null,null,null,null,null,null,null,null,"-",{"$f":"IF($AL39>0,IF(INDIRECT(\"План!FT\"&$AL39)>0,FLOOR(INDIRECT(\"План!H\"&$AL39)/INDIRECT(\"План!FT\"&$AL39),Точность),IF(ЧасовВКредите>0,ЧасовВКредите,36)),0)","v":0},{"$f":"IF($AB$76>0,AB39/$AB$76*$AD$78,0)","v":0},0,0,{"$f":"IF(AND(AJ39>0,AL39<1144,AL39>917),IF(isFGOS,AB39,0),0)","v":0}]
[null,null,null,null,null,null,null,0,null,0,null,0,null,null,null,null,null,0,null,0,null,0,null,0,0,0,0,0,{"$f":"FLOOR($AB40/IF($AP40>0,$AP40,ЧасовВКредите)+0.001,Точность)","v":0},0,null,null,null,null,null,null,null,null,null,null,"-",0,0,0,0,0]
[null,null,null,null,null,null,null,0,null,0,null,0,null,null,null,null,null,0,null,0,null,0,null,0,0,0,0,0,{"$f":"FLOOR($AB41/IF($AP41>0,$AP41,ЧасовВКредите)+0.001,Точность)","v":0},0,null,null,null,null,null,null,null,null,null,null,"-",0,0,0,0,0]
[null,null,null,null,null,null,null,0,null,0,null,0,null,null,null,null,null,0,null,0,null,0,null,0,0,0,0,0,{"$f":"FLOOR($AB42/IF($AP42>0,$AP42,ЧасовВКредите)+0.001,Точность)","v":0},0,null,null,null,null,null,null,null,null,null,null,"-",0,0,0,0,0]
[null,null,null,null,null,null,null,0,null,0,null,0,null,null,null,null,null,0,null,0,null,0,null,0,0,0,0,0,{"$f":"FLOOR($AB43/IF($AP43>0,$AP43,ЧасовВКредите)+0.001,Точность)","v":0},0,null,null,null,null,null,null,null,null,null,null,"-",0,0,0,0,0]
[null,null,null,null,null,null,null,0,null,0,null,0,null,null,null,null,null,0,null,0,null,0,null,0,0,0,0,0,{"$f":"FLOOR($AB44/IF($AP44>0,$AP44,ЧасовВКредите)+0.001,Точность)","v":0},0,null,null,null,null,null,null,null,null,null,null,"-",0,0,0,0,0]
[null,null,null,null,null,null,null,0,null,0,null,0,null,null,null,null,null,0,null,0,null,0,null,0,0,0,0,0,{"$f":"FLOOR($AB45/IF($AP45>0,$AP45,ЧасовВКредите)+0.001,Точность)","v":0},0,null,null,null,null,null,null,null,null,null,null,"-",0,0,0,0,0]
[null,null,null,null,null,null,null,0,null,0,null,0,null,null,null,null,null,0,null,0,null,0,null,0,0,0,0,0,{"$f":"FLOOR($AB46/IF($AP46>0,$AP46,ЧасовВКредите)+0.001,Точность)","v":0},0,null,null,null,null,null,null,null,null,null,null,"-",0,0,0,0,0]
[null,null,null,null,null,null,null,0,null,0,null,0,null,null,null,null,null,0,null,0,null,0,null,0,0,0,0,0,{"$f":"FLOOR($AB47/IF($AP47>0,$AP47,ЧасовВКредите)+0.001,Точность)","v":0},0,null,null,null,null,null,null,null,null,null,null,"-",0,0,0,0,0]
[null,null,null,null,null,null,null,0,null,0,null,0,null,null,null,null,null,0,null,0,null,0,null,0,0,0,0,0,{"$f":"FLOOR($AB48/IF($AP48>0,$AP48,ЧасовВКредите)+0.001,Точность)","v":0},0,null,null,null,null,null,null,null,null,null,null,"-",0,0,0,0,0]
[null,null,null,null,null,null,null,0,null,0,null,0,null,null,null,null,null,0,null,0,null,0,null,0,0,0,0,0,{"$f":"FLOOR($AB49/IF($AP49>0,$AP49,ЧасовВКредите)+0.001,Точность)","v":0},0,null,null,null,null,null,null,null,null,null,null,"-",0,0,0,0,0]
[null,null,null,null,null,null,null,0,null,0,null,0,null,null,null,null,null,0,null,0,null,0,null,0,0,0,0,0,{"$f":"FLOOR($AB50/IF($AP50>0,$AP50,ЧасовВКредите)+0.001,Точность)","v":0},0,null,null,null,null,null,null,null,null,null,null,"-",0,0,0,0,0]
[null,null,null,null,null,null,null,0,null,0,null,0,null,null,null,null,null,0,null,0,null,0,null,0,0,0,0,0,{"$f":"FLOOR($AB51/IF($AP51>0,$AP51,ЧасовВКредите)+0.001,Точность)","v":0},0,null,null,null,null,null,null,null,null,null,null,"-",0,0,0,0,0]
[null,null,null,null,null,null,null,0,null,0,null,0,null,null,null,null,null,0,null,0,null,0,null,0,0,0,0,0,{"$f":"FLOOR($AB52/IF($AP52>0,$AP52,ЧасовВКредите)+0.001,Точность)","v":0},0,null,null,null,null,null,null,null,null,null,null,"-",0,0,0,0,0]
[null,null,null,null,null,null,null,{"$f":"SUM(D53:G53)","v":0},null,{"$f":"SUM(H53:I53)","v":0},null,{"$f":"SUM(J53:K53)","v":0},null,null,null,null,null,{"$f":"SUM(N53:Q53)","v":0},null,{"$f":"SUM(R53:S53)","v":0},null,{"$f":"SUM(T53:U53)","v":0},null,{"$f":"H53+R53","v":0},{"$f":"I53+S53","v":0},{"$f":"J53+T53","v":0},{"$f":"K53+U53","v":0},{"$f":"V53+L53","v":0},{"$f":"FLOOR($AB53/IF($AP53>0,$AP53,ЧасовВКредите)+0.001,Точность)","v":0},0,null,null,null,null,null,null,null,null,null,null,"-",0,0,0,0,0]
[null,null,null,null,null,null,null,0,null,0,null,0,null,null,null,null,null,0,null,0,null,0,null,0,0,0,0,0,{"$f":"FLOOR($AB54/IF($AP54>0,$AP54,ЧасовВКредите)+0.001,Точность)","v":0},0,null,null,null,null,null,null,null,null,null,null,"-",0,0,0,0,0]
[null,null,null,null,null,null,null,0,null,0,null,0,null,null,null,null,null,0,null,0,null,0,null,0,0,0,0,0,{"$f":"FLOOR($AB55/IF($AP55>0,$AP55,ЧасовВКредите)+0.001,Точность)","v":0},0,null,null,null,null,null,null,null,null,null,null,"-",0,0,0,0,0]
[null,null,null,null,null,null,null,0,null,0,null,0,null,null,null,null,null,0,null,0,null,0,null,0,0,0,0,0,{"$f":"FLOOR($AB56/IF($AP56>0,$AP56,ЧасовВКредите)+0.001,Точность)","v":0},0,null,null,null,null,null,null,null,null,null,null,"-",0,0,0,0,0]
[null,null,null,null,null,null,null,0,null,0,null,0,null,null,null,null,null,0,null,0,null,0,null,0,0,0,0,0,{"$f":"FLOOR($AB57/IF($AP57>0,$AP57,ЧасовВКредите)+0.001,Точность)","v":0},0,null,null,null,null,null,null,null,null,null,null,"-",0,0,0,0,0]
[null,null,null,null,null,null,null,0,null,0,null,0,null,null,null,null,null,0,null,0,null,0,null,0,0,0,0,0,{"$f":"FLOOR($AB58/IF($AP58>0,$AP58,ЧасовВКредите)+0.001,Точность)","v":0},0,null,null,null,null,null,null,null,null,null,null,"-",0,0,0,0,0]
[null,null,null,null,null,null,null,0,null,0,null,0,null,null,null,null,null,0,null,0,null,0,null,0,0,0,0,0,{"$f":"FLOOR($AB59/IF($AP59>0,$AP59,ЧасовВКредите)+0.001,Точность)","v":0},0,null,null,null,null,null,null,null,null,null,null,"-",0,0,0,0,0]
[null,null,null,null,null,null,null,0,null,0,null,0,null,null,null,null,null,0,null,0,null,0,null,0,0,0,0,0,{"$f":"FLOOR($AB60/IF($AP60>0,$AP60,ЧасовВКредите)+0.001,Точность)","v":0},0,null,null,null,null,null,null,null,null,null,null,"-",0,0,0,0,0]
[null,null,null,null,null,null,null,0,null,0,null,0,null,null,null,null,null,0,null,0,null,0,null,0,0,0,0,0,{"$f":"FLOOR($AB61/IF($AP61>0,$AP61,ЧасовВКредите)+0.001,Точность)","v":0},0,null,null,null,null,null,null,null,null,null,null,"-",0,0,0,0,0]
[null,null,null,null,null,null,null,0,null,0,null,0,null,null,null,null,null,0,null,0,null,0,null,0,0,0,0,0,{"$f":"FLOOR($AB62/IF($AP62>0,$AP62,ЧасовВКредите)+0.001,Точность)","v":0},0,null,null,null,null,null,null,null,null,null,null,"-",0,0,0,0,0]
[null,null,null,null,null,null,null,0,null,0,null,0,null,null,null,null,null,0,null,0,null,0,null,0,0,0,0,0,{"$f":"FLOOR($AB63/IF($AP63>0,$AP63,ЧасовВКредите)+0.001,Точность)","v":0},0,null,null,null,null,null,null,null,null,null,null,"-",0,0,0,0,0]
[null,null,null,null,null,null,null,0,null,0,null,0,null,null,null,null,null,0,null,0,null,0,null,0,0,0,0,0,{"$f":"FLOOR($AB64/IF($AP64>0,$AP64,ЧасовВКредите)+0.001,Точность)","v":0},0,null,null,null,null,null,null,null,null,null,null,"-",0,0,0,0,0]
[null,null,null,null,null,null,null,0,null,0,null,0,null,null,null,null,null,0,null,0,null,0,null,0,0,0,0,0,{"$f":"FLOOR($AB65/IF($AP65>0,$AP65,ЧасовВКредите)+0.001,Точность)","v":0},0,null,null,null,null,null,null,null,null,null,null,"-",0,0,0,0,0]
[null,null,null,null,null,null,null,0,null,0,null,0,null,null,null,null,null,0,null,0,null,0,null,0,0,0,0,0,{"$f":"FLOOR($AB66/IF($AP66>0,$AP66,ЧасовВКредите)+0.001,Точность)","v":0},0,null,null,null,null,null,null,null,null,null,null,"-",0,0,0,0,0]
[null,null,null,null,null,null,null,0,null,0,null,0,null,null,null,null,null,0,null,0,null,0,null,0,0,0,0,0,{"$f":"FLOOR($AB67/IF($AP67>0,$AP67,ЧасовВКредите)+0.001,Точность)","v":0},0,null,null,null,null,null,null,null,null,null,null,"-",0,0,0,0,0]
[null,null,null,null,null,null,null,0,null,0,null,0,null,null,null,null,null,0,null,0,null,0,null,0,0,0,0,0,{"$f":"FLOOR($AB68/IF($AP68>0,$AP68,ЧасовВКредите)+0.001,Точность)","v":0},0,null,null,null,null,null,null,null,null,null,null,"-",0,0,0,0,0]
[null,null,null,null,null,null,null,0,null,0,null,0,null,null,null,null,null,0,null,0,null,0,null,0,0,0,0,0,{"$f":"FLOOR($AB69/IF($AP69>0,$AP69,ЧасовВКредите)+0.001,Точность)","v":0},0,null,null,null,null,null,null,null,null,null,null,"-",0,0,0,0,0]
[null,null,null,null,null,null,null,0,null,0,null,0,null,null,null,null,null,0,null,0,null,0,null,0,0,0,0,0,{"$f":"FLOOR($AB70/IF($AP70>0,$AP70,ЧасовВКредите)+0.001,Точность)","v":0},0,null,null,null,null,null,null,null,null,null,null,"-",0,0,0,0,0]
[null,null,null,null,null,null,null,0,null,0,null,0,null,null,null,null,null,0,null,0,null,0,null,0,0,0,0,0,{"$f":"FLOOR($AB71/IF($AP71>0,$AP71,ЧасовВКредите)+0.001,Точность)","v":0},0,null,null,null,null,null,null,null,null,null,null,"-",0,0,0,0,0]
[null,null,null,null,null,null,null,0,null,0,null,0,null,null,null,null,null,0,null,0,null,0,null,0,0,0,0,0,{"$f":"FLOOR($AB72/IF($AP72>0,$AP72,ЧасовВКредите)+0.001,Точность)","v":0},0,null,null,null,null,null,null,null,null,null,null,"-",0,0,0,{"$f":"IF(AND(AL72>1145,AL72<1166),1,0)","v":0},0]
[null,null,null,null,null,null,null,0,null,0,null,0,null,null,null,null,null,0,null,0,null,0,null,0,0,0,0,0,{"$f":"FLOOR($AB73/IF($AP73>0,$AP73,ЧасовВКредите)+0.001,Точность)","v":0},0,null,null,null,null,null,null,null,null,null,null,"-",0,0,0,0,0]
[null,null,null,null,null,null,null,0,null,0,null,0,null,null,null,null,null,0,null,0,null,0,null,0,0,0,0,0,{"$f":"FLOOR($AB74/IF($AP74>0,$AP74,ЧасовВКредите)+0.001,Точность)","v":0},0,null,null,null,null,null,null,null,null,null,null,"-",0,0,0,0,0]
[null,null,null,null,null,null,null,0,null,0,null,0,null,null,null,null,null,0,null,0,null,0,null,0,0,0,0,0,{"$f":"FLOOR($AB75/IF($AP75>0,$AP75,ЧасовВКредите)+0.001,Точность)","v":0},0,null,null,null,null,null,null,null,null,null,null,"-",0,0,0,0,0]
["Всего АЧ",null,null,{"$f":"SUMIF($AJ$7:$AJ$75,\"=1\",D7:D75)-SUMIF($AT$7:$AT$75,\">0\",D7:D75)","v":166},45,164,0,375,675,{"$f":"SUMIF($AJ$7:$AJ$75,\"=1\",J7:J75)-SUMIF($AT$7:$AT$75,\">0\",J7:J75)","v":1050},81,1131,null,{"$f":"SUMIF($AJ$7:$AJ$75,\"=1\",N7:N75)-SUMIF($AT$7:$AT$75,\">0\",N7:N75)","v":0},0,0,0,0,0,0,0,0,null,{"$f":"SUMIF($AJ$7:$AJ$75,\"=1\",X7:X75)-SUMIF($AT$7:$AT$75,\">0\",X7:X75)","v":375},{"$f":"SUMIF($AJ$7:$AJ$75,\"=1\",Y7:Y75)-SUMIF($AT$7:$AT$75,\">0\",Y7:Y75)","v":675},{"$f":"SUMIF($AJ$7:$AJ$75,\"=1\",Z7:Z75)-SUMIF($AT$7:$AT$75,\">0\",Z7:Z75)","v":1050},{"$f":"SUMIF($AJ$7:$AJ$75,\"=1\",AA7:AA75)-SUMIF($AT$7:$AT$75,\">0\",AA7:AA75)","v":81},{"$f":"SUMIF($AJ$7:$AJ$75,\"=1\",AB7:AB75)-SUMIF($AT$7:$AT$75,\">0\",AB7:AB75)","v":1131},29,28.5,null,0,null,null,null,null,null,null,null,null,0,null,{"$f":"SUMIF($AJ$7:$AJ$75,\"=1\",AQ7:AQ75)","v":30},null,null,{"$f":"SUM(AT7:AT75)","v":0}]
["АЧ/Нед",null,null,{"$f":"IF(ABS($J$4-$L$4)>0.1,ROUND(D76/($J$4-$L$4),0),0)","v":11},3,11,0,25,45,{"$f":"IF(ABS($J$4-$L$4)>0.1,CEILING(J76/($J$4-$L$4)-0.001,0.1),0)","v":70},{"$f":"IF(ABS(K76-K78)<0.01,\"=\",IF(K76<K78,\"<\",\">\"))","v":"<"},{"$f":"IF(ABS(L76-L78)<0.01,\"=\",IF(L76<L78,\"<\",\">\"))","v":">"},null,{"$f":"IF(ABS($T$4-$V$4)>0.1,ROUND(N76/($T$4-$V$4),0),0)","v":0},0,0,0,0,0,{"$f":"IF(ABS($T$4-$V$4)>0.1,CEILING(T76/($T$4-$V$4)-0.001,0.1),0)","v":0},{"$f":"IF(ABS(U76-U78)<0.01,\"=\",IF(U76<U78,\"<\",\">\"))","v":"="},"=",null,null,null,{"$f":"IF(ABS(Z76-Z78)<0.01,\"=\",IF(Z76<Z78,\"<\",\">\"))","v":">"},"<",">",">","<",null,0,null,null,null,null,null,null,null,null,0]
["Всего АЧ/Нед /в том числе физической культуры",null,null,{"$f":"SUM(D77:F77)","v":25},{"$f":"\"/\"","v":"/"},{"$f":"IF($J$4-$L$4>0,(SUMIF(AG7:AG75,\"=1\",D7:D75)+SUMIF(AG7:AG75,\"=1\",E7:E75)+SUMIF(AG7:AG75,\"=1\",F7:F75)+SUMIF(AG7:AG75,\"=1\",G7:G75))/($J$4-$L$4),0)","v":0},null,{"$f":"IF(I78<>0,\"D=\",\"\")","v":""},{"$f":"IF(J78*($J$4-$L$4)-J76<0.001,0,J78*($J$4-$L$4)-J76)","v":0},{"$f":"IF($J$4-$L$4>0,54,0)","v":54},{"$f":"K4*54","v":161.99999999999994},{"$f":"J78*($J$4-$L$4)+K78","v":971.99999999999886},null,{"$f":"SUM(N77:P77)","v":0},{"$f":"\"/\"","v":"/"},{"$f":"IF($T$4-$V$4>0,(SUMIF(AG7:AG75,\"=1\",N7:N75)+SUMIF(AG7:AG75,\"=1\",O7:O75)+SUMIF(AG7:AG75,\"=1\",P7:P75)+SUMIF(AG7:AG75,\"=1\",Q7:Q75))/($T$4-$V$4),0)","v":0},null,{"$f":"IF(S78<>0,\"D=\",\"\")","v":""},{"$f":"IF(T78*($T$4-$V$4)-T76<0.001,0,T78*($T$4-$V$4)-T76)","v":0},{"$f":"IF($T$4-$V$4>0,54,0)","v":0},{"$f":"U4*54","v":0},{"$f":"T78*($T$4-$V$4)+U78","v":0},null,null,null,{"$f":"(J4+T4-L4-V4)*IF(J78>0,J78,T78)","v":809.99999999999898},{"$f":"U78+K78","v":161.99999999999994},{"$f":"V78+L78","v":971.99999999999886},{"$f":"(J4+K4-L4+T4+U4-V4)*КредитовВНеделе","v":26.999999999999968},{"$f":"IF(J4-L4>0,КредитовНаГод/2,0)+IF(T4-V4>0,КредитовНаГод/2,0)","v":30},null,0,null,null,null,null,null,null,null,null,0]
["Должно быть АЧ/Нед до",null,null,null,null,null,null,null,null,null,null,null,null,null,null,null,null,null,null,null,null,null,null,"Должно быть до"]
["Должно быть АЧ на экзамены"]
["Предельное количество АЧ"]
["Экзаменов",null,null,{"$f":"Экз9","v":3},null,null,null,null,null,null,null,null,null,{"$f":"Экз10","v":0},null,null,null,null,null,null,null,null,null,"Должно быть ЗЕТ",null,null,null,null,null,null,null,0,null,null,null,null,null,null,null,null,0]
["Зачетов",null,null,{"$f":"Зач9","v":4},null,null,null,null,null,null,null,null,null,{"$f":"Зач10","v":0},null,null,null,null,null,null,null,null,null,{"$f":"\"Должно быть \"&СокрКРЕТИТОВ","v":"Должно быть Cr ECTS"},null,null,null,null,null,null,null,0,null,null,null,null,null,null,null,null,0]
["Курсовых проектов, к, р, э, г, о",null,null,{"$f":"КП9","v":0},null,null,null,null,null,null,null,null,null,{"$f":"КП10","v":0},null,null,null,null,null,null,null,null,null,"Оценка планирования:",null,null,null,null,null,null,null,0,null,null,null,null,null,null,null,null,0]
["Курсовых работ",null,null,{"$f":"КР9","v":1},null,null,null,null,null,null,null,null,null,{"$f":"КР10","v":0},null,null,null,null,null,null,null,null,null,{"$f":"IF(AB76>AB78*0.5,IF(AND(J77<=J78+0.01,K76<=K78+0.01,L76<=L78+0.01,T77<=T78+0.01,U76<=U78+0.01,V76<=V78+0.01,Z76<=Z78+0.01,AC76<=AC78+0.01,D82+N82<=IF(ПерезачтеноВсего>0,10.01,20.01),IF(isFGOS,D83+N83<=12.01,D82+D83+N82+N83<=IF(ПерезачтеноВсего>0,22.01,32.01)),IF(isFGOS,ABS(D87-IF(Нормы!C27>0,Нормы!C27,60))<0.01,TRUE)),\"Отлично\",IF(OR(IF(isFGOS,D87<IF(Нормы!C27>0,Нормы!C27,60)-0.01,FALSE),J77-0.01>J78,K77=\">\",L77=\">\",T77-0.01>T78,U77=\">\",V77=\">\",Z77=\">\"),\"Неудовлетворительно\",\"Удовлетворительно\")),\"Нет (мало АЧ)\")","v":"Неудовлетворительно"},null,null,null,null,null,null,null,0,null,null,null,null,null,null,null,null,0]
["Всего за учебный год",null,null,"Недель ТО",null,null,{"$f":"J4+T4","v":14.99999999999998},null,"Недель на экзамены",null,null,null,{"$f":"K4+U4","v":2.9999999999999991},null,null,null,null,null,null,null,null,null,null,null,null,null,"Нед","АЧ","ЗЕТ",{"$f":"СокрКРЕТИТОВ","v":"Cr ECTS"},null,0,null,null,null,null,null,null,null,null,0]
["ЗЕТ за курс без Факультативов / Факультативы",null,null,{"$f":"AC76+AC91-E87","v":62},{"$f":"SUMIF(AS7:AS75,\"=1\",AC7:AC75)","v":3},null,null,null,null,null,null,null,null,null,null,null,null,null,"Итоговая аттестация (дисциплины) (А)",null,null,null,null,null,null,null,{"$f":"Титул!BF56","v":0},{"$f":"FLOOR(AA87*54+0.001,0.01)","v":0},{"$f":"FLOOR(AA87*КредитовВНеделе+0.001,ТочностьН)","v":0},{"$f":"FLOOR(AA87*КредитовНаГод/40,ТочностьН)","v":0},null,0,null,null,null,null,null,null,null,null,0]
[{"$f":"СокрКРЕТИТОВ&\" за курс\"","v":"Cr ECTS за курс"},null,null,{"$f":"AD76+AD91","v":64.25},null,null,null,null,null,null,null,null,null,null,null,null,null,null,"Практики (У,П) + распределенная",null,null,null,null,null,null,null,{"$f":"Практики!AN68+AT76/54","v":8},{"$f":"FLOOR(Практики!X68*IF(ЧасовВКредите>0,ЧасовВКредите,36)+AT76+0.001,0.01)","v":432},{"$f":"Практики!X68+FLOOR(IF(ЧасовВКредите>0,AT76/ЧасовВКредите,AT76/36)+0.001,ТочностьН)","v":12},{"$f":"FLOOR(AA88*КредитовНаГод/40,ТочностьН)","v":12},null,0,null,null,null,null,null,null,null,null,0]
["Обозначения:",null,null,"Э-экзамен",null,null,"З-зачет",null,null,"Р-курсовая работа",null,null,null,"П-курсовой проект",null,null,null,null,"Дипломная работа (проект) (Д)",null,null,null,null,null,null,null,{"$f":"Титул!BI56","v":13.999999999999984},{"$f":"FLOOR(AA89*54+0.001,0.01)","v":756},{"$f":"FLOOR(AA89*КредитовВНеделе+0.001,ТочностьН)","v":21},{"$f":"FLOOR(AA89*КредитовНаГод/40,ТочностьН)","v":20.75},null,0,null,null,null,null,null,null,null,null,0]
[null,null,null,{"$f":"Курс1!D90","v":"АЧ-академических часов"},null,null,null,null,null,"ЗЕТ-зачетных единиц трудоемкости",null,null,null,null,null,null,null,null,"Государственные экзамены (ИГА) (Г)",null,null,null,null,null,null,null,{"$f":"Титул!BJ56","v":2},{"$f":"FLOOR(AA90*54+0.001,0.01)","v":108},{"$f":"FLOOR(AA90*КредитовВНеделе+0.001,ТочностьН)","v":3},{"$f":"FLOOR(AA90*КредитовНаГод/40,ТочностьН)","v":3},null,0,null,null,null,null,null,null,null,null,0]
[null,null,null,"ИГА-Итоговая государственная аттестация",null,null,null,null,null,null,null,null,null,null,null,null,null,null,null,null,null,null,null,null,"Итого",null,{"$f":"SUM(AA87:AA90)","v":23.999999999999986},{"$f":"SUM(AB87:AB90)","v":1296},{"$f":"SUM(AC87:AC90)","v":36},{"$f":"SUM(AD87:AD90)","v":35.75},null,0,null,null,null,null,null,null,null,null,0]
[null,null,null,"РП - распределенная практика и НИР,",null,null,null,null,null,null,null,"контрольные работы (к), рефераты (р), эссе (э), расчетно-графические работы (г), оцека (о)"]

{"sheet":"Курс6","index":11,"n_rows":92,"n_cols":46,"rows_kept":92,"cut":false,"hidden":false,"merged":[[87,0,87,2],[85,0,85,2],[84,0,84,2],[88,18,88,25],[83,13,83,21],[83,23,83,29],[86,0,86,2],[83,3,83,11],[79,0,79,2],[77,0,77,2],[90,24,90,25],[86,18,86,25],[84,3,84,11],[84,23,84,29],[82,0,82,2],[81,0,81,2],[82,3,82,11],[88,0,90,2],[82,13,82,21],[81,3,81,11],[84,13,84,21],[89,18,89,25],[87,18,87,25],[83,0,83,2],[0,0,0,30],[1,0,1,30],[78,23,78,25],[81,13,81,21],[3,30,5,30],[3,0,5,0],[3,28,5,28],[4,3,4,11],[80,0,80,2],[3,3,3,4],[78,0,78,2],[76,0,76,2],[3,29,5,29],[3,23,4,27],[3,22,5,22],[4,13,4,21],[3,1,5,1],[3,2,5,2],[75,0,75,2],[3,42,5,42],[3,31,5,31],[3,40,5,40],[3,12,5,12],[3,41,5,41],[3,13,3,14]]}
[{"$f":"Курс1!A1","v":"ГОУ ВПО \"Самарский государственный технический университет\""}]
[{"$f":"Курс1!A2","v":"Рабочий учебный план: Направления 030600 \"Журналистика\" специальности 030602 \"Связи с общественностью\""}]
["Курс 6",null,{"$f":"Курс1!C3","v":"Утвержден: Ректор  ____________  / Калашников В.В. /  \"___\"__________20___ г."},null,null,null,null,null,null,null,null,null,null,null,null,null,null,null,null,null,null,null,null,{"$f":"ТекущийПлан&\".pli\"","v":"030602_65-00-12345-2979.pli"}]
["№","Блок","Дисциплина","Осень(11)",null,"Нед. ТО+, Экз, РП :",null,null,null,{"$f":"Недель11","v":0},{"$f":"Экз6Осень","v":0},{"$f":"IF(isFGOS,CEILING((SUMIF($AT$7:$AT$75,\">0\",L7:L75))/54,1/6),0)","v":0},"Контроль","Весна(12)",null,"Нед. ТО+, Экз, РП :",null,null,null,{"$f":"Недель12","v":0},{"$f":"Экз6Весна","v":0},{"$f":"IF(isFGOS,CEILING((SUMIF($AT$7:$AT$75,\">0\",V7:V75))/54,1/6),0)","v":0},"Контроль","Итого АЧ за год",null,null,null,null,"ЗЕТ",{"$f":"СокрКРЕТИТОВ","v":"Cr ECTS"},"Каф","СРС ID",null,null,null,null,null,null,null,null,"Сем-Сем","ЗЕТ",{"$f":"AD4","v":"Cr ECTS"}]
[null,null,null,{"$f":"ЗаголовокОбъемаРаботы","v":"Объем работы студента в АЧ в семестре"},null,null,null,null,null,null,null,null,null,{"$f":"ЗаголовокОбъемаРаботы","v":"Объем работы студента в АЧ в семестре"}]
[null,null,null,"Лек","Лаб","Пр",{"$f":"КСР","v":"КСР"},"Ауд","СРС","Изуч","Экз","Всего",null,"Лек","Лаб","Пр",{"$f":"КСР","v":"КСР"},"Ауд","СРС","Изуч","Экз","Всего",null,"Ауд","СРС","Изуч","Экз","Всего",null,null,null,null,null,null,null,null,null,null,null,null,null,null,null,null,"Фак"]
[null,null,null,null,null,null,null,{"$f":"SUM(D7:G7)","v":0},null,{"$f":"SUM(H7:I7)","v":0},null,{"$f":"SUM(J7:K7)","v":0},null,null,null,null,null,{"$f":"SUM(N7:Q7)","v":0},null,{"$f":"SUM(R7:S7)","v":0},null,{"$f":"SUM(T7:U7)","v":0},null,{"$f":"H7+R7","v":0},{"$f":"I7+S7","v":0},{"$f":"J7+T7","v":0},{"$f":"K7+U7","v":0},{"$f":"V7+L7","v":0},{"$f":"FLOOR($AB7/IF($AP7>0,$AP7,ЧасовВКредите)+0.001,Точность)","v":0},{"$f":"FLOOR($AQ7,Точность)","v":0},null,null,null,null,null,null,null,null,null,null,{"$f":"$AM7&\"-\"&$AK7","v":"-"},{"$f":"IF($AL7>0,IF(INDIRECT(\"План!FT\"&$AL7)>0,FLOOR(INDIRECT(\"План!H\"&$AL7)/INDIRECT(\"План!FT\"&$AL7),Точность),IF(ЧасовВКредите>0,ЧасовВКредите,36)),0)","v":0},{"$f":"IF($AB$76>0,AB7/$AB$76*$AD$78,0)","v":0},{"$f":"IF(AND($AQ7>0,$AJ7>0),1,0)","v":0},{"$f":"IF(AND(AL7>1145,AL7<1166),1,0)","v":0},{"$f":"IF(AND(AJ7>0,AL7<1144,AL7>917),IF(isFGOS,AB7,0),0)","v":0}]
[null,null,null,null,null,null,null,0,null,0,null,0,null,null,null,null,null,0,null,0,null,0,null,0,0,0,0,0,{"$f":"FLOOR($AB8/IF($AP8>0,$AP8,ЧасовВКредите)+0.001,Точность)","v":0},0,null,null,null,null,null,null,null,null,null,null,{"$f":"$AM8&\"-\"&$AK8","v":"-"},0,0,0,{"$f":"IF(AND(AL8>1145,AL8<1166),1,0)","v":0},0]
[null,null,null,null,null,null,null,0,null,0,null,0,null,null,null,null,null,0,null,0,null,0,null,0,0,0,0,0,{"$f":"FLOOR($AB9/IF($AP9>0,$AP9,ЧасовВКредите)+0.001,Точность)","v":0},0,null,null,null,null,null,null,null,null,null,null,"-",0,0,0,0,0]
[null,null,null,null,null,null,null,0,null,0,null,0,null,null,null,null,null,0,null,0,null,0,null,0,0,0,0,0,{"$f":"FLOOR($AB10/IF($AP10>0,$AP10,ЧасовВКредите)+0.001,Точность)","v":0},0,null,null,null,null,null,null,null,null,null,null,"-",0,0,0,0,0]
[null,null,null,null,null,null,null,0,null,0,null,0,null,null,null,null,null,0,null,0,null,0,null,0,0,0,0,0,{"$f":"FLOOR($AB11/IF($AP11>0,$AP11,ЧасовВКредите)+0.001,Точность)","v":0},0,null,null,null,null,null,null,null,null,null,null,"-",0,0,0,0,0]
[null,null,null,null,null,null,null,0,null,0,null,0,null,null,null,null,null,0,null,0,null,0,null,0,0,0,0,0,{"$f":"FLOOR($AB12/IF($AP12>0,$AP12,ЧасовВКредите)+0.001,Точность)","v":0},0,null,null,null,null,null,null,null,null,null,null,"-",0,0,0,0,0]
[null,null,null,null,null,null,null,0,null,0,null,0,null,null,null,null,null,0,null,0,null,0,null,0,0,0,0,0,{"$f":"FLOOR($AB13/IF($AP13>0,$AP13,ЧасовВКредите)+0.001,Точность)","v":0},0,null,null,null,null,null,null,null,null,null,null,"-",0,0,0,0,0]
[null,null,null,null,null,null,null,0,null,0,null,0,null,null,null,null,null,0,null,0,null,0,null,0,0,0,0,0,{"$f":"FLOOR($AB14/IF($AP14>0,$AP14,ЧасовВКредите)+0.001,Точность)","v":0},0,null,null,null,null,null,null,null,null,null,null,"-",0,0,0,0,0]
[null,null,null,null,null,null,null,0,null,0,null,0,null,null,null,null,null,0,null,0,null,0,null,0,0,0,0,0,{"$f":"FLOOR($AB15/IF($AP15>0,$AP15,ЧасовВКредите)+0.001,Точность)","v":0},0,null,null,null,null,null,null,null,null,null,null,"-",0,0,0,0,0]
[null,null,null,null,null,null,null,0,null,0,null,0,null,null,null,null,null,0,null,0,null,0,null,0,0,0,0,0,{"$f":"FLOOR($AB16/IF($AP16>0,$AP16,ЧасовВКредите)+0.001,Точность)","v":0},0,null,null,null,null,null,null,null,null,null,null,"-",0,0,0,0,0]
[null,null,null,null,null,null,null,0,null,0,null,0,null,null,null,null,null,0,null,0,null,0,null,0,0,0,0,0,{"$f":"FLOOR($AB17/IF($AP17>0,$AP17,ЧасовВКредите)+0.001,Точность)","v":0},0,null,null,null,null,null,null,null,null,null,null,"-",0,0,0,0,0]
[null,null,null,null,null,null,null,0,null,0,null,0,null,null,null,null,null,0,null,0,null,0,null,0,0,0,0,0,{"$f":"FLOOR($AB18/IF($AP18>0,$AP18,ЧасовВКредите)+0.001,Точность)","v":0},0,null,null,null,null,null,null,null,null,null,null,"-",0,0,0,0,0]
[null,null,null,null,null,null,null,0,null,0,null,0,null,null,null,null,null,0,null,0,null,0,null,0,0,0,0,0,{"$f":"FLOOR($AB19/IF($AP19>0,$AP19,ЧасовВКредите)+0.001,Точность)","v":0},0,null,null,null,null,null,null,null,null,null,null,"-",0,0,0,0,0]
[null,null,null,null,null,null,null,0,null,0,null,0,null,null,null,null,null,0,null,0,null,0,null,0,0,0,0,0,{"$f":"FLOOR($AB20/IF($AP20>0,$AP20,ЧасовВКредите)+0.001,Точность)","v":0},0,null,null,null,null,null,null,null,null,null,null,"-",0,0,0,0,0]
[null,null,null,null,null,null,null,0,null,0,null,0,null,null,null,null,null,0,null,0,null,0,null,0,0,0,0,0,{"$f":"FLOOR($AB21/IF($AP21>0,$AP21,ЧасовВКредите)+0.001,Точность)","v":0},0,null,null,null,null,null,null,null,null,null,null,"-",0,0,0,0,0]
[null,null,null,null,null,null,null,0,null,0,null,0,null,null,null,null,null,0,null,0,null,0,null,0,0,0,0,0,{"$f":"FLOOR($AB22/IF($AP22>0,$AP22,ЧасовВКредите)+0.001,Точность)","v":0},0,null,null,null,null,null,null,null,null,null,null,"-",0,0,0,0,0]
[null,null,null,null,null,null,null,0,null,0,null,0,null,null,null,null,null,0,null,0,null,0,null,0,0,0,0,0,{"$f":"FLOOR($AB23/IF($AP23>0,$AP23,ЧасовВКредите)+0.001,Точность)","v":0},0,null,null,null,null,null,null,null,null,null,null,"-",0,0,0,0,0]
[null,null,null,null,null,null,null,0,null,0,null,0,null,null,null,null,null,0,null,0,null,0,null,0,0,0,0,0,{"$f":"FLOOR($AB24/IF($AP24>0,$AP24,ЧасовВКредите)+0.001,Точность)","v":0},0,null,null,null,null,null,null,null,null,null,null,"-",0,0,0,0,0]
[null,null,null,null,null,null,null,0,null,0,null,0,null,null,null,null,null,0,null,0,null,0,null,0,0,0,0,0,{"$f":"FLOOR($AB25/IF($AP25>0,$AP25,ЧасовВКредите)+0.001,Точность)","v":0},0,null,null,null,null,null,null,null,null,null,null,"-",0,0,0,0,0]
[null,null,null,null,null,null,null,0,null,0,null,0,null,null,null,null,null,0,null,0,null,0,null,0,0,0,0,0,{"$f":"FLOOR($AB26/IF($AP26>0,$AP26,ЧасовВКредите)+0.001,Точность)","v":0},0,null,null,null,null,null,null,null,null,null,null,"-",0,0,0,0,0]
[null,null,null,null,null,null,null,0,null,0,null,0,null,null,null,null,null,0,null,0,null,0,null,0,0,0,0,0,{"$f":"FLOOR($AB27/IF($AP27>0,$AP27,ЧасовВКредите)+0.001,Точность)","v":0},0,null,null,null,null,null,null,null,null,null,null,"-",0,0,0,0,0]
[null,null,null,null,null,null,null,0,null,0,null,0,null,null,null,null,null,0,null,0,null,0,null,0,0,0,0,0,{"$f":"FLOOR($AB28/IF($AP28>0,$AP28,ЧасовВКредите)+0.001,Точность)","v":0},0,null,null,null,null,null,null,null,null,null,null,"-",0,0,0,0,0]
[null,null,null,null,null,null,null,0,null,0,null,0,null,null,null,null,null,0,null,0,null,0,null,0,0,0,0,0,{"$f":"FLOOR($AB29/IF($AP29>0,$AP29,ЧасовВКредите)+0.001,Точность)","v":0},0,null,null,null,null,null,null,null,null,null,null,"-",0,0,0,0,0]
[null,null,null,null,null,null,null,0,null,0,null,0,null,null,null,null,null,0,null,0,null,0,null,0,0,0,0,0,{"$f":"FLOOR($AB30/IF($AP30>0,$AP30,ЧасовВКредите)+0.001,Точность)","v":0},0,null,null,null,null,null,null,null,null,null,null,"-",0,0,0,0,0]
[null,null,null,null,null,null,null,0,null,0,null,0,null,null,null,null,null,0,null,0,null,0,null,0,0,0,0,0,{"$f":"FLOOR($AB31/IF($AP31>0,$AP31,ЧасовВКредите)+0.001,Точность)","v":0},0,null,null,null,null,null,null,null,null,null,null,"-",0,0,0,0,0]
[null,null,null,null,null,null,null,0,null,0,null,0,null,null,null,null,null,0,null,0,null,0,null,0,0,0,0,0,{"$f":"FLOOR($AB32/IF($AP32>0,$AP32,ЧасовВКредите)+0.001,Точность)","v":0},0,null,null,null,null,null,null,null,null,null,null,"-",0,0,0,0,0]
[null,null,null,null,null,null,null,0,null,0,null,0,null,null,null,null,null,0,null,0,null,0,null,0,0,0,0,0,{"$f":"FLOOR($AB33/IF($AP33>0,$AP33,ЧасовВКредите)+0.001,Точность)","v":0},0,null,null,null,null,null,null,null,null,null,null,"-",0,0,0,0,0]
[null,null,null,null,null,null,null,0,null,0,null,0,null,null,null,null,null,0,null,0,null,0,null,0,0,0,0,0,{"$f":"FLOOR($AB34/IF($AP34>0,$AP34,ЧасовВКредите)+0.001,Точность)","v":0},0,null,null,null,null,null,null,null,null,null,null,"-",0,0,0,0,0]
[null,null,null,null,null,null,null,0,null,0,null,0,null,null,null,null,null,0,null,0,null,0,null,0,0,0,0,0,{"$f":"FLOOR($AB35/IF($AP35>0,$AP35,ЧасовВКредите)+0.001,Точность)","v":0},0,null,null,null,null,null,null,null,null,null,null,"-",0,0,0,0,0]
[null,null,null,null,null,null,null,0,null,0,null,0,null,null,null,null,null,0,null,0,null,0,null,0,0,0,0,0,{"$f":"FLOOR($AB36/IF($AP36>0,$AP36,ЧасовВКредите)+0.001,Точность)","v":0},0,null,null,null,null,null,null,null,null,null,null,"-",0,0,0,0,0]
[null,null,null,null,null,null,null,0,null,0,null,0,null,null,null,null,null,0,null,0,null,0,null,0,0,0,0,0,{"$f":"FLOOR($AB37/IF($AP37>0,$AP37,ЧасовВКредите)+0.001,Точность)","v":0},0,null,null,null,null,null,null,null,null,null,null,"-",0,0,0,0,0]
[null,null,null,null,null,null,null,0,null,0,null,0,null,null,null,null,null,0,null,0,null,0,null,0,0,0,0,0,{"$f":"FLOOR($AB38/IF($AP38>0,$AP38,ЧасовВКредите)+0.001,Точность)","v":0},0,null,null,null,null,null,null,null,null,null,null,"-",0,0,0,0,0]
[null,null,null,null,null,null,null,0,null,0,null,0,null,null,null,null,null,0,null,0,null,0,null,0,0,0,0,0,{"$f":"FLOOR($AB39/IF($AP39>0,$AP39,ЧасовВКредите)+0.001,Точность)","v":0},{"$f":"FLOOR($AQ39,Точность)","v":0},null,null,null,null,null,null,null,null,null,null,"-",{"$f":"IF($AL39>0,IF(INDIRECT(\"План!FT\"&$AL39)>0,FLOOR(INDIRECT(\"План!H\"&$AL39)/INDIRECT(\"План!FT\"&$AL39),Точность),IF(ЧасовВКредите>0,ЧасовВКредите,36)),0)","v":0},{"$f":"IF($AB$76>0,AB39/$AB$76*$AD$78,0)","v":0},0,0,{"$f":"IF(AND(AJ39>0,AL39<1144,AL39>917),IF(isFGOS,AB39,0),0)","v":0}]
[null,null,null,null,null,null,null,0,null,0,null,0,null,null,null,null,null,0,null,0,null,0,null,0,0,0,0,0,{"$f":"FLOOR($AB40/IF($AP40>0,$AP40,ЧасовВКредите)+0.001,Точность)","v":0},0,null,null,null,null,null,null,null,null,null,null,"-",0,0,0,0,0]
[null,null,null,null,null,null,null,0,null,0,null,0,null,null,null,null,null,0,null,0,null,0,null,0,0,0,0,0,{"$f":"FLOOR($AB41/IF($AP41>0,$AP41,ЧасовВКредите)+0.001,Точность)","v":0},0,null,null,null,null,null,null,null,null,null,null,"-",0,0,0,0,0]
[null,null,null,null,null,null,null,0,null,0,null,0,null,null,null,null,null,0,null,0,null,0,null,0,0,0,0,0,{"$f":"FLOOR($AB42/IF($AP42>0,$AP42,ЧасовВКредите)+0.001,Точность)","v":0},0,null,null,null,null,null,null,null,null,null,null,"-",0,0,0,0,0]
[null,null,null,null,null,null,null,0,null,0,null,0,null,null,null,null,null,0,null,0,null,0,null,0,0,0,0,0,{"$f":"FLOOR($AB43/IF($AP43>0,$AP43,ЧасовВКредите)+0.001,Точность)","v":0},0,null,null,null,null,null,null,null,null,null,null,"-",0,0,0,0,0]
[null,null,null,null,null,null,null,0,null,0,null,0,null,null,null,null,null,0,null,0,null,0,null,0,0,0,0,0,{"$f":"FLOOR($AB44/IF($AP44>0,$AP44,ЧасовВКредите)+0.001,Точность)","v":0},0,null,null,null,null,null,null,null,null,null,null,"-",0,0,0,0,0]
[null,null,null,null,null,null,null,0,null,0,null,0,null,null,null,null,null,0,null,0,null,0,null,0,0,0,0,0,{"$f":"FLOOR($AB45/IF($AP45>0,$AP45,ЧасовВКредите)+0.001,Точность)","v":0},0,null,null,null,null,null,null,null,null,null,null,"-",0,0,0,0,0]
[null,null,null,null,null,null,null,0,null,0,null,0,null,null,null,null,null,0,null,0,null,0,null,0,0,0,0,0,{"$f":"FLOOR($AB46/IF($AP46>0,$AP46,ЧасовВКредите)+0.001,Точность)","v":0},0,null,null,null,null,null,null,null,null,null,null,"-",0,0,0,0,0]
[null,null,null,null,null,null,null,0,null,0,null,0,null,null,null,null,null,0,null,0,null,0,null,0,0,0,0,0,{"$f":"FLOOR($AB47/IF($AP47>0,$AP47,ЧасовВКредите)+0.001,Точность)","v":0},0,null,null,null,null,null,null,null,null,null,null,"-",0,0,0,0,0]
[null,null,null,null,null,null,null,0,null,0,null,0,null,null,null,null,null,0,null,0,null,0,null,0,0,0,0,0,{"$f":"FLOOR($AB48/IF($AP48>0,$AP48,ЧасовВКредите)+0.001,Точность)","v":0},0,null,null,null,null,null,null,null,null,null,null,"-",0,0,0,0,0]
[null,null,null,null,null,null,null,0,null,0,null,0,null,null,null,null,null,0,null,0,null,0,null,0,0,0,0,0,{"$f":"FLOOR($AB49/IF($AP49>0,$AP49,ЧасовВКредите)+0.001,Точность)","v":0},0,null,null,null,null,null,null,null,null,null,null,"-",0,0,0,0,0]
[null,null,null,null,null,null,null,0,null,0,null,0,null,null,null,null,null,0,null,0,null,0,null,0,0,0,0,0,{"$f":"FLOOR($AB50/IF($AP50>0,$AP50,ЧасовВКредите)+0.001,Точность)","v":0},0,null,null,null,null,null,null,null,null,null,null,"-",0,0,0,0,0]
[null,null,null,null,null,null,null,0,null,0,null,0,null,null,null,null,null,0,null,0,null,0,null,0,0,0,0,0,{"$f":"FLOOR($AB51/IF($AP51>0,$AP51,ЧасовВКредите)+0.001,Точность)","v":0},0,null,null,null,null,null,null,null,null,null,null,"-",0,0,0,0,0]
[null,null,null,null,null,null,null,0,null,0,null,0,null,null,null,null,null,0,null,0,null,0,null,0,0,0,0,0,{"$f":"FLOOR($AB52/IF($AP52>0,$AP52,ЧасовВКредите)+0.001,Точность)","v":0},0,null,null,null,null,null,null,null,null,null,null,"-",0,0,0,0,0]
[null,null,null,null,null,null,null,{"$f":"SUM(D53:G53)","v":0},null,{"$f":"SUM(H53:I53)","v":0},null,{"$f":"SUM(J53:K53)","v":0},null,null,null,null,null,{"$f":"SUM(N53:Q53)","v":0},null,{"$f":"SUM(R53:S53)","v":0},null,{"$f":"SUM(T53:U53)","v":0},null,{"$f":"H53+R53","v":0},{"$f":"I53+S53","v":0},{"$f":"J53+T53","v":0},{"$f":"K53+U53","v":0},{"$f":"V53+L53","v":0},{"$f":"FLOOR($AB53/IF($AP53>0,$AP53,ЧасовВКредите)+0.001,Точность)","v":0},0,null,null,null,null,null,null,null,null,null,null,"-",0,0,0,0,0]
[null,null,null,null,null,null,null,0,null,0,null,0,null,null,null,null,null,0,null,0,null,0,null,0,0,0,0,0,{"$f":"FLOOR($AB54/IF($AP54>0,$AP54,ЧасовВКредите)+0.001,Точность)","v":0},0,null,null,null,null,null,null,null,null,null,null,"-",0,0,0,0,0]
[null,null,null,null,null,null,null,0,null,0,null,0,null,null,null,null,null,0,null,0,null,0,null,0,0,0,0,0,{"$f":"FLOOR($AB55/IF($AP55>0,$AP55,ЧасовВКредите)+0.001,Точность)","v":0},0,null,null,null,null,null,null,null,null,null,null,"-",0,0,0,0,0]
[null,null,null,null,null,null,null,0,null,0,null,0,null,null,null,null,null,0,null,0,null,0,null,0,0,0,0,0,{"$f":"FLOOR($AB56/IF($AP56>0,$AP56,ЧасовВКредите)+0.001,Точность)","v":0},0,null,null,null,null,null,null,null,null,null,null,"-",0,0,0,0,0]
[null,null,null,null,null,null,null,0,null,0,null,0,null,null,null,null,null,0,null,0,null,0,null,0,0,0,0,0,{"$f":"FLOOR($AB57/IF($AP57>0,$AP57,ЧасовВКредите)+0.001,Точность)","v":0},0,null,null,null,null,null,null,null,null,null,null,"-",0,0,0,0,0]
[null,null,null,null,null,null,null,0,null,0,null,0,null,null,null,null,null,0,null,0,null,0,null,0,0,0,0,0,{"$f":"FLOOR($AB58/IF($AP58>0,$AP58,ЧасовВКредите)+0.001,Точность)","v":0},0,null,null,null,null,null,null,null,null,null,null,"-",0,0,0,0,0]
[null,null,null,null,null,null,null,0,null,0,null,0,null,null,null,null,null,0,null,0,null,0,null,0,0,0,0,0,{"$f":"FLOOR($AB59/IF($AP59>0,$AP59,ЧасовВКредите)+0.001,Точность)","v":0},0,null,null,null,null,null,null,null,null,null,null,"-",0,0,0,0,0]
[null,null,null,null,null,null,null,0,null,0,null,0,null,null,null,null,null,0,null,0,null,0,null,0,0,0,0,0,{"$f":"FLOOR($AB60/IF($AP60>0,$AP60,ЧасовВКредите)+0.001,Точность)","v":0},0,null,null,null,null,null,null,null,null,null,null,"-",0,0,0,0,0]
[null,null,null,null,null,null,null,0,null,0,null,0,null,null,null,null,null,0,null,0,null,0,null,0,0,0,0,0,{"$f":"FLOOR($AB61/IF($AP61>0,$AP61,ЧасовВКредите)+0.001,Точность)","v":0},0,null,null,null,null,null,null,null,null,null,null,"-",0,0,0,0,0]
[null,null,null,null,null,null,null,0,null,0,null,0,null,null,null,null,null,0,null,0,null,0,null,0,0,0,0,0,{"$f":"FLOOR($AB62/IF($AP62>0,$AP62,ЧасовВКредите)+0.001,Точность)","v":0},0,null,null,null,null,null,null,null,null,null,null,"-",0,0,0,0,0]
[null,null,null,null,null,null,null,0,null,0,null,0,null,null,null,null,null,0,null,0,null,0,null,0,0,0,0,0,{"$f":"FLOOR($AB63/IF($AP63>0,$AP63,ЧасовВКредите)+0.001,Точность)","v":0},0,null,null,null,null,null,null,null,null,null,null,"-",0,0,0,0,0]
[null,null,null,null,null,null,null,0,null,0,null,0,null,null,null,null,null,0,null,0,null,0,null,0,0,0,0,0,{"$f":"FLOOR($AB64/IF($AP64>0,$AP64,ЧасовВКредите)+0.001,Точность)","v":0},0,null,null,null,null,null,null,null,null,null,null,"-",0,0,0,0,0]
[null,null,null,null,null,null,null,0,null,0,null,0,null,null,null,null,null,0,null,0,null,0,null,0,0,0,0,0,{"$f":"FLOOR($AB65/IF($AP65>0,$AP65,ЧасовВКредите)+0.001,Точность)","v":0},0,null,null,null,null,null,null,null,null,null,null,"-",0,0,0,0,0]
[null,null,null,null,null,null,null,0,null,0,null,0,null,null,null,null,null,0,null,0,null,0,null,0,0,0,0,0,{"$f":"FLOOR($AB66/IF($AP66>0,$AP66,ЧасовВКредите)+0.001,Точность)","v":0},0,null,null,null,null,null,null,null,null,null,null,"-",0,0,0,0,0]
[null,null,null,null,null,null,null,0,null,0,null,0,null,null,null,null,null,0,null,0,null,0,null,0,0,0,0,0,{"$f":"FLOOR($AB67/IF($AP67>0,$AP67,ЧасовВКредите)+0.001,Точность)","v":0},0,null,null,null,null,null,null,null,null,null,null,"-",0,0,0,0,0]
[null,null,null,null,null,null,null,0,null,0,null,0,null,null,null,null,null,0,null,0,null,0,null,0,0,0,0,0,{"$f":"FLOOR($AB68/IF($AP68>0,$AP68,ЧасовВКредите)+0.001,Точность)","v":0},0,null,null,null,null,null,null,null,null,null,null,"-",0,0,0,0,0]
[null,null,null,null,null,null,null,0,null,0,null,0,null,null,null,null,null,0,null,0,null,0,null,0,0,0,0,0,{"$f":"FLOOR($AB69/IF($AP69>0,$AP69,ЧасовВКредите)+0.001,Точность)","v":0},0,null,null,null,null,null,null,null,null,null,null,"-",0,0,0,0,0]
[null,null,null,null,null,null,null,0,null,0,null,0,null,null,null,null,null,0,null,0,null,0,null,0,0,0,0,0,{"$f":"FLOOR($AB70/IF($AP70>0,$AP70,ЧасовВКредите)+0.001,Точность)","v":0},0,null,null,null,null,null,null,null,null,null,null,"-",0,0,0,0,0]
[null,null,null,null,null,null,null,0,null,0,null,0,null,null,null,null,null,0,null,0,null,0,null,0,0,0,0,0,{"$f":"FLOOR($AB71/IF($AP71>0,$AP71,ЧасовВКредите)+0.001,Точность)","v":0},0,null,null,null,null,null,null,null,null,null,null,"-",0,0,0,0,0]
[null,null,null,null,null,null,null,0,null,0,null,0,null,null,null,null,null,0,null,0,null,0,null,0,0,0,0,0,{"$f":"FLOOR($AB72/IF($AP72>0,$AP72,ЧасовВКредите)+0.001,Точность)","v":0},0,null,null,null,null,null,null,null,null,null,null,"-",0,0,0,{"$f":"IF(AND(AL72>1145,AL72<1166),1,0)","v":0},0]
[null,null,null,null,null,null,null,0,null,0,null,0,null,null,null,null,null,0,null,0,null,0,null,0,0,0,0,0,{"$f":"FLOOR($AB73/IF($AP73>0,$AP73,ЧасовВКредите)+0.001,Точность)","v":0},0,null,null,null,null,null,null,null,null,null,null,"-",0,0,0,0,0]
[null,null,null,null,null,null,null,0,null,0,null,0,null,null,null,null,null,0,null,0,null,0,null,0,0,0,0,0,{"$f":"FLOOR($AB74/IF($AP74>0,$AP74,ЧасовВКредите)+0.001,Точность)","v":0},0,null,null,null,null,null,null,null,null,null,null,"-",0,0,0,0,0]
[null,null,null,null,null,null,null,0,null,0,null,0,null,null,null,null,null,0,null,0,null,0,null,0,0,0,0,0,{"$f":"FLOOR($AB75/IF($AP75>0,$AP75,ЧасовВКредите)+0.001,Точность)","v":0},0,null,null,null,null,null,null,null,null,null,null,"-",0,0,0,0,0]
["Всего АЧ",null,null,{"$f":"SUMIF($AJ$7:$AJ$75,\"=1\",D7:D75)-SUMIF($AT$7:$AT$75,\">0\",D7:D75)","v":0},0,0,0,0,0,{"$f":"SUMIF($AJ$7:$AJ$75,\"=1\",J7:J75)-SUMIF($AT$7:$AT$75,\">0\",J7:J75)","v":0},0,0,null,{"$f":"SUMIF($AJ$7:$AJ$75,\"=1\",N7:N75)-SUMIF($AT$7:$AT$75,\">0\",N7:N75)","v":0},0,0,0,0,0,0,0,0,null,{"$f":"SUMIF($AJ$7:$AJ$75,\"=1\",X7:X75)-SUMIF($AT$7:$AT$75,\">0\",X7:X75)","v":0},{"$f":"SUMIF($AJ$7:$AJ$75,\"=1\",Y7:Y75)-SUMIF($AT$7:$AT$75,\">0\",Y7:Y75)","v":0},{"$f":"SUMIF($AJ$7:$AJ$75,\"=1\",Z7:Z75)-SUMIF($AT$7:$AT$75,\">0\",Z7:Z75)","v":0},{"$f":"SUMIF($AJ$7:$AJ$75,\"=1\",AA7:AA75)-SUMIF($AT$7:$AT$75,\">0\",AA7:AA75)","v":0},{"$f":"SUMIF($AJ$7:$AJ$75,\"=1\",AB7:AB75)-SUMIF($AT$7:$AT$75,\">0\",AB7:AB75)","v":0},0,0,null,0,null,null,null,null,null,null,null,null,0,null,{"$f":"SUMIF($AJ$7:$AJ$75,\"=1\",AQ7:AQ75)","v":0},null,null,{"$f":"SUM(AT7:AT75)","v":0}]
["АЧ/Нед",null,null,{"$f":"IF(ABS($J$4-$L$4)>0.1,ROUND(D76/($J$4-$L$4),0),0)","v":0},0,0,0,0,0,{"$f":"IF(ABS($J$4-$L$4)>0.1,CEILING(J76/($J$4-$L$4)-0.001,0.1),0)","v":0},{"$f":"IF(ABS(K76-K78)<0.01,\"=\",IF(K76<K78,\"<\",\">\"))","v":"="},{"$f":"IF(ABS(L76-L78)<0.01,\"=\",IF(L76<L78,\"<\",\">\"))","v":"="},null,{"$f":"IF(ABS($T$4-$V$4)>0.1,ROUND(N76/($T$4-$V$4),0),0)","v":0},0,0,0,0,0,{"$f":"IF(ABS($T$4-$V$4)>0.1,CEILING(T76/($T$4-$V$4)-0.001,0.1),0)","v":0},{"$f":"IF(ABS(U76-U78)<0.01,\"=\",IF(U76<U78,\"<\",\">\"))","v":"="},"=",null,null,null,{"$f":"IF(ABS(Z76-Z78)<0.01,\"=\",IF(Z76<Z78,\"<\",\">\"))","v":"="},"=","=","=","=",null,0,null,null,null,null,null,null,null,null,0]
["Всего АЧ/Нед /в том числе физической культуры",null,null,{"$f":"SUM(D77:F77)","v":0},{"$f":"\"/\"","v":"/"},{"$f":"IF($J$4-$L$4>0,(SUMIF(AG7:AG75,\"=1\",D7:D75)+SUMIF(AG7:AG75,\"=1\",E7:E75)+SUMIF(AG7:AG75,\"=1\",F7:F75)+SUMIF(AG7:AG75,\"=1\",G7:G75))/($J$4-$L$4),0)","v":0},null,{"$f":"IF(I78<>0,\"D=\",\"\")","v":""},{"$f":"IF(J78*($J$4-$L$4)-J76<0.001,0,J78*($J$4-$L$4)-J76)","v":0},{"$f":"IF($J$4-$L$4>0,54,0)","v":0},{"$f":"K4*54","v":0},{"$f":"J78*($J$4-$L$4)+K78","v":0},null,{"$f":"SUM(N77:P77)","v":0},{"$f":"\"/\"","v":"/"},{"$f":"IF($T$4-$V$4>0,(SUMIF(AG7:AG75,\"=1\",N7:N75)+SUMIF(AG7:AG75,\"=1\",O7:O75)+SUMIF(AG7:AG75,\"=1\",P7:P75)+SUMIF(AG7:AG75,\"=1\",Q7:Q75))/($T$4-$V$4),0)","v":0},null,{"$f":"IF(S78<>0,\"D=\",\"\")","v":""},{"$f":"IF(T78*($T$4-$V$4)-T76<0.001,0,T78*($T$4-$V$4)-T76)","v":0},{"$f":"IF($T$4-$V$4>0,54,0)","v":0},{"$f":"U4*54","v":0},{"$f":"T78*($T$4-$V$4)+U78","v":0},null,null,null,{"$f":"(J4+T4-L4-V4)*IF(J78>0,J78,T78)","v":0},{"$f":"U78+K78","v":0},{"$f":"V78+L78","v":0},{"$f":"(J4+K4-L4+T4+U4-V4)*КредитовВНеделе","v":0},{"$f":"IF(J4-L4>0,КредитовНаГод/2,0)+IF(T4-V4>0,КредитовНаГод/2,0)","v":0},null,0,null,null,null,null,null,null,null,null,0]
["Должно быть АЧ/Нед до",null,null,null,null,null,null,null,null,null,null,null,null,null,null,null,null,null,null,null,null,null,null,"Должно быть до"]
["Должно быть АЧ на экзамены"]
["Предельное количество АЧ"]
["Экзаменов",null,null,{"$f":"Экз11","v":0},null,null,null,null,null,null,null,null,null,{"$f":"Экз12","v":0},null,null,null,null,null,null,null,null,null,"Должно быть ЗЕТ",null,null,null,null,null,null,null,0,null,null,null,null,null,null,null,null,0]
["Зачетов",null,null,{"$f":"Зач11","v":0},null,null,null,null,null,null,null,null,null,{"$f":"Зач12","v":0},null,null,null,null,null,null,null,null,null,{"$f":"\"Должно быть \"&СокрКРЕТИТОВ","v":"Должно быть Cr ECTS"},null,null,null,null,null,null,null,0,null,null,null,null,null,null,null,null,0]
["Курсовых проектов, к, р, э, г, о",null,null,{"$f":"КП11","v":0},null,null,null,null,null,null,null,null,null,{"$f":"КП12","v":0},null,null,null,null,null,null,null,null,null,"Оценка планирования:",null,null,null,null,null,null,null,0,null,null,null,null,null,null,null,null,0]
["Курсовых работ",null,null,{"$f":"КР11","v":0},null,null,null,null,null,null,null,null,null,{"$f":"КР12","v":0},null,null,null,null,null,null,null,null,null,{"$f":"IF(AB76>AB78*0.5,IF(AND(J77<=J78+0.01,K76<=K78+0.01,L76<=L78+0.01,T77<=T78+0.01,U76<=U78+0.01,V76<=V78+0.01,Z76<=Z78+0.01,AC76<=AC78+0.01,D82+N82<=IF(ПерезачтеноВсего>0,10.01,20.01),IF(isFGOS,D83+N83<=12.01,D82+D83+N82+N83<=IF(ПерезачтеноВсего>0,22.01,32.01)),IF(isFGOS,ABS(D87-IF(Нормы!C27>0,Нормы!C27,60))<0.01,TRUE)),\"Отлично\",IF(OR(IF(isFGOS,D87<IF(Нормы!C27>0,Нормы!C27,60)-0.01,FALSE),J77-0.01>J78,K77=\">\",L77=\">\",T77-0.01>T78,U77=\">\",V77=\">\",Z77=\">\"),\"Неудовлетворительно\",\"Удовлетворительно\")),\"Нет (мало АЧ)\")","v":"Нет (мало АЧ)"},null,null,null,null,null,null,null,0,null,null,null,null,null,null,null,null,0]
["Всего за учебный год",null,null,"Недель ТО",null,null,{"$f":"J4+T4","v":0},null,"Недель на экзамены",null,null,null,{"$f":"K4+U4","v":0},null,null,null,null,null,null,null,null,null,null,null,null,null,"Нед","АЧ","ЗЕТ",{"$f":"СокрКРЕТИТОВ","v":"Cr ECTS"},null,0,null,null,null,null,null,null,null,null,0]
["ЗЕТ за курс без Факультативов / Факультативы",null,null,{"$f":"AC76+AC91-E87","v":0},{"$f":"SUMIF(AS7:AS75,\"=1\",AC7:AC75)","v":0},null,null,null,null,null,null,null,null,null,null,null,null,null,"Итоговая аттестация (дисциплины) (А)",null,null,null,null,null,null,null,{"$f":"Титул!BF62","v":0},{"$f":"FLOOR(AA87*54+0.001,0.01)","v":0},{"$f":"FLOOR(AA87*КредитовВНеделе+0.001,ТочностьН)","v":0},{"$f":"FLOOR(AA87*КредитовНаГод/40,ТочностьН)","v":0},null,0,null,null,null,null,null,null,null,null,0]
[{"$f":"СокрКРЕТИТОВ&\" за курс\"","v":"Cr ECTS за курс"},null,null,{"$f":"AD76+AD91","v":0},null,null,null,null,null,null,null,null,null,null,null,null,null,null,"Практики (У,П) + распределенная",null,null,null,null,null,null,null,{"$f":"Практики!AO68+AT76/54","v":0},{"$f":"FLOOR(Практики!Y68*IF(ЧасовВКредите>0,ЧасовВКредите,36)+AT76+0.001,0.01)","v":0},{"$f":"Практики!Y68+FLOOR(IF(ЧасовВКредите>0,AT76/ЧасовВКредите,AT76/36)+0.001,ТочностьН)","v":0},{"$f":"FLOOR(AA88*КредитовНаГод/40,ТочностьН)","v":0},null,0,null,null,null,null,null,null,null,null,0]
["Обозначения:",null,null,"Э-экзамен",null,null,"З-зачет",null,null,"Р-курсовая работа",null,null,null,"П-курсовой проект",null,null,null,null,"Дипломная работа (проект) (Д)",null,null,null,null,null,null,null,{"$f":"Титул!BI62","v":0},{"$f":"FLOOR(AA89*54+0.001,0.01)","v":0},{"$f":"FLOOR(AA89*КредитовВНеделе+0.001,ТочностьН)","v":0},{"$f":"FLOOR(AA89*КредитовНаГод/40,ТочностьН)","v":0},null,0,null,null,null,null,null,null,null,null,0]
[null,null,null,{"$f":"Курс1!D90","v":"АЧ-академических часов"},null,null,null,null,null,"ЗЕТ-зачетных единиц трудоемкости",null,null,null,null,null,null,null,null,"Государственные экзамены (ИГА) (Г)",null,null,null,null,null,null,null,{"$f":"Титул!BJ62","v":0},{"$f":"FLOOR(AA90*54+0.001,0.01)","v":0},{"$f":"FLOOR(AA90*КредитовВНеделе+0.001,ТочностьН)","v":0},{"$f":"FLOOR(AA90*КредитовНаГод/40,ТочностьН)","v":0},null,0,null,null,null,null,null,null,null,null,0]
[null,null,null,"ИГА-Итоговая государственная аттестация",null,null,null,null,null,null,null,null,null,null,null,null,null,null,null,null,null,null,null,null,"Итого",null,{"$f":"SUM(AA87:AA90)","v":0},{"$f":"SUM(AB87:AB90)","v":0},{"$f":"SUM(AC87:AC90)","v":0},{"$f":"SUM(AD87:AD90)","v":0},null,0,null,null,null,null,null,null,null,null,0]
[null,null,null,"РП - распределенная практика и НИР,",null,null,null,null,null,null,null,"контрольные работы (к), рефераты (р), эссе (э), расчетно-графические работы (г), оцека (о)"]

{"sheet":"Курс7","index":12,"n_rows":92,"n_cols":46,"rows_kept":92,"cut":false,"hidden":false,"merged":[[76,0,76,2],[0,0,0,30],[1,0,1,30],[3,0,5,0],[3,1,5,1],[3,2,5,2],[3,29,5,29],[3,3,3,4],[4,3,4,11],[3,12,5,12],[3,30,5,30],[81,3,81,11],[77,0,77,2],[80,0,80,2],[81,0,81,2],[78,0,78,2],[90,24,90,25],[86,18,86,25],[87,18,87,25],[89,18,89,25],[88,18,88,25],[82,0,82,2],[3,41,5,41],[3,22,5,22],[85,0,85,2],[83,0,83,2],[79,0,79,2],[82,3,82,11],[83,23,83,29],[82,13,82,21],[84,13,84,21],[83,13,83,21],[84,3,84,11],[84,23,84,29],[75,0,75,2],[78,23,78,25],[81,13,81,21],[3,42,5,42],[3,31,5,31],[4,13,4,21],[3,13,3,14],[3,40,5,40],[3,28,5,28],[3,23,4,27],[84,0,84,2],[83,3,83,11],[88,0,90,2],[86,0,86,2],[87,0,87,2]]}
[{"$f":"Курс1!A1","v":"ГОУ ВПО \"Самарский государственный технический университет\""}]
[{"$f":"Курс1!A2","v":"Рабочий учебный план: Направления 030600 \"Журналистика\" специальности 030602 \"Связи с общественностью\""}]
["Курс 7",null,{"$f":"Курс1!C3","v":"Утвержден: Ректор  ____________  / Калашников В.В. /  \"___\"__________20___ г."},null,null,null,null,null,null,null,null,null,null,null,null,null,null,null,null,null,null,null,null,{"$f":"ТекущийПлан&\".pli\"","v":"030602_65-00-12345-2979.pli"}]
["№","Блок","Дисциплина","Осень(13)",null,"Нед. ТО+, Экз, РП :",null,null,null,{"$f":"Недель13","v":0},{"$f":"Экз7Осень","v":0},{"$f":"IF(isFGOS,CEILING((SUMIF($AT$7:$AT$75,\">0\",L7:L75))/54,1/6),0)","v":0},"Контроль","Весна(14)",null,"Нед. ТО+, Экз, РП :",null,null,null,{"$f":"Недель14","v":0},{"$f":"Экз7Весна","v":0},{"$f":"IF(isFGOS,CEILING((SUMIF($AT$7:$AT$75,\">0\",V7:V75))/54,1/6),0)","v":0},"Контроль","Итого АЧ за год",null,null,null,null,"ЗЕТ",{"$f":"СокрКРЕТИТОВ","v":"Cr ECTS"},"Каф","СРС ID",null,null,null,null,null,null,null,null,"Сем-Сем","ЗЕТ",{"$f":"AD4","v":"Cr ECTS"}]
[null,null,null,{"$f":"ЗаголовокОбъемаРаботы","v":"Объем работы студента в АЧ в семестре"},null,null,null,null,null,null,null,null,null,{"$f":"ЗаголовокОбъемаРаботы","v":"Объем работы студента в АЧ в семестре"}]
[null,null,null,"Лек","Лаб","Пр",{"$f":"КСР","v":"КСР"},"Ауд","СРС","Изуч","Экз","Всего",null,"Лек","Лаб","Пр",{"$f":"КСР","v":"КСР"},"Ауд","СРС","Изуч","Экз","Всего",null,"Ауд","СРС","Изуч","Экз","Всего",null,null,null,null,null,null,null,null,null,null,null,"Накоплено СРС",null,null,null,null,"Фак"]
[null,null,null,null,null,null,null,{"$f":"SUM(D7:G7)","v":0},null,{"$f":"SUM(H7:I7)","v":0},null,{"$f":"SUM(J7:K7)","v":0},null,null,null,null,null,{"$f":"SUM(N7:Q7)","v":0},null,{"$f":"SUM(R7:S7)","v":0},null,{"$f":"SUM(T7:U7)","v":0},null,{"$f":"H7+R7","v":0},0,0,0,{"$f":"V7+L7","v":0},{"$f":"FLOOR($AB7/IF($AP7>0,$AP7,ЧасовВКредите)+0.001,Точность)","v":0},{"$f":"FLOOR($AQ7,Точность)","v":0},null,null,null,null,null,null,null,null,null,{"$f":"Курс1!I7+Курс1!S7+Курс2!I7+Курс2!S7+Курс3!I7+Курс3!S7+Курс4!I7+Курс4!S7+Курс5!I7+Курс5!S7+Курс6!I7+Курс6!S7","v":292},{"$f":"$AM7&\"-\"&$AK7","v":"-"},{"$f":"IF($AL7>0,IF(INDIRECT(\"План!FT\"&$AL7)>0,FLOOR(INDIRECT(\"План!H\"&$AL7)/INDIRECT(\"План!FT\"&$AL7),Точность),IF(ЧасовВКредите>0,ЧасовВКредите,36)),0)","v":0},{"$f":"IF($AB$76>0,AB7/$AB$76*$AD$78,0)","v":0},{"$f":"IF(AND($AQ7>0,$AJ7>0),1,0)","v":0},{"$f":"IF(AND(AL7>1145,AL7<1166),1,0)","v":0},{"$f":"IF(AND(AJ7>0,AL7<1144,AL7>917),IF(isFGOS,AB7,0),0)","v":0}]
[null,null,null,null,null,null,null,0,null,0,null,0,null,null,null,null,null,0,null,0,null,0,null,0,0,0,0,0,{"$f":"FLOOR($AB8/IF($AP8>0,$AP8,ЧасовВКредите)+0.001,Точность)","v":0},0,null,null,null,null,null,null,null,null,null,{"$f":"Курс1!I8+Курс1!S8+Курс2!I8+Курс2!S8+Курс3!I8+Курс3!S8+Курс4!I8+Курс4!S8+Курс5!I8+Курс5!S8+Курс6!I8+Курс6!S8","v":336},{"$f":"$AM8&\"-\"&$AK8","v":"-"},0,0,0,{"$f":"IF(AND(AL8>1145,AL8<1166),1,0)","v":0},0]
[null,null,null,null,null,null,null,0,null,0,null,0,null,null,null,null,null,0,null,0,null,0,null,0,0,0,0,0,{"$f":"FLOOR($AB9/IF($AP9>0,$AP9,ЧасовВКредите)+0.001,Точность)","v":0},0,null,null,null,null,null,null,null,null,null,{"$f":"Курс1!I9+Курс1!S9+Курс2!I9+Курс2!S9+Курс3!I9+Курс3!S9+Курс4!I9+Курс4!S9+Курс5!I9+Курс5!S9+Курс6!I9+Курс6!S9","v":368},"-",0,0,0,0,0]
[null,null,null,null,null,null,null,0,null,0,null,0,null,null,null,null,null,0,null,0,null,0,null,0,0,0,0,0,{"$f":"FLOOR($AB10/IF($AP10>0,$AP10,ЧасовВКредите)+0.001,Точность)","v":0},0,null,null,null,null,null,null,null,null,null,{"$f":"Курс1!I10+Курс1!S10+Курс2!I10+Курс2!S10+Курс3!I10+Курс3!S10+Курс4!I10+Курс4!S10+Курс5!I10+Курс5!S10+Курс6!I10+Курс6!S10","v":350},"-",0,0,0,0,0]
[null,null,null,null,null,null,null,0,null,0,null,0,null,null,null,null,null,0,null,0,null,0,null,0,0,0,0,0,{"$f":"FLOOR($AB11/IF($AP11>0,$AP11,ЧасовВКредите)+0.001,Точность)","v":0},0,null,null,null,null,null,null,null,null,null,{"$f":"Курс1!I11+Курс1!S11+Курс2!I11+Курс2!S11+Курс3!I11+Курс3!S11+Курс4!I11+Курс4!S11+Курс5!I11+Курс5!S11+Курс6!I11+Курс6!S11","v":472},"-",0,0,0,0,0]
[null,null,null,null,null,null,null,0,null,0,null,0,null,null,null,null,null,0,null,0,null,0,null,0,0,0,0,0,{"$f":"FLOOR($AB12/IF($AP12>0,$AP12,ЧасовВКредите)+0.001,Точность)","v":0},0,null,null,null,null,null,null,null,null,null,{"$f":"Курс1!I12+Курс1!S12+Курс2!I12+Курс2!S12+Курс3!I12+Курс3!S12+Курс4!I12+Курс4!S12+Курс5!I12+Курс5!S12+Курс6!I12+Курс6!S12","v":162},"-",0,0,0,0,0]
[null,null,null,null,null,null,null,0,null,0,null,0,null,null,null,null,null,0,null,0,null,0,null,0,0,0,0,0,{"$f":"FLOOR($AB13/IF($AP13>0,$AP13,ЧасовВКредите)+0.001,Точность)","v":0},0,null,null,null,null,null,null,null,null,null,{"$f":"Курс1!I13+Курс1!S13+Курс2!I13+Курс2!S13+Курс3!I13+Курс3!S13+Курс4!I13+Курс4!S13+Курс5!I13+Курс5!S13+Курс6!I13+Курс6!S13","v":418},"-",0,0,0,0,0]
[null,null,null,null,null,null,null,0,null,0,null,0,null,null,null,null,null,0,null,0,null,0,null,0,0,0,0,0,{"$f":"FLOOR($AB14/IF($AP14>0,$AP14,ЧасовВКредите)+0.001,Точность)","v":0},0,null,null,null,null,null,null,null,null,null,{"$f":"Курс1!I14+Курс1!S14+Курс2!I14+Курс2!S14+Курс3!I14+Курс3!S14+Курс4!I14+Курс4!S14+Курс5!I14+Курс5!S14+Курс6!I14+Курс6!S14","v":464},"-",0,0,0,0,0]
[null,null,null,null,null,null,null,0,null,0,null,0,null,null,null,null,null,0,null,0,null,0,null,0,0,0,0,0,{"$f":"FLOOR($AB15/IF($AP15>0,$AP15,ЧасовВКредите)+0.001,Точность)","v":0},0,null,null,null,null,null,null,null,null,null,{"$f":"Курс1!I15+Курс1!S15+Курс2!I15+Курс2!S15+Курс3!I15+Курс3!S15+Курс4!I15+Курс4!S15+Курс5!I15+Курс5!S15+Курс6!I15+Курс6!S15","v":128},"-",0,0,0,0,0]
[null,null,null,null,null,null,null,0,null,0,null,0,null,null,null,null,null,0,null,0,null,0,null,0,0,0,0,0,{"$f":"FLOOR($AB16/IF($AP16>0,$AP16,ЧасовВКредите)+0.001,Точность)","v":0},0,null,null,null,null,null,null,null,null,null,{"$f":"Курс1!I16+Курс1!S16+Курс2!I16+Курс2!S16+Курс3!I16+Курс3!S16+Курс4!I16+Курс4!S16+Курс5!I16+Курс5!S16+Курс6!I16+Курс6!S16","v":312},"-",0,0,0,0,0]
[null,null,null,null,null,null,null,0,null,0,null,0,null,null,null,null,null,0,null,0,null,0,null,0,0,0,0,0,{"$f":"FLOOR($AB17/IF($AP17>0,$AP17,ЧасовВКредите)+0.001,Точность)","v":0},0,null,null,null,null,null,null,null,null,null,{"$f":"Курс1!I17+Курс1!S17+Курс2!I17+Курс2!S17+Курс3!I17+Курс3!S17+Курс4!I17+Курс4!S17+Курс5!I17+Курс5!S17+Курс6!I17+Курс6!S17","v":206},"-",0,0,0,0,0]
[null,null,null,null,null,null,null,0,null,0,null,0,null,null,null,null,null,0,null,0,null,0,null,0,0,0,0,0,{"$f":"FLOOR($AB18/IF($AP18>0,$AP18,ЧасовВКредите)+0.001,Точность)","v":0},0,null,null,null,null,null,null,null,null,null,{"$f":"Курс1!I18+Курс1!S18+Курс2!I18+Курс2!S18+Курс3!I18+Курс3!S18+Курс4!I18+Курс4!S18+Курс5!I18+Курс5!S18+Курс6!I18+Курс6!S18","v":307},"-",0,0,0,0,0]
[null,null,null,null,null,null,null,0,null,0,null,0,null,null,null,null,null,0,null,0,null,0,null,0,0,0,0,0,{"$f":"FLOOR($AB19/IF($AP19>0,$AP19,ЧасовВКредите)+0.001,Точность)","v":0},0,null,null,null,null,null,null,null,null,null,{"$f":"Курс1!I19+Курс1!S19+Курс2!I19+Курс2!S19+Курс3!I19+Курс3!S19+Курс4!I19+Курс4!S19+Курс5!I19+Курс5!S19+Курс6!I19+Курс6!S19","v":136},"-",0,0,0,0,0]
[null,null,null,null,null,null,null,0,null,0,null,0,null,null,null,null,null,0,null,0,null,0,null,0,0,0,0,0,{"$f":"FLOOR($AB20/IF($AP20>0,$AP20,ЧасовВКредите)+0.001,Точность)","v":0},0,null,null,null,null,null,null,null,null,null,{"$f":"Курс1!I20+Курс1!S20+Курс2!I20+Курс2!S20+Курс3!I20+Курс3!S20+Курс4!I20+Курс4!S20+Курс5!I20+Курс5!S20+Курс6!I20+Курс6!S20","v":64},"-",0,0,0,0,0]
[null,null,null,null,null,null,null,0,null,0,null,0,null,null,null,null,null,0,null,0,null,0,null,0,0,0,0,0,{"$f":"FLOOR($AB21/IF($AP21>0,$AP21,ЧасовВКредите)+0.001,Точность)","v":0},0,null,null,null,null,null,null,null,null,null,{"$f":"Курс1!I21+Курс1!S21+Курс2!I21+Курс2!S21+Курс3!I21+Курс3!S21+Курс4!I21+Курс4!S21+Курс5!I21+Курс5!S21+Курс6!I21+Курс6!S21","v":124},"-",0,0,0,0,0]
[null,null,null,null,null,null,null,0,null,0,null,0,null,null,null,null,null,0,null,0,null,0,null,0,0,0,0,0,{"$f":"FLOOR($AB22/IF($AP22>0,$AP22,ЧасовВКредите)+0.001,Точность)","v":0},0,null,null,null,null,null,null,null,null,null,{"$f":"Курс1!I22+Курс1!S22+Курс2!I22+Курс2!S22+Курс3!I22+Курс3!S22+Курс4!I22+Курс4!S22+Курс5!I22+Курс5!S22+Курс6!I22+Курс6!S22","v":238},"-",0,0,0,0,0]
[null,null,null,null,null,null,null,0,null,0,null,0,null,null,null,null,null,0,null,0,null,0,null,0,0,0,0,0,{"$f":"FLOOR($AB23/IF($AP23>0,$AP23,ЧасовВКредите)+0.001,Точность)","v":0},0,null,null,null,null,null,null,null,null,null,{"$f":"Курс1!I23+Курс1!S23+Курс2!I23+Курс2!S23+Курс3!I23+Курс3!S23+Курс4!I23+Курс4!S23+Курс5!I23+Курс5!S23+Курс6!I23+Курс6!S23","v":146},"-",0,0,0,0,0]
[null,null,null,null,null,null,null,0,null,0,null,0,null,null,null,null,null,0,null,0,null,0,null,0,0,0,0,0,{"$f":"FLOOR($AB24/IF($AP24>0,$AP24,ЧасовВКредите)+0.001,Точность)","v":0},0,null,null,null,null,null,null,null,null,null,{"$f":"Курс1!I24+Курс1!S24+Курс2!I24+Курс2!S24+Курс3!I24+Курс3!S24+Курс4!I24+Курс4!S24+Курс5!I24+Курс5!S24+Курс6!I24+Курс6!S24","v":148},"-",0,0,0,0,0]
[null,null,null,null,null,null,null,0,null,0,null,0,null,null,null,null,null,0,null,0,null,0,null,0,0,0,0,0,{"$f":"FLOOR($AB25/IF($AP25>0,$AP25,ЧасовВКредите)+0.001,Точность)","v":0},0,null,null,null,null,null,null,null,null,null,{"$f":"Курс1!I25+Курс1!S25+Курс2!I25+Курс2!S25+Курс3!I25+Курс3!S25+Курс4!I25+Курс4!S25+Курс5!I25+Курс5!S25+Курс6!I25+Курс6!S25","v":26},"-",0,0,0,0,0]
[null,null,null,null,null,null,null,0,null,0,null,0,null,null,null,null,null,0,null,0,null,0,null,0,0,0,0,0,{"$f":"FLOOR($AB26/IF($AP26>0,$AP26,ЧасовВКредите)+0.001,Точность)","v":0},0,null,null,null,null,null,null,null,null,null,{"$f":"Курс1!I26+Курс1!S26+Курс2!I26+Курс2!S26+Курс3!I26+Курс3!S26+Курс4!I26+Курс4!S26+Курс5!I26+Курс5!S26+Курс6!I26+Курс6!S26","v":62},"-",0,0,0,0,0]
[null,null,null,null,null,null,null,0,null,0,null,0,null,null,null,null,null,0,null,0,null,0,null,0,0,0,0,0,{"$f":"FLOOR($AB27/IF($AP27>0,$AP27,ЧасовВКредите)+0.001,Точность)","v":0},0,null,null,null,null,null,null,null,null,null,{"$f":"Курс1!I27+Курс1!S27+Курс2!I27+Курс2!S27+Курс3!I27+Курс3!S27+Курс4!I27+Курс4!S27+Курс5!I27+Курс5!S27+Курс6!I27+Курс6!S27","v":0},"-",0,0,0,0,0]
[null,null,null,null,null,null,null,0,null,0,null,0,null,null,null,null,null,0,null,0,null,0,null,0,0,0,0,0,{"$f":"FLOOR($AB28/IF($AP28>0,$AP28,ЧасовВКредите)+0.001,Точность)","v":0},0,null,null,null,null,null,null,null,null,null,{"$f":"Курс1!I28+Курс1!S28+Курс2!I28+Курс2!S28+Курс3!I28+Курс3!S28+Курс4!I28+Курс4!S28+Курс5!I28+Курс5!S28+Курс6!I28+Курс6!S28","v":0},"-",0,0,0,0,0]
[null,null,null,null,null,null,null,0,null,0,null,0,null,null,null,null,null,0,null,0,null,0,null,0,0,0,0,0,{"$f":"FLOOR($AB29/IF($AP29>0,$AP29,ЧасовВКредите)+0.001,Точность)","v":0},0,null,null,null,null,null,null,null,null,null,{"$f":"Курс1!I29+Курс1!S29+Курс2!I29+Курс2!S29+Курс3!I29+Курс3!S29+Курс4!I29+Курс4!S29+Курс5!I29+Курс5!S29+Курс6!I29+Курс6!S29","v":0},"-",0,0,0,0,0]
[null,null,null,null,null,null,null,0,null,0,null,0,null,null,null,null,null,0,null,0,null,0,null,0,0,0,0,0,{"$f":"FLOOR($AB30/IF($AP30>0,$AP30,ЧасовВКредите)+0.001,Точность)","v":0},0,null,null,null,null,null,null,null,null,null,{"$f":"Курс1!I30+Курс1!S30+Курс2!I30+Курс2!S30+Курс3!I30+Курс3!S30+Курс4!I30+Курс4!S30+Курс5!I30+Курс5!S30+Курс6!I30+Курс6!S30","v":0},"-",0,0,0,0,0]
[null,null,null,null,null,null,null,0,null,0,null,0,null,null,null,null,null,0,null,0,null,0,null,0,0,0,0,0,{"$f":"FLOOR($AB31/IF($AP31>0,$AP31,ЧасовВКредите)+0.001,Точность)","v":0},0,null,null,null,null,null,null,null,null,null,{"$f":"Курс1!I31+Курс1!S31+Курс2!I31+Курс2!S31+Курс3!I31+Курс3!S31+Курс4!I31+Курс4!S31+Курс5!I31+Курс5!S31+Курс6!I31+Курс6!S31","v":0},"-",0,0,0,0,0]
[null,null,null,null,null,null,null,0,null,0,null,0,null,null,null,null,null,0,null,0,null,0,null,0,0,0,0,0,{"$f":"FLOOR($AB32/IF($AP32>0,$AP32,ЧасовВКредите)+0.001,Точность)","v":0},0,null,null,null,null,null,null,null,null,null,{"$f":"Курс1!I32+Курс1!S32+Курс2!I32+Курс2!S32+Курс3!I32+Курс3!S32+Курс4!I32+Курс4!S32+Курс5!I32+Курс5!S32+Курс6!I32+Курс6!S32","v":0},"-",0,0,0,0,0]
[null,null,null,null,null,null,null,0,null,0,null,0,null,null,null,null,null,0,null,0,null,0,null,0,0,0,0,0,{"$f":"FLOOR($AB33/IF($AP33>0,$AP33,ЧасовВКредите)+0.001,Точность)","v":0},0,null,null,null,null,null,null,null,null,null,{"$f":"Курс1!I33+Курс1!S33+Курс2!I33+Курс2!S33+Курс3!I33+Курс3!S33+Курс4!I33+Курс4!S33+Курс5!I33+Курс5!S33+Курс6!I33+Курс6!S33","v":0},"-",0,0,0,0,0]
[null,null,null,null,null,null,null,0,null,0,null,0,null,null,null,null,null,0,null,0,null,0,null,0,0,0,0,0,{"$f":"FLOOR($AB34/IF($AP34>0,$AP34,ЧасовВКредите)+0.001,Точность)","v":0},0,null,null,null,null,null,null,null,null,null,{"$f":"Курс1!I34+Курс1!S34+Курс2!I34+Курс2!S34+Курс3!I34+Курс3!S34+Курс4!I34+Курс4!S34+Курс5!I34+Курс5!S34+Курс6!I34+Курс6!S34","v":0},"-",0,0,0,0,0]
[null,null,null,null,null,null,null,0,null,0,null,0,null,null,null,null,null,0,null,0,null,0,null,0,0,0,0,0,{"$f":"FLOOR($AB35/IF($AP35>0,$AP35,ЧасовВКредите)+0.001,Точность)","v":0},0,null,null,null,null,null,null,null,null,null,{"$f":"Курс1!I35+Курс1!S35+Курс2!I35+Курс2!S35+Курс3!I35+Курс3!S35+Курс4!I35+Курс4!S35+Курс5!I35+Курс5!S35+Курс6!I35+Курс6!S35","v":0},"-",0,0,0,0,0]
[null,null,null,null,null,null,null,0,null,0,null,0,null,null,null,null,null,0,null,0,null,0,null,0,0,0,0,0,{"$f":"FLOOR($AB36/IF($AP36>0,$AP36,ЧасовВКредите)+0.001,Точность)","v":0},0,null,null,null,null,null,null,null,null,null,{"$f":"Курс1!I36+Курс1!S36+Курс2!I36+Курс2!S36+Курс3!I36+Курс3!S36+Курс4!I36+Курс4!S36+Курс5!I36+Курс5!S36+Курс6!I36+Курс6!S36","v":0},"-",0,0,0,0,0]
[null,null,null,null,null,null,null,0,null,0,null,0,null,null,null,null,null,0,null,0,null,0,null,0,0,0,0,0,{"$f":"FLOOR($AB37/IF($AP37>0,$AP37,ЧасовВКредите)+0.001,Точность)","v":0},0,null,null,null,null,null,null,null,null,null,{"$f":"Курс1!I37+Курс1!S37+Курс2!I37+Курс2!S37+Курс3!I37+Курс3!S37+Курс4!I37+Курс4!S37+Курс5!I37+Курс5!S37+Курс6!I37+Курс6!S37","v":0},"-",0,0,0,0,0]
[null,null,null,null,null,null,null,0,null,0,null,0,null,null,null,null,null,0,null,0,null,0,null,0,0,0,0,0,{"$f":"FLOOR($AB38/IF($AP38>0,$AP38,ЧасовВКредите)+0.001,Точность)","v":0},0,null,null,null,null,null,null,null,null,null,{"$f":"Курс1!I38+Курс1!S38+Курс2!I38+Курс2!S38+Курс3!I38+Курс3!S38+Курс4!I38+Курс4!S38+Курс5!I38+Курс5!S38+Курс6!I38+Курс6!S38","v":0},"-",0,0,0,0,0]
[null,null,null,null,null,null,null,0,null,0,null,0,null,null,null,null,null,0,null,0,null,0,null,0,0,0,0,0,{"$f":"FLOOR($AB39/IF($AP39>0,$AP39,ЧасовВКредите)+0.001,Точность)","v":0},{"$f":"FLOOR($AQ39,Точность)","v":0},null,null,null,null,null,null,null,null,null,{"$f":"Курс1!I39+Курс1!S39+Курс2!I39+Курс2!S39+Курс3!I39+Курс3!S39+Курс4!I39+Курс4!S39+Курс5!I39+Курс5!S39+Курс6!I39+Курс6!S39","v":0},"-",{"$f":"IF($AL39>0,IF(INDIRECT(\"План!FT\"&$AL39)>0,FLOOR(INDIRECT(\"План!H\"&$AL39)/INDIRECT(\"План!FT\"&$AL39),Точность),IF(ЧасовВКредите>0,ЧасовВКредите,36)),0)","v":0},{"$f":"IF($AB$76>0,AB39/$AB$76*$AD$78,0)","v":0},0,0,{"$f":"IF(AND(AJ39>0,AL39<1144,AL39>917),IF(isFGOS,AB39,0),0)","v":0}]
[null,null,null,null,null,null,null,0,null,0,null,0,null,null,null,null,null,0,null,0,null,0,null,0,0,0,0,0,{"$f":"FLOOR($AB40/IF($AP40>0,$AP40,ЧасовВКредите)+0.001,Точность)","v":0},0,null,null,null,null,null,null,null,null,null,{"$f":"Курс1!I40+Курс1!S40+Курс2!I40+Курс2!S40+Курс3!I40+Курс3!S40+Курс4!I40+Курс4!S40+Курс5!I40+Курс5!S40+Курс6!I40+Курс6!S40","v":0},"-",0,0,0,0,0]
[null,null,null,null,null,null,null,0,null,0,null,0,null,null,null,null,null,0,null,0,null,0,null,0,0,0,0,0,{"$f":"FLOOR($AB41/IF($AP41>0,$AP41,ЧасовВКредите)+0.001,Точность)","v":0},0,null,null,null,null,null,null,null,null,null,{"$f":"Курс1!I41+Курс1!S41+Курс2!I41+Курс2!S41+Курс3!I41+Курс3!S41+Курс4!I41+Курс4!S41+Курс5!I41+Курс5!S41+Курс6!I41+Курс6!S41","v":0},"-",0,0,0,0,0]
[null,null,null,null,null,null,null,0,null,0,null,0,null,null,null,null,null,0,null,0,null,0,null,0,0,0,0,0,{"$f":"FLOOR($AB42/IF($AP42>0,$AP42,ЧасовВКредите)+0.001,Точность)","v":0},0,null,null,null,null,null,null,null,null,null,{"$f":"Курс1!I42+Курс1!S42+Курс2!I42+Курс2!S42+Курс3!I42+Курс3!S42+Курс4!I42+Курс4!S42+Курс5!I42+Курс5!S42+Курс6!I42+Курс6!S42","v":0},"-",0,0,0,0,0]
[null,null,null,null,null,null,null,0,null,0,null,0,null,null,null,null,null,0,null,0,null,0,null,0,0,0,0,0,{"$f":"FLOOR($AB43/IF($AP43>0,$AP43,ЧасовВКредите)+0.001,Точность)","v":0},0,null,null,null,null,null,null,null,null,null,{"$f":"Курс1!I43+Курс1!S43+Курс2!I43+Курс2!S43+Курс3!I43+Курс3!S43+Курс4!I43+Курс4!S43+Курс5!I43+Курс5!S43+Курс6!I43+Курс6!S43","v":0},"-",0,0,0,0,0]
[null,null,null,null,null,null,null,0,null,0,null,0,null,null,null,null,null,0,null,0,null,0,null,0,0,0,0,0,{"$f":"FLOOR($AB44/IF($AP44>0,$AP44,ЧасовВКредите)+0.001,Точность)","v":0},0,null,null,null,null,null,null,null,null,null,{"$f":"Курс1!I44+Курс1!S44+Курс2!I44+Курс2!S44+Курс3!I44+Курс3!S44+Курс4!I44+Курс4!S44+Курс5!I44+Курс5!S44+Курс6!I44+Курс6!S44","v":0},"-",0,0,0,0,0]
[null,null,null,null,null,null,null,0,null,0,null,0,null,null,null,null,null,0,null,0,null,0,null,0,0,0,0,0,{"$f":"FLOOR($AB45/IF($AP45>0,$AP45,ЧасовВКредите)+0.001,Точность)","v":0},0,null,null,null,null,null,null,null,null,null,{"$f":"Курс1!I45+Курс1!S45+Курс2!I45+Курс2!S45+Курс3!I45+Курс3!S45+Курс4!I45+Курс4!S45+Курс5!I45+Курс5!S45+Курс6!I45+Курс6!S45","v":0},"-",0,0,0,0,0]
[null,null,null,null,null,null,null,0,null,0,null,0,null,null,null,null,null,0,null,0,null,0,null,0,0,0,0,0,{"$f":"FLOOR($AB46/IF($AP46>0,$AP46,ЧасовВКредите)+0.001,Точность)","v":0},0,null,null,null,null,null,null,null,null,null,{"$f":"Курс1!I46+Курс1!S46+Курс2!I46+Курс2!S46+Курс3!I46+Курс3!S46+Курс4!I46+Курс4!S46+Курс5!I46+Курс5!S46+Курс6!I46+Курс6!S46","v":0},"-",0,0,0,0,0]
[null,null,null,null,null,null,null,0,null,0,null,0,null,null,null,null,null,0,null,0,null,0,null,0,0,0,0,0,{"$f":"FLOOR($AB47/IF($AP47>0,$AP47,ЧасовВКредите)+0.001,Точность)","v":0},0,null,null,null,null,null,null,null,null,null,{"$f":"Курс1!I47+Курс1!S47+Курс2!I47+Курс2!S47+Курс3!I47+Курс3!S47+Курс4!I47+Курс4!S47+Курс5!I47+Курс5!S47+Курс6!I47+Курс6!S47","v":0},"-",0,0,0,0,0]
[null,null,null,null,null,null,null,0,null,0,null,0,null,null,null,null,null,0,null,0,null,0,null,0,0,0,0,0,{"$f":"FLOOR($AB48/IF($AP48>0,$AP48,ЧасовВКредите)+0.001,Точность)","v":0},0,null,null,null,null,null,null,null,null,null,{"$f":"Курс1!I48+Курс1!S48+Курс2!I48+Курс2!S48+Курс3!I48+Курс3!S48+Курс4!I48+Курс4!S48+Курс5!I48+Курс5!S48+Курс6!I48+Курс6!S48","v":0},"-",0,0,0,0,0]
[null,null,null,null,null,null,null,0,null,0,null,0,null,null,null,null,null,0,null,0,null,0,null,0,0,0,0,0,{"$f":"FLOOR($AB49/IF($AP49>0,$AP49,ЧасовВКредите)+0.001,Точность)","v":0},0,null,null,null,null,null,null,null,null,null,{"$f":"Курс1!I49+Курс1!S49+Курс2!I49+Курс2!S49+Курс3!I49+Курс3!S49+Курс4!I49+Курс4!S49+Курс5!I49+Курс5!S49+Курс6!I49+Курс6!S49","v":0},"-",0,0,0,0,0]
[null,null,null,null,null,null,null,0,null,0,null,0,null,null,null,null,null,0,null,0,null,0,null,0,0,0,0,0,{"$f":"FLOOR($AB50/IF($AP50>0,$AP50,ЧасовВКредите)+0.001,Точность)","v":0},0,null,null,null,null,null,null,null,null,null,{"$f":"Курс1!I50+Курс1!S50+Курс2!I50+Курс2!S50+Курс3!I50+Курс3!S50+Курс4!I50+Курс4!S50+Курс5!I50+Курс5!S50+Курс6!I50+Курс6!S50","v":0},"-",0,0,0,0,0]
[null,null,null,null,null,null,null,0,null,0,null,0,null,null,null,null,null,0,null,0,null,0,null,0,0,0,0,0,{"$f":"FLOOR($AB51/IF($AP51>0,$AP51,ЧасовВКредите)+0.001,Точность)","v":0},0,null,null,null,null,null,null,null,null,null,{"$f":"Курс1!I51+Курс1!S51+Курс2!I51+Курс2!S51+Курс3!I51+Курс3!S51+Курс4!I51+Курс4!S51+Курс5!I51+Курс5!S51+Курс6!I51+Курс6!S51","v":0},"-",0,0,0,0,0]
[null,null,null,null,null,null,null,0,null,0,null,0,null,null,null,null,null,0,null,0,null,0,null,0,0,0,0,0,{"$f":"FLOOR($AB52/IF($AP52>0,$AP52,ЧасовВКредите)+0.001,Точность)","v":0},0,null,null,null,null,null,null,null,null,null,{"$f":"Курс1!I52+Курс1!S52+Курс2!I52+Курс2!S52+Курс3!I52+Курс3!S52+Курс4!I52+Курс4!S52+Курс5!I52+Курс5!S52+Курс6!I52+Курс6!S52","v":0},"-",0,0,0,0,0]
[null,null,null,null,null,null,null,{"$f":"SUM(D53:G53)","v":0},null,{"$f":"SUM(H53:I53)","v":0},null,{"$f":"SUM(J53:K53)","v":0},null,null,null,null,null,{"$f":"SUM(N53:Q53)","v":0},null,{"$f":"SUM(R53:S53)","v":0},null,{"$f":"SUM(T53:U53)","v":0},null,{"$f":"H53+R53","v":0},{"$f":"I53+S53","v":0},{"$f":"J53+T53","v":0},{"$f":"K53+U53","v":0},{"$f":"V53+L53","v":0},{"$f":"FLOOR($AB53/IF($AP53>0,$AP53,ЧасовВКредите)+0.001,Точность)","v":0},0,null,null,null,null,null,null,null,null,null,{"$f":"Курс1!I53+Курс1!S53+Курс2!I53+Курс2!S53+Курс3!I53+Курс3!S53+Курс4!I53+Курс4!S53+Курс5!I53+Курс5!S53+Курс6!I53+Курс6!S53","v":0},"-",0,0,0,0,0]
[null,null,null,null,null,null,null,0,null,0,null,0,null,null,null,null,null,0,null,0,null,0,null,0,0,0,0,0,{"$f":"FLOOR($AB54/IF($AP54>0,$AP54,ЧасовВКредите)+0.001,Точность)","v":0},0,null,null,null,null,null,null,null,null,null,{"$f":"Курс1!I54+Курс1!S54+Курс2!I54+Курс2!S54+Курс3!I54+Курс3!S54+Курс4!I54+Курс4!S54+Курс5!I54+Курс5!S54+Курс6!I54+Курс6!S54","v":0},"-",0,0,0,0,0]
[null,null,null,null,null,null,null,0,null,0,null,0,null,null,null,null,null,0,null,0,null,0,null,0,0,0,0,0,{"$f":"FLOOR($AB55/IF($AP55>0,$AP55,ЧасовВКредите)+0.001,Точность)","v":0},0,null,null,null,null,null,null,null,null,null,{"$f":"Курс1!I55+Курс1!S55+Курс2!I55+Курс2!S55+Курс3!I55+Курс3!S55+Курс4!I55+Курс4!S55+Курс5!I55+Курс5!S55+Курс6!I55+Курс6!S55","v":0},"-",0,0,0,0,0]
[null,null,null,null,null,null,null,0,null,0,null,0,null,null,null,null,null,0,null,0,null,0,null,0,0,0,0,0,{"$f":"FLOOR($AB56/IF($AP56>0,$AP56,ЧасовВКредите)+0.001,Точность)","v":0},0,null,null,null,null,null,null,null,null,null,{"$f":"Курс1!I56+Курс1!S56+Курс2!I56+Курс2!S56+Курс3!I56+Курс3!S56+Курс4!I56+Курс4!S56+Курс5!I56+Курс5!S56+Курс6!I56+Курс6!S56","v":0},"-",0,0,0,0,0]
[null,null,null,null,null,null,null,0,null,0,null,0,null,null,null,null,null,0,null,0,null,0,null,0,0,0,0,0,{"$f":"FLOOR($AB57/IF($AP57>0,$AP57,ЧасовВКредите)+0.001,Точность)","v":0},0,null,null,null,null,null,null,null,null,null,{"$f":"Курс1!I57+Курс1!S57+Курс2!I57+Курс2!S57+Курс3!I57+Курс3!S57+Курс4!I57+Курс4!S57+Курс5!I57+Курс5!S57+Курс6!I57+Курс6!S57","v":0},"-",0,0,0,0,0]
[null,null,null,null,null,null,null,0,null,0,null,0,null,null,null,null,null,0,null,0,null,0,null,0,0,0,0,0,{"$f":"FLOOR($AB58/IF($AP58>0,$AP58,ЧасовВКредите)+0.001,Точность)","v":0},0,null,null,null,null,null,null,null,null,null,{"$f":"Курс1!I58+Курс1!S58+Курс2!I58+Курс2!S58+Курс3!I58+Курс3!S58+Курс4!I58+Курс4!S58+Курс5!I58+Курс5!S58+Курс6!I58+Курс6!S58","v":0},"-",0,0,0,0,0]
[null,null,null,null,null,null,null,0,null,0,null,0,null,null,null,null,null,0,null,0,null,0,null,0,0,0,0,0,{"$f":"FLOOR($AB59/IF($AP59>0,$AP59,ЧасовВКредите)+0.001,Точность)","v":0},0,null,null,null,null,null,null,null,null,null,{"$f":"Курс1!I59+Курс1!S59+Курс2!I59+Курс2!S59+Курс3!I59+Курс3!S59+Курс4!I59+Курс4!S59+Курс5!I59+Курс5!S59+Курс6!I59+Курс6!S59","v":0},"-",0,0,0,0,0]
[null,null,null,null,null,null,null,0,null,0,null,0,null,null,null,null,null,0,null,0,null,0,null,0,0,0,0,0,{"$f":"FLOOR($AB60/IF($AP60>0,$AP60,ЧасовВКредите)+0.001,Точность)","v":0},0,null,null,null,null,null,null,null,null,null,{"$f":"Курс1!I60+Курс1!S60+Курс2!I60+Курс2!S60+Курс3!I60+Курс3!S60+Курс4!I60+Курс4!S60+Курс5!I60+Курс5!S60+Курс6!I60+Курс6!S60","v":0},"-",0,0,0,0,0]
[null,null,null,null,null,null,null,0,null,0,null,0,null,null,null,null,null,0,null,0,null,0,null,0,0,0,0,0,{"$f":"FLOOR($AB61/IF($AP61>0,$AP61,ЧасовВКредите)+0.001,Точность)","v":0},0,null,null,null,null,null,null,null,null,null,{"$f":"Курс1!I61+Курс1!S61+Курс2!I61+Курс2!S61+Курс3!I61+Курс3!S61+Курс4!I61+Курс4!S61+Курс5!I61+Курс5!S61+Курс6!I61+Курс6!S61","v":0},"-",0,0,0,0,0]
[null,null,null,null,null,null,null,0,null,0,null,0,null,null,null,null,null,0,null,0,null,0,null,0,0,0,0,0,{"$f":"FLOOR($AB62/IF($AP62>0,$AP62,ЧасовВКредите)+0.001,Точность)","v":0},0,null,null,null,null,null,null,null,null,null,{"$f":"Курс1!I62+Курс1!S62+Курс2!I62+Курс2!S62+Курс3!I62+Курс3!S62+Курс4!I62+Курс4!S62+Курс5!I62+Курс5!S62+Курс6!I62+Курс6!S62","v":0},"-",0,0,0,0,0]
[null,null,null,null,null,null,null,0,null,0,null,0,null,null,null,null,null,0,null,0,null,0,null,0,0,0,0,0,{"$f":"FLOOR($AB63/IF($AP63>0,$AP63,ЧасовВКредите)+0.001,Точность)","v":0},0,null,null,null,null,null,null,null,null,null,{"$f":"Курс1!I63+Курс1!S63+Курс2!I63+Курс2!S63+Курс3!I63+Курс3!S63+Курс4!I63+Курс4!S63+Курс5!I63+Курс5!S63+Курс6!I63+Курс6!S63","v":0},"-",0,0,0,0,0]
[null,null,null,null,null,null,null,0,null,0,null,0,null,null,null,null,null,0,null,0,null,0,null,0,0,0,0,0,{"$f":"FLOOR($AB64/IF($AP64>0,$AP64,ЧасовВКредите)+0.001,Точность)","v":0},0,null,null,null,null,null,null,null,null,null,{"$f":"Курс1!I64+Курс1!S64+Курс2!I64+Курс2!S64+Курс3!I64+Курс3!S64+Курс4!I64+Курс4!S64+Курс5!I64+Курс5!S64+Курс6!I64+Курс6!S64","v":0},"-",0,0,0,0,0]
[null,null,null,null,null,null,null,0,null,0,null,0,null,null,null,null,null,0,null,0,null,0,null,0,0,0,0,0,{"$f":"FLOOR($AB65/IF($AP65>0,$AP65,ЧасовВКредите)+0.001,Точность)","v":0},0,null,null,null,null,null,null,null,null,null,{"$f":"Курс1!I65+Курс1!S65+Курс2!I65+Курс2!S65+Курс3!I65+Курс3!S65+Курс4!I65+Курс4!S65+Курс5!I65+Курс5!S65+Курс6!I65+Курс6!S65","v":0},"-",0,0,0,0,0]
[null,null,null,null,null,null,null,0,null,0,null,0,null,null,null,null,null,0,null,0,null,0,null,0,0,0,0,0,{"$f":"FLOOR($AB66/IF($AP66>0,$AP66,ЧасовВКредите)+0.001,Точность)","v":0},0,null,null,null,null,null,null,null,null,null,{"$f":"Курс1!I66+Курс1!S66+Курс2!I66+Курс2!S66+Курс3!I66+Курс3!S66+Курс4!I66+Курс4!S66+Курс5!I66+Курс5!S66+Курс6!I66+Курс6!S66","v":0},"-",0,0,0,0,0]
[null,null,null,null,null,null,null,0,null,0,null,0,null,null,null,null,null,0,null,0,null,0,null,0,0,0,0,0,{"$f":"FLOOR($AB67/IF($AP67>0,$AP67,ЧасовВКредите)+0.001,Точность)","v":0},0,null,null,null,null,null,null,null,null,null,{"$f":"Курс1!I67+Курс1!S67+Курс2!I67+Курс2!S67+Курс3!I67+Курс3!S67+Курс4!I67+Курс4!S67+Курс5!I67+Курс5!S67+Курс6!I67+Курс6!S67","v":0},"-",0,0,0,0,0]
[null,null,null,null,null,null,null,0,null,0,null,0,null,null,null,null,null,0,null,0,null,0,null,0,0,0,0,0,{"$f":"FLOOR($AB68/IF($AP68>0,$AP68,ЧасовВКредите)+0.001,Точность)","v":0},0,null,null,null,null,null,null,null,null,null,{"$f":"Курс1!I68+Курс1!S68+Курс2!I68+Курс2!S68+Курс3!I68+Курс3!S68+Курс4!I68+Курс4!S68+Курс5!I68+Курс5!S68+Курс6!I68+Курс6!S68","v":0},"-",0,0,0,0,0]
[null,null,null,null,null,null,null,0,null,0,null,0,null,null,null,null,null,0,null,0,null,0,null,0,0,0,0,0,{"$f":"FLOOR($AB69/IF($AP69>0,$AP69,ЧасовВКредите)+0.001,Точность)","v":0},0,null,null,null,null,null,null,null,null,null,{"$f":"Курс1!I69+Курс1!S69+Курс2!I69+Курс2!S69+Курс3!I69+Курс3!S69+Курс4!I69+Курс4!S69+Курс5!I69+Курс5!S69+Курс6!I69+Курс6!S69","v":0},"-",0,0,0,0,0]
[null,null,null,null,null,null,null,0,null,0,null,0,null,null,null,null,null,0,null,0,null,0,null,0,0,0,0,0,{"$f":"FLOOR($AB70/IF($AP70>0,$AP70,ЧасовВКредите)+0.001,Точность)","v":0},0,null,null,null,null,null,null,null,null,null,{"$f":"Курс1!I70+Курс1!S70+Курс2!I70+Курс2!S70+Курс3!I70+Курс3!S70+Курс4!I70+Курс4!S70+Курс5!I70+Курс5!S70+Курс6!I70+Курс6!S70","v":0},"-",0,0,0,0,0]
[null,null,null,null,null,null,null,0,null,0,null,0,null,null,null,null,null,0,null,0,null,0,null,0,0,0,0,0,{"$f":"FLOOR($AB71/IF($AP71>0,$AP71,ЧасовВКредите)+0.001,Точность)","v":0},0,null,null,null,null,null,null,null,null,null,{"$f":"Курс1!I71+Курс1!S71+Курс2!I71+Курс2!S71+Курс3!I71+Курс3!S71+Курс4!I71+Курс4!S71+Курс5!I71+Курс5!S71+Курс6!I71+Курс6!S71","v":0},"-",0,0,0,0,0]
[null,null,null,null,null,null,null,0,null,0,null,0,null,null,null,null,null,0,null,0,null,0,null,0,0,0,0,0,{"$f":"FLOOR($AB72/IF($AP72>0,$AP72,ЧасовВКредите)+0.001,Точность)","v":0},0,null,null,null,null,null,null,null,null,null,{"$f":"Курс1!I72+Курс1!S72+Курс2!I72+Курс2!S72+Курс3!I72+Курс3!S72+Курс4!I72+Курс4!S72+Курс5!I72+Курс5!S72+Курс6!I72+Курс6!S72","v":0},"-",0,0,0,{"$f":"IF(AND(AL72>1145,AL72<1166),1,0)","v":0},0]
[null,null,null,null,null,null,null,0,null,0,null,0,null,null,null,null,null,0,null,0,null,0,null,0,0,0,0,0,{"$f":"FLOOR($AB73/IF($AP73>0,$AP73,ЧасовВКредите)+0.001,Точность)","v":0},0,null,null,null,null,null,null,null,null,null,{"$f":"Курс1!I73+Курс1!S73+Курс2!I73+Курс2!S73+Курс3!I73+Курс3!S73+Курс4!I73+Курс4!S73+Курс5!I73+Курс5!S73+Курс6!I73+Курс6!S73","v":0},"-",0,0,0,0,0]
[null,null,null,null,null,null,null,0,null,0,null,0,null,null,null,null,null,0,null,0,null,0,null,0,0,0,0,0,{"$f":"FLOOR($AB74/IF($AP74>0,$AP74,ЧасовВКредите)+0.001,Точность)","v":0},0,null,null,null,null,null,null,null,null,null,{"$f":"Курс1!I74+Курс1!S74+Курс2!I74+Курс2!S74+Курс3!I74+Курс3!S74+Курс4!I74+Курс4!S74+Курс5!I74+Курс5!S74+Курс6!I74+Курс6!S74","v":0},"-",0,0,0,0,0]
[null,null,null,null,null,null,null,0,null,0,null,0,null,null,null,null,null,0,null,0,null,0,null,0,0,0,0,0,{"$f":"FLOOR($AB75/IF($AP75>0,$AP75,ЧасовВКредите)+0.001,Точность)","v":0},0,null,null,null,null,null,null,null,null,null,{"$f":"Курс1!I75+Курс1!S75+Курс2!I75+Курс2!S75+Курс3!I75+Курс3!S75+Курс4!I75+Курс4!S75+Курс5!I75+Курс5!S75+Курс6!I75+Курс6!S75","v":0},"-",0,0,0,0,0]
["Всего АЧ",null,null,{"$f":"SUMIF($AJ$7:$AJ$75,\"=1\",D7:D75)-SUMIF($AT$7:$AT$75,\">0\",D7:D75)","v":0},0,0,0,0,0,{"$f":"SUMIF($AJ$7:$AJ$75,\"=1\",J7:J75)-SUMIF($AT$7:$AT$75,\">0\",J7:J75)","v":0},0,0,null,{"$f":"SUMIF($AJ$7:$AJ$75,\"=1\",N7:N75)-SUMIF($AT$7:$AT$75,\">0\",N7:N75)","v":0},0,0,0,0,0,0,0,0,null,{"$f":"SUMIF($AJ$7:$AJ$75,\"=1\",X7:X75)-SUMIF($AT$7:$AT$75,\">0\",X7:X75)","v":0},{"$f":"SUMIF($AJ$7:$AJ$75,\"=1\",Y7:Y75)-SUMIF($AT$7:$AT$75,\">0\",Y7:Y75)","v":0},{"$f":"SUMIF($AJ$7:$AJ$75,\"=1\",Z7:Z75)-SUMIF($AT$7:$AT$75,\">0\",Z7:Z75)","v":0},{"$f":"SUMIF($AJ$7:$AJ$75,\"=1\",AA7:AA75)-SUMIF($AT$7:$AT$75,\">0\",AA7:AA75)","v":0},{"$f":"SUMIF($AJ$7:$AJ$75,\"=1\",AB7:AB75)-SUMIF($AT$7:$AT$75,\">0\",AB7:AB75)","v":0},0,0,null,0,null,null,null,null,null,null,null,null,0,null,{"$f":"SUMIF($AJ$7:$AJ$75,\"=1\",AQ7:AQ75)","v":0},null,null,{"$f":"SUM(AT7:AT75)","v":0}]
["АЧ/Нед",null,null,{"$f":"IF(ABS($J$4-$L$4)>0.1,ROUND(D76/($J$4-$L$4),0),0)","v":0},0,0,0,0,0,{"$f":"IF(ABS($J$4-$L$4)>0.1,CEILING(J76/($J$4-$L$4)-0.001,0.1),0)","v":0},{"$f":"IF(ABS(K76-K78)<0.01,\"=\",IF(K76<K78,\"<\",\">\"))","v":"="},{"$f":"IF(ABS(L76-L78)<0.01,\"=\",IF(L76<L78,\"<\",\">\"))","v":"="},null,{"$f":"IF(ABS($T$4-$V$4)>0.1,ROUND(N76/($T$4-$V$4),0),0)","v":0},0,0,0,0,0,{"$f":"IF(ABS($T$4-$V$4)>0.1,CEILING(T76/($T$4-$V$4)-0.001,0.1),0)","v":0},{"$f":"IF(ABS(U76-U78)<0.01,\"=\",IF(U76<U78,\"<\",\">\"))","v":"="},"=",null,null,null,{"$f":"IF(ABS(Z76-Z78)<0.01,\"=\",IF(Z76<Z78,\"<\",\">\"))","v":"="},"=","=","=","=",null,0,null,null,null,null,null,null,null,null,0]
["Всего АЧ/Нед /в том числе физической культуры",null,null,{"$f":"SUM(D77:F77)","v":0},{"$f":"\"/\"","v":"/"},{"$f":"IF($J$4-$L$4>0,(SUMIF(AG7:AG75,\"=1\",D7:D75)+SUMIF(AG7:AG75,\"=1\",E7:E75)+SUMIF(AG7:AG75,\"=1\",F7:F75)+SUMIF(AG7:AG75,\"=1\",G7:G75))/($J$4-$L$4),0)","v":0},null,{"$f":"IF(I78<>0,\"D=\",\"\")","v":""},{"$f":"IF(J78*($J$4-$L$4)-J76<0.001,0,J78*($J$4-$L$4)-J76)","v":0},{"$f":"IF($J$4-$L$4>0,54,0)","v":0},{"$f":"K4*54","v":0},{"$f":"J78*($J$4-$L$4)+K78","v":0},null,{"$f":"SUM(N77:P77)","v":0},{"$f":"\"/\"","v":"/"},{"$f":"IF($T$4-$V$4>0,(SUMIF(AG7:AG75,\"=1\",N7:N75)+SUMIF(AG7:AG75,\"=1\",O7:O75)+SUMIF(AG7:AG75,\"=1\",P7:P75)+SUMIF(AG7:AG75,\"=1\",Q7:Q75))/($T$4-$V$4),0)","v":0},null,{"$f":"IF(S78<>0,\"D=\",\"\")","v":""},{"$f":"IF(T78*($T$4-$V$4)-T76<0.001,0,T78*($T$4-$V$4)-T76)","v":0},{"$f":"IF($T$4-$V$4>0,54,0)","v":0},{"$f":"U4*54","v":0},{"$f":"T78*($T$4-$V$4)+U78","v":0},null,null,null,{"$f":"(J4+T4-L4-V4)*IF(J78>0,J78,T78)","v":0},{"$f":"U78+K78","v":0},{"$f":"V78+L78","v":0},{"$f":"(J4+K4-L4+T4+U4-V4)*КредитовВНеделе","v":0},{"$f":"IF(J4-L4>0,КредитовНаГод/2,0)+IF(T4-V4>0,КредитовНаГод/2,0)","v":0},null,0,null,null,null,null,null,null,null,null,0]
["Должно быть АЧ/Нед до",null,null,null,null,null,null,null,null,null,null,null,null,null,null,null,null,null,null,null,null,null,null,"Должно быть до"]
["Должно быть АЧ на экзамены"]
["Предельное количество АЧ"]
["Экзаменов",null,null,{"$f":"Экз13","v":0},null,null,null,null,null,null,null,null,null,{"$f":"Экз14","v":0},null,null,null,null,null,null,null,null,null,"Должно быть ЗЕТ",null,null,null,null,null,null,null,0,null,null,null,null,null,null,null,null,0]
["Зачетов",null,null,{"$f":"Зач13","v":0},null,null,null,null,null,null,null,null,null,{"$f":"Зач14","v":0},null,null,null,null,null,null,null,null,null,{"$f":"\"Должно быть \"&СокрКРЕТИТОВ","v":"Должно быть Cr ECTS"},null,null,null,null,null,null,null,0,null,null,null,null,null,null,null,null,0]
["Курсовых проектов, к, р, э, г, о",null,null,{"$f":"КП13","v":0},null,null,null,null,null,null,null,null,null,{"$f":"КП14","v":0},null,null,null,null,null,null,null,null,null,"Оценка планирования:",null,null,null,null,null,null,null,0,null,null,null,null,null,null,null,null,0]
["Курсовых работ",null,null,{"$f":"КР13","v":0},null,null,null,null,null,null,null,null,null,{"$f":"КР14","v":0},null,null,null,null,null,null,null,null,null,{"$f":"IF(AB76>AB78*0.5,IF(AND(J77<=J78+0.01,K76<=K78+0.01,L76<=L78+0.01,T77<=T78+0.01,U76<=U78+0.01,V76<=V78+0.01,Z76<=Z78+0.01,AC76<=AC78+0.01,D82+N82<=IF(ПерезачтеноВсего>0,10.01,20.01),IF(isFGOS,D83+N83<=12.01,D82+D83+N82+N83<=IF(ПерезачтеноВсего>0,22.01,32.01)),IF(isFGOS,ABS(D87-IF(Нормы!C27>0,Нормы!C27,60))<0.01,TRUE)),\"Отлично\",IF(OR(IF(isFGOS,D87<IF(Нормы!C27>0,Нормы!C27,60)-0.01,FALSE),J77-0.01>J78,K77=\">\",L77=\">\",T77-0.01>T78,U77=\">\",V77=\">\",Z77=\">\"),\"Неудовлетворительно\",\"Удовлетворительно\")),\"Нет (мало АЧ)\")","v":"Нет (мало АЧ)"},null,null,null,null,null,null,null,0,null,null,null,null,null,null,null,null,0]
["Всего за учебный год",null,null,"Недель ТО",null,null,{"$f":"J4+T4","v":0},null,"Недель на экзамены",null,null,null,{"$f":"K4+U4","v":0},null,null,null,null,null,null,null,null,null,null,null,null,null,"Нед","АЧ","ЗЕТ",{"$f":"СокрКРЕТИТОВ","v":"Cr ECTS"},null,0,null,null,null,null,null,null,null,null,0]
["ЗЕТ за курс без Факультативов / Факультативы",null,null,{"$f":"AC76+AC91-E87","v":0},{"$f":"SUMIF(AS7:AS75,\"=1\",AC7:AC75)","v":0},null,null,null,null,null,null,null,null,null,null,null,null,null,"Итоговая аттестация (дисциплины) (А)",null,null,null,null,null,null,null,{"$f":"Титул!BF68","v":0},{"$f":"FLOOR(AA87*54+0.001,0.01)","v":0},{"$f":"FLOOR(AA87*КредитовВНеделе+0.001,ТочностьН)","v":0},{"$f":"FLOOR(AA87*КредитовНаГод/40,ТочностьН)","v":0},null,0,null,null,null,null,null,null,null,null,0]
[{"$f":"СокрКРЕТИТОВ&\" за курс\"","v":"Cr ECTS за курс"},null,null,{"$f":"AD76+AD91","v":0},null,null,null,null,null,null,null,null,null,null,null,null,null,null,"Практики (У,П) + распределенная",null,null,null,null,null,null,null,{"$f":"Практики!AP68+AT76/54","v":0},{"$f":"FLOOR(Практики!Z68*IF(ЧасовВКредите>0,ЧасовВКредите,36)+AT76+0.001,0.01)","v":0},{"$f":"Практики!Z68+FLOOR(IF(ЧасовВКредите>0,AT76/ЧасовВКредите,AT76/36)+0.001,ТочностьН)","v":0},{"$f":"FLOOR(AA88*КредитовНаГод/40,ТочностьН)","v":0},null,0,null,null,null,null,null,null,null,null,0]
["Обозначения:",null,null,"Э-экзамен",null,null,"З-зачет",null,null,"Р-курсовая работа",null,null,null,"П-курсовой проект",null,null,null,null,"Дипломная работа (проект) (Д)",null,null,null,null,null,null,null,{"$f":"Титул!BI68","v":0},{"$f":"FLOOR(AA89*54+0.001,0.01)","v":0},{"$f":"FLOOR(AA89*КредитовВНеделе+0.001,ТочностьН)","v":0},{"$f":"FLOOR(AA89*КредитовНаГод/40,ТочностьН)","v":0},null,0,null,null,null,null,null,null,null,null,0]
[null,null,null,{"$f":"Курс1!D90","v":"АЧ-академических часов"},null,null,null,null,null,"ЗЕТ-зачетных единиц трудоемкости",null,null,null,null,null,null,null,null,"Государственные экзамены (ИГА) (Г)",null,null,null,null,null,null,null,{"$f":"Титул!BJ68","v":0},{"$f":"FLOOR(AA90*54+0.001,0.01)","v":0},{"$f":"FLOOR(AA90*КредитовВНеделе+0.001,ТочностьН)","v":0},{"$f":"FLOOR(AA90*КредитовНаГод/40,ТочностьН)","v":0},null,0,null,null,null,null,null,null,null,null,0]
[null,null,null,"ИГА-Итоговая государственная аттестация",null,null,null,null,null,null,null,null,null,null,null,null,null,null,null,null,null,null,null,null,"Итого",null,{"$f":"SUM(AA87:AA90)","v":0},{"$f":"SUM(AB87:AB90)","v":0},{"$f":"SUM(AC87:AC90)","v":0},{"$f":"SUM(AD87:AD90)","v":0},null,0,null,null,null,null,null,null,null,null,0]
[null,null,null,"РП - распределенная практика и НИР,",null,null,null,null,null,null,null,"контрольные работы (к), рефераты (р), эссе (э), расчетно-графические работы (г), оцека (о)"]

{"sheet":"Свод","index":13,"n_rows":27,"n_cols":28,"rows_kept":27,"cut":false,"hidden":false,"merged":[[0,0,0,26],[1,0,1,26],[4,8,5,11],[4,12,5,15],[4,16,5,19],[4,0,6,0],[4,20,5,23],[3,25,6,25],[3,24,6,24],[3,1,3,7],[3,26,6,26],[3,8,3,23],[4,1,5,5],[4,6,6,6],[4,7,6,7],[15,0,15,26],[16,0,17,3],[16,4,16,6],[16,7,16,9],[16,10,16,12],[16,13,16,15],[16,16,16,18],[16,19,16,21],[16,22,16,23],[16,24,16,26],[23,0,23,14],[24,0,24,14],[25,0,25,14],[26,0,26,14],[18,22,19,23],[19,0,19,3],[20,0,20,3],[18,0,18,3],[18,13,19,15],[18,16,19,18],[18,19,19,21],[21,0,21,3],[21,5,21,10],[21,16,21,19]]}
[{"$f":"Курс1!A1","v":"ГОУ ВПО \"Самарский государственный технический университет\""}]
[{"$f":"Курс1!A2","v":"Рабочий учебный план: Направления 030600 \"Журналистика\" специальности 030602 \"Связи с общественностью\""}]
[{"$f":"Курс1!C3","v":"Утвержден: Ректор  ____________  / Калашников В.В. /  \"___\"__________20___ г."},null,null,null,null,null,null,null,null,null,null,null,null,null,null,null,{"$f":"ТекущийПлан&\".pli\"","v":"030602_65-00-12345-2979.pli"}]
[null,"Теоретическое обучение",null,null,null,null,null,null,"Спец. виды работ",null,null,null,null,null,null,null,null,null,null,null,null,null,null,null,"АЧ","ЗЕТ",{"$f":"СокрКРЕТИТОВ","v":"Cr ECTS"},"Д --> ИГА"]
["Курс","Итого АЧ",null,null,null,null,"ЗЕТ",{"$f":"СокрКРЕТИТОВ","v":"Cr ECTS"},"Итоговая аттестация (А)",null,null,null,"Практики (У,П), НИР (П)",null,null,null,"Дипломная работа (проект) (Д)",null,null,null,"Гос. экзамены (ИГА) (Г)",null,null,null,null,null,null,"Д --> НИР"]
[]
[null,"Ауд","СРС","Изуч","Экз","Всего",null,null,"Нед","АЧ","ЗЕТ",{"$f":"СокрКРЕТИТОВ","v":"Cr ECTS"},"Нед","АЧ","ЗЕТ",{"$f":"СокрКРЕТИТОВ","v":"Cr ECTS"},"Нед","АЧ","ЗЕТ",{"$f":"СокрКРЕТИТОВ","v":"Cr ECTS"},"Нед","АЧ","ЗЕТ",{"$f":"СокрКРЕТИТОВ","v":"Cr ECTS"}]
[1,{"$f":"Курс1!X76","v":1098},{"$f":"Курс1!Y76","v":456},{"$f":"Курс1!Z76","v":1554},{"$f":"Курс1!AA76","v":243},{"$f":"Курс1!AB76","v":1797},{"$f":"Курс1!AC76","v":48},{"$f":"Курс1!AD76","v":56},{"$f":"Курс1!$AA$87","v":0},{"$f":"Курс1!$AB$87","v":0},{"$f":"Курс1!$AC$87","v":0},{"$f":"Курс1!$AD$87","v":0},{"$f":"Курс1!$AA$88","v":0},{"$f":"Курс1!$AB$88","v":0},{"$f":"Курс1!$AC$88","v":0},{"$f":"Курс1!$AD$88","v":0},{"$f":"Курс1!$AA$89","v":0},{"$f":"Курс1!$AB$89","v":0},{"$f":"Курс1!$AC$89","v":0},{"$f":"Курс1!$AD$89","v":0},{"$f":"Курс1!$AA$90","v":0},{"$f":"Курс1!$AB$90","v":0},{"$f":"Курс1!$AC$90","v":0},{"$f":"Курс1!$AD$90","v":0},{"$f":"F8+J8+N8+R8+V8","v":1797},{"$f":"G8+K8+O8+S8+W8","v":48},{"$f":"H8+L8+P8+T8+X8","v":56}]
[2,{"$f":"Курс2!X76","v":1134},{"$f":"Курс2!Y76","v":834},{"$f":"Курс2!Z76","v":1968},{"$f":"Курс2!AA76","v":243},{"$f":"Курс2!AB76","v":2211},{"$f":"Курс2!AC76","v":58.5},{"$f":"Курс2!AD76","v":57},{"$f":"Курс2!$AA$87","v":0},{"$f":"Курс2!$AB$87","v":0},{"$f":"Курс2!$AC$87","v":0},{"$f":"Курс2!$AD$87","v":0},{"$f":"Курс2!$AA$88","v":0},{"$f":"Курс2!$AB$88","v":0},{"$f":"Курс2!$AC$88","v":0},{"$f":"Курс2!$AD$88","v":0},{"$f":"Курс2!$AA$89","v":0},{"$f":"Курс2!$AB$89","v":0},{"$f":"Курс2!$AC$89","v":0},{"$f":"Курс2!$AD$89","v":0},{"$f":"Курс2!$AA$90","v":0},{"$f":"Курс2!$AB$90","v":0},{"$f":"Курс2!$AC$90","v":0},{"$f":"Курс2!$AD$90","v":0},{"$f":"F9+J9+N9+R9+V9","v":2211},{"$f":"G9+K9+O9+S9+W9","v":58.5},{"$f":"H9+L9+P9+T9+X9","v":57}]
[3,{"$f":"Курс3!X76","v":1134},{"$f":"Курс3!Y76","v":1584},{"$f":"Курс3!Z76","v":2718},{"$f":"Курс3!AA76","v":270},{"$f":"Курс3!AB76","v":2988},{"$f":"Курс3!AC76","v":78.5},{"$f":"Курс3!AD76","v":55.5},{"$f":"Курс3!$AA$87","v":0},{"$f":"Курс3!$AB$87","v":0},{"$f":"Курс3!$AC$87","v":0},{"$f":"Курс3!$AD$87","v":0},{"$f":"Курс3!$AA$88","v":4},{"$f":"Курс3!$AB$88","v":216},{"$f":"Курс3!$AC$88","v":6},{"$f":"Курс3!$AD$88","v":6},{"$f":"Курс3!$AA$89","v":0},{"$f":"Курс3!$AB$89","v":0},{"$f":"Курс3!$AC$89","v":0},{"$f":"Курс3!$AD$89","v":0},{"$f":"Курс3!$AA$90","v":0},{"$f":"Курс3!$AB$90","v":0},{"$f":"Курс3!$AC$90","v":0},{"$f":"Курс3!$AD$90","v":0},3204,84.5,61.5]
[4,{"$f":"Курс4!X76","v":1092},{"$f":"Курс4!Y76","v":690},{"$f":"Курс4!Z76","v":1782},{"$f":"Курс4!AA76","v":216},{"$f":"Курс4!AB76","v":1998},{"$f":"Курс4!AC76","v":52},{"$f":"Курс4!AD76","v":57},{"$f":"Курс4!$AA$87","v":0},{"$f":"Курс4!$AB$87","v":0},{"$f":"Курс4!$AC$87","v":0},{"$f":"Курс4!$AD$87","v":0},{"$f":"Курс4!$AA$88","v":4},{"$f":"Курс4!$AB$88","v":216},{"$f":"Курс4!$AC$88","v":6},{"$f":"Курс4!$AD$88","v":6},{"$f":"Курс4!$AA$89","v":0},{"$f":"Курс4!$AB$89","v":0},{"$f":"Курс4!$AC$89","v":0},{"$f":"Курс4!$AD$89","v":0},{"$f":"Курс4!$AA$90","v":0},{"$f":"Курс4!$AB$90","v":0},{"$f":"Курс4!$AC$90","v":0},{"$f":"Курс4!$AD$90","v":0},2214,58,63]
[5,{"$f":"Курс5!X76","v":375},{"$f":"Курс5!Y76","v":675},{"$f":"Курс5!Z76","v":1050},{"$f":"Курс5!AA76","v":81},{"$f":"Курс5!AB76","v":1131},{"$f":"Курс5!AC76","v":29},{"$f":"Курс5!AD76","v":28.5},{"$f":"Курс5!$AA$87","v":0},{"$f":"Курс5!$AB$87","v":0},{"$f":"Курс5!$AC$87","v":0},{"$f":"Курс5!$AD$87","v":0},{"$f":"Курс5!$AA$88","v":8},{"$f":"Курс5!$AB$88","v":432},{"$f":"Курс5!$AC$88","v":12},{"$f":"Курс5!$AD$88","v":12},{"$f":"Курс5!$AA$89","v":13.999999999999984},{"$f":"Курс5!$AB$89","v":756},{"$f":"Курс5!$AC$89","v":21},{"$f":"Курс5!$AD$89","v":20.75},{"$f":"Курс5!$AA$90","v":2},{"$f":"Курс5!$AB$90","v":108},{"$f":"Курс5!$AC$90","v":3},{"$f":"Курс5!$AD$90","v":3},2427,65,64.25]
[6,{"$f":"Курс6!X76","v":0},{"$f":"Курс6!Y76","v":0},{"$f":"Курс6!Z76","v":0},{"$f":"Курс6!AA76","v":0},{"$f":"Курс6!AB76","v":0},{"$f":"Курс6!AC76","v":0},{"$f":"Курс6!AD76","v":0},{"$f":"Курс6!$AA$87","v":0},{"$f":"Курс6!$AB$87","v":0},{"$f":"Курс6!$AC$87","v":0},{"$f":"Курс6!$AD$87","v":0},{"$f":"Курс6!$AA$88","v":0},{"$f":"Курс6!$AB$88","v":0},{"$f":"Курс6!$AC$88","v":0},{"$f":"Курс6!$AD$88","v":0},{"$f":"Курс6!$AA$89","v":0},{"$f":"Курс6!$AB$89","v":0},{"$f":"Курс6!$AC$89","v":0},{"$f":"Курс6!$AD$89","v":0},{"$f":"Курс6!$AA$90","v":0},{"$f":"Курс6!$AB$90","v":0},{"$f":"Курс6!$AC$90","v":0},{"$f":"Курс6!$AD$90","v":0},0,0,0]
[7,{"$f":"Курс7!X76","v":0},{"$f":"Курс7!Y76","v":0},{"$f":"Курс7!Z76","v":0},{"$f":"Курс7!AA76","v":0},{"$f":"Курс7!AB76","v":0},{"$f":"Курс7!AC76","v":0},{"$f":"Курс7!AD76","v":0},{"$f":"Курс7!$AA$87","v":0},{"$f":"Курс7!$AB$87","v":0},{"$f":"Курс7!$AC$87","v":0},{"$f":"Курс7!$AD$87","v":0},{"$f":"Курс7!$AA$88","v":0},{"$f":"Курс7!$AB$88","v":0},{"$f":"Курс7!$AC$88","v":0},{"$f":"Курс7!$AD$88","v":0},{"$f":"Курс7!$AA$89","v":0},{"$f":"Курс7!$AB$89","v":0},{"$f":"Курс7!$AC$89","v":0},{"$f":"Курс7!$AD$89","v":0},{"$f":"Курс7!$AA$90","v":0},{"$f":"Курс7!$AB$90","v":0},{"$f":"Курс7!$AC$90","v":0},{"$f":"Курс7!$AD$90","v":0},0,0,0]
["Всего",{"$f":"SUM(B8:B14)","v":4833},4239,9072,1053,10125,266,254,0,0,0,0,16,864,24,24,13.999999999999984,756,21,20.75,2,108,3,3,11853,314,301.75]
["Распределение зачетных единиц по циклам"]
["Часть\\Учебный цикл (раздел)",null,null,null,{"$f":"\"1 \"&Рабочий!B95","v":"1 ГСЭ"},null,null,{"$f":"\"2 \"&Рабочий!B96","v":"2 ЕН"},null,null,{"$f":"\"3 \"&Рабочий!B97","v":"3 ОПД"},null,null,"4 Физкультура",null,null,"5 Практики, НИР",null,null,"6 ИГА",null,null,"Факультативы",null,"Всего"]
[null,null,null,null,"min","max","План","min","max","План","min","max","План","min","max","План","min","max","План","min","max","План","max","План","min","max","План"]
["Базовая",null,null,null,0,0,{"$f":"План!FU5","v":26.5},0,0,{"$f":"План!FU233","v":10},0,0,{"$f":"SUMIF(План!$FI462:$FI521,\"=0\",План!FU462:FU521)+SUMIF(План!$FI690:$FI749,\"=0\",План!FU690:FU749)-(SUMIF(План!$FK462:$FK521,\"=1\",План!FU462:FU521)+SUMIF(План!$FK690:$FK749,\"=1\",План!FU690:FU749))","v":139.5},null,null,null,null,null,null,null,null,null,null,null,{"$f":"E19+H19+K19","v":0},0,176,{"$f":"IF(AA20+AA19>0,AA19/(AA19+AA20),0)","v":0.75213675213675213}]
["Вариативная",null,null,null,0,0,{"$f":"План!FU232-Свод!G19","v":15.5},0,0,{"$f":"План!FU460-J19","v":2},0,0,{"$f":"План!FU688+План!FU916-Свод!M19","v":40.5},null,null,null,null,null,null,null,null,null,null,null,0,0,58,{"$f":"IF(AA19+AA20>0,AA20/(AA19+AA20),0)","v":0.24786324786324787}]
["Итого",null,null,null,0,0,{"$f":"SUM(G19:G20)","v":42},0,0,{"$f":"SUM(J19:J20)","v":12},0,0,{"$f":"SUM(M19:M20)","v":180},0,0,{"$f":"SUMIF(План!$FK6:$FK1392,\"=1\",План!FU6:FU1392)","v":11},0,0,{"$f":"ЗЕТ_ПР1+ЗЕТ_ПР2+ЗЕТ_ПР3+ЗЕТ_ПР4+ЗЕТ_ПР5+ЗЕТ_ПР6+ЗЕТ_ПР7+IF(Q22=AB5,ЗЕТ_Д1+ЗЕТ_Д2+ЗЕТ_Д3+ЗЕТ_Д4+ЗЕТ_Д5+ЗЕТ_Д6+ЗЕТ_Д7,0)","v":24},0,0,{"$f":"ЗЕТ_ИА1+ЗЕТ_Г1+ЗЕТ_ИА2+ЗЕТ_Г2+ЗЕТ_ИА3+ЗЕТ_Г3+ЗЕТ_ИА4+ЗЕТ_Г4+ЗЕТ_ИА5+ЗЕТ_Г5+ЗЕТ_ИА6+ЗЕТ_Г6+ЗЕТ_ИА7+ЗЕТ_Г7+IF(Q22=AB4,ЗЕТ_Д1+ЗЕТ_Д2+ЗЕТ_Д3+ЗЕТ_Д4+ЗЕТ_Д5+ЗЕТ_Д6+ЗЕТ_Д7,0)","v":24},0,{"$f":"SUMIF(План!$FI1146:$FI1165,\"=0\",План!FU1146:FU1165)","v":24.5},{"$f":"E21+H21+K21+N21+Q21+T21","v":0},{"$f":"F21+I21+L21+O21+R21+U21+W21","v":0},{"$f":"G21+J21+M21+P21+S21+V21+X21","v":317.5}]
["Точность вычисления ЗЕТ",null,null,null,0.5,"Точность вычисления ЗЕТ (А,У,П,Д,Г)",null,null,null,null,null,0.25,null,null,null,null,"Д --> ИГА",null,null,null,null,"Без факультативов",null,null,{"$f":"E21+H21+K21+N21+Q21+T21","v":0},{"$f":"F21+I21+L21+O21+R21+U21","v":0},{"$f":"G21+J21+M21+P21+S21+V21","v":293}]
[null,null,null,null,null,null,null,null,null,null,null,null,null,null,null,null,null,null,null,null,{"$f":"IF(AA23=0,\"\",IF(Титул!B11=\"Сокращенный срок обучения на базе ВПО\",\"Перезачтено ЗЕТ по дисциплинам\",\"Переаттестовано ЗЕТ по дисциплинам\"))","v":""},null,null,null,null,null,{"$f":"IF(ЧасовВКредите>0,FLOOR((ПерезачтеноВсего-SUMIF(План!$FK$6:'План'!$FK$1228,\"=1\",План!$CJ$6:'План'!$CJ$1228))/ЧасовВКредите,Точность),0)+IF(P21=0,0,FLOOR(SUMIF(План!$FK$6:'План'!$FK$1228,\"=1\",План!$CJ$6:'План'!$CJ$1228)/(IF(SUMIF(План!$FK$6:'План'!$FK$1228,\"=1\",План!$H$6:'План'!$H$1228)=0,SUMIF(План!$FK$6:'План'!$FK$1228,\"=1\",План!$G$6:'План'!$G$1228),SUMIF(План!$FK$6:'План'!$FK$1228,\"=1\",План!$H$6:'План'!$H$1228))/SUMIF(План!$FK$6:'План'!$FK$1228,\"=1\",План!$FU$6:'План'!$FU$1228)),Точность))","v":0}]
["Доля базовых дисциплин в общем объеме дисциплин по первым трем циклам (в ЗЕТ)",null,null,null,null,null,null,null,null,null,null,null,null,null,null,{"$f":"AB19","v":0.75213675213675213},null,null,null,null,{"$f":"IF(AA24=0,\"\",IF(Титул!B11=\"Сокращенный срок обучения на базе ВПО\",\"Перезачтено ЗЕТ по практикам\",\"Переаттестовано ЗЕТ по практикам\"))","v":""},null,null,null,null,null,{"$f":"Практики!AI68","v":0}]
["Доля дисциплин по выбору студента в общем объеме вариативной части по первым трем циклам (в ЗЕТ)",null,null,null,null,null,null,null,null,null,null,null,null,null,null,{"$f":"IF(ABS(План!FV557-1/3)<0.0001,1/3,FLOOR(План!FV557,0.001))","v":0.43099999999999999},null,null,null,null,"Подлежит изучению ЗЕТ",null,null,null,null,null,{"$f":"AA21-SUM(AA23:AA24)","v":317.5}]
["Доля лекционных занятий (в ЧАС)",null,null,null,null,null,null,null,null,null,null,null,null,null,null,{"$f":"CEILING(IF(План!I232+План!I460+План!I688+План!I916>0,(План!L232+План!P232+План!T232+План!X232+План!AB232+План!AF232+План!AJ232+План!AN232+План!AR232+План!AV232+План!AZ232+План!BD232+План!BH232+План!BL232+План!L460+План!P460+План!T460+План!X460+План!AB460+План!AF460+План!AJ460+План!AN460+План!AR460+План!AV460+План!AZ460+План!BD460+План!BH460+План!BL460+План!L688+План!P688+План!T688+План!X688+План!AB688+План!AF688+План!AJ688+План!AN688+План!AR688+План!AV688+План!AZ688+План!BD688+План!BH688+План!BL688+План!L916+План!P916+План!T916+План!X916+План!AB916+План!AF916+План!AJ916+План!AN916+План!AR916+План!AV916+План!AZ916+План!BD916+План!BH916+План!BL916)/(План!I232+План!I460+План!I688+План!I916+IF(КСР=\"КСР\",0,План!J232+План!J460+План!J688+План!J916)),0),0.001)","v":0.41600000000000004}]
["Доля занятий в интерактивой форме (в ЧАС)",null,null,null,null,null,null,null,null,null,null,null,null,null,null,{"$f":"FLOOR(План!FX1397,0.001)","v":0}]

{"sheet":"Компетенции","index":14,"n_rows":300,"n_cols":3,"rows_kept":300,"cut":false,"hidden":false,"merged":[]}
["Код","Содержание","ID"]
[null,"",0]
[null,"",0]
[null,"",0]
[null,"",0]
[null,"",0]
[null,"",0]
[null,"",0]
[null,"",0]
[null,"",0]
[null,"",0]
[null,"",0]
[null,"",0]
[null,"",0]
[null,"",0]
[null,"",0]
[null,"",0]
[null,"",0]
[null,"",0]
[null,"",0]
[null,"",0]
[null,"",0]
[null,"",0]
[null,"",0]
[null,"",0]
[null,"",0]
[null,"",0]
[null,"",0]
[null,"",0]
[null,"",0]
[null,"",0]
[null,"",0]
[null,"",0]
[null,"",0]
[null,"",0]
[null,"",0]
[null,"",0]
[null,"",0]
[null,"",0]
[null,"",0]
[null,"",0]
[null,"",0]
[null,"",0]
[null,"",0]
[null,"",0]
[null,"",0]
[null,"",0]
[null,"",0]
[null,"",0]
[null,"",0]
[null,"",0]
[null,"",0]
[null,"",0]
[null,"",0]
[null,"",0]
[null,"",0]
[null,"",0]
[null,"",0]
[null,"",0]
[null,"",0]
[null,"",0]
[null,"",0]
[null,"",0]
[null,"",0]
[null,"",0]
[null,"",0]
[null,"",0]
[null,"",0]
[null,"",0]
[null,"",0]
[null,"",0]
[null,"",0]
[null,"",0]
[null,"",0]
[null,"",0]
[null,"",0]
[null,"",0]
[null,"",0]
[null,"",0]
[null,"",0]
[null,"",0]
[null,"",0]
[null,"",0]
[null,"",0]
[null,"",0]
[null,"",0]
[null,"",0]
[null,"",0]
[null,"",0]
[null,"",0]
[null,"",0]
[null,"",0]
[null,"",0]
[null,"",0]
[null,"",0]
[null,"",0]
[null,"",0]
[null,"",0]
[null,"",0]
[null,"",0]
[null,"",0]
[null,"",0]
[null,"",0]
[null,"",0]
[null,"",0]
[null,"",0]
[null,"",0]
[null,"",0]
[null,"",0]
[null,"",0]
[null,"",0]
[null,"",0]
[null,"",0]
[null,"",0]
[null,"",0]
[null,"",0]
[null,"",0]
[null,"",0]
[null,"",0]
[null,"",0]
[null,"",0]
[null,"",0]
[null,"",0]
[null,"",0]
[null,"",0]
[null,"",0]
[null,"",0]
[null,"",0]
[null,"",0]
[null,"",0]
[null,"",0]
[null,"",0]
[null,"",0]
[null,"",0]
[null,"",0]
[null,"",0]
[null,"",0]
[null,"",0]
[null,"",0]
[null,"",0]
[null,"",0]
[null,"",0]
[null,"",0]
[null,"",0]
[null,"",0]
[null,"",0]
[null,"",0]
[null,"",0]
[null,"",0]
[null,"",0]
[null,"",0]
[null,"",0]
[null,"",0]
[null,"",0]
[null,"",0]
[null,"",0]
[null,"",0]
[null,"",0]
[null,"",0]
[null,"",0]
[null,"",0]
[null,"",0]
[null,"",0]
[null,"",0]
[null,"",0]
[null,"",0]
[null,"",0]
[null,"",0]
[null,"",0]
[null,"",0]
[null,"",0]
[null,"",0]
[null,"",0]
[null,"",0]
[null,"",0]
[null,"",0]
[null,"",0]
[null,"",0]
[null,"",0]
[null,"",0]
[null,"",0]
[null,"",0]
[null,"",0]
[null,"",0]
[null,"",0]
[null,"",0]
[null,"",0]
[null,"",0]
[null,"",0]
[null,"",0]
[null,"",0]
[null,"",0]
[null,"",0]
[null,"",0]
[null,"",0]
[null,"",0]
[null,"",0]
[null,"",0]
[null,"",0]
[null,"",0]
[null,"",0]
[null,"",0]
[null,"",0]
[null,"",0]
[null,"",0]
[null,"",0]
[null,"",0]
[null,"",0]
[null,"",0]
[null,"",0]
[null,"",0]
[null,"",0]
[null,"",0]
[null,"",0]
[null,"",0]
[null,"",0]
[null,"",0]
[null,"",0]
[null,"",0]
[null,"",0]
[null,"",0]
[null,"",0]
[null,"",0]
[null,"",0]
[null,"",0]
[null,"",0]
[null,"",0]
[null,"",0]
[null,"",0]
[null,"",0]
[null,"",0]
[null,"",0]
[null,"",0]
[null,"",0]
[null,"",0]
[null,"",0]
[null,"",0]
[null,"",0]
[null,"",0]
[null,"",0]
[null,"",0]
[null,"",0]
[null,"",0]
[null,"",0]
[null,"",0]
[null,"",0]
[null,"",0]
[null,"",0]
[null,"",0]
[null,"",0]
[null,"",0]
[null,"",0]
[null,"",0]
[null,"",0]
[null,"",0]
[null,"",0]
[null,"",0]
[null,"",0]
[null,"",0]
[null,"",0]
[null,"",0]
[null,"",0]
[null,"",0]
[null,"",0]
[null,"",0]
[null,"",0]
[null,"",0]
[null,"",0]
[null,"",0]
[null,"",0]
[null,"",0]
[null,"",0]
[null,"",0]
[null,"",0]
[null,"",0]
[null,"",0]
[null,"",0]
[null,"",0]
[null,"",0]
[null,"",0]
[null,"",0]
[null,"",0]
[null,"",0]
[null,"",0]
[null,"",0]
[null,"",0]
[null,"",0]
[null,"",0]
[null,"",0]
[null,"",0]
[null,"",0]
[null,"",0]
[null,"",0]
[null,"",0]
[null,"",0]
[null,"",0]
[null,"",0]
[null,"",0]
[null,"",0]
[null,"",0]

{"sheet":"Диаграмма","index":15,"n_rows":16,"n_cols":321,"rows_kept":16,"cut":false,"hidden":false,"merged":[[1,44,1,47],[0,0,1,0],[0,1,1,1],[0,2,1,2],[0,3,1,3],[0,4,0,323],[1,4,1,7],[1,8,1,11],[1,12,1,15],[1,16,1,19],[1,20,1,23],[1,24,1,27],[1,28,1,31],[1,32,1,35],[1,36,1,39],[1,40,1,43],[1,92,1,95],[1,48,1,51],[1,52,1,55],[1,56,1,59],[1,60,1,63],[1,64,1,67],[1,68,1,71],[1,72,1,75],[1,76,1,79],[1,80,1,83],[1,84,1,87],[1,88,1,91],[1,140,1,143],[1,96,1,99],[1,100,1,103],[1,104,1,107],[1,108,1,111],[1,112,1,115],[1,116,1,119],[1,120,1,123],[1,124,1,127],[1,128,1,131],[1,132,1,135],[1,136,1,139],[1,188,1,191],[1,144,1,147],[1,148,1,151],[1,152,1,155],[1,156,1,159],[1,160,1,163],[1,164,1,167],[1,168,1,171],[1,172,1,175],[1,176,1,179],[1,180,1,183],[1,184,1,187],[1,196,1,199],[1,200,1,203],[1,204,1,207],[1,208,1,211],[1,212,1,215],[4,0,5,0],[4,1,5,1],[1,288,1,291],[1,292,1,295],[1,296,1,299],[1,264,1,267],[1,268,1,271],[1,272,1,275],[1,276,1,279],[1,280,1,283],[1,284,1,287],[1,240,1,243],[1,244,1,247],[1,248,1,251],[1,252,1,255],[1,256,1,259],[1,312,1,315],[1,316,1,319],[1,320,1,323],[2,0,3,0],[2,1,3,1],[1,300,1,303],[1,304,1,307],[1,308,1,311],[1,260,1,263],[1,216,1,219],[1,220,1,223],[1,224,1,227],[1,228,1,231],[1,232,1,235],[1,236,1,239],[1,192,1,195],[6,0,7,0],[6,1,7,1],[8,0,9,0],[8,1,9,1],[10,0,11,0],[10,1,11,1],[12,0,13,0],[12,1,13,1],[14,0,15,0],[14,1,15,1],[16,0,16,1]]}
["Курс","ЗЕТ","Сем","ЗЕТ","Индекс\\Контроль\\ЗЕТ\\Наименование"]
[null,null,null,null,1,null,null,null,2,null,null,null,3,null,null,null,4,null,null,null,5,null,null,null,6,null,null,null,7,null,null,null,8,null,null,null,9,null,null,null,10,null,null,null,11,null,null,null,12,null,null,null,13,null,null,null,14,null,null,null,15,null,null,null,16,null,null,null,17,null,null,null,18,null,null,null,19,null,null,null,20,null,null,null,21,null,null,null,22,null,null,null,23,null,null,null,24,null,null,null,25,null,null,null,26,null,null,null,27,null,null,null,28,null,null,null,29,null,null,null,30,null,null,null,31,null,null,null,32,null,null,null,33,null,null,null,34,null,null,null,35,null,null,null,36,null,null,null,37,null,null,null,38,null,null,null,39,null,null,null,40,null,null,null,41,null,null,null,42,null,null,null,43,null,null,null,44,null,null,null,45,null,null,null,46,null,null,null,47,null,null,null,48,null,null,null,49,null,null,null,50,null,null,null,51,null,null,null,52,null,null,null,53,null,null,null,54,null,null,null,55,null,null,null,56,null,null,null,57,null,null,null,58,null,null,null,59,null,null,null,60,null,null,null,61,null,null,null,62,null,null,null,63,null,null,null,64,null,null,null,65,null,null,null,66,null,null,null,67,null,null,null,68,null,null,null,69,null,null,null,70,null,null,null,71,null,null,null,72,null,null,null,73,null,null,null,74,null,null,null,75,null,null,null,76,null,null,null,77,null,null,null,78,null,null,null,79,null,null,null,80]
[1,null,1]
[null,null,2]
[2,null,3]
[null,null,4]
[3,null,5]
[null,null,6]
[4,null,7]
[null,null,8]
[5,null,9]
[null,null,10]
[6,null,11]
[null,null,12]
[7,null,13]
[null,null,14]

{"sheet":"КомпДис","index":16,"n_rows":1,"n_cols":3,"rows_kept":1,"cut":false,"hidden":true,"merged":[]}
[null,"Индекс","Содержание"]

{"sheet":"ДисКомп","index":17,"n_rows":1,"n_cols":3,"rows_kept":1,"cut":false,"hidden":true,"merged":[[0,2,0,11]]}
["Индекс","Наименование","Формируемые компетенции"]

{"sheet":"Рабочий","index":18,"n_rows":160,"n_cols":102,"rows_kept":160,"cut":false,"hidden":true,"merged":[]}
[null,false,"",null,0,null,"Социология, политология и история Отечества",null,null,null,null,null,null,null,null,null,null,null,null,null,null,null,null,null,null,null,null,null,null,null,null,null,null,null,null,null,null,null,null,null,null,null,null,null,null,null,null,null,null,null,null,null,null,null,null,null,null,null,null,null,null,null,null,null,null,null,null,null,null,null,null,null,null,null,null,null,null,null,null,null,null,null,null,null,null,null,null,null,null,null,null,null,null,null,0,null,"331011","331011",null,null,null,"Ярославкина Екатерина Евгеньевна"]
[null,40,0,null,2.5,null,"Философия",null,0]
[null,1,1,null,0,null,"Иностранные языки",null,null,null,null,null,null,null,null,null,null,null,null,null,null,null,null,null,null,null,null,null,null,null,null,null,null,null,null,null,null,null,null,null,null,null,null,null,null,null,null,null,null,null,null,null,null,null,null,null,null,null,null,null,null,null,null,null,null,null,null,null,null,null,null,null,null,null,null,null,null,null,null,null,0]
[null,false,1,null,3,null,"Психология и педагогика",null,1,null,null,null,null,null,null,null,null,null,null,null,null,null,null,null,null,null,null,null,null,null,null,null,null,null,null,null,null,null,null,null,null,null,null,null,null,null,null,null,null,null,null,null,null,null,null,null,null,null,null,null,null,null,null,null,null,null,null,null,null,null,null,null,null,null,null,null,null,null,null,null,"&Файл"]
[null,false,"C:\\Plany",null,0,null,"Экономика промышленности",null,null,null,null,null,null,null,null,null,null,null,null,null,null,null,null,null,null,null,null,null,null,null,null,null,null,null,null,null,null,null,null,null,null,null,null,null,null,null,null,null,null,null,null,null,null,null,null,null,null,null,null,null,null,null,null,null,null,null,null,null,null,null,null,null,null,null,null,null,null,null,null,null,"&Правка"]
[null,false,"C:\\Program Files\\MMIS Lab\\Plany",null,2.5,null,"Производственный менеджмент",null,1,null,null,null,null,null,null,null,null,null,null,null,null,null,null,null,null,null,null,null,null,null,null,null,null,null,null,null,null,null,null,null,null,null,null,null,null,null,null,null,null,null,null,null,null,null,null,null,null,null,null,null,null,null,null,null,null,null,null,null,null,null,null,null,null,null,null,null,null,null,null,null,"&Вид"]
[null,false,"C:\\Program Files\\MMIS Lab\\Plany",null,0,null,"Экономика и управление организацией",null,null,null,null,null,null,null,null,null,null,null,null,null,null,null,null,null,null,null,null,null,null,null,null,null,null,null,null,null,null,null,null,null,null,null,null,null,null,null,null,null,null,null,null,null,null,null,null,null,null,null,null,null,null,null,null,null,null,null,null,null,null,null,null,null,null,null,null,null,null,null,null,null,"Вст&авка"]
[null,false,"\\\\B01F04R413W01",null,3,null,"Высшая математика и прикладная информатика",null,0,null,null,null,null,null,null,null,null,null,null,null,null,null,null,null,null,null,null,null,null,null,null,null,null,null,null,null,null,null,null,null,null,null,null,null,null,null,null,null,null,null,null,null,null,null,null,null,null,null,null,null,null,null,null,null,null,null,null,null,null,null,null,null,null,null,null,null,null,null,null,null,"Фор&мат"]
[null,"Закрепление","C:\\Program Files\\MMIS Lab\\Plany\\NewPlany",null,0,null,"Прикладная математика и информатика",null,null,null,null,null,null,null,null,null,null,null,null,null,null,null,null,null,null,null,null,null,null,null,null,null,null,null,null,null,null,null,null,null,null,null,null,null,null,null,null,null,null,null,null,null,null,null,null,null,null,null,null,null,null,null,null,null,null,null,null,null,null,null,null,null,null,null,null,null,null,null,null,null,"С&ервис"]
[null,false,"C:\\Program Files\\MMIS Lab\\Plany\\NewPlany",null,0,null,"Мировая и национальная  экономика",null,0,null,null,null,null,null,null,null,null,null,null,null,null,null,null,null,null,null,null,null,null,null,null,null,null,null,null,null,null,null,null,null,null,null,null,null,null,null,null,null,null,null,null,null,null,null,null,null,null,null,null,null,null,null,null,null,null,null,null,null,null,null,null,null,null,null,null,null,null,null,null,null,"&Данные"]
[null,"Предыдущий","C:\\Program Files\\MMIS Lab\\Plany\\Post",null,0,null,"Механика",null,null,null,null,null,null,null,null,null,null,null,null,null,null,null,null,null,null,null,null,null,null,null,null,null,null,null,null,null,null,null,null,null,null,null,null,null,null,null,null,null,null,null,null,null,null,null,null,null,null,null,null,null,null,null,null,null,null,null,null,null,null,null,null,null,null,null,null,null,null,null,null,null,"&Окно"]
[null,false,null,null,0,null,"Инженерная графика",null,0,null,null,null,null,null,null,null,null,null,null,null,null,null,null,null,null,null,null,null,null,null,null,null,null,null,null,null,null,null,null,null,null,null,null,null,null,null,null,null,null,null,null,null,null,null,null,null,null,null,null,null,null,null,null,null,null,null,null,null,null,null,null,null,null,null,null,null,null,null,null,null,"&Справка"]
[null,"MIN % СР",1,null,0,null,"Технология машиностроения",null,null,null,null,null,null,null,null,null,null,null,null,null,null,null,null,null,null,null,null,null,null,null,null,null,null,null,null,null,null,null,null,null,null,null,null,null,null,null,null,null,null,null,null,null,null,null,null,null,null,null,null,null,null,null,null,null,null,null,null,null,null,null,null,null,null,null,null,null,null,null,null,null,"Ado&be PDF"]
[null,false,null,null,0,null,"Инструментальные системы и сервис автомобилей",null,0,null,null,null,null,null,null,null,null,null,null,null,null,null,null,null,null,null,null,null,null,null,null,null,null,null,null,null,null,null,null,null,null,null,null,null,null,null,null,null,null,null,null,null,null,null,null,null,null,null,null,null,null,null,null,null,null,null,null,null,null,null,null,null,null,null,null,null,null,null,null,null,"&Макросы..."]
[null,1,200,null,null,null,"Автомобили и станочные комплексы"]
[null,1,1,null,null,null,"Автоматизация производств и управления транспортными системами"]
[null,false,true,null,null,null,"Нанотехнологии в машиностроении"]
[null,1,false,null,null,null,"Металловедение, порошковая металлургия и наноматериалы"]
[null,"030602_65-00-12345-2979",false,null,null,null,"Материаловедение и товарная экспертиза"]
[null,1,false,null,null,null,"Литейные и высокоэффективные технологии"]
[null,false,"GSS",null,null,null,"Физвоспитание и спорт"]
[null,null,"GST",null,null,null,"Конверсионные и двойные технологии энергонасыщенных материалов и изделий"]
[null,null,null,null,null,null,"Безопасность жизнедеятельности"]
[null,null,2,null,null,null,"Автоматизация и управление технологическими процессами"]
[null,null,false,null,null,null,"Бурение нефтяных и газовых скважин"]
[null,null,11,null,null,null,"Геология и геофизика"]
[null,null,0,null,null,null,"Разработка и эксплуатация нефтяных и газовых месторождений"]
[null,null,0,null,null,null,"Машины и аппараты химической промышленности"]
[null,null,0,null,null,null,"Машины и оборудование нефтяных и газовых промыслов"]
[null,null,0,null,null,null,"Трубопроводный транспорт"]
[null,null,true,null,null,null,"Общая физика и физика нефтегазового производства"]
[null,null,"620100_2000.GST",null,null,null,"Химическая технология и промышленная экология"]
[null,null,true,null,null,null,"Общая и неорганичесая химия"]
[null,null,1,null,null,null,"Аналитическая и физическая химия"]
[null,null,false,null,null,null,"Органическая химия"]
[null,null,false,null,null,null,"Технология органического и нефтехимического синтеза"]
[null,null,null,null,null,null,"Химическая технология переработки нефти и газа"]
[null,"студент",false,null,null,null,"А"]
[null,null,null,null,null,null,"Автоматика и управление в технических системах"]
[null,3,true,null,null,null,"Информационно-измерительная техника"]
[null,1,5,null,null,null,"Информационные технологии"]
[null,"boss",false,null,null,null,"Вычислительная техника"]
[null,"first",false,null,null,null,"Электронные системы и информационная безопасность"]
[null,"vib41",false,null,null,null,"Промышленная теплоэнергетика"]
[null,"oasp",false,null,null,null,"Теоретические основы теплотехники и гидромеханика"]
[null,"dep",false,null,null,null,"Тепловые электрические станции"]
[null,null,false,null,null,null,"Управление и системный анализ в теплоэнергетике"]
[null,null,false,null,null,null,"Теоретическая и общая электротехника"]
[null,null,false,null,null,null,"Резерв"]
[null,null,false,null,null,null,"Электроснабжение промышленных предприятий"]
[null,null,false,null,null,null,"Электропривод и промышленная автоматика"]
[null,"022600","Теория и методика преподавания иностранных языков и культур",null,null,null,"Электромеханика и автомобильное оборудование"]
[null,"022900","Перевод и переводоведение",null,null,null,"Электрические станции"]
[null,"023000","Теория и практика межкультурной коммуникации",null,null,null,"Автоматизированные электроэнергетические системы"]
[null,"","",null,null,null,"Технология твёрдых химических веществ"]
[null,"","",null,null,null,"Химия и технология органических соединений азота"]
[null,"","",null,null,null,"Химия и технология полимерных и композиционных материалов"]
[null,"","",null,null,null,"Сертификация энергонасыщенных производств"]
[null,"","",null,null,null,"Защита в чрезвычайных ситуациях"]
[null,"","",null,null,null,"Радиотехнические системы"]
[null,"","",null,null,null,"Технология пищевых производств и парфюмерно-косметических продуктов"]
[null,"","",null,null,null,"Военная подготовка"]
[null,"","",null,null,null,""]
[null,"",""]
[null,"",""]
[null,"",""]
[null,"",""]
[null,"",""]
[null,"",""]
[null,"",""]
[null,"",""]
[null,1]
[]
[null,1,true]
[null,1,false]
[null,0.5,true]
[null,1]
[null,0.5]
[]
[null,4]
[null,36]
[null,18]
[null,6]
[null,8]
[null,0.1]
[null,14]
[null,3]
[null,100]
[null,15]
[]
[]
[]
[]
[null,"Аббр","Полн","Плюс"]
[0.30000001192092896,"ГСЭ","Цикл общих гуманитарных и социально-экономических дисциплин"]
[0.20000000298023224,"ЕН","Цикл общих математических и естественнонаучных дисциплин"]
[0.20000000298023224,"ОПД","Цикл общепрофессиональных дисциплин"]
[0,"СД","Цикл специальных дисциплин"]
[0,"ДС","Дисциплины специализации"]
[0,"ФТД","Факультативы"]
[0,"РЕЗ","Резерв"]
[0,"",""]
[0,"",""]
[0,"",""]
[0,"",""]
[0,"",""]
[0,"",""]
[0,"",""]
[0,"",""]
[null,"ФИО"]
[null,"Калашников В.В.","Ректор"]
[null,"Пимерзин А.А.","Проректор по учебной работе"]
[null,"Чертыковцева А.Н.","Начальник УУ"]
[null,"","Начальник отдела аспирантуры и докторантуры"]
[null,"Нестеренко В.М.","Зва. кафедрой ПиП"]
[null,"",""]
[null,"",""]
[null,"",""]
[]
[]
[null,"План одобрен Ученым советом вуза",false]
[null,"РАБОЧИЙ УЧЕБНЫЙ ПЛАН",false]
[null,false,false]
[null,null,false]
[null,null,false]
[]
[]
[]
[]
[]
[]
[]
[0,0,0,27]
[0,0,0,2]
[0,0,0,false]
[0,0,0,true]
[0,0,0,false]
[0,0,0]
[0,0,0]
[0,0,0]
[0,0,0]
[0,0,0]
[0,0,0]
[0,0,0]
[0,0,0]
[0,0,0]
[null,null,null,null,null,null,null,null,null,30.000000000000075,0,0,0,0,0,1,1,0,2,6,10,0,5]
[null,null,null,null,null,null,null,null,null,22.000000000000018,0,0,0,0,0,0,1,0,400,22,10,5,0]
[null,null,null,null,null,null,null,null,null,30.000000000000075,0,1,0,1,0,0,1,0,12,0,5,5,300]
[null,null,null,null,null,null,null,null,null,22.000000000000018,0,0,0,1,0,0,1,0,32,0,5,5,60]
[null,null,null,null,null,null,null,null,null,30.000000000000075,0,0,0,1,0,0,0,0,20,0,360,5,0]
[null,null,null,null,null,null,null,null,null,22.000000000000018,1,0,0,1,0,1,0,0,27,0,0,0,0]
[null,null,null,null,null,null,null,null,null,30.000000000000075,1,0,0,0,0,1,0,0,10,0,0,0,0]
[null,null,null,null,null,null,null,null,null,22.000000000000018,1,0,0,0,1,0,1,0,5,0,7,2,0]
[null,null,null,null,null,null,null,null,null,30.000000000000075,1,0,1,0,1,0,0,0,20,0,10,27,0]
[null,null,null,null,null,null,null,null,null,22.000000000000018,1,0,0,0,1,1,0,0,12,0,2,54,0]
[null,null,null,null,null,null,null,null,null,30.000000000000075,30,30,40,50,40,30,0,0,0,0,0,0,0]
[null,null,null,null,null,null,null,null,null,22.000000000000018,1,1,0,4,0,4,0,4,false]
[null,null,null,null,null,null,null,null,null,30.000000000000075,0,0,1,0,1,0,1,0]
[null,null,null,null,null,null,null,null,null,22.000000000000018,"Белокалитвенский УП"]